Workbook
Name ________________________________________________________________________kk29: #REF!
Name _______________________________________________________________________kk29: #REF!
Name _____________________________________________________________________kk29: #REF!
Name ____________________________________________________________________kk06: #REF!
Name ____________________________________________________________________kk29: #REF!
Name ___________________________________________________________________kk06: #REF!
Name ___________________________________________________________________kk29: #REF!
Name __________________________________________________________________kk06: #REF!
Name __________________________________________________________________kk29: #REF!
Name _________________________________________________________________kk06: #REF!
Name _________________________________________________________________kk29: #REF!
Name ________________________________________________________________kk06: #REF!
Name ________________________________________________________________kk29: #REF!
Name _______________________________________________________________kk06: #REF!
Name _______________________________________________________________kk29: #REF!
Name ______________________________________________________________kk06: #REF!
Name ______________________________________________________________kk29: #REF!
Name _____________________________________________________________kk06: #REF!
Name _____________________________________________________________kk29: #REF!
Name ____________________________________________________________kk06: #REF!
Name ____________________________________________________________kk29: #REF!
Name ___________________________________________________________kk06: #REF!
Name ___________________________________________________________kk29: #REF!
Name __________________________________________________________kk06: #REF!
Name __________________________________________________________kk29: #REF!
Name _________________________________________________________kk06: #REF!
Name _________________________________________________________kk29: #REF!
Name ________________________________________________________kk06: #REF!
Name ________________________________________________________kk29: #REF!
Name _______________________________________________________kk06: #REF!
Name _______________________________________________________kk29: #REF!
Name ______________________________________________________kk06: #REF!
Name ______________________________________________________kk29: #REF!
Name _____________________________________________________kk06: #REF!
Name _____________________________________________________kk29: #REF!
Name ____________________________________________________kk06: #REF!
Name ____________________________________________________kk29: #REF!
Name ___________________________________________________kk06: #REF!
Name ___________________________________________________kk29: #REF!
Name __________________________________________________kk06: #REF!
Name __________________________________________________kk29: #REF!
Name _________________________________________________kk06: #REF!
Name _________________________________________________kk29: #REF!
Name ________________________________________________kk06: #REF!
Name ________________________________________________kk29: #REF!
Name _______________________________________________kk06: #REF!
Name _______________________________________________kk29: #REF!
Name ______________________________________________kk06: #REF!
Name ______________________________________________kk29: #REF!
Name _____________________________________________kk06: #REF!
Name _____________________________________________kk29: #REF!
Name ____________________________________________kk06: #REF!
Name ____________________________________________kk29: #REF!
Name ___________________________________________kk06: #REF!
Name ___________________________________________kk29: #REF!
Name __________________________________________kk06: #REF!
Name __________________________________________kk29: #REF!
Name _________________________________________kk06: #REF!
Name _________________________________________kk29: #REF!
Name ________________________________________kk06: #REF!

Sheet 更新申請書提出書一覧（GH）
A2: 障害者の日常生活及び社会生活を総合的に支援するための法律に基づく事業者指定の更新申請に係る提出書類一覧
A3: （ 共同生活援助 ）
A5: 法人の名称 | C5: 指定更新月 | E5: 年 月 指定更新
A6: 事業所の名称 | C6: 所在地 （区市町村名）
A8: ※「申請者確認欄」の該当欄に「○」を付し、提出書類に漏れがないよう確認の上、この書面も一緒に提出してください。
A9: 申請書及び添付書類 | C9: 様式名 | D9: 申請者 確認欄 | E9: 備考
A10: 指定更新申請書 | C10: 別紙様式 第一号 | E10: 同封書類を確認・記入して提出
A11: 共同生活援助事業所の指定等に係る記載事項 | C11: 付表１２ | E11: 同封書類を確認して提出
A12: 誓約書 | C12: 標準様式３ | E12: 同封書類を確認・記入して提出
A13: 従業者の勤務の体制及び勤務形態一覧表 | C13: 標準様式４ | E13: 「東京都障害者サービス情報」 から書式をダウンロードして作成
A14: 事業所更新時講習会 受講報告書 | E14: 同封書類に記入して提出
A15: ※ 申請書提出にあたって、下記の点について確認してください。
A16: 情報公表制度に係る報告（システム入力）を行っているか。 | E16: https://www.mhlw.go.jp/stf/ seisakunitsuite/bunya/0000202214_00001.html
A17: ※申請される際には、事業所保管用として事前に提出書類一式のコピーをとっておくようにしてください。
A18: ※ 標準様式４については、下記URLから書式をダウンロードしてお使いください。
A19: 東京都障害者サービス情報 （https://www.shougaifukushi.metro.tokyo.lg.jp/Lib/LibDspList.php?catid=015-007） （トップページ＞書式ライブラリ＞A【共同生活援助（グループホーム）】指定申請書・変更届等＞７ 指定更新に係る書式等）
A20: 〔担当者連絡先〕
A21: 提出いただいた申請書類に記載されている内容について、問い合わせする際の連絡先を記入してください。
A22: 担当者名
A23: 電 話
A24: E-mailアドレス

Sheet 《記載例》指定更新申請書
A2: 別紙様式第一号
A3: 指定障害福祉サービス事業所/指定障害者支援施設
A4: 指定障害児通所支援事業所/指定障害児入所施設
A5: 指定特定相談支援事業所/指定一般相談支援事業所/指定障害児相談支援事業所
E6: 指定更新 | G6: 申請書
K7: 2026 | O7: 年 | P7: ○ | R7: 月 | S7: ○ | U7: 日
B8: 東京都 | D8: 知事（市区村長） 殿
H9: 所在地 | K9: 東京都新宿区○○1-8-1 △△ビル３階
G10: 申請者 | H10: 名 称 | K10: 社会福祉法人東京障害福祉会
H11: 代表者 | K11: 理事長 福祉 一郎
B13: 表題の事業所・施設に係る指定/指定の更新/指定の変更を受けたいので、下記のとおり、関係書類を添えて申請します。
F15: 法人番号(13桁)
A16: 申請者(設置者) | B16: フリガナ | D16: シャカイフクシホウジントウキョウショウガイフクシカイ
B17: 名称 | D17: 社会福祉法人東京障害福祉会
B18: 主たる事務所の所在地 | D18: (郵便番号 | E18: １６１ | F18: - | G18: ００２３ | I18: ）
D19: 東京都 新宿区 ○○ １－８－１ △△ビル３階
B21: 連絡先 | D21: 電話番号 | E21: ０３－５３２０－１２１２ | H21: (内線)
D22: E-mailアドレス
B23: 法人等の種類 | D23: 社会福祉法人
B24: 代表者の職名・氏名・生年月日 | D24: 職名 | E24: 理事長 | G24: フリガナ | H24: フクシ イチロウ | M24: 生年月日 | O24: １９７２年○月○日
G25: 氏名 | H25: 福祉 一郎
B26: 代表者の住所 | D26: (郵便番号 | E26: １６１ | F26: - | G26: ００２４ | I26: ）
D27: 東京都 新宿区 ○○ ３－２－１
A29: 指定を受けようとする事業所・施設の種類 | B29: フリガナ | D29: グループホーム シンジュク
B30: 名称 | D30: グループホーム 新宿
B31: 事業所(施設)の所在地 | D31: (郵便番号 | E31: １６１ | F31: - | G31: ０００８ | I31: ）
D32: 東京都 新宿区 ×× ２－３３－１
B34: 多機能型事業所に係る指定の申請の場合は○
B35: 同一所在地において 行う事業等の種類 | F35: 今回の指定(更新・変更)申請をする対象事業等に○ | H35: 既に指定を受けている事業に○ | L35: 事業の開始予定年月日 | R35: 本申請書に添付して提出する様式(付表)
E36: 共生型サービスの指定を申請するものに○
B37: 指定障害福祉サービス事業所 | C37: 居宅介護 | R37: 付表１
C38: 重度訪問介護 | R38: 付表１
C39: 同行援護 | R39: 付表１
C40: 行動援護 | R40: 付表１
C41: 療養介護 | R41: 付表２
C42: 生活介護 | R42: 付表３
C43: 短期入所 | R43: 付表４
C44: 重度障害者等包括支援 | R44: 付表５
C45: 自立訓練(機能訓練) | R45: 付表６
C46: 自立訓練(生活訓練) | R46: 付表６
...

Sheet 《参考》付表12(GH)
A1: 付表１２ 共同生活援助事業所の指定等に係る記載事項
A3: 主たる事業所 | B3: フリガナ | C3: グループホーム シンジュク
B4: 名 称 | C4: グループホーム 新宿
B5: 所在地 | C5: (郵便番号 | D5: １６１ | E5: - | F5: ００２４ | G5: )
C6: 東京 | D6: 都 | E6: 新宿 | F6: 区 | G6: ×× ２－３３－１
B8: 電話番号 | C8: ０３－５３２０－１２●●
B9: E-Mail
A10: 管理者 | B10: フリガナ | F10: 生年月日
B11: 氏 名 | H11: 年 | J11: 月 | L11: 日
B12: 住 所 | C12: (郵便番号 | E12: - | G12: )
D13: 都 | F13: 区
B15: 当該事業所で兼務する他の職種(兼務の場合記入)
B16: 他の事業所又は施設の従業者との兼務(兼務の場合記入) | D16: 事業所等の名称
D17: 兼務する職種及び勤務時間等
A19: サービス管理責任者 | B19: フリガナ | F19: 生年月日
B20: 氏 名 | H20: 年 | J20: 月 | L20: 日
B21: 住 所 | C21: (郵便番号 | E21: - | G21: )
D22: 都 | F22: 区
A24: 実施主体が地方公共団体である場合は、当該事業の実施について定めてある条例等 | H24: 第 条 第 項 第 号
A25: ○人員に関する基準の確認に必要な事項
A26: 従業者の職種・員数 | C26: 居宅介護等従業者 | E26: その他の従業者
C27: 専従 | D27: 兼務 | E27: 専従 | F27: 兼務
A28: 常勤(人)
A29: 非常勤(人)
A30: 常勤換算後の人数(人)
A31: 基準上の必要人数(人)
A32: ○運営・設備に関する基準の確認に必要な事項
A33: サービスの提供形態(該当部分に○) | D33: 介護サービス包括型 | F33: 生活支援員の業務の外部委託の予定 | H33: 有 | K33: 無
D34: 日中サービス支援型 | H34: 有の場合の月間時間数
D35: 外部サービス利用型 | F35: 受託居宅介護サービス事業者が事業を行う事業所の名称及び所在地並びに当該事業者の名称及び所在地 | L35: 別紙のとおり
A36: 利用定員(人)
A37: 利用者の推定数(人)
A38: 指定生活介護事業所等との連携体制 | C38: 連携する施設の種別 | G38: 施設名
C39: 支援体制の概要
A40: 協力医療機関 | C40: 名称 | G40: 診療科名
A41: 協力歯科医療機関 | C41: 名称
A43: ○共同生活住居の情報
A44: 共同生活住居①(主たる事業所) | B44: フリガナ | C44: =IF(C3="","",C3) -> グループホーム シンジュク
B45: 名 称 | C45: =IF(C4="","",C4) -> グループホーム 新宿
B46: 所在地 | C46: (郵便番号 | D46: =IF(D5="","",D5) -> １６１ | E46: - | F46: =IF(F5="","",F5) -> ００２４ | G46: )
...

Sheet 《記載例》誓約書
A2: (標準様式３)
A3: 誓 約 書
G5: ○○ | H5: 年 | I5: ○ | J5: 月 | K5: ○ | L5: 日
A6: 東京都 | C6: 知事 殿
A8: 申請者 | D8: （名称） | E8: 社会福祉法人東京障害福祉会
D10: （代表者の職名・氏名） | F10: 理事長 福祉 一郎
A14: 申請者が別紙のいずれにも該当しない者であることを誓約します。
B16: ○ | C16: 別紙①： 障害福祉サービス事業者向け
C17: 別紙②： 障害者支援施設向け
C18: 別紙③： 一般相談支援事業者向け
C19: 別紙④： 特定相談支援事業者向け
C20: 別紙⑤： 障害児通所支援事業者向け
C21: 別紙⑥： 障害児入所施設向け
C22: 別紙⑦： 障害児相談支援事業者向け
B23: 注 該当する種別に○を付けてください。
A25: また、指定の更新を申請する障害福祉サービス事業等に係る別添の項目について、既に届け出た内容に変更がないことを誓約します。

Sheet 《参考》別紙①
B1: （別紙①：障害福祉サービス事業者向け）
C2: 障害者の日常生活及び社会生活を総合的に支援するための法律第３６条第３項
B4: 一 | C4: 申請者が都道府県の条例で定める者でないとき。
B5: 二 | C5: 当該申請に係るサービス事業所の従業者の知識及び技能並びに人員が、第四十三条第一項の都道府県の条例で定める基準を満たしていないとき。
B6: 三 | C6: 申請者が、第四十三条第二項の都道府県の条例で定める指定障害福祉サービスの事業の設備及び運営に関する基準に従って適正な障害福祉サービス事業の運営をすることができないと認められるとき。
B7: 四 | C7: 申請者が、禁錮以上の刑に処せられ、その執行を終わり、又は執行を受けることがなくなるまでの者であるとき。
B8: 五 | C8: 申請者が、この法律その他国民の保健医療若しくは福祉に関する法律で政令で定めるものの規定により罰金の刑に処せられ、その執行を終わり、又は執行を受けることがなくなるまでの者であるとき。
B9: 五の二 | C9: 申請者が、労働に関する法律の規定であって政令で定めるものにより罰金の刑に処せられ、その執行を終わり、又は執行を受けることがなくなるまでの者であるとき。
B10: 六 | C10: 申請者が、第五十条第一項（同条第三項において準用する場合を含む。以下この項において同じ。）、第五十一条の二十九第一項若しくは第二項又は第七十六条の三第六項の規定により指定を取り消され、その取消しの日から起算して五年を経過しない者（当該指定を取り消された者が法人である場合においては、当該取消しの処分に係る行政手続法（平成五年法律第八十八号）第十五条の規定による通知があった日前六十日以内に当該法人の役員又はそのサービス事所を管理する者その他の政令で定める使用人（以下「役員等」という。）であった者で当該取消しの日から起算して五年を経過しないものを含み、当該指定を取り消された者が法人でない場合においては、当該通知があった日前六十日以内に当該者の管理者であった者で当該取消しの日から起算して五年を経過しないものを含む。）であるとき。ただし、当該指定の取消しが、指定障害福祉サービス事業者の指定の取消しのうち当該指定の取消しの処分の理由となった事実及び当該事実の発生を防止するための当該指定障害福祉サービス事業者による業務管理体制の整備についての取組の状況その他の当該事実に関して当該指定障害福祉サービス事業者が有していた責任の程度を考慮して、この号本文に規定する指定の取消しに該当しないこととすることが相当であると認められるものとして主務省令で定めるものに該当する場合を除く。
B11: 七 | C11: 申請者と密接な関係を有する者（申請者（法人に限る。以下この号において同じ。）の株式の所有その他の事由を通じて当該申請者の事業を実質的に支配し、若しくはその事業に重要な影響を与える関係にある者として主務省令で定めるもの（以下この号において「申請者の親会社等」という。）、申請者の親会社等が株式の所有その他の事由を通じてその事業を実質的に支配し、若しくはその事業に重要な影響を与える関係にある者として主務省令で定めるもの又は当該申請者が株式の所有その他の事由を通じてその事業を実質的に支配し、若しくはその事業に重要な影響を与える関係にある者として主務省令で定めるもののうち、当該申請者と主務省令で定める密接な関係を有する法人をいう。）が、第五十条第一項、第五十一条の二十九第一項若しくは第二項又は第七十六条の三第六項の規定により指定を取り消され、その取消しの日から起算して五年を経過していないとき。ただし、当該指定の取消しが、指定障害福祉サービス事業者の指定の取消しのうち当該指定の取消しの処分の理由となった事実及び当該事実の発生を防止するための当該指定障害福祉サービス事業者による業務管理体制の整備についての取組の状況その他の当該事実に関して当該指定障害福祉サービス事業者が有していた責任の程度を考慮して、この号本文に規定する指定の取消しに該当しないこととすることが相当であると認められるものとして主務省令で定めるものに該当する場合を除く。
B12: 八 | C12: 申請者が、第五十条第一項、第五十一条の二十九第一項若しくは第二項又は第七十六条の三第六項の規定による指定の取消しの処分に係る行政手続法第十五条の規定による通知があった日から当該処分をする日又は処分をしないことを決定する日までの間に第四十六条第二項又は第五十一条の二十五第二項若しくは第四項の規定による事業の廃止の届出をした者（当該事業の廃止について相当の理由がある者を除く。）で、当該届出の日から起算して五年を経過しないものであるとき。
B13: 九 | C13: 申請者が、第四十八条第一項（同条第三項において準用する場合を含む。）又は第五十一条の二十七第一項若しくは第二項の規定による検査が行われた日から聴聞決定予定日（当該検査の結果に基づき第五十条第一項又は第五十一条の二十九第一項若しくは第二項の規定による指定の取消しの処分に係る聴聞を行うか否かの決定をすることが見込まれる日として主務省令で定めるところにより都道府県知事が当該申請者に当該検査が行われた日から十日以内に特定の日を通知した場合における当該特定の日をいう。）までの間に第四十六条第二項又は第五十一条の二十五第二項若しくは第四項の規定による事業の廃止の届出をした者（当該事業の廃止について相当の理由がある者を除く。）で、当該届出の日から起算して五年を経過しないものであるとき。
B14: 十 | C14: 第八号に規定する期間内に第四十六条第二項又は第五十一条の二十五第二項若しくは第四項の規定による事業の廃止の届出があった場合において、申請者が、同号の通知の日前六十日以内に当該届出に係る法人（当該事業の廃止について相当の理由がある法人を除く。）の役員等又は当該届出に係る法人でない者（当該事業の廃止について相当の理由がある者を除く。）の管理者であった者で、当該届出の日から起算して五年を経過しないものであるとき。
B15: 十一 | C15: 申請者が、指定の申請前五年以内に障害福祉サービスに関し不正又は著しく不当な行為をした者であるとき。
... B17: 十三 | C17: 申請者が、法人でない者で、その管理者が第四号から第六号まで又は第八号から第十一号までのいずれかに該当する者であるとき。
B18: ※療養介護に係る指定の申請にあっては、第七号を除く。

Sheet 《参考》別添（誓約項目）
A1: 別添（誓約項目）
A3: 【生活介護、自立訓練、施設入所支援】
A4: (１) 申請者の定款、寄附行為等及びその登記事項証明書又は条例等
A5: (２) 事業所の平面図及び設備の概要
A6: (３) 管理者及びサービス管理責任者の氏名、生年月日、住所及び経歴
A7: (４) 運営規程
A8: (５) 利用者又はその家族からの苦情を解決するために講ずる措置の概要
A9: (６) 協力医療機関の名称及び診療科名並びに当該協力医療機関との契約の内容
A11: 【療養介護】
A12: (１) 申請者の定款、寄附行為等及びその登記事項証明書又は条例等
A13: (２) 事業所の平面図及び設備の概要
A14: (３) 管理者及びサービス管理責任者の氏名、生年月日、住所及び経歴
... A76: (５) 利用者又はその家族からの苦情を解決するために講ずる措置の概要

Sheet 標準様式第4号(勤務形態一覧表(GH))
A1: 従業者の勤務の体制及び勤務形態一覧表 | AI1: サービス種別 | AK1: 共同生活援助・介護サービス包括型 | AO1: 青字：入力不要
M2: 2026 | Q2: 年 | S2: 5 | U2: 月 | AI2: 事業所名 | AO2: 水色セル：数字入力
AI3: (1)記載する期間 | AK3: ４週 | AO3: 薄オレンジ：プルダウン選択
AI4: (2)予定/実績の別 | AK4: 予定 | AO4: 薄黄色：自由入力
AG5: (3)事業所における常勤の従業者が勤務すべき時間数 | AH5: 40 | AK5: 時間/週 | AM5: 時間/月
A7: No. | B7: (4)職種 | C7: (5)勤務形態 | D7: (6)資格 | E7: (7)氏名 | F7: (8) | AK7: (9)勤務時間数合計 | AL7: (10)週平均の勤務時間数 | AM7: (11)兼務状況 （兼務先／兼務する職務の内容）等
F8: 第１週 | M8: 第２週 | T8: 第３週 | AA8: 第４週 | AH8: 第５週
B9: ※選択肢にない職種については直接入力してください | F9: =DATE($M$2,$S$2,1) -> 46143 | G9: =DATE($M$2,$S$2,2) -> 46144 | H9: =DATE($M$2,$S$2,3) -> 46145 | I9: =DATE($M$2,$S$2,4) -> 46146 | J9: =DATE($M$2,$S$2,5) -> 46147 | K9: =DATE($M$2,$S$2,6) -> 46148 | L9: =DATE($M$2,$S$2,7) -> 46149 | M9: =DATE($M$2,$S$2,8) -> 46150 | N9: =DATE($M$2,$S$2,9) -> 46151 | O9: =DATE($M$2,$S$2,10) -> 46152 | P9: =DATE($M$2,$S$2,11) -> 46153 | Q9: =DATE($M$2,$S$2,12) -> 46154 | R9: =DATE($M$2,$S$2,13) -> 46155 | S9: =DATE($M$2,$S$2,14) -> 46156 | T9: =DATE($M$2,$S$2,15) -> 46157 | U9: =DATE($M$2,$S$2,16) -> 46158 | V9: =DATE($M$2,$S$2,17) -> 46159 | W9: =DATE($M$2,$S$2,18) -> 46160 | X9: =DATE($M$2,$S$2,19) -> 46161 | Y9: =DATE($M$2,$S$2,20) -> 46162 | Z9: =DATE($M$2,$S$2,21) -> 46163 | AA9: =DATE($M$2,$S$2,22) -> 46164 | AB9: =DATE($M$2,$S$2,23) -> 46165 | AC9: =DATE($M$2,$S$2,24) -> 46166 | AD9: =DATE($M$2,$S$2,25) -> 46167 | AE9: =DATE($M$2,$S$2,26) -> 46168 | AF9: =DATE($M$2,$S$2,27) -> 46169 | AG9: =DATE($M$2,$S$2,28) -> 46170 | AH9: =IF(DAY(EOMONTH(F9,0))<29,"",DATE($M$2,$S$2,29)) -> 46171 | AI9: =IF(DAY(EOMONTH(F9,0))<30,"",DATE($M$2,$S$2,30)) -> 46172 | AJ9: =IF(DAY(EOMONTH(F9,0))<31,"",DATE($M$2,$S$2,31)) -> 46173
F10: =DATE($M$2,$S$2,1) -> 46143 | G10: =DATE($M$2,$S$2,2) -> 46144 | H10: =DATE($M$2,$S$2,3) -> 46145 | I10: =DATE($M$2,$S$2,4) -> 46146 | J10: =DATE($M$2,$S$2,5) -> 46147 | K10: =DATE($M$2,$S$2,6) -> 46148 | L10: =DATE($M$2,$S$2,7) -> 46149 | M10: =DATE($M$2,$S$2,8) -> 46150 | N10: =DATE($M$2,$S$2,9) -> 46151 | O10: =DATE($M$2,$S$2,10) -> 46152 | P10: =DATE($M$2,$S$2,11) -> 46153 | Q10: =DATE($M$2,$S$2,12) -> 46154 | R10: =DATE($M$2,$S$2,13) -> 46155 | S10: =DATE($M$2,$S$2,14) -> 46156 | T10: =DATE($M$2,$S$2,15) -> 46157 | U10: =DATE($M$2,$S$2,16) -> 46158 | V10: =DATE($M$2,$S$2,17) -> 46159 | W10: =DATE($M$2,$S$2,18) -> 46160 | X10: =DATE($M$2,$S$2,19) -> 46161 | Y10: =DATE($M$2,$S$2,20) -> 46162 | Z10: =DATE($M$2,$S$2,21) -> 46163 | AA10: =DATE($M$2,$S$2,22) -> 46164 | AB10: =DATE($M$2,$S$2,23) -> 46165 | AC10: =DATE($M$2,$S$2,24) -> 46166 | AD10: =DATE($M$2,$S$2,25) -> 46167 | AE10: =DATE($M$2,$S$2,26) -> 46168 | AF10: =DATE($M$2,$S$2,27) -> 46169 | AG10: =DATE($M$2,$S$2,28) -> 46170 | AH10: =IF(DAY(EOMONTH(F10,0))<29,"",DATE($M$2,$S$2,29)) -> 46171 | AI10: =IF(DAY(EOMONTH(F10,0))<30,"",DATE($M$2,$S$2,30)) -> 46172 | AJ10: =IF(DAY(EOMONTH(F10,0))<31,"",DATE($M$2,$S$2,31)) -> 46173
A11: 1 | B11: 管理者 | C11: A | AK11: =IF(AND($AK$3="４週",($AH$5*4)>=SUM(F11:AJ11)),SUM(F11:AJ11),IF(AND($AK$3="４週",SUM(F11:AJ11)>($AH$5*4)),"上限超過")) -> 0 | AL11: =AK11/4 -> 0
A12: 2 | B12: サービス管理責任者 | C12: B | AK12: =IF(AND($AK$3="４週",($AH$5*4)>=SUM(F12:AJ12)),SUM(F12:AJ12),IF(AND($AK$3="４週",SUM(F12:AJ12)>($AH$5*4)),"上限超過")) -> 0 | AL12: =IF($AK$3="４週",AK12/4,AK12/(DAY(EOMONTH($F$9,0))/7)) -> 0
A13: 3 | B13: 世話人 | C13: C | AK13: =IF(AND($AK$3="４週",($AH$5*4)>=SUM(F13:AJ13)),SUM(F13:AJ13),IF(AND($AK$3="４週",SUM(F13:AJ13)>($AH$5*4)),"上限超過")) -> 0 | AL13: =IF($AK$3="４週",AK13/4,AK13/(DAY(EOMONTH($F$9,0))/7)) -> 0
A14: 4 | B14: 生活支援員 | C14: D | AK14: =IF(AND($AK$3="４週",($AH$5*4)>=SUM(F14:AJ14)),SUM(F14:AJ14),IF(AND($AK$3="４週",SUM(F14:AJ14)>($AH$5*4)),"上限超過")) -> 0 | AL14: =IF($AK$3="４週",AK14/4,AK14/(DAY(EOMONTH($F$9,0))/7)) -> 0
A15: 5 | B15: 生活支援員 | C15: D | AK15: =IF(AND($AK$3="４週",($AH$5*4)>=SUM(F15:AJ15)),SUM(F15:AJ15),IF(AND($AK$3="４週",SUM(F15:AJ15)>($AH$5*4)),"上限超過")) -> 0 | AL15: =IF($AK$3="４週",AK15/4,AK15/(DAY(EOMONTH($F$9,0))/7)) -> 0
A16: 6 | AK16: =IF(AND($AK$3="４週",($AH$5*4)>=SUM(F16:AJ16)),SUM(F16:AJ16),IF(AND($AK$3="４週",SUM(F16:AJ16)>($AH$5*4)),"上限超過")) -> 0 | AL16: =IF($AK$3="４週",AK16/4,AK16/(DAY(EOMONTH($F$9,0))/7)) -> 0
A17: 7 | AK17: =IF(AND($AK$3="４週",($AH$5*4)>=SUM(F17:AJ17)),SUM(F17:AJ17),IF(AND($AK$3="４週",SUM(F17:AJ17)>($AH$5*4)),"上限超過")) -> 0 | AL17: =IF($AK$3="４週",AK17/4,AK17/(DAY(EOMONTH($F$9,0))/7)) -> 0
A18: 8 | AK18: =IF(AND($AK$3="４週",($AH$5*4)>=SUM(F18:AJ18)),SUM(F18:AJ18),IF(AND($AK$3="４週",SUM(F18:AJ18)>($AH$5*4)),"上限超過")) -> 0 | AL18: =IF($AK$3="４週",AK18/4,AK18/(DAY(EOMONTH($F$9,0))/7)) -> 0
A19: 9 | AK19: =IF(AND($AK$3="４週",($AH$5*4)>=SUM(F19:AJ19)),SUM(F19:AJ19),IF(AND($AK$3="４週",SUM(F19:AJ19)>($AH$5*4)),"上限超過")) -> 0 | AL19: =IF($AK$3="４週",AK19/4,AK19/(DAY(EOMONTH($F$9,0))/7)) -> 0
A20: 10 | AK20: =IF(AND($AK$3="４週",($AH$5*4)>=SUM(F20:AJ20)),SUM(F20:AJ20),IF(AND($AK$3="４週",SUM(F20:AJ20)>($AH$5*4)),"上限超過")) -> 0 | AL20: =IF($AK$3="４週",AK20/4,AK20/(DAY(EOMONTH($F$9,0))/7)) -> 0
A21: 11 | AK21: =IF(AND($AK$3="４週",($AH$5*4)>=SUM(F21:AJ21)),SUM(F21:AJ21),IF(AND($AK$3="４週",SUM(F21:AJ21)>($AH$5*4)),"上限超過")) -> 0 | AL21: =IF($AK$3="４週",AK21/4,AK21/(DAY(EOMONTH($F$9,0))/7)) -> 0
A22: 12 | AK22: =IF(AND($AK$3="４週",($AH$5*4)>=SUM(F22:AJ22)),SUM(F22:AJ22),IF(AND($AK$3="４週",SUM(F22:AJ22)>($AH$5*4)),"上限超過")) -> 0 | AL22: =IF($AK$3="４週",AK22/4,AK22/(DAY(EOMONTH($F$9,0))/7)) -> 0
A23: 13 | AK23: =IF(AND($AK$3="４週",($AH$5*4)>=SUM(F23:AJ23)),SUM(F23:AJ23),IF(AND($AK$3="４週",SUM(F23:AJ23)>($AH$5*4)),"上限超過")) -> 0 | AL23: =IF($AK$3="４週",AK23/4,AK23/(DAY(EOMONTH($F$9,0))/7)) -> 0
A24: 14 | AK24: =IF(AND($AK$3="４週",($AH$5*4)>=SUM(F24:AJ24)),SUM(F24:AJ24),IF(AND($AK$3="４週",SUM(F24:AJ24)>($AH$5*4)),"上限超過")) -> 0 | AL24: =IF($AK$3="４週",AK24/4,AK24/(DAY(EOMONTH($F$9,0))/7)) -> 0
A25: 15 | AK25: =IF(AND($AK$3="４週",($AH$5*4)>=SUM(F25:AJ25)),SUM(F25:AJ25),IF(AND($AK$3="４週",SUM(F25:AJ25)>($AH$5*4)),"上限超過")) -> 0 | AL25: =IF($AK$3="４週",AK25/4,AK25/(DAY(EOMONTH($F$9,0))/7)) -> 0
A26: 16 | AK26: =IF(AND($AK$3="４週",($AH$5*4)>=SUM(F26:AJ26)),SUM(F26:AJ26),IF(AND($AK$3="４週",SUM(F26:AJ26)>($AH$5*4)),"上限超過")) -> 0 | AL26: =IF($AK$3="４週",AK26/4,AK26/(DAY(EOMONTH($F$9,0))/7)) -> 0
A27: 17 | AK27: =IF(AND($AK$3="４週",($AH$5*4)>=SUM(F27:AJ27)),SUM(F27:AJ27),IF(AND($AK$3="４週",SUM(F27:AJ27)>($AH$5*4)),"上限超過")) -> 0 | AL27: =IF($AK$3="４週",AK27/4,AK27/(DAY(EOMONTH($F$9,0))/7)) -> 0
... A30: 20 | AK30: =IF(AND($AK$3="４週",($AH$5*4)>=SUM(F30:AJ30)),SUM(F30:AJ30),IF(AND($AK$3="４週",SUM(F30:AJ30)>($AH$5*4)),"上限超過")) -> 0 | AL30: =IF($AK$3="４週",AK30/4,AK30/(DAY(EOMONTH($F$9,0))/7)) -> 0
A31: 合計 | F31: =+SUM(F11:F30) -> 0 | G31: =+SUM(G11:G30) -> 0 | H31: =+SUM(H11:H30) -> 0 | I31: =+SUM(I11:I30) -> 0 | J31: =+SUM(J11:J30) -> 0 | K31: =+SUM(K11:K30) -> 0 | L31: =+SUM(L11:L30) -> 0 | M31: =+SUM(M11:M30) -> 0 | ... AJ31: =+SUM(AJ11:AJ30) -> 0 | AK31: =SUM(AK11:AK30) -> 0 | AL31: =IF($AK$3="４週",AK31/4,AK31/(DAY(EOMONTH($F$9,0))/7)) -> 0
A32: サービス提供時間
A35: ＜前年度の平均値＞※新規申請の場合は推定数を記載ください。
D36: 4月 | E36: 5月 | F36: 6月 | I36: 7月 | L36: 8月 | O36: 9月 | R36: 10月 | U36: 11月 | X36: 12月 | AA36: 1月 | AD36: 2月 | AG36: 3月 | AJ36: 計 | AL36: 平均利用者数 | AM36: 個人居宅介護 利用者数平均
A37: 利用者延べ数計 | D37: =SUM(D38,D39,D40,D41,D43,D45) -> 1840 | E37: =SUM(E38,E39,E40,E41,E43,E45) -> 1726 | F37: =SUM(F38,F39,F40,F41,F43,F45) -> 1840 | I37: =SUM(I38,I39,I40,I41,I43,I45) -> 1932 | J37: =SUM(J38,J39,J40,J41,J43,J45) -> 0 | K37: =SUM(K38,K39,K40,K41,K43,K45) -> 0 | L37: =SUM(L38,L39,L40,L41,L43,L45) -> 1932 | O37: =SUM(O38,O39,O40,O41,O43,O45) -> 1748 | R37: =SUM(R38,R39,R40,R41,R43,R45) -> 1840 | U37: =SUM(U38,U39,U40,U41,U43,U45) -> 1840 | V37: =SUM(V38,V39,V40,V41,V43,V45) -> 0 | W37: =SUM(W38,W39,W40,W41,W43,W45) -> 0 | X37: =SUM(X38,X39,X40,X41,X43,X45) -> 1748 | Y37: =SUM(Y38,Y39,Y40,Y41,Y43,Y45) -> 0 | Z37: =SUM(Z38,Z39,Z40,Z41,Z43,Z45) -> 0 | AA37: =SUM(AA38,AA39,AA40,AA41,AA43,AA45) -> 1748 | AB37: =SUM(AB38,AB39,AB40,AB41,AB43,AB45) -> 0 | ... AI37: =SUM(AI38,AI39,AI40,AI41,AI43,AI45) -> 0 | AJ37: =SUM(D37:AI37) -> 21782 | AL37: =ROUNDUP(AJ37/AJ47,1) -> 92
A38: 区分１以下の延べ利用者数 | D38: 50 | E38: 45 | F38: 50 | I38: 50 | L38: 50 | O38: 45 | R38: 50 | U38: 50 | X38: 45 | AA38: 45 | AD38: 45 | AG38: 50 | AJ38: =SUM(D38:AI38) -> 575 | AL38: =ROUNDUP(AJ38/$AJ$47,1) -> 2.5
A39: 区分２の延べ利用者数 | D39: 50 | E39: 50 | F39: 50 | I39: 55 | L39: 55 | O39: 50 | R39: 50 | U39: 50 | X39: 50 | AA39: 50 | AD39: 50 | AG39: 50 | AJ39: =SUM(D39:AI39) -> 610 | AL39: =ROUNDUP(AJ39/$AJ$47,1) -> 2.6
A40: 区分３の延べ利用者数 | D40: 100 | E40: 95 | F40: 100 | I40: 105 | L40: 105 | O40: 95 | R40: 100 | U40: 100 | X40: 95 | AA40: 95 | AD40: 95 | AG40: 100 | AJ40: =SUM(D40:AI40) -> 1185 | AL40: =ROUNDUP(AJ40/$AJ$47,1) -> 5
A41: 区分４の延べ利用者数 | D41: 100 | E41: 95 | F41: 100 | I41: 105 | L41: 105 | O41: 95 | R41: 100 | U41: 100 | X41: 95 | AA41: 95 | AD41: 95 | AG41: 100 | AJ41: =SUM(D41:AI41) -> 1185 | AL41: =ROUNDUP(AJ41/$AJ$47,1) -> 5
B42: 個人居宅介護利用者数 | D42: 40 | E42: 45 | F42: 40 | I42: 40 | L42: 60 | O42: 50 | R42: 40 | U42: 40 | X42: 30 | AA42: 30 | AD42: 30 | AG42: 50 | AJ42: =SUM(D42:AI42) -> 495 | AM42: =ROUNDUP($AJ$42/$AJ$47,1) -> 2.1
A43: 区分５の延べ利用者数 | D43: 140 | E43: 131 | F43: 140 | I43: 147 | L43: 147 | O43: 133 | R43: 140 | U43: 140 | X43: 133 | AA43: 133 | AD43: 133 | AG43: 140 | AJ43: =SUM(D43:AI43) -> 1657 | AL43: =ROUNDUP(AJ43/$AJ$47,1) -> 7
B44: 個人居宅介護利用者数 | D44: 40 | E44: 31 | F44: 40 | I44: 47 | L44: 47 | O44: 33 | R44: 40 | U44: 40 | X44: 33 | AA44: 33 | AD44: 33 | AG44: 40 | AJ44: =SUM(D44:AI44) -> 457 | AM44: =ROUNDUP($AJ$44/$AJ$47,1) -> 2
A45: 区分６の延べ利用者数 | D45: 1400 | E45: 1310 | F45: 1400 | I45: 1470 | L45: 1470 | O45: 1330 | R45: 1400 | U45: 1400 | X45: 1330 | AA45: 1330 | AD45: 1330 | AG45: 1400 | AJ45: =SUM(D45:AI45) -> 16570 | AL45: =ROUNDUP(AJ45/$AJ$47,1) -> 70
...

Sheet ★選択肢(公開時非表示)
A1: ！申請するサービス類型を選択してください | B1: 職種① | C1: 職種② | D1: 職種③ | E1: 職種④ | F1: 職種⑤ | G1: 職種⑥ | H1: 職種⑦ | I1: 職種⑧ | J1: 職種⑨ | K1: 職種⑩
A2: 共同生活援助・介護サービス包括型 | B2: 管理者 | C2: サービス管理責任者 | D2: 世話人 | E2: 生活支援員 | F2: 夜間支援従事者
A3: 共同生活援助・外部サービス利用型 | B3: 管理者 | C3: サービス管理責任者 | D3: 世話人 | E3: 夜間支援従事者
A4: 共同生活援助・日中サービス支援型 | B4: 管理者 | C4: サービス管理責任者 | D4: 世話人 | E4: 生活支援員 | F4: 夜間支援従事者
A6: １.介護サービス包括型 | B6: 12 | C6: 30
A7: ２.外部サービス利用型 | B7: 12 | C7: 30
A8: ３.日中サービス支援型 | B8: 7.5 | C8: 20

Sheet 《参考》受講報告書
