Workbook
Name _____________________________________________________________________kk29: #REF!
Name ____________________________________________________________________kk29: #REF!
Name ___________________________________________________________________kk29: #REF!
Name __________________________________________________________________kk06: #REF!
Name __________________________________________________________________kk29: #REF!
Name _________________________________________________________________kk06: #REF!
Name _________________________________________________________________kk29: #REF!
Name ________________________________________________________________kk06: #REF!
Name ________________________________________________________________kk29: #REF!
Name _______________________________________________________________kk06: #REF!
Name _______________________________________________________________kk29: #REF!
Name ______________________________________________________________kk06: #REF!
Name ______________________________________________________________kk29: #REF!
Name _____________________________________________________________kk06: #REF!
Name _____________________________________________________________kk29: #REF!
Name ____________________________________________________________kk06: #REF!
Name ____________________________________________________________kk29: #REF!
Name ___________________________________________________________kk06: #REF!
Name ___________________________________________________________kk29: #REF!
Name __________________________________________________________kk06: #REF!
Name __________________________________________________________kk29: #REF!
Name _________________________________________________________kk06: #REF!
Name _________________________________________________________kk29: #REF!
Name ________________________________________________________kk06: #REF!
Name ________________________________________________________kk29: #REF!
Name _______________________________________________________kk06: #REF!
Name _______________________________________________________kk29: #REF!
Name ______________________________________________________kk06: #REF!
Name ______________________________________________________kk29: #REF!
Name _____________________________________________________kk06: #REF!
Name _____________________________________________________kk29: #REF!
Name ____________________________________________________kk06: #REF!
Name ____________________________________________________kk29: #REF!
Name ___________________________________________________kk06: #REF!
Name ___________________________________________________kk29: #REF!
Name __________________________________________________kk06: #REF!
Name __________________________________________________kk29: #REF!
Name _________________________________________________kk06: #REF!
Name _________________________________________________kk29: #REF!
Name ________________________________________________kk06: #REF!
Name ________________________________________________kk29: #REF!
Name _______________________________________________kk06: #REF!
Name _______________________________________________kk29: #REF!
Name ______________________________________________kk06: #REF!
Name ______________________________________________kk29: #REF!
Name _____________________________________________kk06: #REF!
Name _____________________________________________kk29: #REF!
Name ____________________________________________kk06: #REF!
Name ____________________________________________kk29: #REF!
Name ___________________________________________kk06: #REF!
Name ___________________________________________kk29: #REF!
Name __________________________________________kk06: #REF!
Name __________________________________________kk29: #REF!
Name _________________________________________kk06: #REF!
Name _________________________________________kk29: #REF!
Name ________________________________________kk06: #REF!
Name ________________________________________kk29: #REF!
Name _______________________________________kk06: #REF!
Name _______________________________________kk29: #REF!
Name ______________________________________kk06: #REF!

Sheet 付表３－２
A1: 付表３－２ 一体的に実施する従たる事業所の指定に係る記載事項
L2: ※多機能型事業実施時は、各事業の付表と付表１３を併せて提出してください。
N4: 受付番号
B6: フリガナ
A7: 施 | B7: 名 称
B8: 所在地 | D8: （郵便番号 － ）
A9: 設 | F9: 県 | I9: 郡・市
B11: 連 絡 先 | D11: 電話番号 | K11: ＦＡＸ番号
A12: 実施主体が地方公共団体である場合は、当該事業の実施について定めてある条例等 | J12: 第 条第 項第 号
A13: サービス | C13: フリガナ | J13: 住 所 | L13: （郵便番号 － ）
A14: 管理責任者 | C14: 氏 名
A15: 従業者の職種・員数 | F15: 医 師 | I15: サービス管理責任者 | L15: 看護職員 | O15: 理学療法士 | R15: 作業療法士
F16: 専従 | G16: ※兼務 | I16: 専従 | J16: ※兼務 | L16: 専従 | M16: ※兼務 | O16: 専従 | P16: ※兼務 | R16: 専従 | S16: ※兼務
B17: 従業者数 | D17: 常勤（人）
D18: 非常勤（人）
B19: 常勤換算後の人数（人）
B20: 基準上の必要人数（人）
F21: 機能訓練指導員 | I21: 生活支援員 | L21: 精神保健福祉士 | O21: その他の従業者
F22: 専従 | G22: ※兼務 | I22: 専従 | J22: ※兼務 | L22: 専従 | M22: ※兼務 | O22: 専従 | P22: ※兼務
B23: 従業者数 | D23: 常勤（人）
D24: 非常勤（人）
B25: 常勤換算後の人数（人）
B26: 基準上の必要人数（人）
B27: 前年度の平均 実利用者数（人） | F27: 施設が申告する障害程度区分の平均値
F28: サービス単位 | I28: ４未満 | M28: ４以上５未満 | Q28: ５以上
F29: サービス単位１
F30: サービス単位２
F31: サービス単位３
A32: 主な掲示事項
B33: 営業日 | F33: 単位ごとの営業日
B34: 営業時間 | F34: 単位ごとのサービス提供時間（送迎時間を除く）（① ： ～ ： ② ： ～ ： ）
B35: 主たる対象者 | F35: 特定無し | H35: 身体障害者
H36: 細分無し | J36: 肢体不自由 | L36: 視覚障害 | N36: 聴覚・言語 | P36: 内部障害
F38: 知的障害者 | H38: 精神障害者 | J38: 難病等対象者
B41: 利用定員 | F41: 人（単位ごとの定員）（① ② ）
B42: 基準上の必要定員
B43: 多機能型実施の有無 | F43: 有 ・ 無
B44: 利用料
B46: その他の費用
B47: その他参考となる事項 | F47: 第三者評価の実施状況 | J47: している ・ していない
...

Sheet 標準様式第4号(勤務形態一覧表(GH))
A1: 従業者の勤務の体制及び勤務形態一覧表 | AI1: サービス種別 | AK1: 共同生活援助・介護サービス包括型 | AO1: 青字：入力不要
M2: 2026 | Q2: 年 | S2: 5 | U2: 月 | AI2: 事業所名
AI3: (1)記載する期間 | AK3: ４週
AI4: (2)予定/実績の別 | AK4: 予定
AG5: (3)事業所における常勤の従業者が勤務すべき時間数 | AH5: 40 | AK5: 時間/週 | AM5: 時間/月
A7: No. | B7: (4)職種 | C7: (5)勤務形態 | D7: (6)資格 | E7: (7)氏名 | F7: (8) | AK7: (9)勤務時間数合計 | AL7: (10)週平均の勤務時間数 | AM7: (11)兼務状況 （兼務先／兼務する職務の内容）等
F8: 第１週 | M8: 第２週 | T8: 第３週 | AA8: 第４週 | AH8: 第５週
B9: ※選択肢にない職種については直接入力してください | F9: =DATE($M$2,$S$2,1) -> 46143 | G9: =DATE($M$2,$S$2,2) -> 46144 | H9: =DATE($M$2,$S$2,3) -> 46145 | I9: =DATE($M$2,$S$2,4) -> 46146 | J9: =DATE($M$2,$S$2,5) -> 46147 | K9: =DATE($M$2,$S$2,6) -> 46148 | L9: =DATE($M$2,$S$2,7) -> 46149 | M9: =DATE($M$2,$S$2,8) -> 46150 | N9: =DATE($M$2,$S$2,9) -> 46151 | O9: =DATE($M$2,$S$2,10) -> 46152 | P9: =DATE($M$2,$S$2,11) -> 46153 | Q9: =DATE($M$2,$S$2,12) -> 46154 | R9: =DATE($M$2,$S$2,13) -> 46155 | S9: =DATE($M$2,$S$2,14) -> 46156 | T9: =DATE($M$2,$S$2,15) -> 46157 | U9: =DATE($M$2,$S$2,16) -> 46158 | V9: =DATE($M$2,$S$2,17) -> 46159 | W9: =DATE($M$2,$S$2,18) -> 46160 | X9: =DATE($M$2,$S$2,19) -> 46161 | Y9: =DATE($M$2,$S$2,20) -> 46162 | Z9: =DATE($M$2,$S$2,21) -> 46163 | AA9: =DATE($M$2,$S$2,22) -> 46164 | AB9: =DATE($M$2,$S$2,23) -> 46165 | AC9: =DATE($M$2,$S$2,24) -> 46166 | AD9: =DATE($M$2,$S$2,25) -> 46167 | AE9: =DATE($M$2,$S$2,26) -> 46168 | AF9: =DATE($M$2,$S$2,27) -> 46169 | AG9: =DATE($M$2,$S$2,28) -> 46170 | AH9: =IF(DAY(EOMONTH(F9,0))<29,"",DATE($M$2,$S$2,29)) -> 46171 | AI9: =IF(DAY(EOMONTH(F9,0))<30,"",DATE($M$2,$S$2,30)) -> 46172 | AJ9: =IF(DAY(EOMONTH(F9,0))<31,"",DATE($M$2,$S$2,31)) -> 46173
F10: =DATE($M$2,$S$2,1) -> 46143 | G10: =DATE($M$2,$S$2,2) -> 46144 | H10: =DATE($M$2,$S$2,3) -> 46145 | I10: =DATE($M$2,$S$2,4) -> 46146 | J10: =DATE($M$2,$S$2,5) -> 46147 | K10: =DATE($M$2,$S$2,6) -> 46148 | L10: =DATE($M$2,$S$2,7) -> 46149 | M10: =DATE($M$2,$S$2,8) -> 46150 | N10: =DATE($M$2,$S$2,9) -> 46151 | O10: =DATE($M$2,$S$2,10) -> 46152 | P10: =DATE($M$2,$S$2,11) -> 46153 | Q10: =DATE($M$2,$S$2,12) -> 46154 | R10: =DATE($M$2,$S$2,13) -> 46155 | S10: =DATE($M$2,$S$2,14) -> 46156 | T10: =DATE($M$2,$S$2,15) -> 46157 | U10: =DATE($M$2,$S$2,16) -> 46158 | V10: =DATE($M$2,$S$2,17) -> 46159 | W10: =DATE($M$2,$S$2,18) -> 46160 | X10: =DATE($M$2,$S$2,19) -> 46161 | Y10: =DATE($M$2,$S$2,20) -> 46162 | Z10: =DATE($M$2,$S$2,21) -> 46163 | AA10: =DATE($M$2,$S$2,22) -> 46164 | AB10: =DATE($M$2,$S$2,23) -> 46165 | AC10: =DATE($M$2,$S$2,24) -> 46166 | AD10: =DATE($M$2,$S$2,25) -> 46167 | AE10: =DATE($M$2,$S$2,26) -> 46168 | AF10: =DATE($M$2,$S$2,27) -> 46169 | AG10: =DATE($M$2,$S$2,28) -> 46170 | AH10: =IF(DAY(EOMONTH(F10,0))<29,"",DATE($M$2,$S$2,29)) -> 46171 | AI10: =IF(DAY(EOMONTH(F10,0))<30,"",DATE($M$2,$S$2,30)) -> 46172 | AJ10: =IF(DAY(EOMONTH(F10,0))<31,"",DATE($M$2,$S$2,31)) -> 46173
A11: 1 | B11: 管理者 | C11: A | E11: あ | AK11: =IF(AND($AK$3="４週",($AH$5*4)>=SUM(F11:AJ11)),SUM(F11:AJ11),IF(AND($AK$3="４週",SUM(F11:AJ11)>($AH$5*4)),"上限超過")) -> 0 | AL11: =AK11/4 -> 0
A12: 2 | B12: サービス管理責任者 | C12: B | E12: あ | AK12: =IF(AND($AK$3="４週",($AH$5*4)>=SUM(F12:AJ12)),SUM(F12:AJ12),IF(AND($AK$3="４週",SUM(F12:AJ12)>($AH$5*4)),"上限超過")) -> 0 | AL12: =IF($AK$3="４週",AK12/4,AK12/(DAY(EOMONTH($F$9,0))/7)) -> 0
A13: 3 | B13: 世話人 | C13: C | E13: あ | AK13: =IF(AND($AK$3="４週",($AH$5*4)>=SUM(F13:AJ13)),SUM(F13:AJ13),IF(AND($AK$3="４週",SUM(F13:AJ13)>($AH$5*4)),"上限超過")) -> 0 | AL13: =IF($AK$3="４週",AK13/4,AK13/(DAY(EOMONTH($F$9,0))/7)) -> 0
A14: 4 | B14: 生活支援員 | C14: D | E14: あ | AK14: =IF(AND($AK$3="４週",($AH$5*4)>=SUM(F14:AJ14)),SUM(F14:AJ14),IF(AND($AK$3="４週",SUM(F14:AJ14)>($AH$5*4)),"上限超過")) -> 0 | AL14: =IF($AK$3="４週",AK14/4,AK14/(DAY(EOMONTH($F$9,0))/7)) -> 0
A15: 5 | B15: 生活支援員 | C15: D | E15: あ | AK15: =IF(AND($AK$3="４週",($AH$5*4)>=SUM(F15:AJ15)),SUM(F15:AJ15),IF(AND($AK$3="４週",SUM(F15:AJ15)>($AH$5*4)),"上限超過")) -> 0 | AL15: =IF($AK$3="４週",AK15/4,AK15/(DAY(EOMONTH($F$9,0))/7)) -> 0
A16: 6 | AK16: =IF(AND($AK$3="４週",($AH$5*4)>=SUM(F16:AJ16)),SUM(F16:AJ16),IF(AND($AK$3="４週",SUM(F16:AJ16)>($AH$5*4)),"上限超過")) -> 0 | AL16: =IF($AK$3="４週",AK16/4,AK16/(DAY(EOMONTH($F$9,0))/7)) -> 0
A17: 7 | AK17: =IF(AND($AK$3="４週",($AH$5*4)>=SUM(F17:AJ17)),SUM(F17:AJ17),IF(AND($AK$3="４週",SUM(F17:AJ17)>($AH$5*4)),"上限超過")) -> 0 | AL17: =IF($AK$3="４週",AK17/4,AK17/(DAY(EOMONTH($F$9,0))/7)) -> 0
A18: 8 | AK18: =IF(AND($AK$3="４週",($AH$5*4)>=SUM(F18:AJ18)),SUM(F18:AJ18),IF(AND($AK$3="４週",SUM(F18:AJ18)>($AH$5*4)),"上限超過")) -> 0 | AL18: =IF($AK$3="４週",AK18/4,AK18/(DAY(EOMONTH($F$9,0))/7)) -> 0
A19: 9 | AK19: =IF(AND($AK$3="４週",($AH$5*4)>=SUM(F19:AJ19)),SUM(F19:AJ19),IF(AND($AK$3="４週",SUM(F19:AJ19)>($AH$5*4)),"上限超過")) -> 0 | AL19: =IF($AK$3="４週",AK19/4,AK19/(DAY(EOMONTH($F$9,0))/7)) -> 0
A20: 10 | AK20: =IF(AND($AK$3="４週",($AH$5*4)>=SUM(F20:AJ20)),SUM(F20:AJ20),IF(AND($AK$3="４週",SUM(F20:AJ20)>($AH$5*4)),"上限超過")) -> 0 | AL20: =IF($AK$3="４週",AK20/4,AK20/(DAY(EOMONTH($F$9,0))/7)) -> 0
A21: 11 | AK21: =IF(AND($AK$3="４週",($AH$5*4)>=SUM(F21:AJ21)),SUM(F21:AJ21),IF(AND($AK$3="４週",SUM(F21:AJ21)>($AH$5*4)),"上限超過")) -> 0 | AL21: =IF($AK$3="４週",AK21/4,AK21/(DAY(EOMONTH($F$9,0))/7)) -> 0
A22: 12 | AK22: =IF(AND($AK$3="４週",($AH$5*4)>=SUM(F22:AJ22)),SUM(F22:AJ22),IF(AND($AK$3="４週",SUM(F22:AJ22)>($AH$5*4)),"上限超過")) -> 0 | AL22: =IF($AK$3="４週",AK22/4,AK22/(DAY(EOMONTH($F$9,0))/7)) -> 0
A23: 13 | AK23: =IF(AND($AK$3="４週",($AH$5*4)>=SUM(F23:AJ23)),SUM(F23:AJ23),IF(AND($AK$3="４週",SUM(F23:AJ23)>($AH$5*4)),"上限超過")) -> 0 | AL23: =IF($AK$3="４週",AK23/4,AK23/(DAY(EOMONTH($F$9,0))/7)) -> 0
A24: 14 | AK24: =IF(AND($AK$3="４週",($AH$5*4)>=SUM(F24:AJ24)),SUM(F24:AJ24),IF(AND($AK$3="４週",SUM(F24:AJ24)>($AH$5*4)),"上限超過")) -> 0 | AL24: =IF($AK$3="４週",AK24/4,AK24/(DAY(EOMONTH($F$9,0))/7)) -> 0
A25: 15 | AK25: =IF(AND($AK$3="４週",($AH$5*4)>=SUM(F25:AJ25)),SUM(F25:AJ25),IF(AND($AK$3="４週",SUM(F25:AJ25)>($AH$5*4)),"上限超過")) -> 0 | AL25: =IF($AK$3="４週",AK25/4,AK25/(DAY(EOMONTH($F$9,0))/7)) -> 0
A26: 16 | AK26: =IF(AND($AK$3="４週",($AH$5*4)>=SUM(F26:AJ26)),SUM(F26:AJ26),IF(AND($AK$3="４週",SUM(F26:AJ26)>($AH$5*4)),"上限超過")) -> 0 | AL26: =IF($AK$3="４週",AK26/4,AK26/(DAY(EOMONTH($F$9,0))/7)) -> 0
A27: 17 | AK27: =IF(AND($AK$3="４週",($AH$5*4)>=SUM(F27:AJ27)),SUM(F27:AJ27),IF(AND($AK$3="４週",SUM(F27:AJ27)>($AH$5*4)),"上限超過")) -> 0 | AL27: =IF($AK$3="４週",AK27/4,AK27/(DAY(EOMONTH($F$9,0))/7)) -> 0
... A30: 20 | AK30: =IF(AND($AK$3="４週",($AH$5*4)>=SUM(F30:AJ30)),SUM(F30:AJ30),IF(AND($AK$3="４週",SUM(F30:AJ30)>($AH$5*4)),"上限超過")) -> 0 | AL30: =IF($AK$3="４週",AK30/4,AK30/(DAY(EOMONTH($F$9,0))/7)) -> 0
A31: 合計 | F31: =+SUM(F11:F30) -> 0 | G31: =+SUM(G11:G30) -> 0 | H31: =+SUM(H11:H30) -> 0 | I31: =+SUM(I11:I30) -> 0 | J31: =+SUM(J11:J30) -> 0 | K31: =+SUM(K11:K30) -> 0 | L31: =+SUM(L11:L30) -> 0 | M31: =+SUM(M11:M30) -> 0 | ... AJ31: =+SUM(AJ11:AJ30) -> 0 | AK31: =SUM(AK11:AK30) -> 0 | AL31: =IF($AK$3="４週",AK31/4,AK31/(DAY(EOMONTH($F$9,0))/7)) -> 0
A32: サービス提供時間
A35: ＜前年度の平均値＞※新規申請の場合は推定数を記載ください。
D36: 4月 | E36: 5月 | F36: 6月 | I36: 7月 | L36: 8月 | O36: 9月 | R36: 10月 | U36: 11月 | X36: 12月 | AA36: 1月 | AD36: 2月 | AG36: 3月 | AJ36: 計 | AL36: 平均利用者数 | AM36: 個人居宅介護 利用者数平均
A37: 利用者延べ数計 | D37: =SUM(D38,D39,D40,D41,D43,D45) -> 1840 | E37: =SUM(E38,E39,E40,E41,E43,E45) -> 1726 | F37: =SUM(F38,F39,F40,F41,F43,F45) -> 1840 | I37: =SUM(I38,I39,I40,I41,I43,I45) -> 1932 | J37: =SUM(J38,J39,J40,J41,J43,J45) -> 0 | K37: =SUM(K38,K39,K40,K41,K43,K45) -> 0 | L37: =SUM(L38,L39,L40,L41,L43,L45) -> 1932 | O37: =SUM(O38,O39,O40,O41,O43,O45) -> 1748 | R37: =SUM(R38,R39,R40,R41,R43,R45) -> 1840 | U37: =SUM(U38,U39,U40,U41,U43,U45) -> 1840 | V37: =SUM(V38,V39,V40,V41,V43,V45) -> 0 | W37: =SUM(W38,W39,W40,W41,W43,W45) -> 0 | X37: =SUM(X38,X39,X40,X41,X43,X45) -> 1748 | Y37: =SUM(Y38,Y39,Y40,Y41,Y43,Y45) -> 0 | Z37: =SUM(Z38,Z39,Z40,Z41,Z43,Z45) -> 0 | AA37: =SUM(AA38,AA39,AA40,AA41,AA43,AA45) -> 1748 | AB37: =SUM(AB38,AB39,AB40,AB41,AB43,AB45) -> 0 | ... AI37: =SUM(AI38,AI39,AI40,AI41,AI43,AI45) -> 0 | AJ37: =SUM(D37:AI37) -> 21782 | AL37: =ROUNDUP(AJ37/AJ47,1) -> 92
A38: 区分１以下の延べ利用者数 | D38: 50 | E38: 45 | F38: 50 | I38: 50 | L38: 50 | O38: 45 | R38: 50 | U38: 50 | X38: 45 | AA38: 45 | AD38: 45 | AG38: 50 | AJ38: =SUM(D38:AI38) -> 575 | AL38: =ROUNDUP(AJ38/$AJ$47,1) -> 2.5
A39: 区分２の延べ利用者数 | D39: 50 | E39: 50 | F39: 50 | I39: 55 | L39: 55 | O39: 50 | R39: 50 | U39: 50 | X39: 50 | AA39: 50 | AD39: 50 | AG39: 50 | AJ39: =SUM(D39:AI39) -> 610 | AL39: =ROUNDUP(AJ39/$AJ$47,1) -> 2.6
A40: 区分３の延べ利用者数 | D40: 100 | E40: 95 | F40: 100 | I40: 105 | L40: 105 | O40: 95 | R40: 100 | U40: 100 | X40: 95 | AA40: 95 | AD40: 95 | AG40: 100 | AJ40: =SUM(D40:AI40) -> 1185 | AL40: =ROUNDUP(AJ40/$AJ$47,1) -> 5
A41: 区分４の延べ利用者数 | D41: 100 | E41: 95 | F41: 100 | I41: 105 | L41: 105 | O41: 95 | R41: 100 | U41: 100 | X41: 95 | AA41: 95 | AD41: 95 | AG41: 100 | AJ41: =SUM(D41:AI41) -> 1185 | AL41: =ROUNDUP(AJ41/$AJ$47,1) -> 5
B42: 個人居宅介護利用者数 | D42: 40 | E42: 45 | F42: 40 | I42: 40 | L42: 60 | O42: 50 | R42: 40 | U42: 40 | X42: 30 | AA42: 30 | AD42: 30 | AG42: 50 | AJ42: =SUM(D42:AI42) -> 495 | AM42: =ROUNDUP($AJ$42/$AJ$47,1) -> 2.1
A43: 区分５の延べ利用者数 | D43: 140 | E43: 131 | F43: 140 | I43: 147 | L43: 147 | O43: 133 | R43: 140 | U43: 140 | X43: 133 | AA43: 133 | AD43: 133 | AG43: 140 | AJ43: =SUM(D43:AI43) -> 1657 | AL43: =ROUNDUP(AJ43/$AJ$47,1) -> 7
B44: 個人居宅介護利用者数 | D44: 40 | E44: 31 | F44: 40 | I44: 47 | L44: 47 | O44: 33 | R44: 40 | U44: 40 | X44: 33 | AA44: 33 | AD44: 33 | AG44: 40 | AJ44: =SUM(D44:AI44) -> 457 | AM44: =ROUNDUP($AJ$44/$AJ$47,1) -> 2
A45: 区分６の延べ利用者数 | D45: 1400 | E45: 1310 | F45: 1400 | I45: 1470 | L45: 1470 | O45: 1330 | R45: 1400 | U45: 1400 | X45: 1330 | AA45: 1330 | AD45: 1330 | AG45: 1400 | AJ45: =SUM(D45:AI45) -> 16570 | AL45: =ROUNDUP(AJ45/$AJ$47,1) -> 70
...

Sheet 別紙37(人員配置体制加算に関する届出書)
A1: （別紙37） | P1: 青字：入力不要
L2: 年 月 日
A4: 人員配置体制加算に関する届出書（共同生活援助）
B6: １ 法人・事業所の名称 | C6: 法人名 | I6: 事業所名 | J6: =IF('標準様式第4号(勤務形態一覧表(GH))'!$AK$2="","勤務形態一覧表の事業所欄を入力してください",'標準様式第4号(勤務形態一覧表(GH))'!$AK$2) -> 勤務形態一覧表の事業所欄を入力してください
B7: ２ 異動区分
B8: ３ サービス種別 | C8: =IF('標準様式第4号(勤務形態一覧表(GH))'!AK1='★選択肢(公開時非表示)'!A2,'★選択肢(公開時非表示)'!A6,IF('標準様式第4号(勤務形態一覧表(GH))'!AK1='★選択肢(公開時非表示)'!A3,'★選択肢(公開時非表示)'!A7,IF('標準様式第4号(勤務形態一覧表(GH))'!AK1='★選択肢(公開時非表示)'!A4,'★選択肢(公開時非表示)'!A8))) -> １.介護サービス包括型
B9: ４ 申請する加算区分 | C9: 人員配置体制加算 | G9: =IF(AND($C$8='★選択肢(公開時非表示)'!$A$6,'別紙37(人員配置体制加算に関する届出書)'!$G$13=12),"Ⅰ・Ⅲ",IF(AND($C$8='★選択肢(公開時非表示)'!$A$6,'別紙37(人員配置体制加算に関する届出書)'!$G$13=30),"Ⅱ・Ⅳ",IF(AND($C$8='★選択肢(公開時非表示)'!$A$8,'別紙37(人員配置体制加算に関する届出書)'!$G$13=7.5),"Ⅴ・Ⅶ・Ⅸ・Ⅺ",IF(AND($C$8='★選択肢(公開時非表示)'!$A$8,'別紙37(人員配置体制加算に関する届出書)'!$G$13=20),"Ⅵ・Ⅷ・Ⅹ・Ⅻ",IF(AND($C$8='★選択肢(公開時非表示)'!$A$7,'別紙37(人員配置体制加算に関する届出書)'!$G$13=12),"XIII",IF(AND($C$8='★選択肢(公開時非表示)'!$A$7,'別紙37(人員配置体制加算に関する届出書)'!$G$13=30),"XIV",)))))) -> 0
B10: ５ 利用者数
D11: 前年度の利用者数の 平均値 | I11: ='標準様式第4号(勤務形態一覧表(GH))'!AL37 -> 92 | J11: 人
D12: ※ 新設の場合は推定値
B13: ６ 人員体制 | C13: 特定従業者数換算で | H13: ：1以上加配
B14: ７ 人員配置の状況 | C14: ㈠ 「６ 人員体制」において満たすべき算定要件の算出
D15: ○指定障害福祉サービス基準の規定により置くべき世話人及び生活支援員（以下、世話人等）
E16: 世話人 | H16: 生活支援員 | K16: 合計（ (a)＝①＋② ）
D17: 常勤換算数 | E17: ='標準様式第4号(勤務形態一覧表(GH))'!$E$51 -> 15.3 | G17: 人 | H17: ='標準様式第4号(勤務形態一覧表(GH))'!$I$51 -> 26.4 | J17: 人 | K17: =SUM(E17,H17) -> 41.7 | M17: 人
D18: 勤務延べ 時間数/週 | E18: ① | F18: =E17*'標準様式第4号(勤務形態一覧表(GH))'!$AH$5 -> 612 | G18: 時間 | H18: ② | I18: =H17*'標準様式第4号(勤務形態一覧表(GH))'!$AH$5 -> 1056 | J18: 時間 | K18: (a) | L18: =SUM(F18,I18) -> 1668 | M18: 時間
D19: ○「６ 人員体制」を満たすために加配すべき世話人等
E20: 加配する 世話人等 | K20: 調整数
D21: 勤務延べ 時間数/週 | E21: (b) | F21: =40*ROUNDDOWN($I$11/$G$13,1) -> #DIV/0! | G21: 時間 | J21: 勤務延べ 時間数/週 | K21: (c) | L21: =K17*40-L18 -> 0 | M21: 時間
D22: ○「６ 人員体制」を満たすために必要な特定従業者数（ (a)＋(b)＋(c) = (d)、(d)の値から（e）を算出 ）
K23: 世話人等
G24: 特定従業者数 | K24: (e) | L24: =ROUNDDOWN(L25/40,1) -> #DIV/0! | M24: 人
G25: 勤務延べ時間数/週 | K25: (d) | L25: =L18+F21+L21 -> #DIV/0! | M25: 時間
C27: ㈡ 現時点で配置している世話人等の特定従業者数
K29: 世話人等 | P29: 勤務延べ時間数
G30: 特定従業者数 | K30: (f) | L30: =ROUNDDOWN($K$31/40,1) -> 0 | M30: 人 | P30: 世話人 | Q30: 生活支援員
G31: 勤務延べ時間数/週 | K31: =P31+Q31 -> 0 | M31: 時間 | P31: =SUMIF('標準様式第4号(勤務形態一覧表(GH))'!$B$11:$B$30,"世話人",'標準様式第4号(勤務形態一覧表(GH))'!$AL$11:$AL$30) -> 0 | Q31: =SUMIF('標準様式第4号(勤務形態一覧表(GH))'!$B$11:$B$30,"生活支援員",'標準様式第4号(勤務形態一覧表(GH))'!$AL$11:$AL$30) -> 0
C33: ㈢ 人員配置体制加算 算定の可否
D35: =IF(L24<=L30,"可","否") -> #DIV/0! | F35: (d) ≦ (e) ＝ 必要な特定従業者数を満たしているため可 | P35: =IF(L30<L24,"○","") -> #DIV/0!
F36: (d) ＞ (e) ＝ 必要な特定従業者数を満たしていないため否
B39: 注１ 「申請する加算区分」には、該当する番号（Ⅰ～XIV）に○を付してください。 注２ 「人員体制」には、該当する数字を選択してください。 注３ ここでいう特定従業者数とは、厚生労働大臣が定める施設基準並びにこども家庭庁長官及び厚生労働大臣が定める 施設基準（平成18年厚生労働省告示第551号）第16号ロに規定する特定従業者数換算方法により算定した従業者数をさします。 注４ 調整数とは、常勤換算方法による基準上おくべき従業者数において、当該事業所の常勤換算における所定労働時間が 40時間未満であった場合に、特定従業者数換算方法により算出された場合の値との差分をいいます。

Sheet ★選択肢(公開時非表示)
A1: ！申請するサービス類型を選択してください | B1: 職種① | C1: 職種② | D1: 職種③ | E1: 職種④ | F1: 職種⑤ | G1: 職種⑥ | H1: 職種⑦ | I1: 職種⑧ | J1: 職種⑨ | K1: 職種⑩
A2: 共同生活援助・介護サービス包括型 | B2: 管理者 | C2: サービス管理責任者 | D2: 世話人 | E2: 生活支援員 | F2: 夜間支援従事者
A3: 共同生活援助・外部サービス利用型 | B3: 管理者 | C3: サービス管理責任者 | D3: 世話人 | E3: 夜間支援従事者
A4: 共同生活援助・日中サービス支援型 | B4: 管理者 | C4: サービス管理責任者 | D4: 世話人 | E4: 生活支援員 | F4: 夜間支援従事者
A6: １.介護サービス包括型 | B6: 12 | C6: 30
A7: ２.外部サービス利用型 | B7: 12 | C7: 30
A8: ３.日中サービス支援型 | B8: 7.5 | C8: 20
