Workbook
Name _____________________________________________________________________kk29: #REF!
Name _____________________________________________________________________kk29: #REF!
Name _____________________________________________________________________kk29: #REF!
Name _____________________________________________________________________kk29: #REF!
Name _____________________________________________________________________kk29: #REF!
Name ____________________________________________________________________kk29: #REF!
Name ____________________________________________________________________kk29: #REF!
Name ____________________________________________________________________kk29: #REF!
Name ____________________________________________________________________kk29: #REF!
Name ____________________________________________________________________kk29: #REF!
Name ___________________________________________________________________kk29: #REF!
Name ___________________________________________________________________kk29: #REF!
Name ___________________________________________________________________kk29: #REF!
Name ___________________________________________________________________kk29: #REF!
Name ___________________________________________________________________kk29: #REF!
Name __________________________________________________________________kk06: #REF!
Name __________________________________________________________________kk06: #REF!
Name __________________________________________________________________kk06: #REF!
Name __________________________________________________________________kk06: #REF!
Name __________________________________________________________________kk06: #REF!
Name __________________________________________________________________kk29: #REF!
Name __________________________________________________________________kk29: #REF!
Name __________________________________________________________________kk29: #REF!
Name __________________________________________________________________kk29: #REF!
Name __________________________________________________________________kk29: #REF!
Name _________________________________________________________________kk06: #REF!
Name _________________________________________________________________kk06: #REF!
Name _________________________________________________________________kk06: #REF!
Name _________________________________________________________________kk06: #REF!
Name _________________________________________________________________kk06: #REF!
Name _________________________________________________________________kk29: #REF!
Name _________________________________________________________________kk29: #REF!
Name _________________________________________________________________kk29: #REF!
Name _________________________________________________________________kk29: #REF!
Name _________________________________________________________________kk29: #REF!
Name ________________________________________________________________kk06: #REF!
Name ________________________________________________________________kk06: #REF!
Name ________________________________________________________________kk06: #REF!
Name ________________________________________________________________kk06: #REF!
Name ________________________________________________________________kk06: #REF!
Name ________________________________________________________________kk29: #REF!
Name ________________________________________________________________kk29: #REF!
Name ________________________________________________________________kk29: #REF!
Name ________________________________________________________________kk29: #REF!
Name ________________________________________________________________kk29: #REF!
Name _______________________________________________________________kk06: #REF!
Name _______________________________________________________________kk06: #REF!
Name _______________________________________________________________kk06: #REF!
Name _______________________________________________________________kk06: #REF!
Name _______________________________________________________________kk06: #REF!
Name _______________________________________________________________kk29: #REF!
Name _______________________________________________________________kk29: #REF!
Name _______________________________________________________________kk29: #REF!
Name _______________________________________________________________kk29: #REF!
Name _______________________________________________________________kk29: #REF!
Name ______________________________________________________________kk06: #REF!
Name ______________________________________________________________kk06: #REF!
Name ______________________________________________________________kk06: #REF!
Name ______________________________________________________________kk06: #REF!
Name ______________________________________________________________kk06: #REF!

Sheet 【変更届】添付書類一覧 
A1: 変更届の提出書類一覧（生活介護、施設入所支援、自立訓練、療養介護、就労選択支援、就労移行支援、就労継続支援、就労定着支援事業者用）
A2: ※変更後、１０日以内に届出てください。 ただし、「１７ （定員の変更）」又は「２４ 介護給付費の請求に関する事項」 の場合には、変更月の前月の１５日前までに提出してください（４月の取扱いは通知参照）。 | G2: ●必要書類／この他参考になる書類がありましたら添付してください。各届出様式等は報酬改定等により変更となる場合があるため、提出の際は最新の様式をお使いください。 ※収受印を押印した変更届の写しの返送を希望する場合は、切手を貼付した返信用封筒を同封してください。
A4: ※「２ 事業所（施設）の所在地」、 「１０ 事業所（施設）の平面図・設備の概要」「１４ 管理者の氏名、生年月日、住所及び経歴」「１５ サービス管理責任者の氏名、生年月日、住所及び経歴」又は「１７ （定員の変更）」 「１７ （従たる事業所・出張所の追加） 」、の場合には、事前に財団の担当部署にご相談ください。（生活介護、施設入所支援、自立訓練、療養介護については「１４」「１５」の事前相談は不要です）
A6: 変更事由／変更後内容を記載の必要書類 | D6: 変更届出書 | E6: 付表 | F6: 介護給付費等の算定に係る体制等状況一覧表 | G6: 定 款 | H6: 履歴事項 全部証明 書（写） | I6: 土地・建物 登記簿 （もしくは賃貸借 契約書）（写） | J6: 条例 (公営事業所 のみ） | K6: 平面図 （用途と面積を反映させたもの） | L6: 設備の概要 | M6: 経 歴 書 | N6: 資格免状の写し | O6: ｻｰﾋﾞｽ 管理責任 者研修 修了証書(写) ※4 | P6: 実務経験証明書 | Q6: 勤務体制 一覧表 | R6: 運営 規程 | S6: 理事会 議事録 （＊5） | T6: 法36条3項非該当誓約書 | U6: 協力医療機関との契約内容が分かる書類 | V6: 指定障害福祉サービス等の主たる対象者を特定する理由等 | W6: 耐震化 調査票 | X6: 関係機関との相談状況確認シート
C8: 様式の有無（共通シートは名称） | D8: 別紙様式第二号 | E8: 有 | F8: 別紙1-1体制一覧 | G8: 無 | H8: 無 | I8: 無 | J8: 無 | K8: 無 | L8: 参考様式２ | M8: 参考様式３ | N8: 無 | O8: 無 | P8: 参考様式４ | Q8: 標準様式４ | R8: 記載例有 | S8: 無 | T8: 標準様式3 | U8: 無 | V8: 標準様式１ | W8: 耐震化調査票 | X8: 有
A9: 1 | B9: 事業所（施設）の名称 | D9: ● | E9: ● | J9: ● | R9: ● | S9: ●
A10: =A9+1 -> 2 | B10: 事業所（施設）の所在地 （＊１） （＊２） | D10: ● | E10: ● | I10: ● | J10: ● （変更がある 場合のみ） | K10: ● | L10: ● | R10: ● | S10: ● | W10: ● | X10: ●
A11: 3 | B11: 事業所（施設）の連絡先（電話番号） ※FAX番号が変わった場合はFAX番号も記載 | D11: ● | E11: ●
A12: 4 | B12: 申請者（設置者）の名称 【法人名変更】 | D12: ● | E12: ● | H12: ● | R12: ● | S12: ●
A13: =A12+1 -> 5 | B13: 主たる事務所の所在地 （＊２） 【法人本部・区市町村役所の移転】 ＊電話・ＦＡＸ番号が変わった場合は電話・ＦＡＸ番号も記載 | D13: ● | H13: ● | J13: ● （変更がある 場合のみ） | S13: ●
A14: =A13+1 -> 6 | B14: 申請者の代表者の氏名、生年月日、住所及び職名 | D14: ● | H14: ● | M14: ● | S14: ● | T14: ●
A15: 7 | B15: 法人等の種類 （＊２）
A16: 8 | B16: 定款(A型のみ)及び登記事項証明書又は条例等（当該事業に関するものに限る。）又は条例等（当該事業に関するものに限る。） | D16: ● | G16: ● | H16: ● | J16: ● | S16: ●
A17: 9 | B17: 共生型サービスの該当有無
A18: 10 | B18: 事業所（施設）の構造概要・平面図・設備の概要 （＊１） （＊２） | D18: ● | K18: ● | L18: ●
A19: 11 | B19: 障害児対象事業の該当有無
A20: 12 | B20: 利用する障害児の推定数
A21: 13 | B21: 利用者又は入所者の定員
A22: 14 | B22: 管理者の氏名、生年月日、住所及び経歴 | D22: ● | E22: ● | M22: ● | N22: ● | P22: ● | Q22: ● | S22: ● | T22: ●
A23: 15 | B23: サービス管理責任者の氏名、生年月日、住所及び経歴 | D23: ● | E23: ● | M23: ● | N23: ● | O23: ● | P23: ● | Q23: ●
A24: 16 | B24: 指定地域相談支援の提供に当たる者又は相談支援専門員の氏名、生年月日、住所及び経歴
A25: 17 | B25: 運営規程 | D25: ● | E25: ● | R25: ●
B26: （定員の変更） （※３） | D26: ● | E26: ● | F26: ● | K26: ● | L26: ● | Q26: ● | R26: ● | S26: ● | X26: ●
B27: （従たる事業所・出張所の追加） （＊１） | D27: ● | E27: ● | F27: ● | I27: ● | J27: ● | K27: ● | L27: ● | Q27: ● | R27: ● | S27: ● | U27: ● | W27: ● | X27: ●
B28: （主たる対象者） | D28: ● | E28: ● | R28: ● | V28: ●
A29: 18 | B29: 協力医療機関・協力歯科医療機関の名称・診療科名・契約内容 | D29: ● | E29: ● | U29: ●
A30: 19 | B30: 提携就労支援機関の名称 | D30: ● | E30: ●
A31: 20 | B31: 提供する障害福祉サービス等の種類 （障害者支援施設（入所）の日中提供サービスの種類変更） | D31: 新規指定申請書類と同様の書類が必要となります。事前に財団の担当者へご相談ください。
A32: 21 | B32: 第三者委託により提供する障害福祉サービス等の種類等
A33: 22 | B33: 事業実施形態（事業所の種別等）
A34: 23 | B34: 従業者の勤務の体制及び勤務形態
A35: 24 | B35: その他 | D35: 変更届の項目以外で必要なものを以下その他として扱っております。下記に従って届出をお願い致します。
B36: 「就労選択支援員の氏名」 | D36: ● | E36: ● | M36: ● | N36: ● | Q36: ●
B37: 【介護給付費等(訓練等給付費）の請求に関する事項】 | D37: 別紙「基本報酬・加算等にかかる添付書類一覧」を参照ください。
B39: ＊１ | C39: 用途変更が生じる場合等もありますので、変更届の提出前にご相談ください。
B40: ＊２ | C40: 施設整備費補助金を受けた事業所にあっては、２、５、１０について変更等がある場合は施設整備費補助金上の手続きが必要な場合がありますので、変更前にご相談ください
B41: ＊３ | C41: 定員規模の変更を伴う場合は、項目２４の介護給付費等に係る手続きも必要になります。
B42: ＊４ | C42: サービス管理責任者実践研修又は更新研修の修了日付が新しいどちらか一方の修了証書を提出してください。
B43: ＊５ | C43: 変更事項が理事会審議事項でない場合（又は理事会自体が存在しない場合）は、法人としての意思決定がなされていることが確認できる書類（取締役会議事録や管理者の任命書等）をご提出ください。

Sheet 基本報酬・加算等にかかる添付書類一覧(R8) 
B1: 基本報酬・加算等にかかる添付書類一覧
B2: ※ 添付書類は下記一覧表のとおり。なお、変更届にて申請する際は、担当部署へ到達した日をもって届出日になりますので、郵送の場合は余裕を持って提出願います。 １５日以前⇒翌月から １６日以降⇒翌々月から（１５日が閉庁日の場合は、直前の開庁日までに到達していること。４月の取扱いは通知参照）
B4: ※ 基本報酬は、就労系サービス（就労移行支援、就労継続支援Ａ型、就労継続支援Ｂ型、就労定着支援）について、区分に変更がある場合は、毎年（４月）変更届出が必要となります。 変更がない場合でも報告書の提出をお願いします。
B5: ※ 加算の算定要件に欠ける場合には、速やかに変更届を提出願います。変更届提出日に関わらず、変更年月日は、算定要件に欠けた時点となります。
B6: ※ 各届出様式等は報酬改定等により変更となる場合があるため、提出の際は最新の様式をお使いください。
B8: 基本報酬
B9: No. | C9: 基本報酬 | D9: 生活介護 | E9: 施設入所支援 | F9: 自立訓練(生活訓練) | G9: 自立訓練(機能訓練) | H9: 宿泊型自立訓練 | I9: 就労選択支援 | J9: 就労移行支援 | K9: 就労継続支援A型 | L9: 就労継続支援B型 | M9: 就労定着支援 | N9: 療養介護 | O9: 変更届出書（別紙様式第二号） 様式 | P9: 介護給付費等の算定に係る体制等状況一覧表 | Q9: 付表 | R9: 勤務形態一覧表 標準様式４ | S9: 各 届出 様式 | T9: 社会福祉士等資格証 (写) | U9: 看護職員資格証 (写) | V9: 栄養士資格証 (写) | W9: 管理栄養士資格証 (写) | X9: 運営規程 | Y9: その他
B10: 1 | C10: 就労移行支援 | J10: ● | O10: ○ | P10: ○ | Q10: ― | R10: ― | S10: ― | T10: ― | U10: ― | V10: ― | W10: ― | X10: ―
B11: 2 | C11: 就労継続支援Ａ型（※１） | K11: ● | O11: ○ | P11: ○ | Q11: ― | R11: ― | S11: ― | T11: ― | U11: ― | V11: ― | W11: ― | X11: ―
B12: 3 | C12: 就労継続支援Ｂ型（※１） | L12: ● | O12: ○ | P12: ○ | Q12: ― | R12: ― | S12: ― | T12: ― | U12: ― | V12: ― | W12: ― | X12: ―
B13: 4 | C13: 就労定着支援 | M13: ● | O13: ○ | P13: ○ | Q13: ― | R13: ― | S13: ― | T13: ― | U13: ― | V13: ― | W13: ― | X13: ―
B14: ※1 | C14: 人員区分の変更 | K14: ● | L14: ● | O14: 〇 | P14: 〇 | R14: 〇
B16: 加算
B17: No. | C17: 基本報酬 | D17: 生活介護 | E17: 施設入所支援 | F17: 自立訓練(生活訓練) | G17: 自立訓練(機能訓練) | H17: 宿泊型自立訓練 | I17: 就労選択支援 | J17: 就労移行支援 | K17: 就労継続支援A型 | L17: 就労継続支援B型 | M17: 就労定着支援 | N17: 療養介護 | O17: 変更届出書（別紙様式第二号） 様式 | P17: 介護給付費等の算定に係る体制等状況一覧表 | Q17: 付表 | R17: 勤務形態一覧表 標準様式４ | S17: 各 届出 様式 | T17: 社会福祉士等資格証 (写) | U17: 看護職員資格証 (写) | V17: 栄養士資格証 (写) | W17: 管理栄養士資格証 (写) | X17: 運営規程 | Y17: その他
B18: 1 | C18: 人員配置体制加算 | D18: ● | N18: ● | O18: ○ | P18: ○ | Q18: ○ | R18: ○ | S18: 別紙 4 | T18: ― | U18: ― | V18: ― | W18: ― | X18: ○
B19: 2 | C19: 福祉専門職配置加算 | D19: ● | F19: ● | G19: ● | H19: ● | I19: ● | J19: ● | K19: ● | L19: ● | N19: ● | O19: ○ | P19: ○ | Q19: ○ | R19: ○ | S19: 別紙3-1 | T19: ○ | U19: ― | V19: ― | W19: ― | X19: ○ （※） | Y19: 社会福祉士等の資格証（写）については、登録証を添付すること。（登録手続中で登録証が未発行の場合は、代わりに合格証を添付し、かつ登録証取得後提出すること） 勤続年数３年以上のⅢ型を算定する場合は、３年以上の勤続が分かる証明書の添付をすること。
B20: 3 | C20: 食事提供体制加算 | D20: ● | F20: ● | G20: ● | H20: ● | I20: ● | J20: ● | K20: ● | L20: ● | O20: ○ | P20: ○ | Q20: ○ | R20: ○ | S20: 別紙 10 | T20: ― | U20: ― | V20: ○ | W20: ○ | X20: ○ | Y20: 別紙10に記載のあるものを添付すること
B21: 4 | C21: 栄養マネジメント加算 | E21: ● | O21: ○ | P21: ○ | Q21: ○ | R21: ― | S21: 別紙 16 | T21: ― | U21: ― | V21: ― | W21: ○ | X21: ○
B22: 5 | C22: 視覚･聴覚言語障害者支援体制加算（Ⅰ） | D22: ● | E22: ● | F22: ● | G22: ● | H22: ● | I22: ● | J22: ● | K22: ● | L22: ● | O22: ○ | P22: ○ | Q22: ― | R22: ○ | S22: 別紙 6-1 | T22: ― | U22: ― | V22: ― | W22: ― | X22: ―
C23: 視覚･聴覚言語障害者支援体制加算（Ⅱ） | D23: ● | E23: ● | F23: ● | G23: ● | H23: ● | I23: ● | J23: ● | K23: ● | L23: ● | O23: ○ | P23: ○ | Q23: ― | R23: ○ | S23: 別紙 6-2 | T23: ― | U23: ― | V23: ― | W23: ― | X23: ―
B24: 6 | C24: 重度障害者支援加算Ⅰ、Ⅱ、Ⅲ 中核的人材配置体制加算 | D24: ● | E24: ● | O24: ○ | P24: ○ | Q24: ○ | R24: ○ | S24: 別紙8-1 | T24: ― | U24: ― | V24: ― | W24: ― | X24: ― | Y24: 別紙8-1に記載のあるものを添付すること
B25: 7 | C25: 夜勤職員配置体制加算 | E25: ● | O25: ○ | P25: ○ | Q25: ○ | R25: ○ 施設で作成している任意の夜勤勤務一覧 | S25: 別紙 17 | T25: ― | U25: ― | V25: ― | W25: ― | X25: ○
B26: 8 | C26: 夜間看護体制加算 | E26: ● | O26: ○ | P26: ○ | Q26: ○ | R26: ○ 施設で作成している任意の夜勤勤務一覧 | S26: 別紙 19 | T26: ― | U26: ○ | V26: ― | W26: ― | X26: ○
B27: 9 | C27: 夜間支援等体制加算（Ⅰ） | H27: ● | O27: ○ | P27: ○ | Q27: ― | R27: ○ | S27: 別紙 29-1 | T27: ― | U27: ― | V27: ― | W27: ― | X27: ― | Y27: ・契約形態（夜勤）のわかる書類（契約書等）を添付すること。 ・夜間支援等体制対象利用者数の区分変更がある際にも変更届をご提出ください。
C28: 夜間支援等体制加算（Ⅱ） | H28: ● | O28: ○ | P28: ○ | Q28: ― | R28: ○ | T28: ― | U28: ― | V28: ― | W28: ― | X28: ―
C29: 夜間支援等体制加算（Ⅲ） | H29: ● | O29: ○ | P29: ○ | Q29: ― | R29: ― | T29: ― | U29: ― | V29: ― | W29: ― | X29: ―
B30: 10 | C30: 地域移行支援体制強化加算 | H30: ● | O30: ○ | P30: ○ | Q30: ○ | R30: ○ | S30: 別紙 27 | T30: ― | U30: ― | V30: ― | W30: ― | X30: ○
B31: 11 | C31: 通勤者生活支援加算 | H31: ● | O31: ○ | P31: ○ | Q31: ― | R31: ― | T31: ― | U31: ― | V31: ― | W31: ― | X31: ―
B32: No. | C32: 基本報酬 | D32: 生活介護 | E32: 施設入所支援 | F32: 自立訓練(生活訓練) | G32: 自立訓練(機能訓練) | H32: 宿泊型自立訓練 | I32: 就労選択支援 | J32: 就労移行支援 | K32: 就労継続支援A型 | L32: 就労継続支援B型 | M32: 就労定着支援 | N32: 療養介護 | O32: 変更届出書（別紙様式第二号） 様式 | P32: 介護給付費等の算定に係る体制等状況一覧表 | Q32: 付表 | R32: 勤務形態一覧表 標準様式４ | S32: 各 届出 様式 | T32: 社会福祉士等資格証 (写) | U32: 看護職員資格証 (写) | V32: 栄養士資格証 (写) | W32: 管理栄養士資格証 (写) | X32: 運営規程 | Y32: その他
B33: 12 | C33: 短期滞在加算 | F33: ● | O33: ○ | P33: ○ | Q33: ― | R33: ― | S33: 別紙 28 | T33: ― | U33: ― | V33: ― | W33: ― | X33: ―
B34: 13 | C34: 就労支援関係研修修了加算 | O34: ○ | P34: ○ | Q34: ○ | R34: ○ | S34: 別紙 30 | T34: ― | U34: ― | V34: ― | W34: ― | X34: ○ （※） | Y34: 別紙３０に記載のあるとおり、研修修了証その他の研修を修了したことを証明できる書類を添付すること
B35: 14 | C35: 就労移行支援体制加算 | D35: ● | F35: ● | G35: ● | K35: ● | L35: ● | O35: ○ | P35: ○ | Q35: ― | R35: ― | S35: 別紙 51-3 | T35: ― | U35: ― | V35: ― | W35: ― | X35: ― | Y35: 前年度の実績を確認の上、引き続き当該加算を算定する場合は、毎年4月に届出をする必要があります。
B36: 15 | C36: 目標工賃達成指導員加算 | L36: ● | O36: ○ | P36: ○ | Q36: ○ | R36: ○ | S36: 別紙 32 | T36: ― | U36: ― | V36: ― | W36: ― | X36: ○ | Y36: 最新の工賃向上計画書を添付すること。
B37: 16 | C37: 目標工賃達成加算 | L37: ● | O37: ○ | P37: ○ | Q37: ○ | R37: ― | S37: 別紙 33 | T37: ― | U37: ― | V37: ― | W37: ― | X37: ―
B38: 17 | C38: 地域生活移行個別支援特別加算 | E38: ● | H38: ● | O38: ○ | P38: ○ | Q38: ― | R38: ― | S38: 別紙 12 | T38: ― | U38: ― | V38: ― | W38: ― | X38: ―
B39: 18 | C39: 重度者支援体制加算（Ⅰ） | K39: ● | L39: ● | O39: ○ | P39: ○ | Q39: ― | R39: ― | S39: 別紙 53 | T39: ― | U39: ― | V39: ― | W39: ― | X39: ― | Y39: 前年度の実績を確認の上、引き続き当該加算を算定する場合は、毎年4月に届出をする必要があります。
C40: 重度者支援体制加算（Ⅱ） | K40: ● | L40: ● | O40: ○ | P40: ○ | Q40: ― | R40: ― | T40: ― | U40: ― | V40: ― | W40: ― | X40: ―
B41: 19 | C41: 延長支援加算 | D41: ● | O41: ○ | P41: ○ | Q41: ○ | R41: ○ 延長時間帯に1名以上配置していることがわかるように（曜日に網掛けする、配置している職員を明示するなど）すること | S41: ― | T41: ― | U41: ― | V41: ― | W41: ― | X41: ○ | Y41: 算定する利用者の個別支援計画書を添付すること
B42: 20 | C42: 送迎加算（Ⅰ） | D42: ● | F42: ● | G42: ● | I42: ● | J42: ● | K42: ● | L42: ● | O42: ○ | P42: ○ | Q42: ― | R42: ― | S42: 別紙 48 | T42: ― | U42: ― | V42: ― | W42: ― | X42: ―
C43: 送迎加算（Ⅱ） | D43: ● | F43: ● | G43: ● | I43: ● | J43: ● | K43: ● | L43: ● | O43: ○ | P43: ○ | Q43: ― | R43: ― | T43: ― | U43: ― | V43: ― | W43: ― | X43: ―
...

Sheet 提出書類一覧 (入所） 
A1: R8.4-
A2: 障害者の日常生活及び社会生活を総合的に支援するための法律に基づく事業者指定の申請に係る書類一覧
A3: （施設入所支援）
A4: 事業所の名称 | C4: =IF(基本情報入力シート!L70="","",基本情報入力シート!L70) | E4: 所在地 （区市町村名）
A6: ※「申請者確認欄」の該当欄に「○」または「－」（加算等を提出しない場合）を付し、添付書類等に漏れがないよう確認してください。
A7: 申請書及び添付書類等 | E7: 申請者確認欄 | F7: 備考 | H7: インデックス
A8: 申請書 | B8: 指定申請書 | F8: 別紙様式第一号 | H8: 1
B9: 障害者支援施設の指定等に係る記載事項 | F9: 付表１３ | H9: 2
A10: 添付書類 | B10: 申請者の登記事項証明書（原本）又は条例等 | H10: 3
B11: 平面図（用途と面積を反映させたもの） | H11: 4
B12: 設備の概要 | F12: 参考様式２ | H12: 5
B13: 土地・建物登記簿又は賃貸借契約書（写） | H13: 6
B14: 従業者の勤務の体制及び勤務形態一覧表 ※多機能型事業実施時は各事業の勤務形態一覧表もあわせて提出すること | F14: 標準様式４ | H14: 7
B15: 嘱託医契約書（写） | H15: 8
B16: 管理者及びサービス管理責任者の経歴書 | F16: 参考様式３ | H16: 9
B17: 管理者及びサービス管理責任者の資格等の証明書（写） ※社会福祉士・介護福祉士・ヘルパー等の資格を持っている場合は添付 | H17: 10
B18: サービス管理責任者の実務経験証明書 | F18: 参考様式４ | H18: 11
B19: サービス管理責任者研修修了証書（写） ※サービス管理責任者実践研修又は更新研修の修了日付が新しいどちらか一方の修了証書を提出してください。 | H19: 12
B20: 運営規程 | F20: 別途記載例あり | H20: 13
B21: 利用者（入所者）又はその家族からの苦情を解決するために講ずる措置の概要 | F21: 標準様式２ | H21: 14
B22: 指定障害福祉サービス等の主たる対象者を特定する理由等 | F22: 標準様式１ | H22: 15
B23: 協力医療機関との契約内容が分かる書類（協定書等の写し） | H23: 16
B24: ３６条第３項各号非該当誓約書 | F24: 標準様式３、別紙① | H24: 17
B25: 事業計画書 | F25: 別途様式あり | H25: 18
B26: 資金収支予算書 | F26: 別途様式あり | H26: 19
B27: 事業開始届 | F27: 様式あり | H27: 20
A28: 加算届出 | B28: 介護給付費等算定に係る体制等状況一覧表 | F28: 別紙１－１ | H28: 21
B29: 栄養マネジメント加算に関する届出書 | F29: 別紙１６ | H29: 22
B30: 夜勤職員配置体制加算に関する届出書 | F30: 別紙１７ | H30: 23
B31: 夜間看護体制加算に関する届出書 | F31: 別紙１９ | H31: 24
B32: 地域生活移行個別支援特別加算に関する届出書 | F32: 別紙１２ | H32: 25
B33: 重度障害者支援加算に関する届出書 | F33: 別紙８－１ | H33: 26
B34: 視覚・聴覚言語障害者支援体制加算（Ⅰ）に関する届出書 | F34: 別紙6-1 | H34: 27
B35: 視覚・聴覚言語障害者支援体制加算（Ⅱ）に関する届出書 | F35: 別紙6-2 | H35: 28
B36: 障害者支援施設等感染対策向上加算に関する届出書 | F36: 別紙２２ | H36: 29
B37: 口腔衛生管理体制加算に関する届出書 | F37: 別紙５０ | H37: 30
B38: 通院支援加算に関する届出書 | F38: 別紙２１ | H38: 31
A39: 届出 | B39: 利用日数に係る特例の適用を受ける通所施設に係る（変更）届出書 （利用日数の特例を届け出た場合に利用日数を管理する時に管理票を使用して適切な管理を行う） | F39: 利用日数特例届出書 利用日数管理票（事業所で使用） | H39: 32
A41: 耐震化調査票 | F41: 様式あり | H41: 33
A42: 社会保険及び労働保険への加入状況にかかる確認票 | F42: 別途様式あり | H42: 34
...

Sheet 基本情報入力シート
C1: 基本情報入力シート | Z1: --選択下さい--
Z2: 指定（更新）を受けようとする（受けている）事業所・施設が、主たる事業所の所在地と同じである。
Z3: 指定（更新）を受けようとする（受けている）事業所・施設が、主たる事業所の所在地と異なる。
B4: ●はじめに | Z4: 単独
B5: 本シートに入力を実施することで、関係様式に必要な情報が自動で入力されます。 一部、個別のセルに入力を行う必要もございます。各シートを確認の上、個別に入力が必要な箇所につきましても、忘れずにご入力ください。
B10: ●基本情報
B11: Ｎｏ | D11: 入力項目 | L11: 入力箇所
B12: 申請者・設置者情報
B13: 1 | D13: 指定申請年月日又は変更届出年月日
D14: （例）令和５年４月１日 ※和暦で入力してください。
B15: 2 | D15: 主たる事務所の所在地郵便番号 | Q15: -
D16: （例）163-0081
B17: 3 | D17: 主たる事務所の所在地（建物名等除く）
D18: （例）東京都新宿区西新宿２ー８－１
B19: 4 | D19: 主たる事務所の所在地（建物名等）
D20: （例）都庁第一本庁舎 ３１階 ※建物名等なければ入力不要です。
B21: 5 | D21: 申請者（設置者）名称
D22: （例）東京都 福祉局 障害者施策推進部 施設サービス支援課 障害者支援施設担当
B23: 6 | D23: 申請者（設置者）名称フリガナ
D24: （例）トウキョウト フクシキョク ショウガイシャシサクスイシンブ シセツサービスシエンカ ショウガイシャシエンシセツタントウ
B25: 7 | D25: 法人種別
D26: （例）地方公共団体
B27: 8 | D27: 法人所轄庁
B28: （例）東京都 ※株式会社等の営利法人については入力不要です。
B29: 9 | D29: 法人電話番号
B30: （例）03-5320-4158
B31: 10 | D31: 法人電話番号内線
B32: （例）３３－２９３
B33: 11 | D33: 法人ＦＡＸ番号
B34: （例）03-5388-1408
B35: 12 | D35: 法人mailアドレス
B36: （例）○○@section.metro.tokyo.jp
B37: 13 | D37: 代表者の職名 | S37: （例） | T37: 代表取締役
B38: 14 | D38: 代表者の氏名（フリガナ） | S38: （例） | T38: トウキョウ タロウ
B39: 15 | D39: 代表者の氏名 | S39: （例） | T39: 東京 太郎
B40: 16 | D40: 代表者の生年月日 | S40: （例） | T40: 46023
B41: 17 | D41: 代表者の住所 郵便番号 | Q41: -
B42: 18 | D42: 代表者の住所（建物を除く）
B43: 19 | D43: 代表者の住所（建物名等）
B44: 指定（更新）を受けようとする（受けている）事業所・施設の情報
...

Sheet 基本情報入力シート (記載例)
C1: 基本情報入力シート | Z1: --選択下さい--
Z2: 指定（更新）を受けようとする（受けている）事業所・施設が、主たる事業所の所在地と同じである。
Z3: 指定（更新）を受けようとする（受けている）事業所・施設が、主たる事業所の所在地と異なる。
B4: ●はじめに | Z4: 単独
B5: 本シートに入力を実施することで、関係様式に必要な情報が自動で入力されます。 一部、個別のセルに入力を行う必要もございます。各シートを確認の上、個別に入力が必要な箇所につきましても、忘れずにご入力ください。
B10: ●基本情報
B11: Ｎｏ | D11: 入力項目 | L11: 入力箇所
B12: 申請者・設置者情報
B13: 1 | D13: 指定申請年月日又は変更届出年月日 | L13: 46113
D14: （例）令和５年４月１日 ※和暦で入力してください。
B15: 2 | D15: 主たる事務所の所在地郵便番号 | L15: 163 | Q15: - | T15: 0001
D16: （例）163-0081
B17: 3 | D17: 主たる事務所の所在地（建物名等除く） | L17: 東京都新宿区西新宿２－〇－１
D18: （例）東京都新宿区西新宿２ー８－１
B19: 4 | D19: 主たる事務所の所在地（建物名等） | L19: 都庁ビル○○階
D20: （例）都庁第一本庁舎 ３１階 ※建物名等なければ入力不要です。
B21: 5 | D21: 申請者（設置者）名称 | L21: 社会福祉法人 東京福祉会
D22: （例）東京都 福祉局 障害者施策推進部 施設サービス支援課 障害者支援施設担当
B23: 6 | D23: 申請者（設置者）名称フリガナ | L23: シャカイフクシホウジン トウキョウフクシカイ
D24: （例）トウキョウト フクシキョク ショウガイシャシサクスイシンブ シセツサービスシエンカ ショウガイシャシエンシセツタントウ
B25: 7 | D25: 法人種別 | L25: 社会福祉法人(社協以外)
D26: （例）地方公共団体
B27: 8 | D27: 法人所轄庁 | L27: 東京都
B28: （例）東京都 ※株式会社等の営利法人については入力不要です。
B29: 9 | D29: 法人電話番号 | L29: 03-5321-1111
B30: （例）03-5320-4158
B31: 10 | D31: 法人電話番号内線 | L31: 30-000
B32: （例）３３－２９３
B33: 11 | D33: 法人ＦＡＸ番号 | L33: 03-5321-2222
B34: （例）03-5388-1408
B35: 12 | D35: 法人mailアドレス | L35: ○○@section.metro.tokyo.jp
B36: （例）○○@section.metro.tokyo.jp
B37: 13 | D37: 代表者の職名 | L37: 理事長 | S37: （例） | T37: 代表取締役
B38: 14 | D38: 代表者の氏名（フリガナ） | L38: トウキョウ タロウ | S38: （例） | T38: トウキョウ タロウ
B39: 15 | D39: 代表者の氏名 | L39: 東京 太郎 | S39: （例） | T39: 東京 太郎
B40: 16 | D40: 代表者の生年月日 | L40: 46023 | S40: （例） | T40: 46023
B41: 17 | D41: 代表者の住所 郵便番号 | L41: 100 | Q41: - | T41: 8111
B42: 18 | D42: 代表者の住所（建物を除く） | L42: 東京都千代田区千代田1番1号
B43: 19 | D43: 代表者の住所（建物名等） | L43: 皇居外苑
B44: 指定（更新）を受けようとする（受けている）事業所・施設の情報
...

Sheet 指定申請書
A1: 別紙様式第一号
A2: 指定障害福祉サービス事業所/指定障害者支援施設
A3: 指定障害児通所支援事業所/指定障害児入所施設
A4: 指定特定相談支援事業所/指定一般相談支援事業所/指定障害児相談支援事業所
E5: 指定 | G5: 申請書
O6: 年 | R6: 月 | U6: 日
B7: 東京都 | D7: 知事（市区村長） 殿
H8: 所在地 | K8: =IF(基本情報入力シート!L17&基本情報入力シート!L19="","",基本情報入力シート!L17&基本情報入力シート!L19)
G9: 申請者 | H9: 名 称 | K9: =IF(基本情報入力シート!L21="","",基本情報入力シート!L21)
H10: 代表者 | K10: =IF(基本情報入力シート!L37&" "&基本情報入力シート!L39="","",基本情報入力シート!L37&" "&基本情報入力シート!L39)
B12: 表題の事業所・施設に係る指定/指定の更新/指定の変更を受けたいので、下記のとおり、関係書類を添えて申請します。
F14: 法人番号(13桁)
A15: 申請者(設置者) | B15: フリガナ | D15: =IF(基本情報入力シート!L23="","",基本情報入力シート!L23)
B16: 名称 | D16: =IF(基本情報入力シート!L21="","",基本情報入力シート!L21)
B17: 主たる事務所の所在地 | D17: (郵便番号 | E17: =IF(基本情報入力シート!L15="","",基本情報入力シート!L15) | F17: - | G17: =IF(基本情報入力シート!T15="","",基本情報入力シート!T15) | I17: ）
D18: =IF(基本情報入力シート!L17="","",基本情報入力シート!L17)
D19: =IF(基本情報入力シート!L19="","",基本情報入力シート!L19)
B20: 連絡先 | D20: 電話番号 | E20: =IF(基本情報入力シート!L29="","",基本情報入力シート!L29) | H20: (内線) | K20: =IF(基本情報入力シート!L31="","",基本情報入力シート!L31)
D21: E-mailアドレス | F21: =IF(基本情報入力シート!L35="","",基本情報入力シート!L35)
B22: 法人等の種類 | D22: =IF(基本情報入力シート!L25="","",基本情報入力シート!L25)
B23: 代表者の職名・氏名・生年月日 | D23: 職名 | E23: =IF(基本情報入力シート!L37="","",基本情報入力シート!L37) | G23: フリガナ | H23: =IF(基本情報入力シート!L38="","",基本情報入力シート!L38) | M23: 生年月日 | O23: =IF(基本情報入力シート!L40="","",基本情報入力シート!L40)
G24: 氏名 | H24: =IF(基本情報入力シート!L39="","",基本情報入力シート!L39)
B25: 代表者の住所 | D25: (郵便番号 | E25: =IF(基本情報入力シート!L41="","",基本情報入力シート!L41) | F25: - | G25: =IF(基本情報入力シート!T41="","",基本情報入力シート!T41) | I25: ）
D26: =IF(基本情報入力シート!L42="","",基本情報入力シート!L42)
D27: =IF(基本情報入力シート!L43="","",基本情報入力シート!L43)
A28: 指定を受けようとする事業所・施設の種類 | B28: フリガナ | D28: =IF(基本情報入力シート!L69="","",基本情報入力シート!L69)
B29: 名称 | D29: =IF(基本情報入力シート!L70="","",基本情報入力シート!L70)
B30: 事業所(施設)の所在地 | D30: (郵便番号 | E30: =IF(基本情報入力シート!L71="","",基本情報入力シート!L71) | F30: - | G30: =IF(基本情報入力シート!T71="","",基本情報入力シート!T71) | I30: ）
D31: =IF(基本情報入力シート!L72="","",基本情報入力シート!L72)
D32: =IF(基本情報入力シート!L73="","",基本情報入力シート!L73)
B33: 多機能型事業所に係る指定の申請の場合は○ | F33: =IF(基本情報入力シート!L67="多機能型","○"," ")
B34: 同一所在地において 行う事業等の種類 | F34: 今回の指定(更新・変更)申請をする対象事業等に○ | H34: 既に指定を受けている事業に○ | L34: 事業の開始予定年月日 | R34: 本申請書に添付して提出する様式(付表)
E35: 共生型サービスの指定を申請するものに○
B36: 指定障害福祉サービス事業所 | C36: 居宅介護 | R36: 付表１
C37: 重度訪問介護 | R37: 付表１
C38: 同行援護 | R38: 付表１
C39: 行動援護 | R39: 付表１
C40: 療養介護 | R40: 付表２
C41: 生活介護 | R41: 付表３
C42: 短期入所 | R42: 付表４
...

Sheet 変更届出書
A1: 別紙様式第二号
A2: 指定障害福祉サービス事業所/指定障害者支援施設
A3: 指定障害児通所支援事業所/指定障害児入所施設
A4: 指定特定相談支援事業所/指定一般相談支援事業所/指定障害児相談支援事業所
S5: 変更届出書
AD6: 年 | AG6: 月 | AJ6: 日
B7: 東京都 | I7: 知事（市区村長） 殿
S8: 所在地 | W8: =IF(基本情報入力シート!L17&基本情報入力シート!L19="","",基本情報入力シート!L17&基本情報入力シート!L19)
O9: 申請者 | S9: 名称 | W9: =IF(基本情報入力シート!L21="","",基本情報入力シート!L21)
S10: 代表者氏名 | Z10: =IF(基本情報入力シート!L37&" "&基本情報入力シート!L39="","",基本情報入力シート!L37&" "&基本情報入力シート!L39)
B12: 次のとおり指定を受けた内容を変更しましたので届け出ます。
B14: FALSE | C14: 指定障害福祉サービス事業所等の指定に係る事項の変更の届出先（以下「指定権者」という。）と指定障害福祉サービス
C15: 事業所等の業務管理体制の整備に関する事項の変更の届出先（以下「監督権者」という。）が同一の自治体であり、かつ、
C16: 変更事項が「事業所（施設）の所在地」又は「申請者の代表者の氏名、生年月日、住所及び職名」の場合であって、同事項
C17: に係る事実の確認に支障がないと認めるときは、監督権者への変更の届出又は届出書への記載については、指定権者
C18: への変更の届出があったことをもって省略させることができることとされているので、その場合には左のチェックボックス（□）
C19: に✓を付してください。なお、当該変更届出を受理した指定権者は、当該変更届出の写しを監督権者へ回付してください。
T21: 事業所番号 | AA21: =IF(基本情報入力シート!L68="","",基本情報入力シート!L68)
B22: 指定を受けた内容を変更した事業所又は施設 | T22: 名称 | W22: =IF(基本情報入力シート!L69="","",基本情報入力シート!L69)
W23: =IF(基本情報入力シート!L70="","",基本情報入力シート!L70)
T24: 所在地 | W24: =IF(基本情報入力シート!L71="","",基本情報入力シート!L71) | Z24: =IF(基本情報入力シート!Q71="","",基本情報入力シート!Q71) -> - | AB24: =IF(基本情報入力シート!T71="","",基本情報入力シート!T71)
W25: =IF(基本情報入力シート!L72="","",基本情報入力シート!L72)
W26: =IF(基本情報入力シート!L73="","",基本情報入力シート!L73)
B27: サービスの種類 | T27: =IF(基本情報入力シート!L66&"("&基本情報入力シート!L67&")"="","",基本情報入力シート!L66&"("&基本情報入力シート!L67&")") -> 施設入所支援(障害者支援施設)
B28: 変更年月日 | T28: =IF(基本情報入力シート!L13="","",基本情報入力シート!L13)
B29: 変更があった事項（該当に○） | T29: 変更の内容
D30: 事業所（施設）の名称 | T30: （変更前）
D31: 事業所（施設）の所在地
D32: 事業所（施設）の連絡先（電話番号）
D33: 申請者の名称
D34: 申請者の主たる事務所の所在地
D35: 申請者の代表者の氏名、生年月日、住所及び職名
D36: 法人等の種類
D37: 登記事項証明書又は条例等（当該事業に関するものに限る。）
D38: 共生型サービスの該当有無
D39: 事業所（施設）の構造概要・平面図・設備の概要
D40: 利用者又は入所者の定員 | T40: （変更後）
D41: 管理者の氏名、生年月日、住所及び経歴
D42: サービス管理（提供）責任者又は児童発達支援管理責任者の氏名、生年月日、住所及び経歴
D43: 指定地域相談支援の提供に当たる者又は相談支援専門員の氏名、生年月日、住所及び経歴
...

Sheet 付表１３（入所）
A1: 付表１３ 障害者支援施設の指定等に係る記載事項
A3: 施設 | B3: フリガナ | C3: =IF(基本情報入力シート!L69="","",基本情報入力シート!L69)
B4: 名 称 | C4: =IF(基本情報入力シート!L70="","",基本情報入力シート!L70)
B5: 所在地 | C5: (郵便番号 | D5: =IF(基本情報入力シート!L71="","",基本情報入力シート!L71) | E5: - | F5: =IF(基本情報入力シート!T71="","",基本情報入力シート!T71) | G5: )
C6: =IF(基本情報入力シート!L72="","",基本情報入力シート!L72)
C7: =IF(基本情報入力シート!L73="","",基本情報入力シート!L73)
B8: 電話番号 | C8: =IF(基本情報入力シート!L74="","",基本情報入力シート!L74)
B9: E-Mail | C9: =IF(基本情報入力シート!L76="","",基本情報入力シート!L76)
A10: 管理者 | B10: フリガナ | C10: =IF(基本情報入力シート!L79="","",基本情報入力シート!L79) | F10: 生年月日 | G10: =IF(基本情報入力シート!L84="","",基本情報入力シート!L84)
B11: 氏 名 | C11: =IF(基本情報入力シート!L78="","",基本情報入力シート!L78)
B12: 住 所 | C12: (郵便番号 | D12: =IF(基本情報入力シート!L80="","",基本情報入力シート!L80) | E12: - | F12: =IF(基本情報入力シート!T71="","",基本情報入力シート!T71) | G12: )
C13: =IF(基本情報入力シート!L81="","",基本情報入力シート!L81)
C14: =IF(基本情報入力シート!L82="","",基本情報入力シート!L82)
B15: 当該施設で兼務する他の職種(兼務の場合記入)
B16: 他の事業所又は施設の従業者との兼務(兼務の場合記入) | D16: 事業所等の名称
D17: 兼務する職種及び勤務時間等
A19: サービス管理責任者 | B19: フリガナ | C19: =IF(基本情報入力シート!L86="","",基本情報入力シート!L86) | F19: 生年月日 | G19: =IF(基本情報入力シート!L91="","",基本情報入力シート!L91)
B20: 氏 名 | C20: =IF(基本情報入力シート!L85="","",基本情報入力シート!L85)
B21: 住 所 | C21: (郵便番号 | D21: =IF(基本情報入力シート!L87="","",基本情報入力シート!L87) | E21: - | F21: =IF(基本情報入力シート!T87="","",基本情報入力シート!T87) | G21: )
C22: =IF(基本情報入力シート!L88="","",基本情報入力シート!L88)
C23: =IF(基本情報入力シート!L89="","",基本情報入力シート!L89)
A24: 実施主体が地方公共団体である場合は、当該事業の実施について定めてある条例等 | H24: 第 条 第 項 第 号
A25: ○人員に関する基準の確認に必要な事項
A26: 従業者の職種・員数 | C26: 居宅介護等従業者 | E26: その他の従業者
C27: 専従 | D27: 兼務 | E27: 専従 | F27: 兼務
A28: 常勤(人)
A29: 非常勤(人)
A30: 常勤換算後の人数(人)
A31: 基準上の必要人数(人)
A32: ○運営・設備に関する基準の確認に必要な事項
A33: 居室 | B33: １室の最大定員(人)
B34: 入所者１人あたりの最小床面積(㎡)
A35: 廊下 | B35: 廊下の幅(ｍ)
B36: 中廊下の幅(ｍ)
A37: 既存施設からの移行の場合 | C37: 既存施設名
C38: 施設種別
C39: 経過措置 | E39: 有 | G39: 無
C40: 特定旧法受給者数(人)
A41: 協力医療機関 | C41: 名称 | G41: 診療科名
A42: 協力歯科医療機関 | C42: 名称
...

Sheet 別紙１－１体制一覧（入所）
A1: （別紙１ー１）
A3: 介護給付費等の算定に係る体制等状況一覧表
A5: 提供サービス | K5: 定員数 | O5: 定員規模 | U5: 多機能型等 定員区分（※1） | AA5: 人員配置区分 （※2） | AF5: その他該当する体制等 | BA5: 適用開始日
A7: 各サービス共通 | AF7: 地域区分 | AL7: 選択してください
A8: 介護給付費 | B8: 居宅介護 | AF8: 身体拘束廃止未実施 | AL8: １．なし ２．あり
AF9: 虐待防止措置未実施 | AL9: １．なし ２．あり
AF10: 業務継続計画未策定（※15） | AL10: １．なし ２．あり
AF11: 情報公表未報告 | AL11: １．なし ２．あり
AF12: 特定事業所 | AL12: １．なし ２．Ⅰ ３．Ⅱ ４．Ⅲ ５．Ⅳ
AF13: 特定事業所（経過措置対象）（※9） | AL13: １．非該当 ２．該当
AF14: 福祉・介護職員等処遇改善加算対象（※17） | AL14: １．なし ２．Ⅰ ３．Ⅱ ４．Ⅲ ５．Ⅳ ６．Ⅴ
AF15: 福祉・介護職員等処遇改善加算（Ⅴ）区分（※18） | AL15: １．Ｖ（１） ２．Ｖ（２） ３．Ｖ（３） ４．Ｖ（４） ５．Ｖ（５） ６．Ｖ（６） ７．Ｖ（７） ８．Ｖ（８） ９．Ｖ（９） １０．Ｖ（１０） １１．Ｖ（１１） １２．Ｖ（１２） １３．Ｖ（１３） １４．Ｖ（１４）
AF16: 共生型サービス対象区分 | AL16: １．非該当 ２．該当
AF17: 地域生活支援拠点等 | AL17: １．非該当 ２．該当
B18: 重度訪問介護 | AF18: 身体拘束廃止未実施 | AL18: １．なし ２．あり
AF19: 虐待防止措置未実施 | AL19: １．なし ２．あり
AF20: 業務継続計画未策定（※15） | AL20: １．なし ２．あり
AF21: 情報公表未報告 | AL21: １．なし ２．あり
AF22: 特定事業所 | AL22: １．なし ２．Ⅰ ３．Ⅱ ４．Ⅲ
AF23: 福祉・介護職員等処遇改善加算対象（※17） | AL23: １．なし ２．Ⅰ ３．Ⅱ ４．Ⅲ ５．Ⅳ ６．Ⅴ
AF24: 福祉・介護職員等処遇改善加算（Ⅴ）区分（※18） | AL24: １．Ｖ（１） ２．Ｖ（２） ３．Ｖ（３） ４．Ｖ（４） ５．Ｖ（５） ６．Ｖ（６） ７．Ｖ（７） ８．Ｖ（８） ９．Ｖ（９） １０．Ｖ（１０） １１．Ｖ（１１） １２．Ｖ（１２） １３．Ｖ（１３） １４．Ｖ（１４）
AF25: 共生型サービス対象区分 | AL25: １．非該当 ２．該当
AF26: 地域生活支援拠点等 | AL26: １．非該当 ２．該当
B27: 同行援護 | AF27: 身体拘束廃止未実施 | AL27: １．なし ２．あり
AF28: 虐待防止措置未実施 | AL28: １．なし ２．あり
AF29: 業務継続計画未策定（※15） | AL29: １．なし ２．あり
AF30: 情報公表未報告 | AL30: １．なし ２．あり
AF31: 特定事業所 | AL31: １．なし ２．Ⅰ ３．Ⅱ ４．Ⅲ ５．Ⅳ
AF32: 福祉・介護職員等処遇改善加算対象（※17） | AL32: １．なし ２．Ⅰ ３．Ⅱ ４．Ⅲ ５．Ⅳ ６．Ⅴ
AF33: 福祉・介護職員等処遇改善加算（Ⅴ）区分（※18） | AL33: １．Ｖ（１） ２．Ｖ（２） ３．Ｖ（３） ４．Ｖ（４） ５．Ｖ（５） ６．Ｖ（６） ７．Ｖ（７） ８．Ｖ（８） ９．Ｖ（９） １０．Ｖ（１０） １１．Ｖ（１１） １２．Ｖ（１２） １３．Ｖ（１３） １４．Ｖ（１４）
AF34: 地域生活支援拠点等 | AL34: １．非該当 ２．該当
B35: 行動援護 | AF35: 身体拘束廃止未実施 | AL35: １．なし ２．あり
AF36: 虐待防止措置未実施 | AL36: １．なし ２．あり
AF37: 業務継続計画未策定（※15） | AL37: １．なし ２．あり
AF38: 情報公表未報告 | AL38: １．なし ２．あり
AF39: 特定事業所 | AL39: １．なし ２．Ⅰ ３．Ⅱ ４．Ⅲ ５．Ⅳ
AF40: 特定事業所（経過措置対象）（※9） | AL40: １．非該当 ２．該当
AF41: 福祉・介護職員等処遇改善加算対象（※17） | AL41: １．なし ２．Ⅰ ３．Ⅱ ４．Ⅲ ５．Ⅳ ６．Ⅴ
AF42: 福祉・介護職員等処遇改善加算（Ⅴ）区分（※18） | AL42: １．Ｖ（１） ２．Ｖ（２） ３．Ｖ（３） ４．Ｖ（４） ５．Ｖ（５） ６．Ｖ（６） ７．Ｖ（７） ８．Ｖ（８） ９．Ｖ（９） １０．Ｖ（１０） １１．Ｖ（１１） １２．Ｖ（１２） １３．Ｖ（１３） １４．Ｖ（１４）
AF43: 地域生活支援拠点等 | AL43: １．非該当 ２．該当
...

Sheet 標準様式４勤形（入所）
A1: 標準様式４
A2: 従業者の勤務の体制及び勤務形態一覧表 | AI2: サービス種別 | AK2: =IF(基本情報入力シート!L66&"("&基本情報入力シート!L67&")"="","",基本情報入力シート!L66&"("&基本情報入力シート!L67&")") -> 施設入所支援(障害者支援施設)
Q3: 年 | U3: 月 | AI3: 事業所名 | AK3: =IF(基本情報入力シート!L70="","",基本情報入力シート!L70)
AI4: (1)記載する期間 | AK4: ４週
AI5: (2)予定/実績の別 | AK5: 予定
AI6: (3)人員配置区分
AI7: 平均利用者数 | AK7: =AL126 -> #DIV/0!
AG8: (4)事業所における常勤の従業者が勤務すべき時間数 | AK8: 時間/週 | AM8: 時間/月
A10: No. | B10: (5)職種 | C10: (6)勤務形態 | D10: (7)資格 | E10: (8)氏名 | F10: (9) | AK10: (10)勤務時間数合計 | AL10: (11)週平均の勤務時間数 | AM10: (12)常勤換算後の人数 | AN10: (13)兼務状況 （兼務先／兼務する職務の内容）等
F11: 第１週 | M11: 第２週 | T11: 第３週 | AA11: 第４週 | AH11: 第５週
B12: ※選択肢にない職種については直接入力してください | F12: 45474 | G12: 45475 | H12: 45476 | I12: 45477 | J12: 45478 | K12: 45479 | L12: 45480 | M12: 45481 | N12: 45482 | O12: 45483 | P12: 45484 | Q12: 45485 | R12: 45486 | S12: 45487 | T12: 45488 | U12: 45489 | V12: 45490 | W12: 45491 | X12: 45492 | Y12: 45493 | Z12: 45494 | AA12: 45495 | AB12: 45496 | AC12: 45497 | AD12: 45498 | AE12: 45499 | AF12: 45500 | AG12: 45501 | AH12: 45502 | AI12: 45503 | AJ12: 45504
F13: 月 | G13: 火 | H13: 水 | I13: 木 | J13: 金 | K13: 土 | L13: 日 | M13: 月 | N13: 火 | O13: 水 | P13: 木 | Q13: 金 | R13: 土 | S13: 日 | T13: 月 | U13: 火 | V13: 水 | W13: 木 | X13: 金 | Y13: 土 | Z13: 日 | AA13: 月 | AB13: 火 | AC13: 水 | AD13: 木 | AE13: 金 | AF13: 土 | AG13: 日 | AH13: 月 | AI13: 火 | AJ13: 水
A14: 1 | AK14: =+SUM(F14:AJ14) -> 0 | AL14: =IF($AK$4="４週",AK14/4,AK14/(DAY(EOMONTH($F$12,0))/7)) -> 0 | AM14: =IF(ISBLANK($AH$8),"",ROUNDDOWN(AL14/$AH$8,1))
A15: 2 | AK15: =+SUM(F15:AJ15) -> 0 | AL15: =IF($AK$4="４週",AK15/4,AK15/(DAY(EOMONTH($F$12,0))/7)) -> 0 | AM15: =IF(ISBLANK($AH$8),"",ROUNDDOWN(AL15/$AH$8,1))
A16: 3 | AK16: =+SUM(F16:AJ16) -> 0 | AL16: =IF($AK$4="４週",AK16/4,AK16/(DAY(EOMONTH($F$12,0))/7)) -> 0 | AM16: =IF(ISBLANK($AH$8),"",ROUNDDOWN(AL16/$AH$8,1))
A17: 4 | AK17: =+SUM(F17:AJ17) -> 0 | AL17: =IF($AK$4="４週",AK17/4,AK17/(DAY(EOMONTH($F$12,0))/7)) -> 0 | AM17: =IF(ISBLANK($AH$8),"",ROUNDDOWN(AL17/$AH$8,1))
A18: 5 | AK18: =+SUM(F18:AJ18) -> 0 | AL18: =IF($AK$4="４週",AK18/4,AK18/(DAY(EOMONTH($F$12,0))/7)) -> 0 | AM18: =IF(ISBLANK($AH$8),"",ROUNDDOWN(AL18/$AH$8,1))
A19: 6 | AK19: =+SUM(F19:AJ19) -> 0 | AL19: =IF($AK$4="４週",AK19/4,AK19/(DAY(EOMONTH($F$12,0))/7)) -> 0 | AM19: =IF(ISBLANK($AH$8),"",ROUNDDOWN(AL19/$AH$8,1))
A20: 7 | AK20: =+SUM(F20:AJ20) -> 0 | AL20: =IF($AK$4="４週",AK20/4,AK20/(DAY(EOMONTH($F$12,0))/7)) -> 0 | AM20: =IF(ISBLANK($AH$8),"",ROUNDDOWN(AL20/$AH$8,1))
A21: 8 | AK21: =+SUM(F21:AJ21) -> 0 | AL21: =IF($AK$4="４週",AK21/4,AK21/(DAY(EOMONTH($F$12,0))/7)) -> 0 | AM21: =IF(ISBLANK($AH$8),"",ROUNDDOWN(AL21/$AH$8,1))
A22: 9 | AK22: =+SUM(F22:AJ22) -> 0 | AL22: =IF($AK$4="４週",AK22/4,AK22/(DAY(EOMONTH($F$12,0))/7)) -> 0 | AM22: =IF(ISBLANK($AH$8),"",ROUNDDOWN(AL22/$AH$8,1))
A23: 10 | AK23: =+SUM(F23:AJ23) -> 0 | AL23: =IF($AK$4="４週",AK23/4,AK23/(DAY(EOMONTH($F$12,0))/7)) -> 0 | AM23: =IF(ISBLANK($AH$8),"",ROUNDDOWN(AL23/$AH$8,1))
A24: 11 | AK24: =+SUM(F24:AJ24) -> 0 | AL24: =IF($AK$4="４週",AK24/4,AK24/(DAY(EOMONTH($F$12,0))/7)) -> 0 | AM24: =IF(ISBLANK($AH$8),"",ROUNDDOWN(AL24/$AH$8,1))
A25: 12 | AK25: =+SUM(F25:AJ25) -> 0 | AL25: =IF($AK$4="４週",AK25/4,AK25/(DAY(EOMONTH($F$12,0))/7)) -> 0 | AM25: =IF(ISBLANK($AH$8),"",ROUNDDOWN(AL25/$AH$8,1))
... A113: 100 | AK113: =+SUM(F113:AJ113) -> 0 | AL113: =IF($AK$4="４週",AK113/4,AK113/(DAY(EOMONTH($F$12,0))/7)) -> 0 | AM113: =IF(ISBLANK($AH$8),"",ROUNDDOWN(AL113/$AH$8,1))
A114: 合計 | F114: =+SUM(F14:F33) -> 0 | G114: =+SUM(G14:G33) -> 0 | H114: =+SUM(H14:H33) -> 0 | I114: =+SUM(I14:I33) -> 0 | J114: =+SUM(J14:J33) -> 0 | K114: =+SUM(K14:K33) -> 0 | L114: =+SUM(L14:L33) -> 0 | M114: =+SUM(M14:M33) -> 0 | ... AJ114: =+SUM(AJ14:AJ33) -> 0 | AK114: =+SUM(F114:AJ114) -> 0 | AL114: =IF($AK$4="４週",AK114/4,AK114/(DAY(EOMONTH($F$12,0))/7)) -> 0 | AM114: =SUM(AM14:AM113) -> 0
A115: サービス提供時間
A119: ＜実施する昼間サービス＞※実施するものに「○」を選択してください。
B120: サービス類型 | D120: 生活介護 | F120: 自立訓練（機能訓練） | L120: 自立訓練（生活訓練） | R120: 就労移行支援 | X120: 就労継続支援A型 | AD120: 就労継続支援B型
B121: 実施の有無 | D121: =IF(基本情報入力シート!L48="","",基本情報入力シート!L48) | F121: =IF(基本情報入力シート!L51="","",基本情報入力シート!L51) | L121: =IF(基本情報入力シート!L54="","",基本情報入力シート!L54) | R121: =IF(基本情報入力シート!L57="","",基本情報入力シート!L57) | X121: =IF(基本情報入力シート!L60="","",基本情報入力シート!L60) | AD121: =IF(基本情報入力シート!L63="","",基本情報入力シート!L63)
B122: 当該サービスを利用する利用者の数 | F122: =IF(基本情報入力シート!L53="","",基本情報入力シート!L53) | L122: =IF(基本情報入力シート!L56="","",基本情報入力シート!L56) | R122: =IF(基本情報入力シート!L59="","",基本情報入力シート!L59) | X122: =IF(基本情報入力シート!L62="","",基本情報入力シート!L62) | AD122: =IF(基本情報入力シート!L65="","",基本情報入力シート!L65)
A124: ＜生活介護に係る前年度の平均値＞※新規申請の場合は推定数を記載ください。
D125: 4 | E125: 5 | F125: 6 | I125: 7 | L125: 8 | O125: 9 | R125: 10 | U125: 11 | X125: 12 | AA125: 1 | AD125: 2 | AG125: 3 | AJ125: 計 | AL125: 平均利用者数 | AM125: 平均障害支援区分
A126: 利用者延べ数計 | D126: =SUM(D127:D131) -> 0 | E126: =SUM(E127:E131) -> 0 | F126: =SUM(F127:H131) -> 0 | I126: =SUM(I127:K131) -> 0 | L126: =SUM(L127:N131) -> 0 | O126: =SUM(O127:Q131) -> 0 | R126: =SUM(R127:T131) -> 0 | U126: =SUM(U127:W131) -> 0 | X126: =SUM(X127:Z131) -> 0 | AA126: =SUM(AA127:AC131) -> 0 | AD126: =SUM(AD127:AF131) -> 0 | AG126: =SUM(AG127:AI131) -> 0 | AJ126: =SUM(D126:AI126) -> 0 | AL126: =ROUNDUP(((AJ126-AJ132-AJ133)+AJ132*0.5+AJ133*0.75)/AJ134,1) -> #DIV/0! | AM126: =ROUND((2*AJ127+3*AJ128+4*AJ129+5*AJ130+6*AJ131)/AJ126,1) -> #DIV/0!
A127: 区分２の延べ利用者数 | AJ127: =SUM(D127:AI127) -> 0
A128: 区分３の延べ利用者数 | AJ128: =SUM(D128:AI128) -> 0
A129: 区分４の延べ利用者数 | AJ129: =SUM(D129:AI129) -> 0
A130: 区分５の延べ利用者数 | AJ130: =SUM(D130:AI130) -> 0
A131: 区分６の延べ利用者数 | AJ131: =SUM(D131:AI131) -> 0
B132: 所要時間５時間未満の延べ利用者数 | AJ132: =SUM(D132:AI132) -> 0
...

Sheet 標準様式４勤形（入所）記載例
A1: 標準様式４
A2: 従業者の勤務の体制及び勤務形態一覧表 | AI2: サービス種別 | AK2: =IF(基本情報入力シート!L66&"("&基本情報入力シート!L67&")"="","",基本情報入力シート!L66&"("&基本情報入力シート!L67&")") -> 施設入所支援(障害者支援施設)
M3: 2024 | Q3: 年 | S3: 7 | U3: 月 | AI3: 事業所名 | AK3: =IF(基本情報入力シート!L70="","",基本情報入力シート!L70)
AI4: (1)記載する期間 | AK4: ４週
AI5: (2)予定/実績の別 | AK5: 予定
AI6: (3)人員配置区分 | AK6: Ⅱ型(1.7:1)
AI7: 平均利用者数 | AK7: =AL126 -> 84.2
AG8: (4)事業所における常勤の従業者が勤務すべき時間数 | AH8: 40 | AK8: 時間/週 | AL8: 160 | AM8: 時間/月
A10: No. | B10: (4)職種 | C10: (5)勤務形態 | D10: (6)資格 | E10: (7)氏名 | F10: (9) | AK10: (10)勤務時間数合計 | AL10: (11)週平均の勤務時間数 | AM10: (12)常勤換算後の人数 | AN10: (13)兼務状況 （兼務先／兼務する職務の内容）等
F11: 第１週 | M11: 第２週 | T11: 第３週 | AA11: 第４週 | AH11: 第５週
B12: ※選択肢にない職種については直接入力してください | F12: 45474 | G12: 45475 | H12: 45476 | I12: 45477 | J12: 45478 | K12: 45479 | L12: 45480 | M12: 45481 | N12: 45482 | O12: 45483 | P12: 45484 | Q12: 45485 | R12: 45486 | S12: 45487 | T12: 45488 | U12: 45489 | V12: 45490 | W12: 45491 | X12: 45492 | Y12: 45493 | Z12: 45494 | AA12: 45495 | AB12: 45496 | AC12: 45497 | AD12: 45498 | AE12: 45499 | AF12: 45500 | AG12: 45501 | AH12: 45502 | AI12: 45503 | AJ12: 45504
F13: 45474 | G13: 45475 | H13: 45476 | I13: 45477 | J13: 45478 | K13: 45479 | L13: 45480 | M13: 45481 | N13: 45482 | O13: 45483 | P13: 45484 | Q13: 45485 | R13: 45486 | S13: 45487 | T13: 45488 | U13: 45489 | V13: 45490 | W13: 45491 | X13: 45492 | Y13: 45493 | Z13: 45494 | AA13: 45495 | AB13: 45496 | AC13: 45497 | AD13: 45498 | AE13: 45499 | AF13: 45500 | AG13: 45501 | AH13: 45502 | AI13: 45503 | AJ13: 45504
A14: 1 | B14: 管理者 | C14: B（常勤兼務） | E14: 東京1郎 | F14: 8 | G14: 8 | H14: 8 | I14: 8 | J14: 8 | M14: 8 | N14: 8 | O14: 8 | P14: 8 | Q14: 8 | T14: 8 | U14: 8 | V14: 8 | W14: 8 | X14: 8 | AA14: 8 | AB14: 8 | AC14: 8 | AD14: 8 | AE14: 8 | AK14: =+SUM(F14:AJ14) -> 160 | AL14: =IF($AK$4="４週",AK14/4,AK14/(DAY(EOMONTH($F$12,0))/7)) -> 40 | AM14: =IF(ISBLANK($AH$8),"",ROUNDDOWN(AL14/$AH$8,1)) -> 1 | AN14: 管理者兼サービス管理責任者
A15: 2 | B15: サービス管理責任者 | C15: B（常勤兼務） | E15: 東京1郎 | F15: 8 | G15: 8 | H15: 8 | I15: 8 | J15: 8 | M15: 8 | N15: 8 | O15: 8 | P15: 8 | Q15: 8 | T15: 8 | U15: 8 | V15: 8 | W15: 8 | X15: 8 | AA15: 8 | AB15: 8 | AC15: 8 | AD15: 8 | AE15: 8 | AK15: =+SUM(F15:AJ15) -> 160 | AL15: =IF($AK$4="４週",AK15/4,AK15/(DAY(EOMONTH($F$12,0))/7)) -> 40 | AM15: =IF(ISBLANK($AH$8),"",ROUNDDOWN(AL15/$AH$8,1)) -> 1 | AN15: 管理者兼サービス管理責任者
A16: 3 | B16: サービス管理責任者 | C16: A（常勤専従） | E16: 東京2郎 | F16: 8 | G16: 8 | H16: 8 | I16: 8 | J16: 8 | M16: 8 | N16: 8 | O16: 8 | P16: 8 | Q16: 8 | T16: 8 | U16: 8 | V16: 8 | W16: 8 | X16: 8 | AA16: 8 | AB16: 8 | AC16: 8 | AD16: 8 | AE16: 8 | AK16: =+SUM(F16:AJ16) -> 160 | AL16: =IF($AK$4="４週",AK16/4,AK16/(DAY(EOMONTH($F$12,0))/7)) -> 40 | AM16: =IF(ISBLANK($AH$8),"",ROUNDDOWN(AL16/$AH$8,1)) -> 1
A17: 4 | B17: 医師 | C17: C（非常勤専従） | D17: 医師 | E17: 東京3郎 | H17: 4 | O17: 4 | V17: 4 | AC17: 4 | AK17: =+SUM(F17:AJ17) -> 16 | AL17: =IF($AK$4="４週",AK17/4,AK17/(DAY(EOMONTH($F$12,0))/7)) -> 4 | AM17: =IF(ISBLANK($AH$8),"",ROUNDDOWN(AL17/$AH$8,1)) -> 0.1
A18: 5 | B18: 看護職員 | C18: A（常勤専従） | D18: 看護士 | E18: 東京4郎 | F18: 8 | G18: 8 | H18: 8 | I18: 8 | J18: 8 | M18: 8 | N18: 8 | O18: 8 | P18: 8 | Q18: 8 | T18: 8 | U18: 8 | V18: 8 | W18: 8 | X18: 8 | AA18: 8 | AB18: 8 | AC18: 8 | AD18: 8 | AE18: 8 | AK18: =+SUM(F18:AJ18) -> 160 | AL18: =IF($AK$4="４週",AK18/4,AK18/(DAY(EOMONTH($F$12,0))/7)) -> 40 | AM18: =IF(ISBLANK($AH$8),"",ROUNDDOWN(AL18/$AH$8,1)) -> 1
A19: 6 | B19: 看護職員 | C19: C（非常勤専従） | D19: 看護士 | E19: 東京5郎 | F19: 4 | G19: 4 | H19: 4 | I19: 4 | J19: 4 | M19: 4 | N19: 4 | O19: 4 | P19: 4 | Q19: 4 | T19: 4 | U19: 4 | V19: 4 | W19: 4 | X19: 4 | AA19: 4 | AB19: 4 | AC19: 4 | AD19: 4 | AE19: 4 | AK19: =+SUM(F19:AJ19) -> 80 | AL19: =IF($AK$4="４週",AK19/4,AK19/(DAY(EOMONTH($F$12,0))/7)) -> 20 | AM19: =IF(ISBLANK($AH$8),"",ROUNDDOWN(AL19/$AH$8,1)) -> 0.5
A20: 7 | B20: 看護職員 | C20: A（常勤専従） | D20: 看護士 | E20: 東京6郎 | F20: 8 | G20: 8 | H20: 8 | I20: 8 | J20: 8 | M20: 8 | N20: 8 | O20: 8 | P20: 8 | Q20: 8 | T20: 8 | U20: 8 | V20: 8 | W20: 8 | X20: 8 | AA20: 8 | AB20: 8 | AC20: 8 | AD20: 8 | AE20: 8 | AK20: =+SUM(F20:AJ20) -> 160 | AL20: =IF($AK$4="４週",AK20/4,AK20/(DAY(EOMONTH($F$12,0))/7)) -> 40 | AM20: =IF(ISBLANK($AH$8),"",ROUNDDOWN(AL20/$AH$8,1)) -> 1 | AN20: 育児短時間（週30時間）
A21: 8 | B21: 看護職員 | C21: A（常勤専従） | D21: 看護士 | E21: 東京7郎 | F21: 8 | G21: 8 | H21: 8 | I21: 8 | J21: 8 | M21: 8 | N21: 8 | O21: 8 | P21: 8 | Q21: 8 | T21: 8 | U21: 8 | V21: 8 | W21: 8 | X21: 8 | AA21: 8 | AB21: 8 | AC21: 8 | AD21: 8 | AE21: 8 | AK21: =+SUM(F21:AJ21) -> 160 | AL21: =IF($AK$4="４週",AK21/4,AK21/(DAY(EOMONTH($F$12,0))/7)) -> 40 | AM21: =IF(ISBLANK($AH$8),"",ROUNDDOWN(AL21/$AH$8,1)) -> 1
A22: 9 | B22: 生活支援員 | C22: B（常勤兼務） | D22: 社会福祉士 | E22: 東京8郎（生介） | F22: 4 | G22: 4 | H22: 4 | I22: 4 | J22: 4 | M22: 4 | N22: 4 | O22: 4 | P22: 4 | Q22: 4 | T22: 4 | U22: 4 | V22: 4 | W22: 4 | X22: 4 | AA22: 4 | AB22: 4 | AC22: 4 | AD22: 4 | AE22: 4 | AK22: =+SUM(F22:AJ22) -> 80 | AL22: =IF($AK$4="４週",AK22/4,AK22/(DAY(EOMONTH($F$12,0))/7)) -> 20 | AM22: =IF(ISBLANK($AH$8),"",ROUNDDOWN(AL22/$AH$8,1)) -> 0.5
A23: 10 | B23: 生活支援員 | C23: B（常勤兼務） | D23: 社会福祉士 | E23: 東京8郎（就Ｂ） | F23: 4 | G23: 4 | H23: 4 | I23: 4 | J23: 4 | M23: 4 | N23: 4 | O23: 4 | P23: 4 | Q23: 4 | T23: 4 | U23: 4 | V23: 4 | W23: 4 | X23: 4 | AA23: 4 | AB23: 4 | AC23: 4 | AD23: 4 | AE23: 4 | AK23: =+SUM(F23:AJ23) -> 80 | AL23: =IF($AK$4="４週",AK23/4,AK23/(DAY(EOMONTH($F$12,0))/7)) -> 20 | AM23: =IF(ISBLANK($AH$8),"",ROUNDDOWN(AL23/$AH$8,1)) -> 0.5
A24: 11 | B24: 生活支援員 | C24: A（常勤専従） | D24: 介護福祉士 | E24: 東京10郎 | F24: 8 | G24: 8 | H24: 8 | I24: 8 | J24: 8 | M24: 8 | N24: 8 | O24: 8 | P24: 8 | Q24: 8 | T24: 8 | U24: 8 | V24: 8 | W24: 8 | X24: 8 | AA24: 8 | AB24: 8 | AC24: 8 | AD24: 8 | AE24: 8 | AK24: =+SUM(F24:AJ24) -> 160 | AL24: =IF($AK$4="４週",AK24/4,AK24/(DAY(EOMONTH($F$12,0))/7)) -> 40 | AM24: =IF(ISBLANK($AH$8),"",ROUNDDOWN(AL24/$AH$8,1)) -> 1
A25: 12 | B25: 生活支援員 | C25: A（常勤専従） | E25: 東京11郎 | F25: 8 | G25: 8 | H25: 8 | I25: 8 | J25: 8 | M25: 8 | N25: 8 | O25: 8 | P25: 8 | Q25: 8 | T25: 8 | U25: 8 | V25: 8 | W25: 8 | X25: 8 | AA25: 8 | AB25: 8 | AC25: 8 | AD25: 8 | AE25: 8 | AK25: =+SUM(F25:AJ25) -> 160 | AL25: =IF($AK$4="４週",AK25/4,AK25/(DAY(EOMONTH($F$12,0))/7)) -> 40 | AM25: =IF(ISBLANK($AH$8),"",ROUNDDOWN(AL25/$AH$8,1)) -> 1
A26: 13 | B26: 生活支援員 | C26: A（常勤専従） | E26: 東京12郎 | F26: 8 | G26: 8 | H26: 8 | I26: 8 | J26: 8 | M26: 8 | N26: 8 | O26: 8 | P26: 8 | Q26: 8 | T26: 8 | U26: 8 | V26: 8 | W26: 8 | X26: 8 | AA26: 8 | AB26: 8 | AC26: 8 | AD26: 8 | AE26: 8 | AK26: =+SUM(F26:AJ26) -> 160 | AL26: =IF($AK$4="４週",AK26/4,AK26/(DAY(EOMONTH($F$12,0))/7)) -> 40 | AM26: =IF(ISBLANK($AH$8),"",ROUNDDOWN(AL26/$AH$8,1)) -> 1
A27: 14 | B27: 生活支援員 | C27: A（常勤専従） | E27: 東京13郎 | F27: 8 | G27: 8 | H27: 8 | I27: 8 | J27: 8 | M27: 8 | N27: 8 | O27: 8 | P27: 8 | Q27: 8 | T27: 8 | U27: 8 | V27: 8 | W27: 8 | X27: 8 | AA27: 8 | AB27: 8 | AC27: 8 | AD27: 8 | AE27: 8 | AK27: =+SUM(F27:AJ27) -> 160 | AL27: =IF($AK$4="４週",AK27/4,AK27/(DAY(EOMONTH($F$12,0))/7)) -> 40 | AM27: =IF(ISBLANK($AH$8),"",ROUNDDOWN(AL27/$AH$8,1)) -> 1
A28: 15 | B28: 生活支援員 | C28: A（常勤専従） | E28: 東京14郎 | F28: 8 | G28: 8 | H28: 8 | I28: 8 | J28: 8 | M28: 8 | N28: 8 | O28: 8 | P28: 8 | Q28: 8 | T28: 8 | U28: 8 | V28: 8 | W28: 8 | X28: 8 | AA28: 8 | AB28: 8 | AC28: 8 | AD28: 8 | AE28: 8 | AK28: =+SUM(F28:AJ28) -> 160 | AL28: =IF($AK$4="４週",AK28/4,AK28/(DAY(EOMONTH($F$12,0))/7)) -> 40 | AM28: =IF(ISBLANK($AH$8),"",ROUNDDOWN(AL28/$AH$8,1)) -> 1
A29: 16 | B29: 生活支援員 | C29: A（常勤専従） | E29: 東京15郎 | F29: 8 | G29: 8 | H29: 8 | I29: 8 | J29: 8 | M29: 8 | N29: 8 | O29: 8 | P29: 8 | Q29: 8 | T29: 8 | U29: 8 | V29: 8 | W29: 8 | X29: 8 | AA29: 8 | AB29: 8 | AC29: 8 | AD29: 8 | AE29: 8 | AK29: =+SUM(F29:AJ29) -> 160 | AL29: =IF($AK$4="４週",AK29/4,AK29/(DAY(EOMONTH($F$12,0))/7)) -> 40 | AM29: =IF(ISBLANK($AH$8),"",ROUNDDOWN(AL29/$AH$8,1)) -> 1
A30: 17 | B30: 生活支援員 | C30: A（常勤専従） | E30: 東京16郎 | F30: 8 | G30: 8 | H30: 8 | I30: 8 | J30: 8 | M30: 8 | N30: 8 | O30: 8 | P30: 8 | Q30: 8 | T30: 8 | U30: 8 | V30: 8 | W30: 8 | X30: 8 | AA30: 8 | AB30: 8 | AC30: 8 | AD30: 8 | AE30: 8 | AK30: =+SUM(F30:AJ30) -> 160 | AL30: =IF($AK$4="４週",AK30/4,AK30/(DAY(EOMONTH($F$12,0))/7)) -> 40 | AM30: =IF(ISBLANK($AH$8),"",ROUNDDOWN(AL30/$AH$8,1)) -> 1
A31: 18 | B31: 生活支援員 | C31: A（常勤専従） | E31: 東京17郎 | F31: 8 | G31: 8 | H31: 8 | I31: 8 | J31: 8 | M31: 8 | N31: 8 | O31: 8 | P31: 8 | Q31: 8 | T31: 8 | U31: 8 | V31: 8 | W31: 8 | X31: 8 | AA31: 8 | AB31: 8 | AC31: 8 | AD31: 8 | AE31: 8 | AK31: =+SUM(F31:AJ31) -> 160 | AL31: =IF($AK$4="４週",AK31/4,AK31/(DAY(EOMONTH($F$12,0))/7)) -> 40 | AM31: =IF(ISBLANK($AH$8),"",ROUNDDOWN(AL31/$AH$8,1)) -> 1
A32: 19 | B32: 生活支援員 | C32: A（常勤専従） | E32: 東京18郎 | F32: 8 | G32: 8 | H32: 8 | I32: 8 | J32: 8 | M32: 8 | N32: 8 | O32: 8 | P32: 8 | Q32: 8 | T32: 8 | U32: 8 | V32: 8 | W32: 8 | X32: 8 | AA32: 8 | AB32: 8 | AC32: 8 | AD32: 8 | AE32: 8 | AK32: =+SUM(F32:AJ32) -> 160 | AL32: =IF($AK$4="４週",AK32/4,AK32/(DAY(EOMONTH($F$12,0))/7)) -> 40 | AM32: =IF(ISBLANK($AH$8),"",ROUNDDOWN(AL32/$AH$8,1)) -> 1
A33: 20 | B33: 生活支援員 | C33: A（常勤専従） | E33: 東京19郎 | F33: 8 | G33: 8 | H33: 8 | I33: 8 | J33: 8 | M33: 8 | N33: 8 | O33: 8 | P33: 8 | Q33: 8 | T33: 8 | U33: 8 | V33: 8 | W33: 8 | X33: 8 | AA33: 8 | AB33: 8 | AC33: 8 | AD33: 8 | AE33: 8 | AK33: =+SUM(F33:AJ33) -> 160 | AL33: =IF($AK$4="４週",AK33/4,AK33/(DAY(EOMONTH($F$12,0))/7)) -> 40 | AM33: =IF(ISBLANK($AH$8),"",ROUNDDOWN(AL33/$AH$8,1)) -> 1
A34: 21 | B34: 生活支援員 | C34: C（非常勤専従） | E34: 東京20郎 | F34: 8 | G34: 8 | H34: 8 | I34: 8 | J34: 8 | M34: 8 | N34: 8 | O34: 8 | P34: 8 | Q34: 8 | T34: 8 | U34: 8 | V34: 8 | W34: 8 | X34: 8 | AA34: 8 | AB34: 8 | AC34: 8 | AD34: 8 | AE34: 8 | AK34: =+SUM(F34:AJ34) -> 160 | AL34: =IF($AK$4="４週",AK34/4,AK34/(DAY(EOMONTH($F$12,0))/7)) -> 40 | AM34: =IF(ISBLANK($AH$8),"",ROUNDDOWN(AL34/$AH$8,1)) -> 1
A35: 22 | B35: 生活支援員 | C35: C（非常勤専従） | E35: 東京21郎 | F35: 8 | G35: 8 | H35: 8 | I35: 8 | J35: 8 | M35: 8 | N35: 8 | O35: 8 | P35: 8 | Q35: 8 | T35: 8 | U35: 8 | V35: 8 | W35: 8 | X35: 8 | AA35: 8 | AB35: 8 | AC35: 8 | AD35: 8 | AE35: 8 | AK35: =+SUM(F35:AJ35) -> 160 | AL35: =IF($AK$4="４週",AK35/4,AK35/(DAY(EOMONTH($F$12,0))/7)) -> 40 | AM35: =IF(ISBLANK($AH$8),"",ROUNDDOWN(AL35/$AH$8,1)) -> 1
A36: 23 | B36: 生活支援員 | C36: C（非常勤専従） | E36: 東京22郎 | F36: 8 | G36: 8 | H36: 8 | I36: 8 | J36: 8 | M36: 8 | N36: 8 | O36: 8 | P36: 8 | Q36: 8 | T36: 8 | U36: 8 | V36: 8 | W36: 8 | X36: 8 | AA36: 8 | AB36: 8 | AC36: 8 | AD36: 8 | AE36: 8 | AK36: =+SUM(F36:AJ36) -> 160 | AL36: =IF($AK$4="４週",AK36/4,AK36/(DAY(EOMONTH($F$12,0))/7)) -> 40 | AM36: =IF(ISBLANK($AH$8),"",ROUNDDOWN(AL36/$AH$8,1)) -> 1
A37: 24 | B37: 生活支援員 | C37: C（非常勤専従） | E37: 東京23郎 | H37: 4 | O37: 4 | V37: 4 | AC37: 4 | AK37: =+SUM(F37:AJ37) -> 16 | AL37: =IF($AK$4="４週",AK37/4,AK37/(DAY(EOMONTH($F$12,0))/7)) -> 4 | AM37: =IF(ISBLANK($AH$8),"",ROUNDDOWN(AL37/$AH$8,1)) -> 0.1
A38: 25 | B38: 生活支援員 | C38: C（非常勤専従） | E38: 東京24郎 | F38: 8 | G38: 8 | H38: 8 | I38: 8 | J38: 8 | M38: 8 | N38: 8 | O38: 8 | P38: 8 | Q38: 8 | T38: 8 | U38: 8 | V38: 8 | W38: 8 | X38: 8 | AA38: 8 | AB38: 8 | AC38: 8 | AD38: 8 | AE38: 8 | AK38: =+SUM(F38:AJ38) -> 160 | AL38: =IF($AK$4="４週",AK38/4,AK38/(DAY(EOMONTH($F$12,0))/7)) -> 40 | AM38: =IF(ISBLANK($AH$8),"",ROUNDDOWN(AL38/$AH$8,1)) -> 1
A39: 26 | B39: 生活支援員 | C39: C（非常勤専従） | E39: 東京25郎 | F39: 4 | G39: 4 | H39: 4 | I39: 4 | J39: 4 | M39: 4 | N39: 4 | O39: 4 | P39: 4 | Q39: 4 | T39: 4 | U39: 4 | V39: 4 | W39: 4 | X39: 4 | AA39: 4 | AB39: 4 | AC39: 4 | AD39: 4 | AE39: 4 | AK39: =+SUM(F39:AJ39) -> 80 | AL39: =IF($AK$4="４週",AK39/4,AK39/(DAY(EOMONTH($F$12,0))/7)) -> 20 | AM39: =IF(ISBLANK($AH$8),"",ROUNDDOWN(AL39/$AH$8,1)) -> 0.5
A40: 27 | B40: 生活支援員 | C40: C（非常勤専従） | E40: 東京26郎 | F40: 8 | G40: 8 | H40: 8 | I40: 8 | J40: 8 | M40: 8 | N40: 8 | O40: 8 | P40: 8 | Q40: 8 | T40: 8 | U40: 8 | V40: 8 | W40: 8 | X40: 8 | AA40: 8 | AB40: 8 | AC40: 8 | AD40: 8 | AE40: 8 | AK40: =+SUM(F40:AJ40) -> 160 | AL40: =IF($AK$4="４週",AK40/4,AK40/(DAY(EOMONTH($F$12,0))/7)) -> 40 | AM40: =IF(ISBLANK($AH$8),"",ROUNDDOWN(AL40/$AH$8,1)) -> 1
A41: 28 | B41: 生活支援員 | C41: C（非常勤専従） | E41: 東京27郎 | F41: 8 | G41: 8 | H41: 8 | I41: 8 | J41: 8 | M41: 8 | N41: 8 | O41: 8 | P41: 8 | Q41: 8 | T41: 8 | U41: 8 | V41: 8 | W41: 8 | X41: 8 | AA41: 8 | AB41: 8 | AC41: 8 | AD41: 8 | AE41: 8 | AK41: =+SUM(F41:AJ41) -> 160 | AL41: =IF($AK$4="４週",AK41/4,AK41/(DAY(EOMONTH($F$12,0))/7)) -> 40 | AM41: =IF(ISBLANK($AH$8),"",ROUNDDOWN(AL41/$AH$8,1)) -> 1
...

Sheet 参考様式２設備概要
A1: （参考様式２）
A3: 設備の概要
A4: サービス種類 （ | B4: =IF(基本情報入力シート!L66&"("&基本情報入力シート!L67&")"="","",基本情報入力シート!L66&"("&基本情報入力シート!L67&")") -> 施設入所支援(障害者支援施設) | C4: )
A5: 事業所名 （ | B5: =IF(基本情報入力シート!L70="","",基本情報入力シート!L70) | C5: )
A6: 設備の概要 | B6: 設備基準上適合すべき項目等についての状況 | C6: 適合の可否
A7: サービス提供上配慮すべき設備の概要
A16: 非常災害設備等
A25: 室名 | B25: 備品の品目及び数量
A44: 備考１ 申請するサービス種類に関して、基準省令で定められた設備基準上適合すべき項目のうち、
A45: 「居室面積等一覧表｣に記載した項目以外の事項について記載してください。
A46: ２ 必要に応じて写真等を添付し、その旨を合わせて記載してください。
A47: ３ ｢適合の可否｣欄には、何も記載しないでください。

Sheet 参考様式３（管理者）経歴書
A1: （参考様式３）
A2: 管理者経歴書
A4: 事業所の名称 | C4: =IF(基本情報入力シート!L70="","",基本情報入力シート!L70)
A5: フリガナ | B5: =IF(基本情報入力シート!L79="","",基本情報入力シート!L79) | F5: 生年月日 | G5: =IF(基本情報入力シート!L84="","",基本情報入力シート!L84)
A6: 氏名 | B6: =IF(基本情報入力シート!L78="","",基本情報入力シート!L78)
A8: 住所 | B8: （郵便番号 | C8: =IF(基本情報入力シート!L80="","",基本情報入力シート!L80) | D8: - | E8: =IF(基本情報入力シート!T80="","",基本情報入力シート!T80) | F8: )
B9: =IF(基本情報入力シート!L81&基本情報入力シート!L82="","",基本情報入力シート!L81&基本情報入力シート!L82)
A10: 電話番号 | B10: =IF(基本情報入力シート!L83="","",基本情報入力シート!L83)
A11: 主な職歴等
A12: 年 月 ～ 年 月 | D12: 勤務先等 | G12: 職務内容
A28: 職務に関連する資格
A29: 資格の種類 | E29: 資格取得年月日
A37: 備考（研修等の受講の状況等）
A43: 備考１ 住所・電話番号は、自宅のものを記載してください。
A44: ２ 当該管理者が管理する事業所が複数の場合は、「事業所の名称」欄を適宜拡張して、その全てを
A45: 記載してください。

Sheet 参考様式３（サビ菅）経歴書 
A1: （参考様式３）
A2: サービス管理責任者経歴書
A4: 事業所の名称 | C4: =IF(基本情報入力シート!L70="","",基本情報入力シート!L70)
A5: フリガナ | B5: =IF(基本情報入力シート!L86="","",基本情報入力シート!L86) | F5: 生年月日 | G5: =IF(基本情報入力シート!L91="","",基本情報入力シート!L91)
A6: 氏名 | B6: =IF(基本情報入力シート!L85="","",基本情報入力シート!L85)
A8: 住所 | B8: (郵便番号 | C8: =IF(基本情報入力シート!L87="","",基本情報入力シート!L87) | D8: - | E8: =IF(基本情報入力シート!T87="","",基本情報入力シート!T87) | F8: )
B9: =IF(基本情報入力シート!L88&基本情報入力シート!L89="","",基本情報入力シート!L88&基本情報入力シート!L89)
A10: 電話番号 | B10: =IF(基本情報入力シート!L90="","",基本情報入力シート!L90)
A11: 主な職歴等
A12: 年 月 ～ 年 月 | D12: 勤務先等 | G12: 職務内容
A28: 職務に関連する資格
A29: 資格の種類 | E29: 資格取得年月日
A37: 備考（研修等の受講の状況等）
A43: 備考１ 住所・電話番号は、自宅のものを記載してください。
A44: ２ 当該管理者が管理する事業所が複数の場合は、「事業所の名称」欄を適宜拡張して、その全てを
A45: 記載してください。

Sheet 標準様式３誓約書
A1: (標準様式３)
A2: 誓 約 書
H4: 年 | J4: 月 | L4: 日
A5: 東京都 | C5: 知事 殿
A7: 申請者 | D7: （名称） | E7: =IF(基本情報入力シート!L21="","",基本情報入力シート!L21)
D9: （代表者の職名・氏名） | F9: =IF(基本情報入力シート!L37&" "&基本情報入力シート!L39="","",基本情報入力シート!L37&" "&基本情報入力シート!L39)
A13: 申請者が別紙のいずれにも該当しない者であることを誓約します。
C15: 別紙①： 障害福祉サービス事業者向け
B16: ○ | C16: 別紙②： 障害者支援施設向け
C17: 別紙③： 一般相談支援事業者向け
C18: 別紙④： 特定相談支援事業者向け
C19: 別紙⑤： 障害児通所支援事業者向け
C20: 別紙⑥： 障害児入所施設向け
C21: 別紙⑦： 障害児相談支援事業者向け
B22: 注 該当する種別に○を付けてください。

Sheet 標準様式３別紙②
B1: （別紙②：障害者支援施設向け）
C2: 障害者の日常生活及び社会生活を総合的に支援するための法律第３８条第３項において準用する 同法第３６条第３項
B4: 一 | C4: 申請者が都道府県の条例で定める者でないとき。
B5: 二 | C5: 当該申請に係る障害者支援施設の従業者の知識及び技能並びに人員が、第四十四条第一項の都道府県の条例で定める基準を満たしていないとき。
B6: 三 | C6: 申請者が、第四十四条第二項の都道府県の条例で定める指定障害者支援施設等の設備及び運営に関する基準に従って適正な障害者支援施設の運営をすることができないと認められるとき。
B7: 四 | C7: 申請者が、禁錮以上の刑に処せられ、その執行を終わり、又は執行を受けることがなくなるまでの者であるとき。
B8: 五 | C8: 申請者が、この法律その他国民の保健医療若しくは福祉に関する法律で政令で定めるものの規定により罰金の刑に処せられ、その執行を終わり、又は執行を受けることがなくなるまでの者であるとき。
B9: 五の二 | C9: 申請者が、労働に関する法律の規定であって政令で定めるものにより罰金の刑に処せられ、その執行を終わり、又は執行を受けることがなくなるまでの者であるとき。
B10: 六 | C10: 申請者が、第五十条第一項（同条第三項において準用する場合を含む。以下この項において同じ。）、第五十一条の二十九第一項若しくは第二項又は第七十六条の三第六項の規定により指定を取り消され、その取消しの日から起算して五年を経過しない者（当該指定を取り消された者が法人である場合においては、当該取消しの処分に係る行政手続法（平成五年法律第八十八号）第十五条の規定による通知があった日前六十日以内に当該法人の役員又はその障害者支援施設を管理する者その他の政令で定める使用人（以下「役員等」という。）であった者で当該取消しの日から起算して五年を経過しないものを含み、当該指定を取り消された者が法人でない場合においては、当該通知があった日前六十日以内に当該者の管理者であった者で当該取消しの日から起算して五年を経過しないものを含む。）であるとき。ただし、当該指定の取消しが、指定障害者支援施設の指定の取消しのうち当該指定の取消しの処分の理由となった事実及び当該事実の発生を防止するための当該指定障害者支援施設の設置者による業務管理体制の整備についての取組の状況その他の当該事実に関して当該指定障害者支援施設の設置者が有していた責任の程度を考慮して、この号本文に規定する指定の取消しに該当しないこととすることが相当であると認められるものとして主務省令で定めるものに該当する場合を除く。
B11: 八 | C11: 申請者が、第五十条第一項、第五十一条の二十九第一項若しくは第二項又は第七十六条の三第六項の規定による指定の取消しの処分に係る行政手続法第十五条の規定による通知があった日から当該処分をする日又は処分をしないことを決定する日までの間に第四十七条の規定による指定の辞退又は第五十一条の二十五第二項若しくは第四項の規定による事業の廃止の届出をした者（当該指定の辞退又は事業の廃止について相当の理由がある者を除く。）で、当該辞退又は届出の日から起算して五年を経過しないものであるとき。
B12: 九 | C12: 申請者が、第四十八条第一項（同条第三項において準用する場合を含む。）又は第五十一条の二十七第一項若しくは第二項の規定による検査が行われた日から聴聞決定予定日（当該検査の結果に基づき第五十条第一項又は第五十一条の二十九第一項若しくは第二項の規定による指定の取消しの処分に係る聴聞を行うか否かの決定をすることが見込まれる日として主務省令で定めるところにより都道府県知事が当該申請者に当該検査が行われた日から十日以内に特定の日を通知した場合における当該特定の日をいう。）までの間に第四十七条の規定による指定の辞退又は第五十一条の二十五第二項若しくは第四項の規定による事業の廃止の届出をした者（当該指定の辞退又は事業の廃止について相当の理由がある者を除く。）で、当該辞退又は届出の日から起算して五年を経過しないものであるとき。
B13: 十 | C13: 第八号に規定する期間内に第四十七条の規定による指定の辞退又は第五十一条の二十五第二項若しくは第四項の規定による事業の廃止の届出があった場合において、申請者が、同号の通知の日前六十日以内に当該辞退若しくは届出に係る法人（当該指定の辞退又は事業の廃止について相当の理由がある法人を除く。）の役員等又は当該辞退若しくは届出に係る法人でない者（当該指定の辞退又は事業の廃止について相当の理由がある者を除く。）の管理者であった者で、当該辞退又は届出の日から起算して五年を経過しないものであるとき。
B14: 十一 | C14: 申請者が、指定の申請前五年以内に障害福祉サービスに関し不正又は著しく不当な行為をした者であるとき。
B15: 十二 | C15: 申請者が、法人で、その役員等のうちに第四号から第六号まで又は第八号から前号までのいずれかに該当する者のあるものであるとき。
B16: 十三 | C16: 申請者が、法人でない者で、その管理者が第四号から第六号まで又は第八号から第十一号までのいずれかに該当する者であるとき。

Sheet 標準様式１主たる対象
A1: (標準様式１)
A3: 指定障害福祉サービス等の主たる対象者を特定する理由等
B5: 事業所名 | C5: =IF(基本情報入力シート!L70="","",基本情報入力シート!L70)
B6: 指定障害福祉サービス等の種類 | C6: =IF(基本情報入力シート!L66&"("&基本情報入力シート!L67&")"="","",基本情報入力シート!L66&"("&基本情報入力シート!L67&")") -> 施設入所支援(障害者支援施設)
A9: １ 申請に係る指定障害福祉サービス等の主たる対象者 ※該当するものに☑する。
A10: 身体障害者（ 肢体不自由・ 視覚・ 聴覚言語・ 内部障害） 知的障害者・ 精神障害者・ 難病等対象者
A11: ２ 主たる対象者を１のとおり特定する理由
A13: ３ 今後における主たる対象者の拡充の予定
A14: (１)拡充予定の有無 | C14: ( 有り ・ 無し )
A15: (２)拡充予定の内容及び予定時期
A17: (３)拡充のための方策

Sheet 標準様式２苦情解決
A1: (標準様式２)
A3: 利用者(入所者)又はその家族からの苦情を解決するために講ずる措置の概要
A5: 事業所名 | B5: =IF(基本情報入力シート!L70="","",基本情報入力シート!L70)
A6: 指定障害福祉サービス等の種類 | B6: =IF(基本情報入力シート!L66&"("&基本情報入力シート!L67&")"="","",基本情報入力シート!L66&"("&基本情報入力シート!L67&")") -> 施設入所支援(障害者支援施設)
A8: 措 置 の 概 要
A9: １ 利用者(入所者)又はその家族からの相談又は苦情等に対応する常設の窓口(連絡先)、担当者
A11: ２ 円滑かつ迅速に苦情を解決するための処理体制・手順
A13: ※具体的な対応方針
A15: ３ その他参考事項

Sheet 利用日数届出書
A2: 利用日数に係る特例の適用を受ける通所施設に係る（変更）届出書
N4: 年 | P4: 月 | R4: 日
B7: 東京都知事 殿
I9: =IF(基本情報入力シート!L17="","",基本情報入力シート!L17)
F10: 住所 | I10: =IF(基本情報入力シート!L19="","",基本情報入力シート!L19)
E11: 届出者 | F11: （所在地） | I11: =IF(基本情報入力シート!L21="","",基本情報入力シート!L21)
F12: 氏名 | I12: =IF(基本情報入力シート!L37&" "&基本情報入力シート!L39="","",基本情報入力シート!L37&" "&基本情報入力シート!L39)
F13: （名称及び代表者氏名）
B16: 下記の理由により、利用日数に係る特例の適用を受ける必要がありますので、次のとおり届け出ます。
A18: 施 設 名 (種別） | C18: 名 称 | E18: =IF(基本情報入力シート!L70="","",基本情報入力シート!L70)
C19: 所 在 地 | E19: =IF(基本情報入力シート!L72&基本情報入力シート!L73="","",基本情報入力シート!L72&基本情報入力シート!L73)
A20: 連 絡 先 | C20: 電話番号 | E20: =IF(基本情報入力シート!L74="","",基本情報入力シート!L74) | I20: 担当者名
C21: ＦＡＸ番号 | E21: =IF(基本情報入力シート!L75="","",基本情報入力シート!L75)
A22: 対象期間 | C22: 特例の適用を受ける必要性
A23: 月 ～ 月
A24: 月 ～ 月
A25: 月 ～ 月
A26: 月 ～ 月
A27: （注１）対象期間とは、「原則の日数」を超える支援が必要となる月を含む３か月以上1年以内の期間をいう。
A28: （注２）年間スケジュール表など年間を通じた事業計画がわかる資料を添付すること。

Sheet 利用日数管理票
A1: 利用日数に係る特例の適用を受ける場合の利用日数管理票
A2: （ 年 月サービス分）
A4: 事 業 所 番 号
A5: 施 設 名 | B5: =IF(基本情報入力シート!L70="","",基本情報入力シート!L70)
A7: 施設受給者証番号
A8: 支給決定障害者氏名
A10: 対 象 期 間
D11: 月 | E11: ～ | H11: 月
A13: 原則の日数の総和
A16: 対象期間内における各月の利用日数
B17: 月 | D17: 月 | F17: 月 | H17: 月 | J17: 月 | L17: 月 | N17: 月 | P17: 月 | R17: 月 | T17: 月 | V17: 月 | X17: 月
A20: 対象期間内における当該月までの利用日数の合計
A24: 注１ 対象期間には、当該施設が特定する３か月以上1年以内の期間を記載すること。
A26: 注２ 原則の日数の総和には、対象期間における原則の日数の総和を記載すること。

Sheet 耐震化調査票
AI1: 別 紙
A2: 社会福祉施設等における耐震化に関する調査票
A4: ※ １施設で複数の棟がある場合は、大変恐縮ですが調査票をコピーして、棟ごとに調査票を作成してください。
A6: ※ 回答できない事情がある場合は、欄外にその旨を記入してください。
A8: 所属団体(法人)名 | B8: 名 称 | E8: =IF(基本情報入力シート!L21="","",基本情報入力シート!L21) | T8: 施設名 | U8: 名 称 | X8: =IF(基本情報入力シート!L70="","",基本情報入力シート!L70) | AF8: 指定番号 | AH8: =IF(基本情報入力シート!L68="","",基本情報入力シート!L68)
B9: 所在地 | E9: =IF(基本情報入力シート!L17&基本情報入力シート!L19="","",基本情報入力シート!L17&基本情報入力シート!L19) | U9: 所在地 | X9: =IF(基本情報入力シート!L72&基本情報入力シート!L73="","",基本情報入力シート!L72&基本情報入力シート!L73)
B10: 担当者 | U10: 担当者
B11: 電 話 | U11: 電 話
A13: ① | B13: 施設種別・棟の名称 (複数棟所有で棟名がない場合は、便宜上「Ａ棟などの呼称で区分してください。） | J13: 施設種別 （別表から選択してください） | AA13: 棟の名称 (記入例：管理棟）
J14: ―
A15: ② | B15: 併設施設について （同一建物（棟）内に他の社会福祉施設が併設されている場合や、複数のサービスを提供している場合は御記入ください。） | J15: 施設種別 （別表から選択してください） | AA15: 施設名称
J16: ―
J17: ―
J18: ―
J19: ―
J20: ※書ききれない場合は、裏面欄外に御記入ください。
A21: ③ | B21: 施設について （Ａ～Ｇについて御回答ください） | J21: Ａ | K21: 施設設置者の公私区分 （公立には、公設民営を含む） | AA21: 公立 ・ 私立
J22: Ｂ | K22: 建物の構造 | AA22: 1. 木造
AA23: 2. 鉄筋ｺﾝｸﾘｰﾄ構造（RC）
AA24: 3. 鉄骨構造（Ｓ）
AA25: 4. 鉄骨鉄筋ｺﾝｸﾘｰﾄ構造（SRC）
AA26: 5. その他 （ ）
J27: Ｃ | K27: 建物が竣工（完成）した年 | AA27: 昭和 年 月
K28: ※昭和５６年６月１日以降に建築確認を行なった建物は、現在の耐震基準に適合しています。 | AA28: 昭和５７年１月１日以降
AH29: → 終了
J30: Ｄ | K30: 建物の自己所有・賃貸の別 （無償貸与物件は賃貸） | AA30: 自己所有 ・ 賃貸
J31: Ｅ | K31: 建物の階数 | AA31: 階建
L32: （ビル一室等使用の場合は、当該建物総階数）
J33: Ｆ | K33: 建物の延べ床面積 （ビル一室等使用の場合は、上段に施設面積、下段に建物総面積） | AA33: ㎡
J35: Ｇ | K35: 増改築の有無 | AA35: 有（ 年 月） ・ 無
A36: ④ | B36: 耐震診断の実施状況 について （Ａ・Ｂのいずれか1箇所に○をつけてください） | J36: Ａ | K36: 耐震診断実施済み | AA36: 実施日： 年 月
K37: ※Ｉｗ値（木造）・Ｉｓ値（非木造）は、階ごと等複数算出されている場合、全ての値を記載してください。 | AA37: Ｉｗ値・Ｉｓ値：
AH38: → ⑤へ
J39: Ｂ | K39: 耐震診断未実施 | Q39: → ⑥へ
AH40: ⇒裏面へ
A41: ⑤ | B41: 耐震診断の結果と耐震化の実施状況について （Ａ・Ｂのいずれか1箇所に○をつけてください） | J41: Ａ | K41: 耐震診断の結果、耐震化は不要
K42: （全ての階において、木造:Ｉｗ値１．1以上、非木造：Ｉｓ値０．7以上） | AH42: → 終了
J43: Ｂ | K43: 耐震診断の結果、耐震化が必要（いずれかの階で、Iw値が1.1未満又はIs値0.7未満）
K44: 耐震化の実施状況 ： １～４の中から、あてはまる項目に○をしてください。
L45: 1．改修済み
...

Sheet 事業開始届
B2: 東京都知事 殿 | O2: 年 月 日
M3: =IF(基本情報入力シート!L17&基本情報入力シート!L19="","",基本情報入力シート!L17&基本情報入力シート!L19)
G4: 届出者 氏名
I5: （法人の場合は名称） | M5: =IF(基本情報入力シート!L37&" "&基本情報入力シート!L39="","",基本情報入力シート!L37&" "&基本情報入力シート!L39)
F7: =IF(基本情報入力シート!L70="","",基本情報入力シート!L70) | N7: 事業開始届
C9: このたび、標記の事業を開始しますので、下記により届け出ます。
K11: 記
C13: 事業 | E13: 種類 | J13: =IF(基本情報入力シート!L66="","",基本情報入力シート!L66) -> 施設入所支援
E15: 内容
C17: 経営者 | E17: 氏名（法人の場合は名称） | J17: =IF(基本情報入力シート!L21="","",基本情報入力シート!L21)
E19: 住所 | J19: =IF(基本情報入力シート!L17&基本情報入力シート!L19="","",基本情報入力シート!L17&基本情報入力シート!L19)
E21: （法人の場合は主たる事務所の所在地）
C22: 条例、定款その他の基本約款 | J22: 別紙のとおり
C23: 職員の職種 | G23: 職務内容 | P23: 職員の定数
S24: 人
S26: 人
S28: 人
N30: 合計 | P30: =SUM(P24:R29) -> 0 | S30: 人
C32: 主な職員の氏名及び経歴 | J32: 別紙のとおり
C33: 事業を行おうとする区域 | J33: =IF(基本情報入力シート!L77="","",基本情報入力シート!L77)
C34: （区市町村の委託事業については区市町村名も含む）
C35: 事業の用に共する施設（短期入所を行おうとする場合） | E35: 名称
E37: 種類
E39: 所在地
E41: 定員
O42: 人
C43: 事業開始予定年月日 | J43: =IF(基本情報入力シート!L13="","",基本情報入力シート!L13)
C44: 収支予算書及び事業計画書 | J44: 別紙のとおり
C45: 事業所平面図及び部屋別面積表 | J45: 別紙のとおり
C47: この紙面は、事業開始の届出を行おうとする方に「参考例」として示すものであり、届出の様式を定めるものではありません。

Sheet 参考様式４実務証明
A1: （参考様式４）
A2: 実 務 経 験 証 明 書
J4: 番 号
J5: 年 月 日
E7: 施設又は事業所所在地及び名称
E9: 代表者氏名 | J9: 印
E10: 電話番号
A12: 下記の者の実務経験は、以下のとおりであることを証明します。
A14: 氏 名 | G14: （生年月日 年 月 日）
A15: 現 住 所
A16: 施設又は事業所名
D17: 施設・事業所の種別（ ）
A18: 業 務 期 間
D19: 年 月 日～ 年 月 日（ 年 月間）
A20: 業 務 内 容 | D20: 職名（ ）
A26: （注） | B26: １． | C26: 施設又は事業所名欄には、知的障害者更生施設等の種別も記入すること。
B27: ２． | C27: 業務期間欄は、受験申込者が要援護者に対する直接的な援助を行っていた期間を記入すること。（産休・育休・療養休暇や長期研修期間等は業務期間となりません）
C29: 現在、既に必要とする実務経験期間を満たしている場合は、実務経験証明書作成日までの期間または、退職した日までの期間を記入してください。
B31: ３． | C31: 業務内容欄は、看護師、生活指導員等の職名を記入し、受験申込者の本来業務について、老人デイサービス事業における○○業務、○○実施要綱の○○事業の○○業務等具体的に記入すること。
C34: また、療養病床の病棟等において介護業務を行った場合は明記し、当該病棟が療養病床として許可等を受けた年月日を記入すること。
B36: ４． | C36: 証明内容を訂正した場合は、証明権者の職印を押印してください。なお、修正液による訂正は認められません。

Sheet 差替確約
A1: （参考様式）
A6: 事業開始届に添付する書類差替確約書
A11: ○○○法人△△△会が設置する障害福祉サービス事業（×××）「☆☆☆園」の事業開始
A14: 届に添付する書類については、下記の理由により準備中であるため、整い次第、差し替える
A17: ことを確約します。
A20: 記
A23: １ 書類差替一覧
B24: 書類名 | D24: 不備の理由 | K24: 差替予定日
H40: 年 | J40: 月 | L40: 日
F43: 住所
F46: 氏名
M47: 印
A52: 東京都知事 殿

Sheet 別紙６-１視覚聴覚Ⅰ
B1: （別紙６－１）
AA2: 年 月 日
B4: 視覚・聴覚言語障害者支援体制加算（Ⅰ）に関する届出書
B6: 事業所の名称 | L6: =IF(基本情報入力シート!L70="","",基本情報入力シート!L70)
B7: サービスの種類 | L7: =IF(基本情報入力シート!L66="","",基本情報入力シート!L66) -> 施設入所支援 | Z7: 多機能型の実施※1 | AG7: 無
B8: 異動区分※2 | L8: １ 新規 ２ 変更 ３ 終了
B10: １ 利用者の状況
B11: 当該事業所の前年度の平均実利用者数 (A) | S11: =IF(基本情報入力シート!L47="","",基本情報入力シート!L47) | AC11: 人
C12: うち５０％ (B)＝ (A)×0.5 | S12: =ROUNDUP(S11*50%,1) -> #VALUE! | AC12: 人
B13: 加算要件に該当する利用者の数 (C)＝(E)／(D) | S13: =ROUNDUP(AE25/L25,1) -> #DIV/0! | AC13: 人 | AE13: (C)＞＝(B)
B14: 該当利用者の氏名 | L14: 手帳の種類 | Y14: 手帳の等級 | AE14: 前年度利用日数
B15: 1
B16: 2
B17: 3
B18: 4
B19: 5
B20: 6
B21: 7
B22: 8
B23: 9
B24: 10
B25: 前年度の開所日数 (D) | Q25: 日 | S25: 合 計 (E) | AE25: =SUM(AE15:AJ24) -> 0
B27: ２ 加配される従業者の状況
B28: 利用者数 (A) ÷ 40 ＝ (F) | S28: =ROUNDUP(S11/40,1) -> #VALUE! | AC28: 人
B29: 加配される従業者の数 (G) | AC29: 人 | AE29: (G)＞＝ (F)
B30: 加配される従業者の氏名 | S30: 資格・研修名等
B31: 1
B32: 2
B33: 3
B35: 添付書類 | H35: 身体障害者手帳の写し、従業者の勤務体制一覧表、組織体制図
B37: 注１ 本表は、次に該当する利用者を記載してください。 ① 身体障害者福祉法（昭和24年法律第283号）の第15条第４項の規定により交付を受けた身体障害者手帳 の障害程度が１級又は２級に該当し、日常生活におけるコミュニケーションや移動等に支障がある視覚障 害を有する者 ② 身体障害者手帳の障害の程度が２級に該当し、日常生活におけるコミュニケーションに支障がある聴覚 障害を有する者 ③ 身体障害者手帳の障害の程度が３級に該当し、日常生活におけるコミュニケーションに支障がある言語 機能障害を有する者 ④ 重度の視覚障害、聴覚障害、言語機能障害又は知的障害のうち２以上の障害を有する利用者については 、ダブルカウントするため、当該利用者の利用日数を２倍にして算定すること。この場合の「知的障害」 は「重度」の知的障害である必要はない。
B42: 注２ 「障害者の日常生活及び社会生活を総合的に支援するための法律に基づく指定障害福祉サービス等及び 基準該当障害福祉サービスに要する費用の額の算定に関する基準（平成18年９月29日厚生労働省告示第 523号）第５の４に規定する加配される「視覚障害者等との意思疎通に関し専門性を有する者として専ら 視覚障害者等の生活支援に従事する者」とは、次のいずれかに該当する者であること。 ① 視覚障害 点字の指導、点訳、歩行支援等を行うことができる者 ② 聴覚障害又は言語機能障害者 手話通訳等を行うことができる者
B47: ※１：多機能型事業所等については、当該多機能型事業所全体で、加算要件の利用者数や配置割合の計算を行 うこと。
B48: ※２：「異動区分」欄において「３ 終了」の場合は、１利用者の状況、２加配される従業者の状況の記載は 不要とする。

Sheet 別紙６-２視覚聴覚Ⅱ
B1: （別紙６－２）
AA2: 年 月 日
B4: 視覚・聴覚言語障害者支援体制加算（Ⅱ）に関する届出書
B6: 事業所の名称 | L6: =IF(基本情報入力シート!L70="","",基本情報入力シート!L70)
B7: サービスの種類 | L7: =IF(基本情報入力シート!L66="","",基本情報入力シート!L66) -> 施設入所支援 | Z7: 多機能型の実施※1 | AG7: 無
B8: 異動区分※2 | L8: １ 新規 ２ 変更 ３ 終了
B10: １ 利用者の状況
B11: 当該事業所の前年度の平均実利用者数 (A) | S11: =IF(基本情報入力シート!L47="","",基本情報入力シート!L47) | AC11: 人
C12: うち３０％ (B)＝ (A)×0.3 | S12: =ROUNDUP(S11*30%,1) -> #VALUE! | AC12: 人
B13: 加算要件に該当する利用者の数 (C)＝(E)／(D) | S13: =ROUNDUP(AE25/L25,1) -> #DIV/0! | AC13: 人 | AE13: (C)＞＝(B)
B14: 該当利用者の氏名 | L14: 手帳の種類 | Y14: 手帳の等級 | AE14: 前年度利用日数
B15: 1
B16: 2
B17: 3
B18: 4
B19: 5
B20: 6
B21: 7
B22: 8
B23: 9
B24: 10
B25: 前年度の開所日数 (D) | Q25: 日 | S25: 合 計 (E) | AE25: =SUM(AE15:AJ24) -> 0
B27: ２ 加配される従業者の状況
B28: 利用者数 (A) ÷ 50 ＝ (F) | S28: =ROUNDUP(S11/50,1) -> #VALUE! | AC28: 人
B29: 加配される従業者の数 (G) | AC29: 人 | AE29: (G)＞＝(F)
B30: 加配される従業者の氏名 | S30: 資格・研修名等
B31: 1
B32: 2
B33: 3
B35: 添付書類 | H35: 身体障害者手帳の写し、従業者の勤務体制一覧表、組織体制図
B37: 注１ 本表は、次に該当する利用者を記載してください。 ① 身体障害者福祉法（昭和24年法律第283号）の第15条第４項の規定により交付を受けた身体障害者手帳 の障害程度が１級又は２級に該当し、日常生活におけるコミュニケーションや移動等に支障がある視覚障 害を有する者 ② 身体障害者手帳の障害の程度が２級に該当し、日常生活におけるコミュニケーションに支障がある聴覚 障害を有する者 ③ 身体障害者手帳の障害の程度が３級に該当し、日常生活におけるコミュニケーションに支障がある言語 機能障害を有する者 ④ 重度の視覚障害、聴覚障害、言語機能障害又は知的障害のうち２以上の障害を有する利用者については 、ダブルカウントするため、当該利用者の利用日数を２倍にして算定すること。この場合の「知的障害」 は「重度」の知的障害である必要はない。
