Workbook
Name _________________________________________________________________________kk29: #REF!
Name ________________________________________________________________________kk29: #REF!
Name _______________________________________________________________________kk29: #REF!
Name ______________________________________________________________________kk29: #REF!
Name _____________________________________________________________________kk06: #REF!
Name _____________________________________________________________________kk29: #REF!
Name _____________________________________________________________________kk29: #REF!
Name _____________________________________________________________________kk29: #REF!
Name _____________________________________________________________________kk29: #REF!
Name _____________________________________________________________________kk29: #REF!
Name _____________________________________________________________________kk29: #REF!
Name _____________________________________________________________________kk29: #REF!
Name _____________________________________________________________________kk29: #REF!
Name _____________________________________________________________________kk29: #REF!
Name _____________________________________________________________________kk29: #REF!
Name _____________________________________________________________________kk29: #REF!
Name _____________________________________________________________________kk29: #REF!
Name _____________________________________________________________________kk29: #REF!
Name _____________________________________________________________________kk29: #REF!
Name _____________________________________________________________________kk29: #REF!
Name _____________________________________________________________________kk29: #REF!
Name ____________________________________________________________________kk06: #REF!
Name ____________________________________________________________________kk29: #REF!
Name ____________________________________________________________________kk29: #REF!
Name ____________________________________________________________________kk29: #REF!
Name ____________________________________________________________________kk29: #REF!
Name ____________________________________________________________________kk29: #REF!
Name ____________________________________________________________________kk29: #REF!
Name ____________________________________________________________________kk29: #REF!
Name ____________________________________________________________________kk29: #REF!
Name ____________________________________________________________________kk29: #REF!
Name ____________________________________________________________________kk29: #REF!
Name ____________________________________________________________________kk29: #REF!
Name ____________________________________________________________________kk29: #REF!
Name ____________________________________________________________________kk29: #REF!
Name ____________________________________________________________________kk29: #REF!
Name ____________________________________________________________________kk29: #REF!
Name ____________________________________________________________________kk29: #REF!
Name ___________________________________________________________________kk06: #REF!
Name ___________________________________________________________________kk29: #REF!
Name ___________________________________________________________________kk29: #REF!
Name ___________________________________________________________________kk29: #REF!
Name ___________________________________________________________________kk29: #REF!
Name ___________________________________________________________________kk29: #REF!
Name ___________________________________________________________________kk29: #REF!
Name ___________________________________________________________________kk29: #REF!
Name ___________________________________________________________________kk29: #REF!
Name ___________________________________________________________________kk29: #REF!
Name ___________________________________________________________________kk29: #REF!
Name ___________________________________________________________________kk29: #REF!
Name ___________________________________________________________________kk29: #REF!
Name ___________________________________________________________________kk29: #REF!
Name ___________________________________________________________________kk29: #REF!
Name ___________________________________________________________________kk29: #REF!
Name ___________________________________________________________________kk29: #REF!
Name __________________________________________________________________kk06: #REF!
Name __________________________________________________________________kk06: #REF!
Name __________________________________________________________________kk06: #REF!
Name __________________________________________________________________kk06: #REF!
Name __________________________________________________________________kk06: #REF!

Sheet 更新申請書提出一覧（施設）
A2: 障害者の日常生活及び社会生活を総合的に支援するための法律に基づく事業者指定の更新申請に係る提出書類一覧
A3: （障害者支援施設・日中活動系サービス）
A5: 事業所の名称 | F5: 所在地 （区市町村名）
A7: 申請書及び添付書類 | F7: 申請者確認欄 | G7: 備考
A8: 申請書 | B8: 指定（更新）申請書 | G8: 第１号様式
B9: 障害福祉サービス事業等に係る記載事項 | G9: 付表
A10: ※ 下記の添付書類については、提出日現在の情報を記入してください。
A11: 添付書類 | B11: 障害者の日常生活及び社会生活を総合的に支援するための法律第３６条第３項各号 に該当しないことの誓約書 | G11: 誓約書
B12: 当該申請に係る事業に係る従事者の勤務の体制及び勤務形態一覧表 | G12: 様式※
B13: 事業所更新時講習会 受講報告書 | G13: 様式※
A14: ※ 申請書提出にあたって、下記の点について確認してください。
B15: 情報公表制度に係る報告（システム入力）を行っているか。
B16: ※様式については東京都サービス情報よりダウンロードして下さい。 ▼東京都サービス情報リンク
B17: https://www.shougaifukushi.metro.tokyo.lg.jp/Lib/LibDspCatego.php?catid=002
B18: ※申請される際には、事業所保管用として事前に提出書類一式のコピーをとっておくようにして下さい。 ▼情報公表制度概要HPリンク
B19: https://www.mhlw.go.jp/stf/seisakunitsuite/bunya/0000202214_00001.html
B20: 〔担当者連絡先〕
B21: 提出いただいた申請書類に記載されている内容について、問い合わせする際の連絡先を記入してください。
B22: 事業所名
B23: 担当者名
B24: 電 話
B25: F A X

Sheet 指定申請書
A1: 別紙様式第一号
A2: 指定障害福祉サービス事業所/指定障害者支援施設
A3: 指定障害児通所支援事業所/指定障害児入所施設
A4: 指定特定相談支援事業所/指定一般相談支援事業所/指定障害児相談支援事業所
E5: 指定更新 | G5: 申請書
O6: 年 | R6: 月 | U6: 日
B7: 東京都 | D7: 知事（市区村長） 殿
H8: 所在地
G9: 申請者 | H9: 名 称
H10: 代表者
B12: 表題の事業所・施設に係る指定/指定の更新/指定の変更を受けたいので、下記のとおり、関係書類を添えて申請します。
F14: 法人番号(13桁)
A15: 申請者(設置者) | B15: フリガナ
B16: 名称
B17: 主たる事務所の所在地 | D17: (郵便番号 | F17: - | I17: ）
B20: 連絡先 | D20: 電話番号 | H20: (内線)
D21: E-mailアドレス
B22: 法人等の種類
B23: 代表者の職名・氏名・生年月日 | D23: 職名 | G23: フリガナ | M23: 生年月日
G24: 氏名
B25: 代表者の住所 | D25: (郵便番号 | F25: - | I25: ）
A28: 指定を受けようとする事業所・施設の種類 | B28: フリガナ
B29: 名称
B30: 事業所(施設)の所在地 | D30: (郵便番号 | F30: - | I30: ）
B33: 多機能型事業所に係る指定の申請の場合は○
B34: 同一所在地において 行う事業等の種類 | F34: 今回の指定(更新・変更)申請をする対象事業等に○ | H34: 既に指定を受けている事業に○ | L34: 事業の開始予定年月日 | R34: 本申請書に添付して提出する様式(付表)
E35: 共生型サービスの指定を申請するものに○
B36: 指定障害福祉サービス事業所 | C36: 居宅介護 | R36: 付表１
C37: 重度訪問介護 | R37: 付表１
C38: 同行援護 | R38: 付表１
C39: 行動援護 | R39: 付表１
C40: 療養介護 | R40: 付表２
C41: 生活介護 | R41: 付表３
C42: 短期入所 | R42: 付表４
C43: 重度障害者等包括支援 | R43: 付表５
C44: 自立訓練(機能訓練) | R44: 付表６
C45: 自立訓練(生活訓練) | R45: 付表６
C46: 就労選択支援 | R46: 付表７
C47: 就労移行支援 | R47: 付表８
C48: 就労継続支援Ａ型 | R48: 付表９
...

Sheet 付表３（生活介護）
A1: 付表３ 生活介護事業所の指定等に係る記載事項
A3: 事業所 | B3: フリガナ
B4: 名 称
B5: 所在地 | C5: (郵便番号 | E5: - | G5: )
B8: 電話番号
B9: E-Mail
A10: 管理者 | B10: フリガナ | F10: 生年月日
B11: 氏 名
B12: 住 所 | C12: (郵便番号 | E12: - | G12: )
B15: 当該事業所で兼務する他の職種(兼務の場合記入)
B16: 他の事業所又は施設の従業者との兼務(兼務の場合記入) | D16: 事業所等の名称
D17: 兼務する職種及び勤務時間等
A19: サービス管理責任者 | B19: フリガナ | F19: 生年月日
B20: 氏 名
B21: 住 所 | C21: (郵便番号 | E21: - | G21: )
A24: 実施主体が地方公共団体である場合は、当該事業の実施について定めてある条例等 | H24: 第 条 第 項 第 号
A25: ○人員に関する基準の確認に必要な事項
A26: 従業者の職種・員数 | C26: 居宅介護等従業者 | E26: その他の従業者
C27: 専従 | D27: 兼務 | E27: 専従 | F27: 兼務
A28: 常勤（人）
A29: 非常勤（人）
A30: 常勤換算後の人数（人）
A31: 基準上の必要人数（人）
A32: ○運営・設備に関する基準の確認に必要な事項
A33: 利用定員(人)
A34: 利用者の推定数(人) | C34: 事業所が申告する障害支援区分の平均値
C35: サービス単位 | E35: ４未満 | G35: ４以上５未満 | J35: ５以上
C36: サービス単位１
C37: サービス単位２
C38: サービス単位３
A39: 営業日(該当する日に○) | C39: 日 | D39: 月 | E39: 火 | F39: 水 | G39: 木 | H39: 金 | J39: 土 | L39: 祝
C41: その他(年末年始等)
A42: 営業時間 | C42: 平日 | E42: ： | G42: ～ | J42: ：
C43: 土曜 | E43: ： | G43: ～ | J43: ：
C44: 日・祝 | E44: ： | G44: ～ | J44: ：
A45: 利用料
A46: その他の費用
A47: 通常の事業の実施地域
A48: 協力医療機関 | C48: 名称 | G48: 診療科名
A49: ○一体的に実施する従たる事業所の指定等に係る記載事項
...

Sheet 付表６（自立訓練）
A1: 付表６ 自立訓練(機能訓練・生活訓練)事業所の指定等に係る記載事項
A3: サービス種別(申請するものに○) | E3: 機能訓練 | G3: 生活訓練 | J3: 宿泊型自立訓練を実施する場合は○
A4: 事業所 | B4: フリガナ
B5: 名 称
B6: 所在地 | C6: (郵便番号 | E6: - | G6: )
B9: 電話番号
B10: E-Mail
A11: 管理者 | B11: フリガナ | F11: 生年月日
B12: 氏 名
B13: 住 所 | C13: (郵便番号 | E13: - | G13: )
B16: 当該事業所で兼務する他の職種(兼務の場合記入)
B17: 他の事業所又は施設の従業者との兼務(兼務の場合記入) | D17: 事業所等の名称
D18: 兼務する職種及び勤務時間等
A20: サービス管理責任者 | B20: フリガナ | F20: 生年月日
B21: 氏 名
B22: 住 所 | C22: (郵便番号 | E22: - | G22: )
A25: 実施主体が地方公共団体である場合は、当該事業の実施について定めてある条例等 | H25: 第 条 第 項 第 号
A26: ○人員に関する基準の確認に必要な事項
A27: 従業者の職種・員数 | C27: 居宅介護等従業者 | E27: その他の従業者
C28: 専従 | D28: 兼務 | E28: 専従 | F28: 兼務
A29: 常勤（人）
A30: 非常勤（人）
A31: 常勤換算後の人数（人）
A32: 基準上の必要人数（人）
A33: ○運営・設備に関する基準の確認に必要な事項
A34: 訪問事業の実施 | C34: 有 | E34: 無 | F34: ○
A35: 利用定員(人)
A36: 利用者の推定数(人)
A37: 営業日(該当する日に○) | C37: 日 | D37: 月 | E37: 火 | F37: 水 | G37: 木 | H37: 金 | J37: 土 | L37: 祝
C39: その他(年末年始等)
A40: 営業時間 | C40: 平日 | E40: ： | G40: ～ | J40: ：
C41: 土曜 | E41: ： | G41: ～ | J41: ：
C42: 日・祝 | E42: ： | G42: ～ | J42: ：
A43: 利用料
A44: その他の費用
A45: 通常の事業の実施地域
A46: 協力医療機関 | C46: 名称 | G46: 診療科名
A47: ○一体的に実施する従たる事業所の指定等に係る記載事項
A48: 事業所 | B48: フリガナ
B49: 名 称
...

Sheet 付表１３（入所）
A1: 付表１３ 障害者支援施設の指定等に係る記載事項
A3: 施設 | B3: フリガナ
B4: 名 称
B5: 所在地 | C5: (郵便番号 | E5: - | G5: )
B8: 電話番号
B9: E-Mail
A10: 管理者 | B10: フリガナ | F10: 生年月日
B11: 氏 名
B12: 住 所 | C12: (郵便番号 | E12: - | G12: )
B15: 当該施設で兼務する他の職種(兼務の場合記入)
B16: 他の事業所又は施設の従業者との兼務(兼務の場合記入) | D16: 事業所等の名称
D17: 兼務する職種及び勤務時間等
A19: サービス管理責任者 | B19: フリガナ | F19: 生年月日
B20: 氏 名
B21: 住 所 | C21: (郵便番号 | E21: - | G21: )
A24: 実施主体が地方公共団体である場合は、当該事業の実施について定めてある条例等 | H24: 第 条 第 項 第 号
A25: ○人員に関する基準の確認に必要な事項
A26: 従業者の職種・員数 | C26: 居宅介護等従業者 | E26: その他の従業者
C27: 専従 | D27: 兼務 | E27: 専従 | F27: 兼務
A28: 常勤(人)
A29: 非常勤(人)
A30: 常勤換算後の人数(人)
A31: 基準上の必要人数(人)
A32: ○運営・設備に関する基準の確認に必要な事項
A33: 居室 | B33: １室の最大定員(人)
B34: 入所者１人あたりの最小床面積(㎡)
A35: 廊下 | B35: 廊下の幅(ｍ)
B36: 中廊下の幅(ｍ)
A37: 既存施設からの移行の場合 | C37: 既存施設名
C38: 施設種別
C39: 経過措置 | E39: 有 | G39: 無
C40: 特定旧法受給者数(人)
A41: 協力医療機関 | C41: 名称 | G41: 診療科名
A42: 協力歯科医療機関 | C42: 名称
A43: (就労移行支援を行う場合のみ)提携就労支援機関 | F43: 名称
A44: ○昼間実施サービス及び施設入所支援に係る記載事項
A45: 昼間実施サービスの種類 | C45: 生活介護 | D45: 自立訓練 (機能訓練) | E45: 自立訓練 (生活訓練) | F45: 就労移行支援 (一般型) | G45: 就労移行支援 (資格取得型) | H45: 就労継続支援 (Ａ型) | J45: 就労移行支援 (Ｂ型)
B46: 実施有無 | G46: -
B47: 利用者の推定数
B48: 昼間多機能の実施 | D48: 有 | F48: 無 | H48: 昼間の総定員数(人)
...

Sheet 誓約書
A1: (標準様式３)
A2: 誓 約 書
H4: 年 | J4: 月 | L4: 日
A5: 東京都 | C5: 知事 殿
A7: 申請者 | D7: （名称）
D9: （代表者の職名・氏名）
A13: 申請者が別紙のいずれにも該当しない者であることを誓約します。
C15: 別紙①： 障害福祉サービス事業者向け
C16: 別紙②： 障害者支援施設向け
C17: 別紙③： 一般相談支援事業者向け
C18: 別紙④： 特定相談支援事業者向け
C19: 別紙⑤： 障害児通所支援事業者向け
C20: 別紙⑥： 障害児入所施設向け
C21: 別紙⑦： 障害児相談支援事業者向け
B22: 注 該当する種別に○を付けてください。
A24: また、指定の更新を申請する障害福祉サービス事業等に係る別添の項目について、既に届け出た内容に変更がないことを誓約します。

Sheet 別添（誓約項目）
A1: 別添（誓約項目）
A3: 【生活介護、自立訓練、施設入所支援】
A4: (１) 申請者の定款、寄附行為等及びその登記事項証明書又は条例等
A5: (２) 事業所の平面図及び設備の概要
A6: (３) 管理者及びサービス管理責任者の氏名、生年月日、住所及び経歴
A7: (４) 運営規程
A8: (５) 利用者又はその家族からの苦情を解決するために講ずる措置の概要
A9: (６) 協力医療機関の名称及び診療科名並びに当該協力医療機関との契約の内容
A11: 【療養介護】
A12: (１) 申請者の定款、寄附行為等及びその登記事項証明書又は条例等
A13: (２) 事業所の平面図及び設備の概要
A14: (３) 管理者及びサービス管理責任者の氏名、生年月日、住所及び経歴
... A76: (５) 利用者又はその家族からの苦情を解決するために講ずる措置の概要

Sheet 別紙①
B1: （別紙①：障害福祉サービス事業者向け）
C2: 障害者の日常生活及び社会生活を総合的に支援するための法律第３６条第３項
B4: 一 | C4: 申請者が都道府県の条例で定める者でないとき。
B5: 二 | C5: 当該申請に係るサービス事業所の従業者の知識及び技能並びに人員が、第四十三条第一項の都道府県の条例で定める基準を満たしていないとき。
B6: 三 | C6: 申請者が、第四十三条第二項の都道府県の条例で定める指定障害福祉サービスの事業の設備及び運営に関する基準に従って適正な障害福祉サービス事業の運営をすることができないと認められるとき。
B7: 四 | C7: 申請者が、禁錮以上の刑に処せられ、その執行を終わり、又は執行を受けることがなくなるまでの者であるとき。
B8: 五 | C8: 申請者が、この法律その他国民の保健医療若しくは福祉に関する法律で政令で定めるものの規定により罰金の刑に処せられ、その執行を終わり、又は執行を受けることがなくなるまでの者であるとき。
B9: 五の二 | C9: 申請者が、労働に関する法律の規定であって政令で定めるものにより罰金の刑に処せられ、その執行を終わり、又は執行を受けることがなくなるまでの者であるとき。
B10: 六 | C10: 申請者が、第五十条第一項（同条第三項において準用する場合を含む。以下この項において同じ。）、第五十一条の二十九第一項若しくは第二項又は第七十六条の三第六項の規定により指定を取り消され、その取消しの日から起算して五年を経過しない者（当該指定を取り消された者が法人である場合においては、当該取消しの処分に係る行政手続法（平成五年法律第八十八号）第十五条の規定による通知があった日前六十日以内に当該法人の役員又はそのサービス事所を管理する者その他の政令で定める使用人（以下「役員等」という。）であった者で当該取消しの日から起算して五年を経過しないものを含み、当該指定を取り消された者が法人でない場合においては、当該通知があった日前六十日以内に当該者の管理者であった者で当該取消しの日から起算して五年を経過しないものを含む。）であるとき。ただし、当該指定の取消しが、指定障害福祉サービス事業者の指定の取消しのうち当該指定の取消しの処分の理由となった事実及び当該事実の発生を防止するための当該指定障害福祉サービス事業者による業務管理体制の整備についての取組の状況その他の当該事実に関して当該指定障害福祉サービス事業者が有していた責任の程度を考慮して、この号本文に規定する指定の取消しに該当しないこととすることが相当であると認められるものとして主務省令で定めるものに該当する場合を除く。
B11: 七 | C11: 申請者と密接な関係を有する者（申請者（法人に限る。以下この号において同じ。）の株式の所有その他の事由を通じて当該申請者の事業を実質的に支配し、若しくはその事業に重要な影響を与える関係にある者として主務省令で定めるもの（以下この号において「申請者の親会社等」という。）、申請者の親会社等が株式の所有その他の事由を通じてその事業を実質的に支配し、若しくはその事業に重要な影響を与える関係にある者として主務省令で定めるもの又は当該申請者が株式の所有その他の事由を通じてその事業を実質的に支配し、若しくはその事業に重要な影響を与える関係にある者として主務省令で定めるもののうち、当該申請者と主務省令で定める密接な関係を有する法人をいう。）が、第五十条第一項、第五十一条の二十九第一項若しくは第二項又は第七十六条の三第六項の規定により指定を取り消され、その取消しの日から起算して五年を経過していないとき。ただし、当該指定の取消しが、指定障害福祉サービス事業者の指定の取消しのうち当該指定の取消しの処分の理由となった事実及び当該事実の発生を防止するための当該指定障害福祉サービス事業者による業務管理体制の整備についての取組の状況その他の当該事実に関して当該指定障害福祉サービス事業者が有していた責任の程度を考慮して、この号本文に規定する指定の取消しに該当しないこととすることが相当であると認められるものとして主務省令で定めるものに該当する場合を除く。
B12: 八 | C12: 申請者が、第五十条第一項、第五十一条の二十九第一項若しくは第二項又は第七十六条の三第六項の規定による指定の取消しの処分に係る行政手続法第十五条の規定による通知があった日から当該処分をする日又は処分をしないことを決定する日までの間に第四十六条第二項又は第五十一条の二十五第二項若しくは第四項の規定による事業の廃止の届出をした者（当該事業の廃止について相当の理由がある者を除く。）で、当該届出の日から起算して五年を経過しないものであるとき。
B13: 九 | C13: 申請者が、第四十八条第一項（同条第三項において準用する場合を含む。）又は第五十一条の二十七第一項若しくは第二項の規定による検査が行われた日から聴聞決定予定日（当該検査の結果に基づき第五十条第一項又は第五十一条の二十九第一項若しくは第二項の規定による指定の取消しの処分に係る聴聞を行うか否かの決定をすることが見込まれる日として主務省令で定めるところにより都道府県知事が当該申請者に当該検査が行われた日から十日以内に特定の日を通知した場合における当該特定の日をいう。）までの間に第四十六条第二項又は第五十一条の二十五第二項若しくは第四項の規定による事業の廃止の届出をした者（当該事業の廃止について相当の理由がある者を除く。）で、当該届出の日から起算して五年を経過しないものであるとき。
B14: 十 | C14: 第八号に規定する期間内に第四十六条第二項又は第五十一条の二十五第二項若しくは第四項の規定による事業の廃止の届出があった場合において、申請者が、同号の通知の日前六十日以内に当該届出に係る法人（当該事業の廃止について相当の理由がある法人を除く。）の役員等又は当該届出に係る法人でない者（当該事業の廃止について相当の理由がある者を除く。）の管理者であった者で、当該届出の日から起算して五年を経過しないものであるとき。
B15: 十一 | C15: 申請者が、指定の申請前五年以内に障害福祉サービスに関し不正又は著しく不当な行為をした者であるとき。
... B17: 十三 | C17: 申請者が、法人でない者で、その管理者が第四号から第六号まで又は第八号から第十一号までのいずれかに該当する者であるとき。
B18: ※療養介護に係る指定の申請にあっては、第七号を除く。

Sheet 別紙②
B1: （別紙②：障害者支援施設向け）
C2: 障害者の日常生活及び社会生活を総合的に支援するための法律第３８条第３項において準用する同法第３６条第３項
B4: 一 | C4: 申請者が都道府県の条例で定める者でないとき。
B5: 二 | C5: 当該申請に係るサービス事業所の従業者の知識及び技能並びに人員が、第四十三条第一項の都道府県の条例で定める基準を満たしていないとき。
B6: 三 | C6: 申請者が、第四十三条第二項の都道府県の条例で定める指定障害福祉サービスの事業の設備及び運営に関する基準に従って適正な障害福祉サービス事業の運営をすることができないと認められるとき。
B7: 四 | C7: 申請者が、禁錮以上の刑に処せられ、その執行を終わり、又は執行を受けることがなくなるまでの者であるとき。
B8: 五 | C8: 申請者が、この法律その他国民の保健医療若しくは福祉に関する法律で政令で定めるものの規定により罰金の刑に処せられ、その執行を終わり、又は執行を受けることがなくなるまでの者であるとき。
B9: 五の二 | C9: 申請者が、労働に関する法律の規定であって政令で定めるものにより罰金の刑に処せられ、その執行を終わり、又は執行を受けることがなくなるまでの者であるとき。
B10: 六 | C10: 申請者が、第五十条第一項（同条第三項において準用する場合を含む。以下この項において同じ。）、第五十一条の二十九第一項若しくは第二項又は第七十六条の三第六項の規定により指定を取り消され、その取消しの日から起算して五年を経過しない者（当該指定を取り消された者が法人である場合においては、当該取消しの処分に係る行政手続法（平成五年法律第八十八号）第十五条の規定による通知があった日前六十日以内に当該法人の役員又はそのサービス事所を管理する者その他の政令で定める使用人（以下「役員等」という。）であった者で当該取消しの日から起算して五年を経過しないものを含み、当該指定を取り消された者が法人でない場合においては、当該通知があった日前六十日以内に当該者の管理者であった者で当該取消しの日から起算して五年を経過しないものを含む。）であるとき。ただし、当該指定の取消しが、指定障害福祉サービス事業者の指定の取消しのうち当該指定の取消しの処分の理由となった事実及び当該事実の発生を防止するための当該指定障害福祉サービス事業者による業務管理体制の整備についての取組の状況その他の当該事実に関して当該指定障害福祉サービス事業者が有していた責任の程度を考慮して、この号本文に規定する指定の取消しに該当しないこととすることが相当であると認められるものとして主務省令で定めるものに該当する場合を除く。
B11: 七 | C11: 申請者と密接な関係を有する者（申請者（法人に限る。以下この号において同じ。）の株式の所有その他の事由を通じて当該申請者の事業を実質的に支配し、若しくはその事業に重要な影響を与える関係にある者として主務省令で定めるもの（以下この号において「申請者の親会社等」という。）、申請者の親会社等が株式の所有その他の事由を通じてその事業を実質的に支配し、若しくはその事業に重要な影響を与える関係にある者として主務省令で定めるもの又は当該申請者が株式の所有その他の事由を通じてその事業を実質的に支配し、若しくはその事業に重要な影響を与える関係にある者として主務省令で定めるもののうち、当該申請者と主務省令で定める密接な関係を有する法人をいう。）が、第五十条第一項、第五十一条の二十九第一項若しくは第二項又は第七十六条の三第六項の規定により指定を取り消され、その取消しの日から起算して五年を経過していないとき。ただし、当該指定の取消しが、指定障害福祉サービス事業者の指定の取消しのうち当該指定の取消しの処分の理由となった事実及び当該事実の発生を防止するための当該指定障害福祉サービス事業者による業務管理体制の整備についての取組の状況その他の当該事実に関して当該指定障害福祉サービス事業者が有していた責任の程度を考慮して、この号本文に規定する指定の取消しに該当しないこととすることが相当であると認められるものとして主務省令で定めるものに該当する場合を除く。
B12: 八 | C12: 申請者が、第五十条第一項、第五十一条の二十九第一項若しくは第二項又は第七十六条の三第六項の規定による指定の取消しの処分に係る行政手続法第十五条の規定による通知があった日から当該処分をする日又は処分をしないことを決定する日までの間に第四十六条第二項又は第五十一条の二十五第二項若しくは第四項の規定による事業の廃止の届出をした者（当該事業の廃止について相当の理由がある者を除く。）で、当該届出の日から起算して五年を経過しないものであるとき。
B13: 九 | C13: 申請者が、第四十八条第一項（同条第三項において準用する場合を含む。）又は第五十一条の二十七第一項若しくは第二項の規定による検査が行われた日から聴聞決定予定日（当該検査の結果に基づき第五十条第一項又は第五十一条の二十九第一項若しくは第二項の規定による指定の取消しの処分に係る聴聞を行うか否かの決定をすることが見込まれる日として主務省令で定めるところにより都道府県知事が当該申請者に当該検査が行われた日から十日以内に特定の日を通知した場合における当該特定の日をいう。）までの間に第四十六条第二項又は第五十一条の二十五第二項若しくは第四項の規定による事業の廃止の届出をした者（当該事業の廃止について相当の理由がある者を除く。）で、当該届出の日から起算して五年を経過しないものであるとき。
B14: 十 | C14: 第八号に規定する期間内に第四十六条第二項又は第五十一条の二十五第二項若しくは第四項の規定による事業の廃止の届出があった場合において、申請者が、同号の通知の日前六十日以内に当該届出に係る法人（当該事業の廃止について相当の理由がある法人を除く。）の役員等又は当該届出に係る法人でない者（当該事業の廃止について相当の理由がある者を除く。）の管理者であった者で、当該届出の日から起算して五年を経過しないものであるとき。
B15: 十一 | C15: 申請者が、指定の申請前五年以内に障害福祉サービスに関し不正又は著しく不当な行為をした者であるとき。
... B17: 十三 | C17: 申請者が、法人でない者で、その管理者が第四号から第六号まで又は第八号から第十一号までのいずれかに該当する者であるとき。
B18: ※療養介護に係る指定の申請にあっては、第七号を除く。

Sheet 指定申請書 《記載例》
A1: 別紙様式第一号
A2: 指定障害福祉サービス事業所/指定障害者支援施設
A3: 指定障害児通所支援事業所/指定障害児入所施設
A4: 指定特定相談支援事業所/指定一般相談支援事業所/指定障害児相談支援事業所
E5: 指定更新 | G5: 申請書
O6: 年 | R6: 月 | U6: 日
B7: 東京都 | D7: 知事（市区村長） 殿
H8: 所在地 | K8: 東京都新宿区〇〇2-33-1
G9: 申請者 | H9: 名 称 | K9: 社会福祉法人東京介護
H10: 代表者 | K10: 代表取締役 福祉一郎
B12: 表題の事業所・施設に係る指定/指定の更新/指定の変更を受けたいので、下記のとおり、関係書類を添えて申請します。
F14: 法人番号(13桁)
A15: 申請者(設置者) | B15: フリガナ | D15: シャカイフクシホウジントウキョウカイゴ
B16: 名称 | D16: 社会福祉法人東京介護
B17: 主たる事務所の所在地 | D17: (郵便番号 | E17: 161 | F17: - | G17: 0023 | I17: ）
D18: 東京都新宿区〇〇2-33-1 △△ビル3
B20: 連絡先 | D20: 電話番号 | E20: 03-5320-1212 | H20: (内線)
D21: E-mailアドレス
B22: 法人等の種類 | D22: 社会福祉法人
B23: 代表者の職名・氏名・生年月日 | D23: 職名 | E23: 理事長 | G23: フリガナ | H23: フクシイチロウ | M23: 生年月日 | O23: 〇〇年〇月〇日
G24: 氏名 | H24: 福祉一郎
B25: 代表者の住所 | D25: (郵便番号 | E25: 161 | F25: - | G25: 0024 | I25: ）
D26: 東京都新宿区〇〇1-8-1
A28: 指定を受けようとする事業所・施設の種類 | B28: フリガナ | D28: シンジュクフクシカイ
B29: 名称 | D29: 新宿福祉会
B30: 事業所(施設)の所在地 | D30: (郵便番号 | E30: 160 | F30: - | G30: 0008 | I30: ）
D31: 東京都新宿区〇〇2-33-1 △△ビル3
B33: 多機能型事業所に係る指定の申請の場合は○
B34: 同一所在地において 行う事業等の種類 | F34: 今回の指定(更新・変更)申請をする対象事業等に○ | H34: 既に指定を受けている事業に○ | L34: 事業の開始予定年月日 | R34: 本申請書に添付して提出する様式(付表)
E35: 共生型サービスの指定を申請するものに○
B36: 指定障害福祉サービス事業所 | C36: 居宅介護 | R36: 付表１
C37: 重度訪問介護 | R37: 付表１
C38: 同行援護 | R38: 付表１
C39: 行動援護 | R39: 付表１
C40: 療養介護 | R40: 付表２
C41: 生活介護 | F41: ○ | R41: 付表３
C42: 短期入所 | R42: 付表４
C43: 重度障害者等包括支援 | R43: 付表５
C44: 自立訓練(機能訓練) | R44: 付表６
C45: 自立訓練(生活訓練) | R45: 付表６
...

Sheet 付表《記載例》
A1: 付表３ 生活介護事業所の指定等に係る記載事項
A3: 事業所 | B3: フリガナ
B4: 名 称
B5: 所在地 | C5: (郵便番号 | E5: - | G5: )
B8: 電話番号
B9: E-Mail
A10: 管理者 | B10: フリガナ | F10: 生年月日
B11: 氏 名
B12: 住 所 | C12: (郵便番号 | E12: - | G12: )
B15: 当該事業所で兼務する他の職種(兼務の場合記入)
B16: 他の事業所又は施設の従業者との兼務(兼務の場合記入) | D16: 事業所等の名称
D17: 兼務する職種及び勤務時間等
A19: サービス管理責任者 | B19: フリガナ | F19: 生年月日
B20: 氏 名
B21: 住 所 | C21: (郵便番号 | E21: - | G21: )
A24: 実施主体が地方公共団体である場合は、当該事業の実施について定めてある条例等 | H24: 第 条 第 項 第 号
A25: ○人員に関する基準の確認に必要な事項
A26: 従業者の職種・員数 | C26: 居宅介護等従業者 | E26: その他の従業者
C27: 専従 | D27: 兼務 | E27: 専従 | F27: 兼務
A28: 常勤（人）
A29: 非常勤（人）
A30: 常勤換算後の人数（人）
A31: 基準上の必要人数（人）
A32: ○運営・設備に関する基準の確認に必要な事項
A33: 利用定員(人)
A34: 利用者の推定数(人) | C34: 事業所が申告する障害支援区分の平均値
C35: サービス単位 | E35: ４未満 | G35: ４以上５未満 | J35: ５以上
C36: サービス単位１
C37: サービス単位２
C38: サービス単位３
A39: 営業日(該当する日に○) | C39: 日 | D39: 月 | E39: 火 | F39: 水 | G39: 木 | H39: 金 | J39: 土 | L39: 祝
C41: その他(年末年始等)
A42: 営業時間 | C42: 平日 | E42: ： | G42: ～ | J42: ：
C43: 土曜 | E43: ： | G43: ～ | J43: ：
C44: 日・祝 | E44: ： | G44: ～ | J44: ：
A45: 利用料
A46: その他の費用
A47: 通常の事業の実施地域
A48: 協力医療機関 | C48: 名称 | G48: 診療科名
A49: ○一体的に実施する従たる事業所の指定等に係る記載事項
...

Sheet 誓約書 《記載例》
A1: (標準様式３)
A2: 誓 約 書
H4: 年 | J4: 月 | L4: 日
A5: 東京都 | C5: 知事 殿
A7: 申請者 | D7: （名称） | E7: 〇〇
D9: （代表者の職名・氏名） | F9: 代表取締役 〇〇
A13: 申請者が別紙のいずれにも該当しない者であることを誓約します。
B15: ○ | C15: 別紙①： 障害福祉サービス事業者向け
C16: 別紙②： 障害者支援施設向け
C17: 別紙③： 一般相談支援事業者向け
C18: 別紙④： 特定相談支援事業者向け
C19: 別紙⑤： 障害児通所支援事業者向け
C20: 別紙⑥： 障害児入所施設向け
C21: 別紙⑦： 障害児相談支援事業者向け
B22: 注 該当する種別に○を付けてください。
A24: また、指定の更新を申請する障害福祉サービス事業等に係る別添の項目について、既に届け出た内容に変更がないことを誓約します。

Sheet 勤務形態一覧表（生介）
A1: 標準様式４
A2: 従業者の勤務の体制及び勤務形態一覧表 | AI2: サービス種別 | AK2: =IF([14]基本情報入力シート!L45&"("&[14]基本情報入力シート!L46&")"="","",[14]基本情報入力シート!L45&"("&[14]基本情報入力シート!L46&")") -> ()
Q3: 年 | U3: 月 | AI3: 事業所名 | AK3: =IF([14]基本情報入力シート!L49="","",[14]基本情報入力シート!L49)
AI4: (1)記載する期間 | AK4: ４週
AI5: (2)予定/実績の別 | AK5: 予定
AI6: (3)主従
AI7: (4)人員配置区分
AI8: 平均利用者数 | AK8: =AL122 -> #DIV/0!
AG9: (5)事業所における常勤の従業者が勤務すべき時間数 | AK9: 時間/週 | AM9: 時間/月
A11: No. | B11: (6)職種 | C11: (7)勤務形態 | D11: (8)資格 | E11: (9)氏名 | F11: (10) | AK11: (11)勤務時間数合計 | AL11: (12)週平均の勤務時間数 | AM11: (13)常勤換算後の人数 | AN11: (14)兼務状況 （兼務先／兼務する職務の内容）等
F12: 第１週 | M12: 第２週 | T12: 第３週 | AA12: 第４週 | AH12: 第５週
B13: ※選択肢にない職種については直接入力してください | F13: 46204 | G13: 46205 | H13: 46206 | I13: 46207 | J13: 46208 | K13: 46209 | L13: 46210 | M13: 46211 | N13: 46212 | O13: 46213 | P13: 46214 | Q13: 46215 | R13: 46216 | S13: 46217 | T13: 46218 | U13: 46219 | V13: 46220 | W13: 46221 | X13: 46222 | Y13: 46223 | Z13: 46224 | AA13: 46225 | AB13: 46226 | AC13: 46227 | AD13: 46228 | AE13: 46229 | AF13: 46230 | AG13: 46231 | AH13: 46232 | AI13: 46233 | AJ13: 46234
F14: 月 | G14: 火 | H14: 水 | I14: 木 | J14: 金 | K14: 土 | L14: 日 | M14: 月 | N14: 火 | O14: 水 | P14: 木 | Q14: 金 | R14: 土 | S14: 日 | T14: 月 | U14: 火 | V14: 水 | W14: 木 | X14: 金 | Y14: 土 | Z14: 日 | AA14: 月 | AB14: 火 | AC14: 水 | AD14: 木 | AE14: 金 | AF14: 土 | AG14: 日 | AH14: 月 | AI14: 火 | AJ14: 水
A15: 1 | AK15: =+SUM(F15:AJ15) -> 0 | AL15: =IF($AK$4="４週",AK15/4,AK15/(DAY(EOMONTH($F$13,0))/7)) -> 0 | AM15: =IF(ISBLANK($AH$9),"",ROUNDDOWN(AL15/$AH$9,1))
A16: 2 | AK16: =+SUM(F16:AJ16) -> 0 | AL16: =IF($AK$4="４週",AK16/4,AK16/(DAY(EOMONTH($F$13,0))/7)) -> 0 | AM16: =IF(ISBLANK($AH$9),"",ROUNDDOWN(AL16/$AH$9,1))
A17: 3 | AK17: =+SUM(F17:AJ17) -> 0 | AL17: =IF($AK$4="４週",AK17/4,AK17/(DAY(EOMONTH($F$13,0))/7)) -> 0 | AM17: =IF(ISBLANK($AH$9),"",ROUNDDOWN(AL17/$AH$9,1))
A18: 4 | AK18: =+SUM(F18:AJ18) -> 0 | AL18: =IF($AK$4="４週",AK18/4,AK18/(DAY(EOMONTH($F$13,0))/7)) -> 0 | AM18: =IF(ISBLANK($AH$9),"",ROUNDDOWN(AL18/$AH$9,1))
A19: 5 | AK19: =+SUM(F19:AJ19) -> 0 | AL19: =IF($AK$4="４週",AK19/4,AK19/(DAY(EOMONTH($F$13,0))/7)) -> 0 | AM19: =IF(ISBLANK($AH$9),"",ROUNDDOWN(AL19/$AH$9,1))
A20: 6 | AK20: =+SUM(F20:AJ20) -> 0 | AL20: =IF($AK$4="４週",AK20/4,AK20/(DAY(EOMONTH($F$13,0))/7)) -> 0 | AM20: =IF(ISBLANK($AH$9),"",ROUNDDOWN(AL20/$AH$9,1))
A21: 7 | AK21: =+SUM(F21:AJ21) -> 0 | AL21: =IF($AK$4="４週",AK21/4,AK21/(DAY(EOMONTH($F$13,0))/7)) -> 0 | AM21: =IF(ISBLANK($AH$9),"",ROUNDDOWN(AL21/$AH$9,1))
A22: 8 | AK22: =+SUM(F22:AJ22) -> 0 | AL22: =IF($AK$4="４週",AK22/4,AK22/(DAY(EOMONTH($F$13,0))/7)) -> 0 | AM22: =IF(ISBLANK($AH$9),"",ROUNDDOWN(AL22/$AH$9,1))
A23: 9 | AK23: =+SUM(F23:AJ23) -> 0 | AL23: =IF($AK$4="４週",AK23/4,AK23/(DAY(EOMONTH($F$13,0))/7)) -> 0 | AM23: =IF(ISBLANK($AH$9),"",ROUNDDOWN(AL23/$AH$9,1))
A24: 10 | AK24: =+SUM(F24:AJ24) -> 0 | AL24: =IF($AK$4="４週",AK24/4,AK24/(DAY(EOMONTH($F$13,0))/7)) -> 0 | AM24: =IF(ISBLANK($AH$9),"",ROUNDDOWN(AL24/$AH$9,1))
A25: 11 | AK25: =+SUM(F25:AJ25) -> 0 | AL25: =IF($AK$4="４週",AK25/4,AK25/(DAY(EOMONTH($F$13,0))/7)) -> 0 | AM25: =IF(ISBLANK($AH$9),"",ROUNDDOWN(AL25/$AH$9,1))
A26: 12 | AK26: =+SUM(F26:AJ26) -> 0 | AL26: =IF($AK$4="４週",AK26/4,AK26/(DAY(EOMONTH($F$13,0))/7)) -> 0 | AM26: =IF(ISBLANK($AH$9),"",ROUNDDOWN(AL26/$AH$9,1))
... A114: 100 | AK114: =+SUM(F114:AJ114) -> 0 | AL114: =IF($AK$4="４週",AK114/4,AK114/(DAY(EOMONTH($F$13,0))/7)) -> 0 | AM114: =IF(ISBLANK($AH$9),"",ROUNDDOWN(AL114/$AH$9,1))
A115: 合計 | F115: =+SUM(F15:F114) -> 0 | G115: =+SUM(G15:G114) -> 0 | H115: =+SUM(H15:H114) -> 0 | I115: =+SUM(I15:I114) -> 0 | J115: =+SUM(J15:J114) -> 0 | K115: =+SUM(K15:K114) -> 0 | L115: =+SUM(L15:L114) -> 0 | M115: =+SUM(M15:M114) -> 0 | ... AJ115: =+SUM(AJ15:AJ114) -> 0 | AK115: =+SUM(F115:AJ115) -> 0 | AL115: =IF($AK$4="４週",AK115/4,AK115/(DAY(EOMONTH($F$13,0))/7)) -> 0 | AM115: =SUM(AM15:AM114) -> 0
A116: サービス提供時間
A120: ＜前年度の平均値＞※新規申請の場合は推定数を記載ください。
D121: 4 | E121: 5 | F121: 6 | I121: 7 | L121: 8 | O121: 9 | R121: 10 | U121: 11 | X121: 12 | AA121: 1 | AD121: 2 | AG121: 3 | AJ121: 計 | AL121: 平均利用者数 | AM121: 平均障害支援区分
A122: 利用者延べ数計 | D122: =SUM(D123:D127) -> 0 | E122: =SUM(E123:E127) -> 0 | F122: =SUM(F123:H127) -> 0 | I122: =SUM(I123:K127) -> 0 | L122: =SUM(L123:N127) -> 0 | O122: =SUM(O123:Q127) -> 0 | R122: =SUM(R123:T127) -> 0 | U122: =SUM(U123:W127) -> 0 | X122: =SUM(X123:Z127) -> 0 | AA122: =SUM(AA123:AC127) -> 0 | AD122: =SUM(AD123:AF127) -> 0 | AG122: =SUM(AG123:AI127) -> 0 | AJ122: =SUM(D122:AI122) -> 0 | AL122: =ROUNDUP(((AJ122-AJ128-AJ129)+AJ128*0.5+AJ129*0.75)/AJ130,1) -> #DIV/0! | AM122: =ROUND((2*AJ123+3*AJ124+4*AJ125+5*AJ126+6*AJ127)/AJ122,1) -> #DIV/0!
A123: 区分２の延べ利用者数 | AJ123: =SUM(D123:AI123) -> 0
A124: 区分３の延べ利用者数 | AJ124: =SUM(D124:AI124) -> 0
A125: 区分４の延べ利用者数 | AJ125: =SUM(D125:AI125) -> 0
A126: 区分５の延べ利用者数 | AJ126: =SUM(D126:AI126) -> 0
A127: 区分６の延べ利用者数 | AJ127: =SUM(D127:AI127) -> 0
B128: 所要時間５時間未満の延べ利用者数 | AJ128: =SUM(D128:AI128) -> 0
B129: 所要時間５時間以上７時間未満の 延べ利用者数 | AJ129: =SUM(D129:AI129) -> 0
A130: 開所日数 | AJ130: =+SUM(D130:AI130) -> 0
A131: (※)利用者延べ数の内数を記載してください。所要時間は、送迎や障害特性等による配慮事項を含む、個別支援計画に位置付けられた標準的な時間を指します。
...

Sheet 勤務形態一覧表（機訓）
A1: 従業者の勤務の体制及び勤務形態一覧表 | AI1: サービス種別 | AK1: =IF([15]基本情報入力シート!L45&"("&[15]基本情報入力シート!L46&")"="","",[15]基本情報入力シート!L45&"("&[15]基本情報入力シート!L46&")") -> ()
Q2: 年 | U2: 月 | AI2: 事業所名 | AK2: =IF([15]基本情報入力シート!L49="","",[15]基本情報入力シート!L49)
AI3: (1)記載する期間 | AK3: ４週
AI4: (2)予定/実績の別 | AK4: 予定
AI5: (3)主従
AI6: 平均利用者数 | AK6: =AL40 -> #DIV/0!
AG7: (4)事業所における常勤の従業者が勤務すべき時間数 | AK7: 時間/週 | AM7: 時間/月
A9: No. | B9: (5)職種 | C9: (6)勤務形態 | D9: (7)資格 | E9: (8)氏名 | F9: (9) | AK9: (10)勤務時間数合計 | AL9: (11)週平均の勤務時間数 | AM9: (12)常勤換算後の人数 | AN9: (13)兼務状況 （兼務先／兼務する職務の内容）等
F10: 第１週 | M10: 第２週 | T10: 第３週 | AA10: 第４週 | AH10: 第５週
B11: ※選択肢にない職種については直接入力してください | F11: 45474 | G11: 45475 | H11: 45476 | I11: 45477 | J11: 45478 | K11: 45479 | L11: 45480 | M11: 45481 | N11: 45482 | O11: 45483 | P11: 45484 | Q11: 45485 | R11: 45486 | S11: 45487 | T11: 45488 | U11: 45489 | V11: 45490 | W11: 45491 | X11: 45492 | Y11: 45493 | Z11: 45494 | AA11: 45495 | AB11: 45496 | AC11: 45497 | AD11: 45498 | AE11: 45499 | AF11: 45500 | AG11: 45501 | AH11: 45502 | AI11: 45503 | AJ11: 45504
F12: 月 | G12: 火 | H12: 水 | I12: 木 | J12: 金 | K12: 土 | L12: 日 | M12: 月 | N12: 火 | O12: 水 | P12: 木 | Q12: 金 | R12: 土 | S12: 日 | T12: 月 | U12: 火 | V12: 水 | W12: 木 | X12: 金 | Y12: 土 | Z12: 日 | AA12: 月 | AB12: 火 | AC12: 水 | AD12: 木 | AE12: 金 | AF12: 土 | AG12: 日 | AH12: 月 | AI12: 火 | AJ12: 水
A13: 1 | AK13: =+SUM(F13:AJ13) -> 0 | AL13: =IF($AK$3="４週",AK13/4,AK13/(DAY(EOMONTH($F$11,0))/7)) -> 0 | AM13: =IF(ISBLANK($AH$7),"",ROUNDDOWN(AL13/$AH$7,1))
A14: 2 | AK14: =+SUM(F14:AJ14) -> 0 | AL14: =IF($AK$3="４週",AK14/4,AK14/(DAY(EOMONTH($F$11,0))/7)) -> 0 | AM14: =IF(ISBLANK($AH$7),"",ROUNDDOWN(AL14/$AH$7,1))
A15: 3 | AK15: =+SUM(F15:AJ15) -> 0 | AL15: =IF($AK$3="４週",AK15/4,AK15/(DAY(EOMONTH($F$11,0))/7)) -> 0 | AM15: =IF(ISBLANK($AH$7),"",ROUNDDOWN(AL15/$AH$7,1))
A16: 4 | AK16: =+SUM(F16:AJ16) -> 0 | AL16: =IF($AK$3="４週",AK16/4,AK16/(DAY(EOMONTH($F$11,0))/7)) -> 0 | AM16: =IF(ISBLANK($AH$7),"",ROUNDDOWN(AL16/$AH$7,1))
A17: 5 | AK17: =+SUM(F17:AJ17) -> 0 | AL17: =IF($AK$3="４週",AK17/4,AK17/(DAY(EOMONTH($F$11,0))/7)) -> 0 | AM17: =IF(ISBLANK($AH$7),"",ROUNDDOWN(AL17/$AH$7,1))
A18: 6 | AK18: =+SUM(F18:AJ18) -> 0 | AL18: =IF($AK$3="４週",AK18/4,AK18/(DAY(EOMONTH($F$11,0))/7)) -> 0 | AM18: =IF(ISBLANK($AH$7),"",ROUNDDOWN(AL18/$AH$7,1))
A19: 7 | AK19: =+SUM(F19:AJ19) -> 0 | AL19: =IF($AK$3="４週",AK19/4,AK19/(DAY(EOMONTH($F$11,0))/7)) -> 0 | AM19: =IF(ISBLANK($AH$7),"",ROUNDDOWN(AL19/$AH$7,1))
A20: 8 | AK20: =+SUM(F20:AJ20) -> 0 | AL20: =IF($AK$3="４週",AK20/4,AK20/(DAY(EOMONTH($F$11,0))/7)) -> 0 | AM20: =IF(ISBLANK($AH$7),"",ROUNDDOWN(AL20/$AH$7,1))
A21: 9 | AK21: =+SUM(F21:AJ21) -> 0 | AL21: =IF($AK$3="４週",AK21/4,AK21/(DAY(EOMONTH($F$11,0))/7)) -> 0 | AM21: =IF(ISBLANK($AH$7),"",ROUNDDOWN(AL21/$AH$7,1))
A22: 10 | AK22: =+SUM(F22:AJ22) -> 0 | AL22: =IF($AK$3="４週",AK22/4,AK22/(DAY(EOMONTH($F$11,0))/7)) -> 0 | AM22: =IF(ISBLANK($AH$7),"",ROUNDDOWN(AL22/$AH$7,1))
A23: 11 | AK23: =+SUM(F23:AJ23) -> 0 | AL23: =IF($AK$3="４週",AK23/4,AK23/(DAY(EOMONTH($F$11,0))/7)) -> 0 | AM23: =IF(ISBLANK($AH$7),"",ROUNDDOWN(AL23/$AH$7,1))
A24: 12 | AK24: =+SUM(F24:AJ24) -> 0 | AL24: =IF($AK$3="４週",AK24/4,AK24/(DAY(EOMONTH($F$11,0))/7)) -> 0 | AM24: =IF(ISBLANK($AH$7),"",ROUNDDOWN(AL24/$AH$7,1))
... A32: 20 | AK32: =+SUM(F32:AJ32) -> 0 | AL32: =IF($AK$3="４週",AK32/4,AK32/(DAY(EOMONTH($F$11,0))/7)) -> 0 | AM32: =IF(ISBLANK($AH$7),"",ROUNDDOWN(AL32/$AH$7,1))
A33: 合計 | F33: =+SUM(F13:F32) -> 0 | G33: =+SUM(G13:G32) -> 0 | H33: =+SUM(H13:H32) -> 0 | I33: =+SUM(I13:I32) -> 0 | J33: =+SUM(J13:J32) -> 0 | K33: =+SUM(K13:K32) -> 0 | L33: =+SUM(L13:L32) -> 0 | M33: =+SUM(M13:M32) -> 0 | ... AJ33: =+SUM(AJ13:AJ32) -> 0 | AK33: =+SUM(F33:AJ33) -> 0 | AL33: =IF($AK$3="４週",AK33/4,AK33/(DAY(EOMONTH($F$11,0))/7)) -> 0 | AM33: =SUM(AM13:AM31) -> 0
A34: サービス提供時間
A38: ＜前年度の平均値＞※新規申請の場合は推定数を記載ください。
D39: 4 | E39: 5 | F39: 6 | I39: 7 | L39: 8 | O39: 9 | R39: 10 | U39: 11 | X39: 12 | AA39: 1 | AD39: 2 | AG39: 3 | AJ39: 計 | AL39: 平均利用者数
A40: 利用者延べ数 | AJ40: =SUM(D40:AI40) -> 0 | AL40: =ROUNDUP(AJ40/AJ41,1) -> #DIV/0!
A41: 開所日数 | AJ41: =+SUM(D41:AI41) -> 0
A42: (※)5月の延べ利用者数を他の月にコピーしようとすると、数値にエラーが生じますのでお控えください。
A44: ＜人員に関する基準＞
A45: 区分 | C45: サービス管理責任者 | E45: 看護職員、理学療法士、作業療法士又は言語聴覚士及び生活支援員
A46: 必要な配置数 | C46: =ROUNDDOWN(IF(AL40<=60,1,1+ROUNDUP((AL40-60)/40,0)),1) -> #DIV/0! | E46: =ROUNDDOWN(AL40/6,1) -> #DIV/0!
A48: ＜人員基準に関する実人数集計＞
C49: 管理者 | E49: サービス管理責任者 | I49: 看護職員 | O49: 理学療法士 | U49: 作業療法士 | AA49: 言語聴覚士 | AG49: 生活支援員
C50: 専従 | D50: 兼務 | E50: 専従 | F50: 兼務 | I50: 専従 | L50: 兼務 | O50: 専従 | R50: 兼務 | U50: 専従 | X50: 兼務 | AA50: 専従 | AD50: 兼務 | AG50: 専従 | AJ50: 兼務
B51: 常勤 | C51: =COUNTIFS($B$13:$B$32,C$49,$C$13:$C$32,"A（常勤専従）",$E$13:$E$32,"*") -> 0 | D51: =COUNTIFS($B$13:$B$32,C$49,$C$13:$C$32,"B（常勤兼務）",$E$13:$E$32,"*") -> 0 | E51: =COUNTIFS($B$13:$B$32,E$49,$C$13:$C$32,"A（常勤専従）",$E$13:$E$32,"*") -> 0 | F51: =COUNTIFS($B$13:$B$32,E$49,$C$13:$C$32,"B（常勤兼務）",$E$13:$E$32,"*") -> 0 | I51: =COUNTIFS($B$13:$B$32,I$49,$C$13:$C$32,"A（常勤専従）",$E$13:$E$32,"*") -> 0 | L51: =COUNTIFS($B$13:$B$32,I$49,$C$13:$C$32,"B（常勤兼務）",$E$13:$E$32,"*") -> 0 | O51: =COUNTIFS($B$13:$B$32,O$49,$C$13:$C$32,"A（常勤専従）",$E$13:$E$32,"*") -> 0 | R51: =COUNTIFS($B$13:$B$32,O$49,$C$13:$C$32,"B（常勤兼務）",$E$13:$E$32,"*") -> 0 | U51: =COUNTIFS($B$13:$B$32,U$49,$C$13:$C$32,"A（常勤専従）",$E$13:$E$32,"*") -> 0 | X51: =COUNTIFS($B$13:$B$32,U$49,$C$13:$C$32,"B（常勤兼務）",$E$13:$E$32,"*") -> 0 | AA51: =COUNTIFS($B$13:$B$32,AA$49,$C$13:$C$32,"A（常勤専従）",$E$13:$E$32,"*") -> 0 | AD51: =COUNTIFS($B$13:$B$32,AA$49,$C$13:$C$32,"B（常勤兼務）",$E$13:$E$32,"*") -> 0 | AG51: =COUNTIFS($B$13:$B$32,AG$49,$C$13:$C$32,"A（常勤専従）",$E$13:$E$32,"*") -> 0 | AJ51: =COUNTIFS($B$13:$B$32,AG$49,$C$13:$C$32,"B（常勤兼務）",$E$13:$E$32,"*") -> 0
B52: 非常勤 | C52: =COUNTIFS($B$13:$B$32,C$49,$C$13:$C$32,"C（非常勤専従）",$E$13:$E$32,"*") -> 0 | D52: =COUNTIFS($B$13:$B$32,C$49,$C$13:$C$32,"D（非常勤兼務）",$E$13:$E$32,"*") -> 0 | E52: =COUNTIFS($B$13:$B$32,E$49,$C$13:$C$32,"C（非常勤専従）",$E$13:$E$32,"*") -> 0 | F52: =COUNTIFS($B$13:$B$32,E$49,$C$13:$C$32,"D（非常勤兼務）",$E$13:$E$32,"*") -> 0 | I52: =COUNTIFS($B$13:$B$32,I$49,$C$13:$C$32,"C（非常勤専従）",$E$13:$E$32,"*") -> 0 | L52: =COUNTIFS($B$13:$B$32,I$49,$C$13:$C$32,"D（非常勤兼務）",$E$13:$E$32,"*") -> 0 | O52: =COUNTIFS($B$13:$B$32,O$49,$C$13:$C$32,"C（非常勤専従）",$E$13:$E$32,"*") -> 0 | R52: =COUNTIFS($B$13:$B$32,O$49,$C$13:$C$32,"D（非常勤兼務）",$E$13:$E$32,"*") -> 0 | U52: =COUNTIFS($B$13:$B$32,U$49,$C$13:$C$32,"C（非常勤専従）",$E$13:$E$32,"*") -> 0 | X52: =COUNTIFS($B$13:$B$32,U$49,$C$13:$C$32,"D（非常勤兼務）",$E$13:$E$32,"*") -> 0 | AA52: =COUNTIFS($B$13:$B$32,AA$49,$C$13:$C$32,"C（非常勤専従）",$E$13:$E$32,"*") -> 0 | AD52: =COUNTIFS($B$13:$B$32,AA$49,$C$13:$C$32,"D（非常勤兼務）",$E$13:$E$32,"*") -> 0 | AG52: =COUNTIFS($B$13:$B$32,AG$49,$C$13:$C$32,"C（非常勤専従）",$E$13:$E$32,"*") -> 0 | AJ52: =COUNTIFS($B$13:$B$32,AG$49,$C$13:$C$32,"D（非常勤兼務）",$E$13:$E$32,"*") -> 0
B53: 常勤換算数 | C53: =IF($AK$3="４週",SUMIFS($AK$13:$AK$32,$B$13:$B$32,C49)/4/$AH$7,IF($AK$3="歴月",SUMIFS($AK$13:$AK$32,$B$13:$B$32,C49)/$AL$7,"記載する期間を選択してください")) -> #DIV/0! | E53: =IF($AK$3="４週",SUMIFS($AK$13:$AK$32,$B$13:$B$32,E49)/4/$AH$7,IF($AK$3="歴月",SUMIFS($AK$13:$AK$32,$B$13:$B$32,E49)/$AL$7,"記載する期間を選択してください")) -> #DIV/0! | I53: =IF($AK$3="４週",SUMIFS($AK$13:$AK$32,$B$13:$B$32,I49)/4/$AH$7,IF($AK$3="歴月",SUMIFS($AK$13:$AK$32,$B$13:$B$32,I49)/$AL$7,"記載する期間を選択してください")) -> #DIV/0! | O53: =IF($AK$3="４週",SUMIFS($AK$13:$AK$32,$B$13:$B$32,O49)/4/$AH$7,IF($AK$3="歴月",SUMIFS($AK$13:$AK$32,$B$13:$B$32,O49)/$AL$7,"記載する期間を選択してください")) -> #DIV/0! | U53: =IF($AK$3="４週",SUMIFS($AK$13:$AK$32,$B$13:$B$32,U49)/4/$AH$7,IF($AK$3="歴月",SUMIFS($AK$13:$AK$32,$B$13:$B$32,U49)/$AL$7,"記載する期間を選択してください")) -> #DIV/0! | AA53: =IF($AK$3="４週",SUMIFS($AK$13:$AK$32,$B$13:$B$32,AA49)/4/$AH$7,IF($AK$3="歴月",SUMIFS($AK$13:$AK$32,$B$13:$B$32,AA49)/$AL$7,"記載する期間を選択してください")) -> #DIV/0! | AG53: =IF($AK$3="４週",SUMIFS($AK$13:$AK$32,$B$13:$B$32,AG49)/4/$AH$7,IF($AK$3="歴月",SUMIFS($AK$13:$AK$32,$B$13:$B$32,AG49)/$AL$7,"記載する期間を選択してください")) -> #DIV/0!
...

Sheet 勤務形態一覧表（生訓）
A1: 従業者の勤務の体制及び勤務形態一覧表 | AI1: サービス種別 | AK1: =IF([15]基本情報入力シート!L45&"("&[15]基本情報入力シート!L46&")"="","",[15]基本情報入力シート!L45&"("&[15]基本情報入力シート!L46&")") -> ()
Q2: 年 | U2: 月 | AI2: 事業所名 | AK2: =IF([15]基本情報入力シート!L49="","",[15]基本情報入力シート!L49)
AI3: (1)記載する期間 | AK3: ４週
AI4: (2)予定/実績の別 | AK4: 予定
AI5: (3)主従
AI6: 平均利用者数 | AK6: =AL40 -> #DIV/0!
AG7: (4)事業所における常勤の従業者が勤務すべき時間数 | AK7: 時間/週 | AM7: 時間/月
A9: No. | B9: (5)職種 | C9: (6)勤務形態 | D9: (7)資格 | E9: (8)氏名 | F9: (9) | AK9: (10)勤務時間数合計 | AL9: (11)週平均の勤務時間数 | AM9: (12)常勤換算後の人数 | AN9: (13)兼務状況 （兼務先／兼務する職務の内容）等
F10: 第１週 | M10: 第２週 | T10: 第３週 | AA10: 第４週 | AH10: 第５週
B11: ※選択肢にない職種については直接入力してください | F11: 45474 | G11: 45475 | H11: 45476 | I11: 45477 | J11: 45478 | K11: 45479 | L11: 45480 | M11: 45481 | N11: 45482 | O11: 45483 | P11: 45484 | Q11: 45485 | R11: 45486 | S11: 45487 | T11: 45488 | U11: 45489 | V11: 45490 | W11: 45491 | X11: 45492 | Y11: 45493 | Z11: 45494 | AA11: 45495 | AB11: 45496 | AC11: 45497 | AD11: 45498 | AE11: 45499 | AF11: 45500 | AG11: 45501 | AH11: 45502 | AI11: 45503 | AJ11: 45504
F12: 月 | G12: 火 | H12: 水 | I12: 木 | J12: 金 | K12: 土 | L12: 日 | M12: 月 | N12: 火 | O12: 水 | P12: 木 | Q12: 金 | R12: 土 | S12: 日 | T12: 月 | U12: 火 | V12: 水 | W12: 木 | X12: 金 | Y12: 土 | Z12: 日 | AA12: 月 | AB12: 火 | AC12: 水 | AD12: 木 | AE12: 金 | AF12: 土 | AG12: 日 | AH12: 月 | AI12: 火 | AJ12: 水
A13: 1 | AK13: =+SUM(F13:AJ13) -> 0 | AL13: =IF($AK$3="４週",AK13/4,AK13/(DAY(EOMONTH($F$11,0))/7)) -> 0 | AM13: =IF(ISBLANK($AH$7),"",ROUNDDOWN(AL13/$AH$7,1))
A14: 2 | AK14: =+SUM(F14:AJ14) -> 0 | AL14: =IF($AK$3="４週",AK14/4,AK14/(DAY(EOMONTH($F$11,0))/7)) -> 0 | AM14: =IF(ISBLANK($AH$7),"",ROUNDDOWN(AL14/$AH$7,1))
A15: 3 | AK15: =+SUM(F15:AJ15) -> 0 | AL15: =IF($AK$3="４週",AK15/4,AK15/(DAY(EOMONTH($F$11,0))/7)) -> 0 | AM15: =IF(ISBLANK($AH$7),"",ROUNDDOWN(AL15/$AH$7,1))
A16: 4 | AK16: =+SUM(F16:AJ16) -> 0 | AL16: =IF($AK$3="４週",AK16/4,AK16/(DAY(EOMONTH($F$11,0))/7)) -> 0 | AM16: =IF(ISBLANK($AH$7),"",ROUNDDOWN(AL16/$AH$7,1))
A17: 5 | AK17: =+SUM(F17:AJ17) -> 0 | AL17: =IF($AK$3="４週",AK17/4,AK17/(DAY(EOMONTH($F$11,0))/7)) -> 0 | AM17: =IF(ISBLANK($AH$7),"",ROUNDDOWN(AL17/$AH$7,1))
A18: 6 | AK18: =+SUM(F18:AJ18) -> 0 | AL18: =IF($AK$3="４週",AK18/4,AK18/(DAY(EOMONTH($F$11,0))/7)) -> 0 | AM18: =IF(ISBLANK($AH$7),"",ROUNDDOWN(AL18/$AH$7,1))
A19: 7 | AK19: =+SUM(F19:AJ19) -> 0 | AL19: =IF($AK$3="４週",AK19/4,AK19/(DAY(EOMONTH($F$11,0))/7)) -> 0 | AM19: =IF(ISBLANK($AH$7),"",ROUNDDOWN(AL19/$AH$7,1))
A20: 8 | AK20: =+SUM(F20:AJ20) -> 0 | AL20: =IF($AK$3="４週",AK20/4,AK20/(DAY(EOMONTH($F$11,0))/7)) -> 0 | AM20: =IF(ISBLANK($AH$7),"",ROUNDDOWN(AL20/$AH$7,1))
A21: 9 | AK21: =+SUM(F21:AJ21) -> 0 | AL21: =IF($AK$3="４週",AK21/4,AK21/(DAY(EOMONTH($F$11,0))/7)) -> 0 | AM21: =IF(ISBLANK($AH$7),"",ROUNDDOWN(AL21/$AH$7,1))
A22: 10 | AK22: =+SUM(F22:AJ22) -> 0 | AL22: =IF($AK$3="４週",AK22/4,AK22/(DAY(EOMONTH($F$11,0))/7)) -> 0 | AM22: =IF(ISBLANK($AH$7),"",ROUNDDOWN(AL22/$AH$7,1))
A23: 11 | AK23: =+SUM(F23:AJ23) -> 0 | AL23: =IF($AK$3="４週",AK23/4,AK23/(DAY(EOMONTH($F$11,0))/7)) -> 0 | AM23: =IF(ISBLANK($AH$7),"",ROUNDDOWN(AL23/$AH$7,1))
A24: 12 | AK24: =+SUM(F24:AJ24) -> 0 | AL24: =IF($AK$3="４週",AK24/4,AK24/(DAY(EOMONTH($F$11,0))/7)) -> 0 | AM24: =IF(ISBLANK($AH$7),"",ROUNDDOWN(AL24/$AH$7,1))
... A32: 20 | AK32: =+SUM(F32:AJ32) -> 0 | AL32: =IF($AK$3="４週",AK32/4,AK32/(DAY(EOMONTH($F$11,0))/7)) -> 0 | AM32: =IF(ISBLANK($AH$7),"",ROUNDDOWN(AL32/$AH$7,1))
A33: 合計 | F33: =+SUM(F13:F32) -> 0 | G33: =+SUM(G13:G32) -> 0 | H33: =+SUM(H13:H32) -> 0 | I33: =+SUM(I13:I32) -> 0 | J33: =+SUM(J13:J32) -> 0 | K33: =+SUM(K13:K32) -> 0 | L33: =+SUM(L13:L32) -> 0 | M33: =+SUM(M13:M32) -> 0 | ... AJ33: =+SUM(AJ13:AJ32) -> 0 | AK33: =+SUM(F33:AJ33) -> 0 | AL33: =IF($AK$3="４週",AK33/4,AK33/(DAY(EOMONTH($F$11,0))/7)) -> 0 | AM33: =SUM(AM13:AM32) -> 0
A34: サービス提供時間
A38: ＜前年度の平均値＞※新規申請の場合は推定数を記載ください。
D39: 4 | E39: 5 | F39: 6 | I39: 7 | L39: 8 | O39: 9 | R39: 10 | U39: 11 | X39: 12 | AA39: 1 | AD39: 2 | AG39: 3 | AJ39: 計 | AL39: 平均利用者数
A40: 利用者延べ数 | D40: =SUM(D41:D42) -> 0 | E40: =SUM(E41:E42) -> 0 | F40: =SUM(F41:H42) -> 0 | I40: =SUM(I41:K42) -> 0 | L40: =SUM(L41:N42) -> 0 | O40: =SUM(O41:Q42) -> 0 | R40: =SUM(R41:T42) -> 0 | U40: =SUM(U41:W42) -> 0 | X40: =SUM(X41:Z42) -> 0 | AA40: =SUM(AA41:AC42) -> 0 | AD40: =SUM(AD41:AF42) -> 0 | AG40: =SUM(AG41:AI42) -> 0 | AJ40: =SUM(D40:AI40) -> 0 | AL40: =ROUNDUP(AJ40/AJ43,1) -> #DIV/0!
A41: 宿泊型自立訓練以外の 利用者 | AJ41: =SUM(D41:AI41) -> 0 | AL41: =ROUNDUP(AJ41/AJ43,1) -> #DIV/0!
A42: 宿泊型自立訓練の利用者 | AJ42: =SUM(D42:AI42) -> 0 | AL42: =ROUNDUP(AJ42/AJ43,1) -> #DIV/0!
A43: 開所日数 | AJ43: =+SUM(D43:AI43) -> 0
A44: (※)5月の延べ利用者数を他の月にコピーしようとすると、数値にエラーが生じますのでお控えください。
A46: ＜人員に関する基準＞
A47: 区分 | C47: サービス管理責任者 | E47: 生活支援員
A48: 必要な配置数 | C48: =ROUNDDOWN(IF(AL40<=60,1,1+ROUNDUP((AL40-60)/40,0)),1) -> #DIV/0! | E48: =ROUNDDOWN(AL41/6+AL42/10,1) -> #DIV/0!
A50: ＜人員基準に関する実人数集計＞
C51: 管理者 | E51: サービス管理責任者 | I51: 地域移行支援員 | O51: 生活支援員
C52: 専従 | D52: 兼務 | E52: 専従 | F52: 兼務 | I52: 専従 | L52: 兼務 | O52: 専従 | R52: 兼務
B53: 常勤 | C53: =COUNTIFS($B$13:$B$32,C$51,$C$13:$C$32,"A（常勤専従）",$E$13:$E$32,"*") -> 0 | D53: =COUNTIFS($B$13:$B$32,C$51,$C$13:$C$32,"B（常勤兼務）",$E$13:$E$32,"*") -> 0 | E53: =COUNTIFS($B$13:$B$32,E$51,$C$13:$C$32,"A（常勤専従）",$E$13:$E$32,"*") -> 0 | F53: =COUNTIFS($B$13:$B$32,E$51,$C$13:$C$32,"B（常勤兼務）",$E$13:$E$32,"*") -> 0 | I53: =COUNTIFS($B$13:$B$32,I$51,$C$13:$C$32,"A（常勤専従）",$E$13:$E$32,"*") -> 0 | L53: =COUNTIFS($B$13:$B$32,I$51,$C$13:$C$32,"B（常勤兼務）",$E$13:$E$32,"*") -> 0 | O53: =COUNTIFS($B$13:$B$32,O$51,$C$13:$C$32,"A（常勤専従）",$E$13:$E$32,"*") -> 0 | R53: =COUNTIFS($B$13:$B$32,O$51,$C$13:$C$32,"B（常勤兼務）",$E$13:$E$32,"*") -> 0
...

Sheet 勤務形態一覧表（入所）
A1: 標準様式４
A2: 従業者の勤務の体制及び勤務形態一覧表 | AI2: サービス種別 | AK2: =IF([16]基本情報入力シート!L66&"("&[16]基本情報入力シート!L67&")"="","",[16]基本情報入力シート!L66&"("&[16]基本情報入力シート!L67&")") -> 施設入所支援(障害者支援施設)
Q3: 年 | U3: 月 | AI3: 事業所名 | AK3: =IF([16]基本情報入力シート!L70="","",[16]基本情報入力シート!L70)
AI4: (1)記載する期間 | AK4: ４週
AI5: (2)予定/実績の別 | AK5: 予定
AI6: (3)人員配置区分
AI7: 平均利用者数 | AK7: =AL126 -> #DIV/0!
AG8: (4)事業所における常勤の従業者が勤務すべき時間数 | AK8: 時間/週 | AM8: 時間/月
A10: No. | B10: (5)職種 | C10: (6)勤務形態 | D10: (7)資格 | E10: (8)氏名 | F10: (9) | AK10: (10)勤務時間数合計 | AL10: (11)週平均の勤務時間数 | AM10: (12)常勤換算後の人数 | AN10: (13)兼務状況 （兼務先／兼務する職務の内容）等
F11: 第１週 | M11: 第２週 | T11: 第３週 | AA11: 第４週 | AH11: 第５週
B12: ※選択肢にない職種については直接入力してください | F12: 45474 | G12: 45475 | H12: 45476 | I12: 45477 | J12: 45478 | K12: 45479 | L12: 45480 | M12: 45481 | N12: 45482 | O12: 45483 | P12: 45484 | Q12: 45485 | R12: 45486 | S12: 45487 | T12: 45488 | U12: 45489 | V12: 45490 | W12: 45491 | X12: 45492 | Y12: 45493 | Z12: 45494 | AA12: 45495 | AB12: 45496 | AC12: 45497 | AD12: 45498 | AE12: 45499 | AF12: 45500 | AG12: 45501 | AH12: 45502 | AI12: 45503 | AJ12: 45504
F13: 月 | G13: 火 | H13: 水 | I13: 木 | J13: 金 | K13: 土 | L13: 日 | M13: 月 | N13: 火 | O13: 水 | P13: 木 | Q13: 金 | R13: 土 | S13: 日 | T13: 月 | U13: 火 | V13: 水 | W13: 木 | X13: 金 | Y13: 土 | Z13: 日 | AA13: 月 | AB13: 火 | AC13: 水 | AD13: 木 | AE13: 金 | AF13: 土 | AG13: 日 | AH13: 月 | AI13: 火 | AJ13: 水
A14: 1 | AK14: =+SUM(F14:AJ14) -> 0 | AL14: =IF($AK$4="４週",AK14/4,AK14/(DAY(EOMONTH($F$12,0))/7)) -> 0 | AM14: =IF(ISBLANK($AH$8),"",ROUNDDOWN(AL14/$AH$8,1))
A15: 2 | AK15: =+SUM(F15:AJ15) -> 0 | AL15: =IF($AK$4="４週",AK15/4,AK15/(DAY(EOMONTH($F$12,0))/7)) -> 0 | AM15: =IF(ISBLANK($AH$8),"",ROUNDDOWN(AL15/$AH$8,1))
A16: 3 | AK16: =+SUM(F16:AJ16) -> 0 | AL16: =IF($AK$4="４週",AK16/4,AK16/(DAY(EOMONTH($F$12,0))/7)) -> 0 | AM16: =IF(ISBLANK($AH$8),"",ROUNDDOWN(AL16/$AH$8,1))
A17: 4 | AK17: =+SUM(F17:AJ17) -> 0 | AL17: =IF($AK$4="４週",AK17/4,AK17/(DAY(EOMONTH($F$12,0))/7)) -> 0 | AM17: =IF(ISBLANK($AH$8),"",ROUNDDOWN(AL17/$AH$8,1))
A18: 5 | AK18: =+SUM(F18:AJ18) -> 0 | AL18: =IF($AK$4="４週",AK18/4,AK18/(DAY(EOMONTH($F$12,0))/7)) -> 0 | AM18: =IF(ISBLANK($AH$8),"",ROUNDDOWN(AL18/$AH$8,1))
A19: 6 | AK19: =+SUM(F19:AJ19) -> 0 | AL19: =IF($AK$4="４週",AK19/4,AK19/(DAY(EOMONTH($F$12,0))/7)) -> 0 | AM19: =IF(ISBLANK($AH$8),"",ROUNDDOWN(AL19/$AH$8,1))
A20: 7 | AK20: =+SUM(F20:AJ20) -> 0 | AL20: =IF($AK$4="４週",AK20/4,AK20/(DAY(EOMONTH($F$12,0))/7)) -> 0 | AM20: =IF(ISBLANK($AH$8),"",ROUNDDOWN(AL20/$AH$8,1))
A21: 8 | AK21: =+SUM(F21:AJ21) -> 0 | AL21: =IF($AK$4="４週",AK21/4,AK21/(DAY(EOMONTH($F$12,0))/7)) -> 0 | AM21: =IF(ISBLANK($AH$8),"",ROUNDDOWN(AL21/$AH$8,1))
A22: 9 | AK22: =+SUM(F22:AJ22) -> 0 | AL22: =IF($AK$4="４週",AK22/4,AK22/(DAY(EOMONTH($F$12,0))/7)) -> 0 | AM22: =IF(ISBLANK($AH$8),"",ROUNDDOWN(AL22/$AH$8,1))
A23: 10 | AK23: =+SUM(F23:AJ23) -> 0 | AL23: =IF($AK$4="４週",AK23/4,AK23/(DAY(EOMONTH($F$12,0))/7)) -> 0 | AM23: =IF(ISBLANK($AH$8),"",ROUNDDOWN(AL23/$AH$8,1))
A24: 11 | AK24: =+SUM(F24:AJ24) -> 0 | AL24: =IF($AK$4="４週",AK24/4,AK24/(DAY(EOMONTH($F$12,0))/7)) -> 0 | AM24: =IF(ISBLANK($AH$8),"",ROUNDDOWN(AL24/$AH$8,1))
A25: 12 | AK25: =+SUM(F25:AJ25) -> 0 | AL25: =IF($AK$4="４週",AK25/4,AK25/(DAY(EOMONTH($F$12,0))/7)) -> 0 | AM25: =IF(ISBLANK($AH$8),"",ROUNDDOWN(AL25/$AH$8,1))
... A113: 100 | AK113: =+SUM(F113:AJ113) -> 0 | AL113: =IF($AK$4="４週",AK113/4,AK113/(DAY(EOMONTH($F$12,0))/7)) -> 0 | AM113: =IF(ISBLANK($AH$8),"",ROUNDDOWN(AL113/$AH$8,1))
A114: 合計 | F114: =+SUM(F14:F33) -> 0 | G114: =+SUM(G14:G33) -> 0 | H114: =+SUM(H14:H33) -> 0 | I114: =+SUM(I14:I33) -> 0 | J114: =+SUM(J14:J33) -> 0 | K114: =+SUM(K14:K33) -> 0 | L114: =+SUM(L14:L33) -> 0 | M114: =+SUM(M14:M33) -> 0 | ... AJ114: =+SUM(AJ14:AJ33) -> 0 | AK114: =+SUM(F114:AJ114) -> 0 | AL114: =IF($AK$4="４週",AK114/4,AK114/(DAY(EOMONTH($F$12,0))/7)) -> 0 | AM114: =SUM(AM14:AM113) -> 0
A115: サービス提供時間
A119: ＜実施する昼間サービス＞※実施するものに「○」を選択してください。
B120: サービス類型 | D120: 生活介護 | F120: 自立訓練（機能訓練） | L120: 自立訓練（生活訓練） | R120: 就労移行支援 | X120: 就労継続支援A型 | AD120: 就労継続支援B型
B121: 実施の有無 | D121: =IF([16]基本情報入力シート!L48="","",[16]基本情報入力シート!L48) | F121: =IF([16]基本情報入力シート!L51="","",[16]基本情報入力シート!L51) | L121: =IF([16]基本情報入力シート!L54="","",[16]基本情報入力シート!L54) | R121: =IF([16]基本情報入力シート!L57="","",[16]基本情報入力シート!L57) | X121: =IF([16]基本情報入力シート!L60="","",[16]基本情報入力シート!L60) | AD121: =IF([16]基本情報入力シート!L63="","",[16]基本情報入力シート!L63)
B122: 当該サービスを利用する利用者の数 | F122: =IF([16]基本情報入力シート!L53="","",[16]基本情報入力シート!L53) | L122: =IF([16]基本情報入力シート!L56="","",[16]基本情報入力シート!L56) | R122: =IF([16]基本情報入力シート!L59="","",[16]基本情報入力シート!L59) | X122: =IF([16]基本情報入力シート!L62="","",[16]基本情報入力シート!L62) | AD122: =IF([16]基本情報入力シート!L65="","",[16]基本情報入力シート!L65)
A124: ＜生活介護に係る前年度の平均値＞※新規申請の場合は推定数を記載ください。
D125: 4 | E125: 5 | F125: 6 | I125: 7 | L125: 8 | O125: 9 | R125: 10 | U125: 11 | X125: 12 | AA125: 1 | AD125: 2 | AG125: 3 | AJ125: 計 | AL125: 平均利用者数 | AM125: 平均障害支援区分
A126: 利用者延べ数計 | D126: =SUM(D127:D131) -> 0 | E126: =SUM(E127:E131) -> 0 | F126: =SUM(F127:H131) -> 0 | I126: =SUM(I127:K131) -> 0 | L126: =SUM(L127:N131) -> 0 | O126: =SUM(O127:Q131) -> 0 | R126: =SUM(R127:T131) -> 0 | U126: =SUM(U127:W131) -> 0 | X126: =SUM(X127:Z131) -> 0 | AA126: =SUM(AA127:AC131) -> 0 | AD126: =SUM(AD127:AF131) -> 0 | AG126: =SUM(AG127:AI131) -> 0 | AJ126: =SUM(D126:AI126) -> 0 | AL126: =ROUNDUP(((AJ126-AJ132-AJ133)+AJ132*0.5+AJ133*0.75)/AJ134,1) -> #DIV/0! | AM126: =ROUND((2*AJ127+3*AJ128+4*AJ129+5*AJ130+6*AJ131)/AJ126,1) -> #DIV/0!
A127: 区分２の延べ利用者数 | AJ127: =SUM(D127:AI127) -> 0
A128: 区分３の延べ利用者数 | AJ128: =SUM(D128:AI128) -> 0
A129: 区分４の延べ利用者数 | AJ129: =SUM(D129:AI129) -> 0
A130: 区分５の延べ利用者数 | AJ130: =SUM(D130:AI130) -> 0
A131: 区分６の延べ利用者数 | AJ131: =SUM(D131:AI131) -> 0
B132: 所要時間５時間未満の延べ利用者数 | AJ132: =SUM(D132:AI132) -> 0
...
