Workbook
Name __kk06: #REF!
Name __kk29: #REF!
Name _kk06: #REF!
Name _kk29: #REF!
Name Avrg: #REF!
Name avrg1: #REF!
Name DaihyoFurigana: #REF!
Name DaihyoJyusho: #REF!
Name DaihyoShimei: #REF!
Name DaihyoShokumei: #REF!
Name DaihyoYubin: #REF!
Name HoujinShokatsu: #REF!
Name HoujinSyubetsu: #REF!
Name HoujinSyubetu: #REF!
Name JigyoFax: #REF!
Name jigyoFurigana: #REF!
Name JigyoMeisyo: #REF!
Name JigyoShozai: #REF!
Name JigyoShozaiKana: #REF!
Name JigyosyoFurigana: #REF!
Name JigyosyoMei: #REF!
Name JigyosyoSyozai: #REF!
Name JigyosyoYubin: #REF!
Name JigyoTel: #REF!
Name JigyoYubin: #REF!
Name jiritu: #REF!
Name KanriJyusyo: #REF!
Name KanriJyusyoKana: #REF!
Name KanriShimei: #REF!
Name KanriYubin: #REF!
Name KenmuJigyoMei: #REF!
Name KenmuJikan: #REF!
Name KenmuShokushu: #REF!
Name KenmuUmu: #REF!
Name KK_03: #REF!
Name kk_04: #REF!
Name KK_06: #REF!
Name kk_07: #REF!
Name KK2_3: #REF!
Name prtNo: [1]main!#REF!
Name QW_Excel: [2]data!#REF!
Name Roman_01: #REF!
Name Roman_03: #REF!
Name Roman_04: #REF!
Name Roman_06: #REF!
Name roman_09: #REF!
Name roman_11: #REF!
Name roman11: #REF!
Name Roman2_1: #REF!
Name Roman2_3: #REF!
Name roman31: #REF!
Name roman33: #REF!
Name roman4_3: #REF!
Name roman7_1: #REF!
Name roman77: #REF!
Name romann_12: #REF!
Name romann_66: #REF!
Name romann33: #REF!
Name SasekiFuri: #REF!
Name SasekiJyusyo: #REF!

Sheet 居宅・重度訪問書類共通一覧
A2: 障害者の日常生活及び社会生活を総合的に支援するための法律（障害者総合支援法）に基づく事業者指定の申請に係る書類一覧
A3: （共生型居宅介護・共生型重度訪問介護）
A4: 事業所の名称 | U4: 所在地 （区市町村名）
A5: ※「申請者確認欄」の該当欄に「○」を付し、添付書類等に漏れがないよう確認してください。
A6: 申請書及び添付書類 | W6: 申請者確認欄 | Z6: 備考
A7: 申請書 | B7: 1 | C7: 指定申請書 第1号様式 | Z7: 第１号様式
B8: 2 | C8: 指定申請書 付表１ | Z8: 別紙
A9: 添 付 書 類 | B9: 3 | C9: 実施主体が地方公共団体である場合は、当該事業の実施について定めてある条例等
B10: 4 | C10: 登記事項証明書
B11: 5 | C11: 事業所の平面図及び写真 （事務室、間仕切りのされた相談スペース、洗面所及び玄関の配置がわかるもの。介護保険法訪問介護事業の指定を受けている事業所については、写真不要）
B12: 6 | C12: 事業所の管理者の経歴書
B13: 7 | C13: サービス提供責任者の経歴書（資格証明書の写しを添付） 資格要件については、下記”資格要件一覧”ファイルを御確認ください。 ●東京都障害者サービス情報＞書式ライブラリ＞トップカテゴリ:Ａ 【訪問系サービス】指定申請書・変更届等（居宅介護・重度訪問介護・同行援護・行動援護・重度包括）＞３ 主要職種の資格要件（サービス提供責任者・従業者）＞従業者の資格要件一覧（サービス提供責任者・居宅介護員等）
B14: URL: | C14: https://www.shougaifukushi.metro.tokyo.lg.jp/Lib/LibDspList.php?catid=079-005
B15: 8 | C15: 実務経験証明書 （ヘルパー２級のサービス提供責任者について必要）
B16: 9 | C16: 運営規程
B17: 10 | C17: 標準様式１（主たる対象者を特定する理由等） ※主たる対象者を特定する場合に必要
B18: 11 | C18: 標準様式２（苦情解決処理の概要） ※利用者からの苦情を解決するために講ずる措置の概要
B19: 12 | C19: 当該申請に係る事業に係る従事者の勤務の体制及び勤務形態一覧表
B20: 13 | C20: 居宅介護員の資格証明書の写し （介護保険法訪問介護事業の指定を受けていない場合には、証明書の写しの裏面に、勤務開始日・当該事業所にて勤務する旨、及び記名捺印が必要） 資格要件については、下記”資格要件一覧”ファイルを御確認ください。 ●東京都障害者サービス情報＞書式ライブラリ＞トップカテゴリ:Ａ 【訪問系サービス】指定申請書・変更届等（居宅介護・重度訪問介護・同行援護・行動援護・重度包括）＞３ 主要職種の資格要件（サービス提供責任者・従業者）＞従業者の資格要件一覧（サービス提供責任者・居宅介護員等）
B21: URL: | C21: https://www.shougaifukushi.metro.tokyo.lg.jp/Lib/LibDspList.php?catid=079-005
B22: 14 | C22: 標準様式３（誓約書） ※非該当誓約書
B23: 15 | C23: 就業規則 ※就業規則を作成していない場合は、参考例をもとに作成したものを添付
B24: 16 | C24: 関係機関との相談議事録シート（該当区市町村で新規に実施する場合） 該当区市町村は下記ホームページ参照
B25: URL: | C25: https://www.fukushi.metro.tokyo.lg.jp/shougai/jigyo/municipal-opinion.html
A26: その他 | B26: 17 | C26: 事業開始届
C27: =B26&"-1" -> 17-1 | D27: 事業計画書
C28: =B26&"-2" -> 17-2 | D28: 収支予算書
B29: 18 | C29: 社会保険及び労働保険への加入状況にかかる確認票 ※加入済の場合は、以下からそれぞれいずれかの書類を添付してください。
C30: 社会保険 | D30: □保険料の領収証書 | M30: □社会保険料納入証明書
D31: □健康保険・厚生年金保険資格取得確認及び標準報酬決定通知書
D32: □健康保険・厚生年金保険適用通知書 | M32: ※社会保険加入済みの場合にいずれかの提出を要する
C33: 労働保険 | D33: □労働保険概算・確定保険料申告書 | M33: □納付書・領収証書
D34: □保険関係成立届 | M34: ※労働保険加入済みの場合にいずれかの提出を要する
B35: 19 | C35: 訪問系サービス（居宅介護、重度訪問介護、同行援護、行動援護） 指定申請提出時の自己点検シート
C36: ※申請される際には、事業所保管用として事前に提出書類一式のコピーをとっておくようにしてください。
C37: 〔担当者連絡先〕
C38: 提出いただいた申請書類に記載されている内容について、問い合わせする際の連絡先を記入してください。
C39: 事業所名
C40: 担当者名
C41: 電 話 ／ F A X | K41: ／
C42: メールアドレス | K42: @
C43: ※申請される際には、事業所保管用として事前に提出書類一式をコピーし、保存してください。
C45: 情報公表システム用メールアドレス | K45: @
C46: 既に東京都から別サービス・別事業所の指定を受けている事業者の場合は、記載不要です。

Sheet 第１号様式
A1: 別紙様式第一号 | W1: 別紙様式第一号
A2: 指定障害福祉サービス事業所/指定障害者支援施設 | W2: 指定障害福祉サービス事業所/指定障害者支援施設
A3: 指定障害児通所支援事業所/指定障害児入所施設 | W3: 指定障害児通所支援事業所/指定障害児入所施設
A4: 指定特定相談支援事業所/指定一般相談支援事業所/指定障害児相談支援事業所 | W4: 指定特定相談支援事業所/指定一般相談支援事業所/指定障害児相談支援事業所
E5: 指定 | G5: 申請書 | AA5: 指定 | AC5: 申請書
L6: 令和 | O6: 年 | R6: 月 | U6: 日 | AH6: 令和 | AJ6: X | AK6: 年 | AL6: XX | AN6: 月 | AO6: XX | AQ6: 日
D7: 知事（市区村長） 殿 | Z7: 知事（市区村長） 殿
H8: 所在地 | AD8: 所在地 | AG8: 東京都新宿区○○○１－８－１
G9: 申請者 | H9: 名 称 | U9: ㊞ | AC9: 申請者 | AD9: 名 称 | AG9: 社会福祉法人東京介護 | AQ9: ㊞
H10: 代表者 | AD10: 代表者 | AG10: 福祉一郎
B12: 表題の事業所・施設に係る指定/指定の更新/指定の変更を受けたいので、下記のとおり、関係書類を添えて申請します。 | X12: 表題の事業所・施設に係る指定/指定の更新/指定の変更を受けたいので、下記のとおり、関係書類を添えて申請します。
F14: 法人番号(13桁) | AB14: 法人番号(13桁)
A15: 申請者(設置者) | B15: フリガナ | W15: 申請者(設置者) | X15: フリガナ | Z15: シャカイフクシホウジントウキョウカイゴ
B16: 名称 | X16: 名称 | Z16: 社会福祉法人東京介護
B17: 主たる事務所の所在地 | D17: (郵便番号 | F17: - | I17: ） | X17: 主たる事務所の所在地 | Z17: (郵便番号 | AA17: 161 | AB17: - | AC17: 0023 | AE17: ）
Z18: 東京 | AA18: 都 | AB18: 新宿 | AD18: 区 | AE18: XX １－８－１
B20: 連絡先 | D20: 電話番号 | X20: 連絡先 | Z20: 電話番号 | AA20: ０３－５３２０－１２１２(内線： )
D21: E-mailアドレス | Z21: E-mailアドレス | AB21: XXXXXX@tokyo.jp
B22: 法人等の種類 | X22: 法人等の種類 | Z22: 社会福祉法人
B23: 代表者の職名・氏名・生年月日 | D23: 職名 | G23: フリガナ | M23: 生年月日 | X23: 代表者の職名・氏名・生年月日 | Z23: 職名 | AA23: 理事長 | AC23: フリガナ | AD23: フクシ イチロウ | AI23: 生年月日 | AK23: 1992/11/21
G24: 氏名 | AC24: 氏名 | AD24: 福祉 一郎
B25: 代表者の住所 | D25: (郵便番号 | F25: - | I25: ） | X25: 代表者の住所 | Z25: (郵便番号 | AA25: 161 | AB25: - | AC25: 0024 | AE25: ）
Z26: 東京 | AA26: 都 | AB26: 新宿 | AD26: 区 | AE26: XX ３－２－１
A28: 指定を受けようとする事業所・施設の種類 | B28: フリガナ | W28: 指定を受けようとする事業所・施設の種類 | X28: フリガナ | Z28: ヘルパーステーションシンジュク
B29: 名称 | X29: 名称 | Z29: ヘルパーステーション新宿
B30: 事業所(施設)の所在地 | D30: (郵便番号 | F30: - | I30: ） | X30: 事業所(施設)の所在地 | Z30: (郵便番号 | AA30: 160 | AB30: - | AC30: 0008 | AE30: ）
Z31: 東京 | AA31: 都 | AB31: 新宿 | AD31: 区 | AE31: XX 2-33-1 XXビル3階
B33: 多機能型事業所に係る指定の申請の場合は○ | X33: 多機能型事業所に係る指定の申請の場合は○
B34: 同一所在地において 行う事業等の種類 | F34: 今回の指定(更新・変更)申請をする対象事業等に○ | H34: 既に指定を受けている事業に○ | L34: 事業の開始予定年月日 | R34: 本申請書に添付して提出する様式(付表) | X34: 同一所在地において 行う事業等の種類 | AB34: 今回の指定(更新・変更)申請をする対象事業等に○ | AD34: 既に指定を受けている事業に○ | AH34: 事業の開始予定年月日 | AN34: 本申請書に添付して提出する様式(付表)
E35: 共生型サービスの指定を申請するものに○ | AA35: 共生型サービスの指定を申請するものに○
B36: 指定障害福祉サービス事業所 | C36: 居宅介護 | R36: 付表１ | X36: 指定障害福祉サービス事業所 | Y36: 居宅介護 | AA36: ○ | AB36: ○ | AH36: 令和X年X月1日 | AN36: 付表１
C37: 重度訪問介護 | R37: 付表１ | Y37: 重度訪問介護 | AA37: ○ | AB37: ○ | AH37: 令和X年X月1日 | AN37: 付表１
C38: 同行援護 | R38: 付表１ | Y38: 同行援護 | AN38: 付表１
C39: 行動援護 | R39: 付表１ | Y39: 行動援護 | AN39: 付表１
C40: 療養介護 | R40: 付表２ | Y40: 療養介護 | AN40: 付表２
C41: 生活介護 | R41: 付表３ | Y41: 生活介護 | AN41: 付表３
C42: 短期入所 | R42: 付表４ | Y42: 短期入所 | AN42: 付表４
C43: 重度障害者等包括支援 | R43: 付表５ | Y43: 重度障害者等包括支援 | AN43: 付表５
C44: 自立訓練(機能訓練) | R44: 付表６ | Y44: 自立訓練(機能訓練) | AN44: 付表６
C45: 自立訓練(生活訓練) | R45: 付表６ | Y45: 自立訓練(生活訓練) | AN45: 付表６
C46: 就労選択支援 | R46: 付表７ | Y46: 就労選択支援 | AN46: 付表７
C47: 就労移行支援 | R47: 付表８ | Y47: 就労移行支援 | AN47: 付表８
C48: 就労継続支援Ａ型 | R48: 付表９ | Y48: 就労継続支援Ａ型 | AN48: 付表９
C49: 就労継続支援Ｂ型 | R49: 付表１０ | Y49: 就労継続支援Ｂ型 | AN49: 付表１０
... C52: 共同生活援助 | R52: 付表１２ | Y52: 共同生活援助 | AN52: 付表１２
B53: 指定障害者支援施設(施設入所支援) | R53: 付表１３ | X53: 指定障害者支援施設(施設入所支援) | AN53: 付表１３
B54: 指定一般相談支援事業所 | C54: 地域移行支援 | R54: 付表１４ | X54: 指定一般相談支援事業所 | Y54: 地域移行支援 | AN54: 付表１４
C55: 地域定着支援 | R55: 付表１４ | Y55: 地域定着支援 | AN55: 付表１４
B56: 指定特定相談支援事業所 | R56: 付表１５ | X56: 指定特定相談支援事業所 | AN56: 付表１５
B57: 指定障害児通所支援事業所 | C57: 児童発達支援 | R57: 付表１６ | X57: 指定障害児通所支援事業所 | Y57: 児童発達支援 | AN57: 付表１６
C58: 放課後等デイサービス | R58: 付表１６ | Y58: 放課後等デイサービス | AN58: 付表１６
C59: 居宅訪問型児童発達支援 | R59: 付表１７ | Y59: 居宅訪問型児童発達支援 | AN59: 付表１７
C60: 保育所等訪問支援 | R60: 付表１８ | Y60: 保育所等訪問支援 | AN60: 付表１８
B61: 指定障害児入所施設 | R61: 付表１９/２０ | X61: 指定障害児入所施設 | AN61: 付表１９/２０
B62: 指定障害児相談支援事業所 | R62: 付表１５ | X62: 指定障害児相談支援事業所 | AN62: 付表１５
A63: 【既に指定を受けている場合】事業所番号 | W63: 【既に指定を受けている場合】事業所番号
A64: (備考) | W64: (備考)
A65: 1 | B65: 本申請書の表題は、指定の更新の申請の際には「指定更新申請書」に、指定の変更の申請の際には「指定変更申請書」に変更して使用してください。 | W65: 1 | X65: 本申請書の表題は、指定の更新の申請の際には「指定更新申請書」に、指定の変更の申請の際には「指定変更申請書」に変更して使用してください。
A66: 2 | B66: 「法人等の種類」欄には、「社会福祉法人(社協以外)」、「社会福祉法人(社協)」、「医療法人」、「社団・財団」、「営利法人」、「非営利法人(ＮＰＯ)」、「農協」、「生協」、「その他法人」、「地方公共団体(都道府県)」、「地方公共団体(市町村)」、「地方公共団体(広域連合・一部事務組合等)」、「非法人」、「その他」のいずれかを記入してください。 | W66: 2 | X66: 「法人等の種類」欄には、「社会福祉法人(社協以外)」、「社会福祉法人(社協)」、「医療法人」、「社団・財団」、「営利法人」、「非営利法人(ＮＰＯ)」、「農協」、「生協」、「その他法人」、「地方公共団体(都道府県)」、「地方公共団体(市町村)」、「地方公共団体(広域連合・一部事務組合等)」、「非法人」、「その他」のいずれかを記入してください。
A67: 3 | B67: 「同一所在地において行う事業等の種類」欄には、今回申請をする事業及び既に指定を受けている事業のそれぞれに「○」を記載してください。 | W67: 3 | X67: 「同一所在地において行う事業等の種類」欄には、今回申請をする事業及び既に指定を受けている事業のそれぞれに「○」を記載してください。
A68: 4 | B68: 「【既に指定を受けている場合】事業所番号」欄には、申請を行う都道府県等において既に事業所としての指定を受け、番号が付番されている場合に、その事業所番号を記載してください。 | W68: 4 | X68: 「【既に指定を受けている場合】事業所番号」欄には、申請を行う都道府県等において既に事業所としての指定を受け、番号が付番されている場合に、その事業所番号を記載してください。
A69: 5 | B69: 「事業の開始予定年月日」欄については、更新の場合にあっては、現に受けている指定の有効期間満了日を記載してください。 | W69: 5 | X69: 「事業の開始予定年月日」欄については、更新の場合にあっては、現に受けている指定の有効期間満了日を記載してください。

Sheet 付表１ 
A1: 付表１ 居宅介護・重度訪問介護・同行援護・行動援護事業所の指定等に係る記載事項 | O1: 付表１ 居宅介護・重度訪問介護・同行援護・行動援護事業所の指定等に係る記載事項
A3: 事業所 | B3: フリガナ | C3: =IF(第１号様式!D15="","",第１号様式!D15) | O3: 事業所 | P3: フリガナ | Q3: =IF(第１号様式!Z28="","",第１号様式!Z28) -> ヘルパーステーションシンジュク
B4: 名 称 | C4: =IF(第１号様式!D16="","",第１号様式!D16) | P4: 名 称 | Q4: =IF(第１号様式!Z29="","",第１号様式!Z29) -> ヘルパーステーション新宿
B5: 所在地 | C5: (郵便番号 | D5: =IF(第１号様式!E30="","",第１号様式!E30) | E5: =IF(第１号様式!F30="","",第１号様式!F30) -> - | F5: =IF(第１号様式!G30="","",第１号様式!G30) | G5: ) | P5: 所在地 | Q5: (郵便番号 | R5: =IF(第１号様式!AA30="","",第１号様式!AA30) -> 160 | S5: - | T5: =IF(第１号様式!AC30="","",第１号様式!AC30) -> 0008 | U5: )
C6: =IF(第１号様式!D31="","",第１号様式!D31) | D6: =IF(第１号様式!E31="","",第１号様式!E31) | E6: =IF(第１号様式!F31="","",第１号様式!F31) | F6: =IF(第１号様式!G31="","",第１号様式!G31) | G6: =IF(第１号様式!I31="","",第１号様式!I31) | Q6: =IF(第１号様式!Z31="","",第１号様式!Z31) -> 東京 | R6: =IF(第１号様式!AA31="","",第１号様式!AA31) -> 都 | S6: =IF(第１号様式!AB31="","",第１号様式!AB31) -> 新宿 | T6: =IF(第１号様式!AD31="","",第１号様式!AD31) -> 区 | U6: =IF(第１号様式!AE31="","",第１号様式!AE31) -> XX 2-33-1 XXビル3階
C7: =IF(第１号様式!D32="","",第１号様式!D32)
B8: 電話番号 | P8: 電話番号 | Q8: 03-5555-1111
B9: E-Mail | P9: E-Mail | Q9: XXXXXX@tokyo.com
A10: 事業所以外の 事務所 | B10: フリガナ | O10: 事業所以外の 事務所 | P10: フリガナ
B11: 名 称 | P11: 名 称
B12: 所在地 | C12: (郵便番号 | E12: - | G12: ) | P12: 所在地 | Q12: (郵便番号 | S12: - | U12: )
B15: 電話番号 | P15: 電話番号
B16: E-Mail | P16: E-Mail
A17: 管理者 | B17: フリガナ | F17: 生年月日 | O17: 管理者 | P17: フリガナ | Q17: カイゴ タロウ | T17: 生年月日 | U17: 1992 | W17: 11 | Y17: 21
B18: 氏 名 | H18: 年 | J18: 月 | L18: 日 | P18: 氏 名 | Q18: 介護 太郎 | V18: 年 | X18: 月 | Z18: 日
B19: 住 所 | C19: (郵便番号 | E19: - | G19: ) | P19: 住 所 | Q19: (郵便番号 | R19: 150 | S19: - | T19: 0021 | U19: )
Q20: 東京 | R20: 都 | S20: 渋谷 | T20: 区 | U20: XXX 5-25-3-205
B22: 当該事業所で兼務する他の職種(兼務の場合記入) | P22: 当該事業所で兼務する他の職種(兼務の場合記入) | V22: 居宅介護員
B23: 他の事業所又は施設の従業者との兼務(兼務の場合記入) | D23: 事業所等の名称 | P23: 他の事業所又は施設の従業者との兼務(兼務の場合記入) | R23: 事業所等の名称 | T23: ヘルパーステーション新宿
D24: 兼務する職種及び勤務時間等 | R24: 兼務する職種及び勤務時間等 | T24: 訪問介護事業所管理者
T25: 9時から18時
A26: サービス提供責任者 | B26: フリガナ | F26: 生年月日 | O26: サービス提供責任者 | P26: フリガナ | Q26: キョタク ハナコ | T26: 生年月日 | U26: 1993 | W26: 8 | Y26: 19
B27: 氏 名 | H27: 年 | J27: 月 | L27: 日 | P27: 氏 名 | Q27: 居宅 花子 | V27: 年 | X27: 月 | Z27: 日
B28: 住 所 | C28: (郵便番号 | E28: - | G28: ) | P28: 住 所 | Q28: (郵便番号 | R28: 191 | S28: - | T28: 0021 | U28: )
Q29: 東京 | R29: 都 | S29: 八王子 | T29: 市 | U29: XX町 7-6-5
A31: 実施主体が地方公共団体である場合は、当該事業の実施について定めてある条例等 | H31: 第 条 第 項 第 号 | O31: 実施主体が地方公共団体である場合は、当該事業の実施について定めてある条例等 | V31: 第 条 第 項 第 号
A32: ○人員に関する基準の確認に必要な事項 | O32: ○人員に関する基準の確認に必要な事項
A33: 従業者の職種・員数 | C33: 居宅介護等従業者 | E33: その他の従業者 | O33: 従業者の職種・員数 | Q33: 居宅介護等従業者 | S33: その他の従業者
C34: 専従 | D34: 兼務 | E34: 専従 | F34: 兼務 | Q34: 専従 | R34: 兼務 | S34: 専従 | T34: 兼務
A35: 常勤（人） | N35: =SUM(C35:D36) -> 0 | O35: 常勤（人） | R35: 1 | S35: 1
A36: 非常勤（人） | O36: 非常勤（人） | R36: 2
A37: 常勤換算後の人数（人） | O37: 常勤換算後の人数（人） | Q37: 2.5
A38: 基準上の必要人数（人） | O38: 基準上の必要人数（人）
A39: ○運営・設備に関する基準の確認に必要な事項 | O39: ○運営・設備に関する基準の確認に必要な事項
A40: 営業日(該当する日に○) | C40: 日 | D40: 月 | E40: 火 | F40: 水 | G40: 木 | H40: 金 | J40: 土 | L40: 祝 | O40: 営業日(該当する日に○) | Q40: 日 | R40: 月 | S40: 火 | T40: 水 | U40: 木 | V40: 金 | X40: 土 | Z40: 祝
N41: =COUNTIF(C41:M41,"○") -> 0 | R41: ○ | S41: ○ | T41: ○ | U41: ○ | V41: ○
C42: その他(年末年始等) | Q42: その他(年末年始等) | T42: 12月29日から1月3日は除く
A43: 営業時間 | C43: 平日 | E43: ： | G43: ～ | J43: ： | O43: 営業時間 | Q43: 平日 | R43: 9 | S43: ： | T43: 00 | U43: ～ | V43: 18 | X43: ： | Z43: 00
C44: 土曜 | E44: ： | G44: ～ | J44: ： | Q44: 土曜 | S44: ： | U44: ～ | X44: ：
C45: 日・祝 | E45: ： | G45: ～ | J45: ： | Q45: 日・祝 | S45: ： | U45: ～ | X45: ：
A46: サービス内容 | C46: 身体介護 | F46: 身体介護(通院介助) | N46: =COUNTIF(E46:I48,"○") -> 0 | O46: サービス内容 | Q46: 身体介護 | S46: ○ | T46: 身体介護(通院介助) | V46: ○
C47: 家事援助 | F47: 家事援助(通院介助) | Q47: 家事援助 | S47: ○ | T47: 家事援助(通院介助) | V47: ○
C48: 乗降介助 | Q48: 乗降介助 | S48: ○
A49: 利用料 | O49: 利用料 | Q49: 厚生労働大臣が定める基準による額
A50: その他の費用 | O50: その他の費用 | Q50: 実施地域以外の交通費
A51: 通常の事業の実施地域 | O51: 通常の事業の実施地域 | Q51: ○○区・◇◇区・△△市
A52: (備考) | O52: (備考)
A53: １．記入欄が不足する場合は、次頁の「記入欄不足時の資料」に記載して添付してください。 | O53: １．記入欄が不足する場合は、次頁の「記入欄不足時の資料」に記載して添付してください。
A54: ２．「その他の費用」欄には、利用者に直接金銭の負担を求める場合のサービス内容についても記載してください。 | O54: ２．「その他の費用」欄には、利用者に直接金銭の負担を求める場合のサービス内容についても記載してく ださい。
A55: 記入欄不足時の資料 | O55: 記入欄不足時の資料
A56: ■事業所以外の事務所 | O56: ■事業所以外の事務所
A57: 事業所以外の 事務所 | B57: フリガナ | O57: 事業所以外の 事務所 | P57: フリガナ
B58: 名 称 | P58: 名 称
B59: 所在地 | C59: (郵便番号 | E59: - | G59: ) | P59: 所在地 | Q59: (郵便番号 | S59: - | U59: )
B62: 電話番号 | P62: 電話番号
B63: E-Mail | P63: E-Mail
B64: フリガナ | P64: フリガナ
B65: 名 称 | P65: 名 称
B66: 所在地 | C66: (郵便番号 | E66: - | G66: ) | P66: 所在地 | Q66: (郵便番号 | S66: - | U66: )
B69: 電話番号 | P69: 電話番号
B70: E-Mail | P70: E-Mail
B71: フリガナ | P71: フリガナ
B72: 名 称 | P72: 名 称
B73: 所在地 | C73: (郵便番号 | E73: - | G73: ) | P73: 所在地 | Q73: (郵便番号 | S73: - | U73: )
B76: 電話番号 | P76: 電話番号
B77: E-Mail | P77: E-Mail
A78: ■サービス提供責任者 | O78: ■サービス提供責任者
A79: サービス提供責任者 | B79: フリガナ | F79: 生年月日 | O79: サービス提供責任者 | P79: フリガナ | T79: 生年月日
B80: 氏 名 | H80: 年 | J80: 月 | L80: 日 | P80: 氏 名 | V80: 年 | X80: 月 | Z80: 日
B81: 住 所 | C81: (郵便番号 | E81: - | G81: ) | P81: 住 所 | Q81: (郵便番号 | S81: - | U81: )
B84: フリガナ | F84: 生年月日 | P84: フリガナ | T84: 生年月日
B85: 氏 名 | H85: 年 | J85: 月 | L85: 日 | P85: 氏 名 | V85: 年 | X85: 月 | Z85: 日
B86: 住 所 | C86: (郵便番号 | E86: - | G86: ) | P86: 住 所 | Q86: (郵便番号 | S86: - | U86: )
B89: フリガナ | F89: 生年月日 | P89: フリガナ | T89: 生年月日
B90: 氏 名 | H90: 年 | J90: 月 | L90: 日 | P90: 氏 名 | V90: 年 | X90: 月 | Z90: 日
B91: 住 所 | C91: (郵便番号 | E91: - | G91: ) | P91: 住 所 | Q91: (郵便番号 | S91: - | U91: )
B94: フリガナ | F94: 生年月日 | P94: フリガナ | T94: 生年月日
B95: 氏 名 | H95: 年 | J95: 月 | L95: 日 | P95: 氏 名 | V95: 年 | X95: 月 | Z95: 日
B96: 住 所 | C96: (郵便番号 | E96: - | G96: ) | P96: 住 所 | Q96: (郵便番号 | S96: - | U96: )
B99: フリガナ | F99: 生年月日 | P99: フリガナ | T99: 生年月日
B100: 氏 名 | H100: 年 | J100: 月 | L100: 日 | P100: 氏 名 | V100: 年 | X100: 月 | Z100: 日
B101: 住 所 | C101: (郵便番号 | E101: - | G101: ) | P101: 住 所 | Q101: (郵便番号 | S101: - | U101: )
B104: フリガナ | F104: 生年月日 | P104: フリガナ | T104: 生年月日
B105: 氏 名 | H105: 年 | J105: 月 | L105: 日 | P105: 氏 名 | V105: 年 | X105: 月 | Z105: 日
B106: 住 所 | C106: (郵便番号 | E106: - | G106: ) | P106: 住 所 | Q106: (郵便番号 | S106: - | U106: )
