Workbook
Name ___________kk29: #REF!
Name __________kk06: #REF!
Name __________kk29: #REF!
Name _________kk06: #REF!
Name _________kk29: #REF!
Name _________kk29: #REF!
Name ________kk06: #REF!
Name ________kk06: #REF!
Name ________kk29: #REF!
Name ________kk29: #REF!
Name _______kk06: #REF!
Name _______kk06: #REF!
Name _______kk29: #REF!
Name _______kk29: #REF!
Name ______kk06: #REF!
Name ______kk06: #REF!
Name ______kk29: #REF!
Name ______kk29: #REF!
Name _____kk06: #REF!
Name _____kk06: #REF!
Name _____kk29: #REF!
Name _____kk29: #REF!
Name ____kk06: #REF!
Name ____kk1: #REF!
Name ____kk29: #REF!
Name ___kk06: #REF!
Name ___kk1: #REF!
Name ___kk29: #REF!
Name __kk06: #REF!
Name __kk06: #REF!
Name __kk1: #REF!
Name __kk29: #REF!
Name __kk29: #REF!
Name _kk06: #REF!
Name _kk06: #REF!
Name _kk1: #REF!
Name _kk2: #REF!
Name _kk29: #REF!
Name ▼選択してください。: #REF!
Name ②従業者の員数: #REF!
Name aa: #REF!
Name aaaaa: #REF!
Name as: #REF!
Name Avrg: #REF!
Name avrg1: #REF!
Name CSV_サービス情報: #REF!
Name CSV_口座振込依頼書: #REF!
Name CSV_施設種別: #REF!
Name CSV_追加情報: #REF!
Name CSV_付表１: #REF!
Name CSV_付表１＿１: #REF!
Name CSV_付表１＿２: #REF!
Name CSV_付表１０: #REF!
Name CSV_付表１０＿２: #REF!
Name CSV_付表１１: #REF!
Name CSV_付表１１＿２: #REF!
Name CSV_付表１２: #REF!
Name CSV_付表１２＿２: #REF!
Name CSV_付表１３その１: #REF!
Name CSV_付表１３その２: #REF!

Sheet 書類一覧 
A1: 障害者の日常生活及び社会生活を総合的に支援するための法律に基づく事業者指定の申請に係る書類一覧
A2: （自立生活援助）
A4: 事業所の名称 | E4: 所在地 （区市町村名）
A6: ※「申請者確認欄」の該当欄に「○」を付し、添付書類等に漏れがないよう確認してください。
A7: 申請書及び添付書類等 | E7: 申請者 確認欄 | F7: 備考
A8: 申請書 | B8: 指定申請書 | F8: 別紙様式第一号
B9: 自立生活援助事業所の指定等に係る記載事項 | F9: 付表１１
B10: 兼務の状況 | F10: 別紙２
A11: 加算届出 | B11: 介護給付費等算定に係る体制等状況一覧表 | F11: 別紙１－１
B12: 福祉専門職員配置等加算に関する届出書 | F12: 別紙３－１
B13: 居住支援連携体制加算に関する届出書 | F13: 別紙５５
B14: ピアサポート体制加算に関する届出書 | F14: 別紙２５
B15: 地域生活支援拠点等に関連する加算の届出 | F15: 別紙４７
B16: 地域生活支援拠点等機能強化加算に関する届出書 | F16: 別紙３６
A17: 添付書類 | B17: 登記事項証明書又は実施主体が地方公共団体である場合は、当該事業の実施について定めてある条例等
B18: 事業所の平面図（事務室、相談室、鍵付き書庫等が確認できるもの） | F18: 参考様式１
B19: 管理者の経歴書 | F19: 参考様式２
B20: サービス管理責任者経歴書 | F20: 参考様式２
B21: サービス管理責任者研修及び相談支援従事者研修修了証（写し）
B22: サービス管理責任者に係る資格証（写し）及び実務経験証明書（原本） | F22: 参考様式４
B23: 地域生活支援員経歴書 | F23: 参考様式２
B24: 従業者の勤務の体制及び勤務形態一覧表
B25: 運営規程
B26: 主たる対象者を特定する理由書 ※主たる対象者を特定する場合に必要 | F26: 標準様式１
B27: 利用者又はその家族からの苦情を解決するために講ずる措置の概要 | F27: 標準様式２
B28: 就業規則
B29: 誓約書 | F29: 標準様式３
B30: 事業開始届
B31: 事業計画書
B32: 収支予算書
B33: 社会保険及び労働保険への加入状況にかかる確認票
B34: 関係機関との相談議事録シート（該当区市町村で新規に実施する場合） 該当区市町村は下記ホームページ参照 | F34: 別添様式
B35: https://www.fukushi.metro.tokyo.lg.jp/shougai/jigyo/municipal-opinion.html
B36: 障害福祉サービス等情報公表システム用 メールアドレス登録表 | F36: メールアドレス登録表
B37: ※申請される際には、事業所保管用として事前に提出書類一式のコピーをとっておくようにしてください。
B39: 〔担当者連絡先〕
B40: 提出いただいた申請書類に記載されている内容について、問い合わせする際の連絡先を記入してください。
B42: 担当者名
B43: 電話／ＦＡＸ | C43: ／
B44: メールアドレス | C44: @

Sheet 指定申請書
A1: 別紙様式第一号
A2: 指定障害福祉サービス事業所/指定障害者支援施設
A3: 指定障害児通所支援事業所/指定障害児入所施設
A4: 指定特定相談支援事業所/指定一般相談支援事業所/指定障害児相談支援事業所
E5: 指定 | G5: 申請書
O6: 年 | R6: 月 | U6: 日
B7: 東京都 | D7: 知事 殿
H8: 所在地
G9: 申請者 | H9: 名 称
H10: 代表者
B12: 表題の事業所・施設に係る指定/指定の更新/指定の変更を受けたいので、下記のとおり、関係書類を添えて申請します。
F14: 法人番号(13桁)
A15: 申請者(設置者) | B15: フリガナ
B16: 名称
B17: 主たる事務所の所在地 | D17: (郵便番号 | F17: - | I17: ）
H18: 区
B20: 連絡先 | D20: 電話番号 | E20: (内線)
D21: E-mailアドレス
B22: 法人等の種類
B23: 代表者の職名・氏名・生年月日 | D23: 職名 | G23: フリガナ | M23: 生年月日
G24: 氏名
B25: 代表者の住所 | D25: (郵便番号 | F25: - | I25: ）
E26: 都 | H26: 区
A28: 指定を受けようとする事業所・施設の種類 | B28: フリガナ
B29: 名称
B30: 事業所(施設)の所在地 | D30: (郵便番号 | F30: - | I30: ）
B33: 多機能型事業所に係る指定の申請の場合は○
B34: 同一所在地において 行う事業等の種類 | F34: 今回の指定(更新・変更)申請をする対象事業等に○ | H34: 既に指定を受けている事業に○ | L34: 事業の開始予定年月日 | R34: 本申請書に添付して提出する様式(付表)
E35: 共生型サービスの指定を申請するものに○
B36: 指定障害福祉サービス事業所 | C36: 居宅介護 | R36: 付表１
C37: 重度訪問介護 | R37: 付表１
C38: 同行援護 | R38: 付表１
C39: 行動援護 | R39: 付表１
C40: 療養介護 | R40: 付表２
C41: 生活介護 | R41: 付表３
C42: 短期入所 | R42: 付表４
C43: 重度障害者等包括支援 | R43: 付表５
C44: 自立訓練(機能訓練) | R44: 付表６
C45: 自立訓練(生活訓練) | R45: 付表６
C46: 就労選択支援 | R46: 付表７
...

Sheet 指定申請書 (記載例)
A1: 別紙様式第一号
A2: 指定障害福祉サービス事業所/指定障害者支援施設
A3: 指定障害児通所支援事業所/指定障害児入所施設
A4: 指定特定相談支援事業所/指定一般相談支援事業所/指定障害児相談支援事業所
E5: 指定 | G5: 申請書
K6: 令和８ | O6: 年 | P6: １２ | R6: 月 | S6: １ | U6: 日
B7: 東京都 | D7: 知事 殿
H8: 所在地 | K8: 東京都新宿区○○○１－８－１
G9: 申請者 | H9: 名 称 | K9: 社会福祉法人東京介護
H10: 代表者 | K10: 代表取締役 東京 太郎
B12: 表題の事業所・施設に係る指定/指定の更新/指定の変更を受けたいので、下記のとおり、関係書類を添えて申請します。
F14: 法人番号(13桁)
A15: 申請者(設置者) | B15: フリガナ | D15: シャカイフクシホウジントウキョウカイゴ
B16: 名称 | D16: 社会福祉法人東京介護
B17: 主たる事務所の所在地 | D17: (郵便番号 | E17: １６１ | F17: - | G17: ００２３ | I17: ）
D18: 東京 | E18: 都 | F18: 新宿 | H18: 区 | I18: ○○１－８－１
B20: 連絡先 | D20: 電話番号 | E20: ０３－５３２０－１２１２ (内線)１２－３４５
D21: E-mailアドレス | F21: abc123@example.co.jp
B22: 法人等の種類 | D22: 社会福祉法人(社協以外)
B23: 代表者の職名・氏名・生年月日 | D23: 職名 | E23: 代表取締役 | G23: フリガナ | H23: トウキョウ タロウ | M23: 生年月日 | O23: 昭和○○年○月○日
G24: 氏名 | H24: 東京 太郎
B25: 代表者の住所 | D25: (郵便番号 | E25: １６１ | F25: - | G25: ００２３ | I25: ）
D26: 東京 | E26: 都 | F26: 新宿 | H26: 区 | I26: ○○１－８－１
A28: 指定を受けようとする事業所・施設の種類 | B28: フリガナ | D28: トウキョウフクシシエンセンター
B29: 名称 | D29: 東京福祉支援センター
B30: 事業所(施設)の所在地 | D30: (郵便番号 | E30: １６１ | F30: - | G30: ００２３ | I30: ）
D31: 東京 | E31: 都 | F31: 新宿 | H31: 区 | I31: □□２－３３－１ △△ビル３階
B33: 多機能型事業所に係る指定の申請の場合は○
B34: 同一所在地において 行う事業等の種類 | F34: 今回の指定(更新・変更)申請をする対象事業等に○ | H34: 既に指定を受けている事業に○ | L34: 事業の開始予定年月日 | R34: 本申請書に添付して提出する様式(付表)
E35: 共生型サービスの指定を申請するものに○
B36: 指定障害福祉サービス事業所 | C36: 居宅介護 | R36: 付表１
C37: 重度訪問介護 | R37: 付表１
C38: 同行援護 | R38: 付表１
C39: 行動援護 | R39: 付表１
C40: 療養介護 | R40: 付表２
C41: 生活介護 | R41: 付表３
C42: 短期入所 | R42: 付表４
C43: 重度障害者等包括支援 | R43: 付表５
C44: 自立訓練(機能訓練) | R44: 付表６
C45: 自立訓練(生活訓練) | R45: 付表６
...

Sheet 付表１１
A1: 付表１１ 自立生活援助事業所の指定等に係る記載事項
A3: 事業所 | B3: フリガナ | C3: =指定申請書!D28 -> 0
B4: 名 称 | C4: =指定申請書!D29 -> 0 | Q4: 自動転記（指定申請書の事業所情報を先に入力してください。）
B5: 所在地 | C5: (郵便番号 | D5: =指定申請書!E30 -> 0 | E5: - | F5: =指定申請書!G30 -> 0 | G5: )
C6: =指定申請書!D31 -> 0
B8: 電話番号
B9: E-Mail
A10: 管理者 | B10: フリガナ | F10: 生年月日
B11: 氏 名 | H11: 年 | J11: 月 | L11: 日
B12: 住 所 | C12: (郵便番号 | E12: - | G12: )
B15: 当該事業所で兼務する他の職種(兼務の場合記入)
B16: 他の事業所又は施設の従業者との兼務(兼務の場合記入) | D16: 事業所等の名称
D17: 兼務する職種及び勤務時間等
A19: サービス管理責任者 | B19: フリガナ | F19: 生年月日
B20: 氏 名 | H20: 年 | J20: 月 | L20: 日
B21: 住 所 | C21: (郵便番号 | E21: - | G21: )
A24: 実施主体が地方公共団体である場合は、当該事業の実施について定めてある条例等 | H24: 第 条 第 項 第 号
A25: ○人員に関する基準の確認に必要な事項
A26: 従業者の職種・員数 | C26: 居宅介護等従業者 | E26: その他の従業者
C27: 専従 | D27: 兼務 | E27: 専従 | F27: 兼務
A28: 常勤(人)
A29: 非常勤(人)
A30: 常勤換算後の人数(人)
A31: 基準上の必要人数(人)
A32: ○運営・設備に関する基準の確認に必要な事項
A33: 利用者の推定数(人)
A34: 営業日(該当する日に○) | C34: 日 | D34: 月 | E34: 火 | F34: 水 | G34: 木 | H34: 金 | J34: 土 | L34: 祝
C36: その他(年末年始等)
A37: 営業時間 | C37: 平日 | E37: ： | G37: ～ | J37: ：
C38: 土曜 | E38: ： | G38: ～ | J38: ：
C39: 日・祝 | E39: ： | G39: ～ | J39: ：
A40: 利用料
A41: その他の費用
A42: 通常の事業の実施地域
A43: (備考)
A44: １．記入欄が不足する場合は、次頁の「記入欄不足時の資料」に記載して添付してください。
A45: ２．更新の場合には、「利用者の推定数」欄は前年度の平均利用者数を記入してください。
A46: ３．「その他の費用」欄には、利用者に直接金銭の負担を求める場合のサービス内容についても記載してく ださい。
A47: 記入欄不足時の資料
A48: ■サービス管理責任者
...

Sheet 付表１１ (記載例)
A1: 付表１１ 自立生活援助事業所の指定等に係る記載事項
A3: 事業所 | B3: フリガナ | C3: =指定申請書!D28 -> 0
B4: 名 称 | C4: =指定申請書!D28 -> 0
B5: 所在地 | C5: (郵便番号 | D5: １６１ | E5: - | F5: ００２３
C6: 東京 | D6: 都 | E6: 新宿 | G6: 区 | H6: □□２－３３－１ △△ビル３階
B8: 電話番号 | C8: ０３-１１１１-５５５５
B9: E-Mail
A10: 管理者 | B10: フリガナ | C10: カイゴ ゴロウ | F10: 生年月日 | G10: 昭和○○年○月○日
B11: 氏 名 | C11: 介護 五郎
B12: 住 所 | C12: (郵便番号１７２－００００ | G12: )
C13: 東京都八王子市○○町５－２５－５
B15: 当該事業所で兼務する他の職種(兼務の場合記入) | H15: サービス管理責任者
B16: 他の事業所又は施設の従業者との兼務(兼務の場合記入) | D16: 事業所等の名称 | F16: 東京福祉相談支援事業所（特定・障害児相談支援事業）
D17: 兼務する職種及び勤務時間等 | F17: 管理者
F18: ９：００～１８：００
A19: サービス管理責任者 | B19: フリガナ | C19: カイゴ ゴロウ | F19: 生年月日 | G19: 昭和○○年○月○日
B20: 氏 名 | C20: 介護 五郎
B21: 住 所 | C21: (郵便番号１７２－００００ | G21: )
C22: 東京都八王子市○○町５－２５－５
A24: 実施主体が地方公共団体である場合は、当該事業の実施について定めてある条例等 | H24: 第 条 第 項 第 号
A25: ○人員に関する基準の確認に必要な事項
A26: 従業者の職種・員数 | C26: 居宅介護等従業者 | E26: その他の従業者
C27: 専従 | D27: 兼務 | E27: 専従 | F27: 兼務
A28: 常勤(人)
A29: 非常勤(人)
A30: 常勤換算後の人数(人)
A31: 基準上の必要人数(人)
A32: ○運営・設備に関する基準の確認に必要な事項
A33: 利用者の推定数(人) | C33: 25
A34: 営業日(該当する日に○) | C34: 日 | D34: 月 | E34: 火 | F34: 水 | G34: 木 | H34: 金 | J34: 土 | L34: 祝
D35: ○ | E35: ○ | F35: ○ | G35: ○ | H35: ○
C36: その他(年末年始等) | F36: 祝日及び12月29日から1月3日は除く
A37: 営業時間 | C37: 平日 | E37: ９：００ | G37: ～ | J37: １８：００
C38: 土曜 | E38: ： | G38: ～ | J38: ：
C39: 日・祝 | E39: ： | G39: ～ | J39: ：
A40: 利用料 | C40: 厚生労働大臣が定める基準による額
A41: その他の費用 | C41: 実施地域以外の交通費
A42: 通常の事業の実施地域 | C42: 〇〇区、△△区、◇◇区
A43: (備考)
A44: １．記入欄が不足する場合は、次頁の「記入欄不足時の資料」に記載して添付してください。
...

Sheet 別紙２　兼務の状況
A2: 別紙２ | I2: 他の事業所又は施設の従事者と兼務の状況について
B6: 他の事業所又は施設の従業者と兼務する従業員（サービス管理責任者・地域生活支援員）を全て記載してください。 （相談支援事業所の従業者、併設する他の障害福祉サービス事業所又は障害者支援施設等の管理者 又はサービス管理責任者の職務との兼務は除く。）
B7: 1 | D7: 氏 名 | L7: 事業所の名称
D8: フリガナ | L8: 事業の種類 | U8: 兼務する職種
D9: 氏名 | L9: 勤務時間
B10: 2 | D10: 氏 名 | L10: 事業所の名称
D11: フリガナ | L11: 事業の種類 | U11: 兼務する職種
D12: 氏名 | L12: 勤務時間
B13: 3 | D13: 氏 名 | L13: 事業所の名称
D14: フリガナ | L14: 事業の種類 | U14: 兼務する職種
D15: 氏名 | L15: 勤務時間
B16: 4 | D16: 氏 名 | L16: 事業所の名称
D17: フリガナ | L17: 事業の種類 | U17: 兼務する職種
D18: 氏名 | L18: 勤務時間
B19: 5 | D19: 氏 名 | L19: 事業所の名称
D20: フリガナ | L20: 事業の種類 | U20: 兼務する職種
D21: 氏名 | L21: 勤務時間

Sheet 平面図（記載例）
A1: （参考様式１）
A2: 平 面 図
C4: 事業所の名称 | E4: 東京福祉支援センター
H9: 洗面所
A12: 玄関 | F12: 扉 | J12: 事務室
C14: 相談室
K18: 電話機
K19: ＦＡＸ
K20: プリンター
F23: 鍵付書庫
F24: （左半分：特定障害児相談、右半分：自立生活援助）
A28: 備考１ 各室の用途を記載してください。※事務室・相談スペース・手指洗浄設備（洗面所等）が必要です。
A29: ２ 当該事業所の専用部分と他の事業所等との共有部分がある場合はそれぞれ色分けする等して使用関係を分かり易く表示してください。
A30: （例： 介護保険法の事業等と共有部分がある場合、事務机、鍵付書庫の使用部分を分かり易く表示してください。）
A31: ３ 必要な設備及び備品（机、椅子、鍵付書庫等）、を記載してください。
A32: ４ この様式は参考様式です。上記事項を満たす書類の添付に代えることも可能です。

Sheet 経歴書（管理者ほか）
A1: （参考様式２）
D2: 管 理 者 | G2: 経歴書
D3: サービス管理責任者
D4: 地域生活支援員
A7: 事業所の名称
A8: フリガナ | F8: 生年月日 | G8: 年 月 日
A9: 氏名
A11: 住所 | B11: （郵便番号 － ）
A13: 電話番号
A14: 主な職歴等
A15: 年 月 ～ 年 月 | D15: 勤務先等 | G15: 職務内容
A31: 職務に関連する資格
A32: 資格の種類 | E32: 資格取得年月日
A40: 備考（研修等の受講の状況等）
A46: 備考１ 住所・電話番号は、自宅のものを記載してください。
A47: ２ 当該管理者が管理する事業所が複数の場合は、「事業所の名称」欄を適宜拡張して、その全てを
A48: 記載してください。

Sheet 実務経験証明書
A1: （参考様式４）
A2: 実 務 経 験 証 明 書
J4: 番 号
J5: 年 月 日
E7: 施設又は事業所所在地及び名称
E9: 代表者氏名 | J9: 印
E10: 電話番号
A12: 下記の者の実務経験は、以下のとおりであることを証明します。
A14: 氏 名 | G14: （生年月日 年 月 日）
A15: 現 住 所
A16: 施設又は事業所名
D17: 施設・事業所の種別（ ）
A18: 業 務 期 間
D19: 年 月 日～ 年 月 日（ 年 月間）
A20: 業 務 内 容 | D20: 職名（ ）
D21: 業務（ 支援業務）
A26: （注） | B26: １． | C26: 施設又は事業所名欄には、障害者支援施設や就労継続支援Ｂ型等の種別も記入すること。
B27: ２． | C27: 業務期間欄は、受験申込者が要援護者に対する直接的な援助を行っていた期間を記入すること。（産休・育休・療養休暇や長期研修期間等は業務期間となりません）
C29: 現在、既に必要とする実務経験期間を満たしている場合は、実務経験証明書作成日までの期間または、退職した日までの期間を記入してください。
B31: ３． | C31: 業務内容欄は、看護師、生活指導員等の職名を記入し、受験申込者の本来業務について、老人デイサービス事業における○○業務、○○実施要綱の○○事業の○○業務等具体的に記入すること。
C34: また、療養病床の病棟等において介護業務を行った場合は明記し、当該病棟が療養病床として許可等を受けた年月日を記入すること。
B36: ４． | C36: 証明内容を訂正した場合は、証明権者の職印を押印してください。なお、修正液による訂正は認められません。

Sheet 実務経験証明書 (記載例)
A1: （参考様式４）
A2: 実 務 経 験 証 明 書
J4: 番 号
J5: 年 月 日
E7: 施設又は事業所所在地及び名称
E9: 代表者氏名 | J9: 印
E10: 電話番号
A12: 下記の者の実務経験は、以下のとおりであることを証明します。
A14: 氏 名 | D14: 介護 五郎 | G14: （生年月日 ○○ 年 ○ 月 ○ 日）
A15: 現 住 所 | D15: 東京都八王子市○○町５－２５－５
A16: 施設又は事業所名 | D16: ○○ヘルパーセンター
D17: 施設・事業所の種別（ 居宅介護事業所 ）
A18: 業 務 期 間
D19: ２００４年４月１日～２０１５年３月３１日（１０年０月間）
A20: 業 務 内 容 | D20: 職名（ 居宅介護従業者 ）
D21: 居宅介護事業における入浴、排せつ、食事その他の介護業務（直接支援業務）
A26: （注） | B26: １． | C26: 施設又は事業所名欄には、障害者支援施設や就労継続支援Ｂ型等の種別も記入すること。
B27: ２． | C27: 業務期間欄は、受験申込者が要援護者に対する直接的な援助を行っていた期間を記入すること。（産休・育休・療養休暇や長期研修期間等は業務期間となりません）
C29: 現在、既に必要とする実務経験期間を満たしている場合は、実務経験証明書作成日までの期間または、退職した日までの期間を記入してください。
B31: ３． | C31: 業務内容欄は、看護師、生活指導員等の職名を記入し、受験申込者の本来業務について、老人デイサービス事業における○○業務、○○実施要綱の○○事業の○○業務等具体的に記入すること。
C34: また、療養病床の病棟等において介護業務を行った場合は明記し、当該病棟が療養病床として許可等を受けた年月日を記入すること。
B36: ４． | C36: 証明内容を訂正した場合は、証明権者の職印を押印してください。なお、修正液による訂正は認められません。

Sheet 勤務形態一覧表
A1: 従業者の勤務の体制及び勤務形態一覧表 | AI1: サービス種別 | AK1: 自立生活援助
M2: 2027 | Q2: 年 | S2: 2 | U2: 月 | AI2: 事業所名
AI3: (1)記載する期間
AI4: (2)予定/実績の別
AG5: (3)事業所における常勤の従業者が勤務すべき時間数 | AK5: 時間/週 | AM5: 時間/月
A7: No. | B7: (4)職種 | C7: (5)勤務形態 | D7: (6)資格 | E7: (7)氏名 | F7: (8) | AK7: (9)勤務時間数合計 | AL7: (10)週平均の勤務時間数 | AM7: (11)兼務状況 （兼務先／兼務する職務の内容）等
F8: 第１週 | M8: 第２週 | T8: 第３週 | AA8: 第４週 | AH8: 第５週
B9: ※選択肢にない職種については直接入力してください | F9: =DATE($M$2,$S$2,1) -> 46419 | G9: =DATE($M$2,$S$2,2) -> 46420 | H9: =DATE($M$2,$S$2,3) -> 46421 | I9: =DATE($M$2,$S$2,4) -> 46422 | J9: =DATE($M$2,$S$2,5) -> 46423 | K9: =DATE($M$2,$S$2,6) -> 46424 | L9: =DATE($M$2,$S$2,7) -> 46425 | M9: =DATE($M$2,$S$2,8) -> 46426 | N9: =DATE($M$2,$S$2,9) -> 46427 | O9: =DATE($M$2,$S$2,10) -> 46428 | P9: =DATE($M$2,$S$2,11) -> 46429 | Q9: =DATE($M$2,$S$2,12) -> 46430 | R9: =DATE($M$2,$S$2,13) -> 46431 | S9: =DATE($M$2,$S$2,14) -> 46432 | T9: =DATE($M$2,$S$2,15) -> 46433 | U9: =DATE($M$2,$S$2,16) -> 46434 | V9: =DATE($M$2,$S$2,17) -> 46435 | W9: =DATE($M$2,$S$2,18) -> 46436 | X9: =DATE($M$2,$S$2,19) -> 46437 | Y9: =DATE($M$2,$S$2,20) -> 46438 | Z9: =DATE($M$2,$S$2,21) -> 46439 | AA9: =DATE($M$2,$S$2,22) -> 46440 | AB9: =DATE($M$2,$S$2,23) -> 46441 | AC9: =DATE($M$2,$S$2,24) -> 46442 | AD9: =DATE($M$2,$S$2,25) -> 46443 | AE9: =DATE($M$2,$S$2,26) -> 46444 | AF9: =DATE($M$2,$S$2,27) -> 46445 | AG9: =DATE($M$2,$S$2,28) -> 46446 | AH9: =IF(DAY(EOMONTH(F9,0))<29,"",DATE($M$2,$S$2,29)) | AI9: =IF(DAY(EOMONTH(F9,0))<30,"",DATE($M$2,$S$2,30)) | AJ9: =IF(DAY(EOMONTH(F9,0))<31,"",DATE($M$2,$S$2,31))
F10: =DATE($M$2,$S$2,1) -> 46419 | G10: =DATE($M$2,$S$2,2) -> 46420 | H10: =DATE($M$2,$S$2,3) -> 46421 | I10: =DATE($M$2,$S$2,4) -> 46422 | J10: =DATE($M$2,$S$2,5) -> 46423 | K10: =DATE($M$2,$S$2,6) -> 46424 | L10: =DATE($M$2,$S$2,7) -> 46425 | M10: =DATE($M$2,$S$2,8) -> 46426 | N10: =DATE($M$2,$S$2,9) -> 46427 | O10: =DATE($M$2,$S$2,10) -> 46428 | P10: =DATE($M$2,$S$2,11) -> 46429 | Q10: =DATE($M$2,$S$2,12) -> 46430 | R10: =DATE($M$2,$S$2,13) -> 46431 | S10: =DATE($M$2,$S$2,14) -> 46432 | T10: =DATE($M$2,$S$2,15) -> 46433 | U10: =DATE($M$2,$S$2,16) -> 46434 | V10: =DATE($M$2,$S$2,17) -> 46435 | W10: =DATE($M$2,$S$2,18) -> 46436 | X10: =DATE($M$2,$S$2,19) -> 46437 | Y10: =DATE($M$2,$S$2,20) -> 46438 | Z10: =DATE($M$2,$S$2,21) -> 46439 | AA10: =DATE($M$2,$S$2,22) -> 46440 | AB10: =DATE($M$2,$S$2,23) -> 46441 | AC10: =DATE($M$2,$S$2,24) -> 46442 | AD10: =DATE($M$2,$S$2,25) -> 46443 | AE10: =DATE($M$2,$S$2,26) -> 46444 | AF10: =DATE($M$2,$S$2,27) -> 46445 | AG10: =DATE($M$2,$S$2,28) -> 46446 | AH10: =IF(DAY(EOMONTH(F10,0))<29,"",DATE($M$2,$S$2,29)) | AI10: =IF(DAY(EOMONTH(F10,0))<30,"",DATE($M$2,$S$2,30)) | AJ10: =IF(DAY(EOMONTH(F10,0))<31,"",DATE($M$2,$S$2,31))
A11: 1 | B11: 管理者 | AK11: =+SUM(F11:AJ11) -> 0 | AL11: =IF($AK$3="４週",AK11/4,AK11/(DAY(EOMONTH($F$9,0))/7)) -> 0
A12: 2 | B12: サービス管理責任者 | AK12: =+SUM(F12:AJ12) -> 0 | AL12: =IF($AK$3="４週",AK12/4,AK12/(DAY(EOMONTH($F$9,0))/7)) -> 0
A13: 3 | B13: 地域生活支援員 | AK13: =+SUM(F13:AJ13) -> 0 | AL13: =IF($AK$3="４週",AK13/4,AK13/(DAY(EOMONTH($F$9,0))/7)) -> 0
A14: 4 | B14: 地域生活支援員 | AK14: =+SUM(F14:AJ14) -> 0 | AL14: =IF($AK$3="４週",AK14/4,AK14/(DAY(EOMONTH($F$9,0))/7)) -> 0
A15: 5 | AK15: =+SUM(F15:AJ15) -> 0 | AL15: =IF($AK$3="４週",AK15/4,AK15/(DAY(EOMONTH($F$9,0))/7)) -> 0
A16: 6 | AK16: =+SUM(F16:AJ16) -> 0 | AL16: =IF($AK$3="４週",AK16/4,AK16/(DAY(EOMONTH($F$9,0))/7)) -> 0
A17: 7 | AK17: =+SUM(F17:AJ17) -> 0 | AL17: =IF($AK$3="４週",AK17/4,AK17/(DAY(EOMONTH($F$9,0))/7)) -> 0
A18: 8 | AK18: =+SUM(F18:AJ18) -> 0 | AL18: =IF($AK$3="４週",AK18/4,AK18/(DAY(EOMONTH($F$9,0))/7)) -> 0
A19: 9 | AK19: =+SUM(F19:AJ19) -> 0 | AL19: =IF($AK$3="４週",AK19/4,AK19/(DAY(EOMONTH($F$9,0))/7)) -> 0
A20: 10 | AK20: =+SUM(F20:AJ20) -> 0 | AL20: =IF($AK$3="４週",AK20/4,AK20/(DAY(EOMONTH($F$9,0))/7)) -> 0
A21: 11 | AK21: =+SUM(F21:AJ21) -> 0 | AL21: =IF($AK$3="４週",AK21/4,AK21/(DAY(EOMONTH($F$9,0))/7)) -> 0
A22: 12 | AK22: =+SUM(F22:AJ22) -> 0 | AL22: =IF($AK$3="４週",AK22/4,AK22/(DAY(EOMONTH($F$9,0))/7)) -> 0
A23: 13 | AK23: =+SUM(F23:AJ23) -> 0 | AL23: =IF($AK$3="４週",AK23/4,AK23/(DAY(EOMONTH($F$9,0))/7)) -> 0
A24: 14 | AK24: =+SUM(F24:AJ24) -> 0 | AL24: =IF($AK$3="４週",AK24/4,AK24/(DAY(EOMONTH($F$9,0))/7)) -> 0
A25: 15 | AK25: =+SUM(F25:AJ25) -> 0 | AL25: =IF($AK$3="４週",AK25/4,AK25/(DAY(EOMONTH($F$9,0))/7)) -> 0
A26: 16 | AK26: =+SUM(F26:AJ26) -> 0 | AL26: =IF($AK$3="４週",AK26/4,AK26/(DAY(EOMONTH($F$9,0))/7)) -> 0
... A30: 20 | AK30: =+SUM(F30:AJ30) -> 0 | AL30: =IF($AK$3="４週",AK30/4,AK30/(DAY(EOMONTH($F$9,0))/7)) -> 0
A31: 合計 | F31: =+SUM(F11:F30) -> 0 | G31: =+SUM(G11:G30) -> 0 | H31: =+SUM(H11:H30) -> 0 | I31: =+SUM(I11:I30) -> 0 | J31: =+SUM(J11:J30) -> 0 | K31: =+SUM(K11:K30) -> 0 | L31: =+SUM(L11:L30) -> 0 | M31: =+SUM(M11:M30) -> 0 | ... AJ31: =+SUM(AJ11:AJ30) -> 0 | AK31: =+SUM(F31:AJ31) -> 0 | AL31: =IF($AK$3="４週",AK31/4,AK31/(DAY(EOMONTH($F$9,0))/7)) -> 0
A32: サービス提供時間
A36: ＜前年度の平均値＞※新規申請の場合は推定数を記載ください。
D37: 4 | E37: 5 | F37: 6 | I37: 7 | L37: 8 | O37: 9 | R37: 10 | U37: 11 | X37: 12 | AA37: 1 | AD37: 2 | AG37: 3 | AJ37: 計 | AL37: 平均利用者数
A38: 利用者延べ数 | AJ38: =SUM(D38:AI38) -> 0 | AL38: =ROUNDUP(AJ38/AJ39,1) -> #DIV/0!
A39: 開所日数 | AJ39: =+SUM(D39:AI39) -> 0
A41: ＜人員に関する基準＞
A42: 区分 | C42: サービス管理責任者 （常勤の場合） | E42: サービス管理責任者 （常勤以外の場合） | I42: 地域生活支援員の数の標準
A43: 必要な配置数 | C43: =ROUNDDOWN(IF(AL38<=60,1,1+ROUNDUP((AL38-60)/60,0)),1) -> #DIV/0! | E43: =ROUNDDOWN(IF(AL38<=30,1,1+ROUNDUP((AL38-30)/30,0)),1) -> #DIV/0! | I43: =ROUNDDOWN(AL38/25,1) -> #DIV/0!
A45: ＜人員基準に関する実人数集計＞
C46: =IF(VLOOKUP($AK$1,[7]選択肢!$A$1:$J$32,C51,FALSE)=0,"-",VLOOKUP($AK$1,[7]選択肢!$A$1:$J$32,C51,FALSE)) -> 管理者 | E46: =IF(VLOOKUP($AK$1,[7]選択肢!$A$1:$J$32,E51,FALSE)=0,"-",VLOOKUP($AK$1,[7]選択肢!$A$1:$J$32,E51,FALSE)) -> サービス管理責任者 | I46: =IF(VLOOKUP($AK$1,[7]選択肢!$A$1:$J$32,I51,FALSE)=0,"-",VLOOKUP($AK$1,[7]選択肢!$A$1:$J$32,I51,FALSE)) -> 地域生活支援員 | O46: =IF(VLOOKUP($AK$1,[7]選択肢!$A$1:$J$32,O51,FALSE)=0,"-",VLOOKUP($AK$1,[7]選択肢!$A$1:$J$32,O51,FALSE)) -> - | U46: =IF(VLOOKUP($AK$1,[7]選択肢!$A$1:$J$32,U51,FALSE)=0,"-",VLOOKUP($AK$1,[7]選択肢!$A$1:$J$32,U51,FALSE)) -> - | AA46: =IF(VLOOKUP($AK$1,[7]選択肢!$A$1:$J$32,AA51,FALSE)=0,"-",VLOOKUP($AK$1,[7]選択肢!$A$1:$J$32,AA51,FALSE)) -> - | AG46: =IF(VLOOKUP($AK$1,[7]選択肢!$A$1:$J$32,AG51,FALSE)=0,"-",VLOOKUP($AK$1,[7]選択肢!$A$1:$J$32,AG51,FALSE)) -> - | AL46: =IF(VLOOKUP($AK$1,[7]選択肢!$A$1:$J$32,AL51,FALSE)=0,"-",VLOOKUP($AK$1,[7]選択肢!$A$1:$J$32,AL51,FALSE)) -> -
C47: 専従 | D47: 兼務 | E47: 専従 | F47: 兼務 | I47: 専従 | L47: 兼務 | O47: 専従 | R47: 兼務 | U47: 専従 | X47: 兼務 | AA47: 専従 | AD47: 兼務 | AG47: 専従 | AJ47: 兼務 | AL47: 専従 | AM47: 兼務
B48: 常勤 | C48: =COUNTIFS($B$11:$B$30,C$46,$C$11:$C$30,"A",$E$11:$E$30,"*") -> 0 | D48: =COUNTIFS($B$11:$B$30,C$46,$C$11:$C$30,"B",$E$11:$E$30,"*") -> 0 | E48: =COUNTIFS($B$11:$B$30,E$46,$C$11:$C$30,"A",$E$11:$E$30,"*") -> 0 | F48: =COUNTIFS($B$11:$B$30,E$46,$C$11:$C$30,"B",$E$11:$E$30,"*") -> 0 | I48: =COUNTIFS($B$11:$B$30,I$46,$C$11:$C$30,"A",$E$11:$E$30,"*") -> 0 | L48: =COUNTIFS($B$11:$B$30,I$46,$C$11:$C$30,"B",$E$11:$E$30,"*") -> 0 | O48: =COUNTIFS($B$11:$B$30,O$46,$C$11:$C$30,"A",$E$11:$E$30,"*") -> 0 | R48: =COUNTIFS($B$11:$B$30,O$46,$C$11:$C$30,"B",$E$11:$E$30,"*") -> 0 | U48: =COUNTIFS($B$11:$B$30,U$46,$C$11:$C$30,"A",$E$11:$E$30,"*") -> 0 | X48: =COUNTIFS($B$11:$B$30,U$46,$C$11:$C$30,"B",$E$11:$E$30,"*") -> 0 | AA48: =COUNTIFS($B$11:$B$30,AA$46,$C$11:$C$30,"A",$E$11:$E$30,"*") -> 0 | AD48: =COUNTIFS($B$11:$B$30,AA$46,$C$11:$C$30,"B",$E$11:$E$30,"*") -> 0 | AG48: =COUNTIFS($B$11:$B$30,AG$46,$C$11:$C$30,"A",$E$11:$E$30,"*") -> 0 | AJ48: =COUNTIFS($B$11:$B$30,AG$46,$C$11:$C$30,"B",$E$11:$E$30,"*") -> 0 | AL48: =COUNTIFS($B$11:$B$30,AL$46,$C$11:$C$30,"A",$E$11:$E$30,"*") -> 0 | AM48: =COUNTIFS($B$11:$B$30,AL$46,$C$11:$C$30,"B",$E$11:$E$30,"*") -> 0
B49: 非常勤 | C49: =COUNTIFS($B$11:$B$30,C$46,$C$11:$C$30,"C",$E$11:$E$30,"*") -> 0 | D49: =COUNTIFS($B$11:$B$30,C$46,$C$11:$C$30,"D",$E$11:$E$30,"*") -> 0 | E49: =COUNTIFS($B$11:$B$30,E$46,$C$11:$C$30,"C",$E$11:$E$30,"*") -> 0 | F49: =COUNTIFS($B$11:$B$30,E$46,$C$11:$C$30,"D",$E$11:$E$30,"*") -> 0 | I49: =COUNTIFS($B$11:$B$30,I$46,$C$11:$C$30,"C",$E$11:$E$30,"*") -> 0 | L49: =COUNTIFS($B$11:$B$30,I$46,$C$11:$C$30,"D",$E$11:$E$30,"*") -> 0 | O49: =COUNTIFS($B$11:$B$30,O$46,$C$11:$C$30,"C",$E$11:$E$30,"*") -> 0 | R49: =COUNTIFS($B$11:$B$30,O$46,$C$11:$C$30,"D",$E$11:$E$30,"*") -> 0 | U49: =COUNTIFS($B$11:$B$30,U$46,$C$11:$C$30,"C",$E$11:$E$30,"*") -> 0 | X49: =COUNTIFS($B$11:$B$30,U$46,$C$11:$C$30,"D",$E$11:$E$30,"*") -> 0 | AA49: =COUNTIFS($B$11:$B$30,AA$46,$C$11:$C$30,"C",$E$11:$E$30,"*") -> 0 | AD49: =COUNTIFS($B$11:$B$30,AA$46,$C$11:$C$30,"D",$E$11:$E$30,"*") -> 0 | AG49: =COUNTIFS($B$11:$B$30,AG$46,$C$11:$C$30,"C",$E$11:$E$30,"*") -> 0 | AJ49: =COUNTIFS($B$11:$B$30,AG$46,$C$11:$C$30,"D",$E$11:$E$30,"*") -> 0 | AL49: =COUNTIFS($B$11:$B$30,AL$46,$C$11:$C$30,"C",$E$11:$E$30,"*") -> 0 | AM49: =COUNTIFS($B$11:$B$30,AL$46,$C$11:$C$30,"D",$E$11:$E$30,"*") -> 0
...

Sheet 勤務形態一覧表　（記載例）
A1: 従業者の勤務の体制及び勤務形態一覧表 | AI1: サービス種別 | AK1: 自立生活援助
M2: 2027 | Q2: 年 | S2: 2 | U2: 月 | AI2: 事業所名 | AK2: 東京福祉支援センター
AI3: (1)記載する期間 | AK3: ４週
AI4: (2)予定/実績の別 | AK4: 予定
AG5: (3)事業所における常勤の従業者が勤務すべき時間数 | AH5: 40 | AK5: 時間/週 | AL5: 160 | AM5: 時間/月
A7: No. | B7: (4)職種 | C7: (5)勤務形態 | D7: (6)資格 | E7: (7)氏名 | F7: (8) | AK7: (9)勤務時間数合計 | AL7: (10)週平均の勤務時間数 | AM7: (11)兼務状況 （兼務先／兼務する職務の内容）等
F8: 第１週 | M8: 第２週 | T8: 第３週 | AA8: 第４週 | AH8: 第５週
B9: ※選択肢にない職種については直接入力してください | F9: =DATE($M$2,$S$2,1) -> 46419 | G9: =DATE($M$2,$S$2,2) -> 46420 | H9: =DATE($M$2,$S$2,3) -> 46421 | I9: =DATE($M$2,$S$2,4) -> 46422 | J9: =DATE($M$2,$S$2,5) -> 46423 | K9: =DATE($M$2,$S$2,6) -> 46424 | L9: =DATE($M$2,$S$2,7) -> 46425 | M9: =DATE($M$2,$S$2,8) -> 46426 | N9: =DATE($M$2,$S$2,9) -> 46427 | O9: =DATE($M$2,$S$2,10) -> 46428 | P9: =DATE($M$2,$S$2,11) -> 46429 | Q9: =DATE($M$2,$S$2,12) -> 46430 | R9: =DATE($M$2,$S$2,13) -> 46431 | S9: =DATE($M$2,$S$2,14) -> 46432 | T9: =DATE($M$2,$S$2,15) -> 46433 | U9: =DATE($M$2,$S$2,16) -> 46434 | V9: =DATE($M$2,$S$2,17) -> 46435 | W9: =DATE($M$2,$S$2,18) -> 46436 | X9: =DATE($M$2,$S$2,19) -> 46437 | Y9: =DATE($M$2,$S$2,20) -> 46438 | Z9: =DATE($M$2,$S$2,21) -> 46439 | AA9: =DATE($M$2,$S$2,22) -> 46440 | AB9: =DATE($M$2,$S$2,23) -> 46441 | AC9: =DATE($M$2,$S$2,24) -> 46442 | AD9: =DATE($M$2,$S$2,25) -> 46443 | AE9: =DATE($M$2,$S$2,26) -> 46444 | AF9: =DATE($M$2,$S$2,27) -> 46445 | AG9: =DATE($M$2,$S$2,28) -> 46446 | AH9: =IF(DAY(EOMONTH(F9,0))<29,"",DATE($M$2,$S$2,29)) | AI9: =IF(DAY(EOMONTH(F9,0))<30,"",DATE($M$2,$S$2,30)) | AJ9: =IF(DAY(EOMONTH(F9,0))<31,"",DATE($M$2,$S$2,31))
F10: =DATE($M$2,$S$2,1) -> 46419 | G10: =DATE($M$2,$S$2,2) -> 46420 | H10: =DATE($M$2,$S$2,3) -> 46421 | I10: =DATE($M$2,$S$2,4) -> 46422 | J10: =DATE($M$2,$S$2,5) -> 46423 | K10: =DATE($M$2,$S$2,6) -> 46424 | L10: =DATE($M$2,$S$2,7) -> 46425 | M10: =DATE($M$2,$S$2,8) -> 46426 | N10: =DATE($M$2,$S$2,9) -> 46427 | O10: =DATE($M$2,$S$2,10) -> 46428 | P10: =DATE($M$2,$S$2,11) -> 46429 | Q10: =DATE($M$2,$S$2,12) -> 46430 | R10: =DATE($M$2,$S$2,13) -> 46431 | S10: =DATE($M$2,$S$2,14) -> 46432 | T10: =DATE($M$2,$S$2,15) -> 46433 | U10: =DATE($M$2,$S$2,16) -> 46434 | V10: =DATE($M$2,$S$2,17) -> 46435 | W10: =DATE($M$2,$S$2,18) -> 46436 | X10: =DATE($M$2,$S$2,19) -> 46437 | Y10: =DATE($M$2,$S$2,20) -> 46438 | Z10: =DATE($M$2,$S$2,21) -> 46439 | AA10: =DATE($M$2,$S$2,22) -> 46440 | AB10: =DATE($M$2,$S$2,23) -> 46441 | AC10: =DATE($M$2,$S$2,24) -> 46442 | AD10: =DATE($M$2,$S$2,25) -> 46443 | AE10: =DATE($M$2,$S$2,26) -> 46444 | AF10: =DATE($M$2,$S$2,27) -> 46445 | AG10: =DATE($M$2,$S$2,28) -> 46446 | AH10: =IF(DAY(EOMONTH(F10,0))<29,"",DATE($M$2,$S$2,29)) | AI10: =IF(DAY(EOMONTH(F10,0))<30,"",DATE($M$2,$S$2,30)) | AJ10: =IF(DAY(EOMONTH(F10,0))<31,"",DATE($M$2,$S$2,31))
A11: 1 | B11: 管理者 | C11: B | D11: 精神保健福祉士 | E11: 介護 五郎 | F11: 1 | G11: 1 | H11: 1 | I11: 1 | J11: 1 | M11: 1 | N11: 1 | O11: 1 | P11: 1 | Q11: 1 | T11: 1 | U11: 1 | V11: 1 | W11: 1 | X11: 1 | AA11: 1 | AB11: 1 | AC11: 1 | AD11: 1 | AE11: 1 | AK11: =+SUM(F11:AJ11) -> 20 | AL11: =IF($AK$3="４週",AK11/4,AK11/(DAY(EOMONTH($F$9,0))/7)) -> 5 | AM11: 一般相談支援事業所／管理者
A12: 2 | B12: サービス管理責任者 | C12: B | D12: 精神保健福祉士 | E12: 介護 五郎 | F12: 2 | G12: 2 | H12: 2 | I12: 2 | J12: 2 | M12: 2 | N12: 2 | O12: 2 | P12: 2 | Q12: 2 | T12: 2 | U12: 2 | V12: 2 | W12: 2 | X12: 2 | AA12: 2 | AB12: 2 | AC12: 2 | AD12: 2 | AE12: 2 | AK12: =+SUM(F12:AJ12) -> 40 | AL12: =IF($AK$3="４週",AK12/4,AK12/(DAY(EOMONTH($F$9,0))/7)) -> 10 | AM12: 一般相談支援事業所／管理者
A13: 3 | B13: 地域生活支援員 | C13: B | E13: 都庁 太郎 | F13: 2 | G13: 2 | H13: 2 | I13: 2 | J13: 2 | M13: 2 | N13: 2 | O13: 2 | P13: 2 | Q13: 2 | T13: 2 | U13: 2 | V13: 2 | W13: 2 | X13: 2 | AA13: 2 | AB13: 2 | AC13: 2 | AD13: 2 | AE13: 2 | AK13: =+SUM(F13:AJ13) -> 40 | AL13: =IF($AK$3="４週",AK13/4,AK13/(DAY(EOMONTH($F$9,0))/7)) -> 10 | AM13: 一般相談支援事業所／相談支援員
A14: 4 | B14: 地域生活支援員 | C14: C | E14: 都庁 花子 | F14: 4 | H14: 4 | J14: 4 | M14: 4 | O14: 4 | Q14: 4 | T14: 4 | V14: 4 | X14: 4 | AA14: 4 | AC14: 4 | AE14: 4 | AK14: =+SUM(F14:AJ14) -> 48 | AL14: =IF($AK$3="４週",AK14/4,AK14/(DAY(EOMONTH($F$9,0))/7)) -> 12
A15: 5 | AK15: =+SUM(F15:AJ15) -> 0 | AL15: =IF($AK$3="４週",AK15/4,AK15/(DAY(EOMONTH($F$9,0))/7)) -> 0
A16: 6 | AK16: =+SUM(F16:AJ16) -> 0 | AL16: =IF($AK$3="４週",AK16/4,AK16/(DAY(EOMONTH($F$9,0))/7)) -> 0
A17: 7 | AK17: =+SUM(F17:AJ17) -> 0 | AL17: =IF($AK$3="４週",AK17/4,AK17/(DAY(EOMONTH($F$9,0))/7)) -> 0
A18: 8 | AK18: =+SUM(F18:AJ18) -> 0 | AL18: =IF($AK$3="４週",AK18/4,AK18/(DAY(EOMONTH($F$9,0))/7)) -> 0
A19: 9 | AK19: =+SUM(F19:AJ19) -> 0 | AL19: =IF($AK$3="４週",AK19/4,AK19/(DAY(EOMONTH($F$9,0))/7)) -> 0
A20: 10 | AK20: =+SUM(F20:AJ20) -> 0 | AL20: =IF($AK$3="４週",AK20/4,AK20/(DAY(EOMONTH($F$9,0))/7)) -> 0
A21: 11 | AK21: =+SUM(F21:AJ21) -> 0 | AL21: =IF($AK$3="４週",AK21/4,AK21/(DAY(EOMONTH($F$9,0))/7)) -> 0
A22: 12 | AK22: =+SUM(F22:AJ22) -> 0 | AL22: =IF($AK$3="４週",AK22/4,AK22/(DAY(EOMONTH($F$9,0))/7)) -> 0
A23: 13 | AK23: =+SUM(F23:AJ23) -> 0 | AL23: =IF($AK$3="４週",AK23/4,AK23/(DAY(EOMONTH($F$9,0))/7)) -> 0
A24: 14 | AK24: =+SUM(F24:AJ24) -> 0 | AL24: =IF($AK$3="４週",AK24/4,AK24/(DAY(EOMONTH($F$9,0))/7)) -> 0
A25: 15 | AK25: =+SUM(F25:AJ25) -> 0 | AL25: =IF($AK$3="４週",AK25/4,AK25/(DAY(EOMONTH($F$9,0))/7)) -> 0
A26: 16 | AK26: =+SUM(F26:AJ26) -> 0 | AL26: =IF($AK$3="４週",AK26/4,AK26/(DAY(EOMONTH($F$9,0))/7)) -> 0
... A30: 20 | AK30: =+SUM(F30:AJ30) -> 0 | AL30: =IF($AK$3="４週",AK30/4,AK30/(DAY(EOMONTH($F$9,0))/7)) -> 0
A31: 合計 | F31: =+SUM(F11:F30) -> 9 | G31: =+SUM(G11:G30) -> 5 | H31: =+SUM(H11:H30) -> 9 | I31: =+SUM(I11:I30) -> 5 | J31: =+SUM(J11:J30) -> 9 | K31: =+SUM(K11:K30) -> 0 | L31: =+SUM(L11:L30) -> 0 | M31: =+SUM(M11:M30) -> 9 | ... AJ31: =+SUM(AJ11:AJ30) -> 0 | AK31: =+SUM(F31:AJ31) -> 148 | AL31: =IF($AK$3="４週",AK31/4,AK31/(DAY(EOMONTH($F$9,0))/7)) -> 37
A32: サービス提供時間
A36: ＜前年度の平均値＞※新規申請の場合は推定数を記載ください。
D37: 4 | E37: 5 | F37: 6 | I37: 7 | L37: 8 | O37: 9 | R37: 10 | U37: 11 | X37: 12 | AA37: 1 | AD37: 2 | AG37: 3 | AJ37: 計 | AL37: 平均利用者数
A38: 利用者延べ数 | D38: 25 | E38: 25 | F38: 25 | I38: 25 | L38: 25 | O38: 25 | R38: 25 | U38: 25 | X38: 25 | AA38: 25 | AD38: 25 | AG38: 25 | AJ38: =SUM(D38:AI38) -> 300 | AL38: =ROUNDUP(AJ38/AJ39,1) -> 1.3
A39: 開所日数 | D39: 20 | E39: 20 | F39: 20 | I39: 20 | L39: 20 | O39: 20 | R39: 20 | U39: 20 | X39: 20 | AA39: 20 | AD39: 20 | AG39: 20 | AJ39: =+SUM(D39:AI39) -> 240
A41: ＜人員に関する基準＞
A42: 区分 | C42: サービス管理責任者 （常勤の場合） | E42: サービス管理責任者 （常勤以外の場合） | I42: 地域生活支援員の数の標準
A43: 必要な配置数 | C43: =ROUNDDOWN(IF(AL38<=60,1,1+ROUNDUP((AL38-60)/60,0)),1) -> 1 | E43: =ROUNDDOWN(IF(AL38<=30,1,1+ROUNDUP((AL38-30)/30,0)),1) -> 1 | I43: =ROUNDDOWN(AL38/25,1) -> 0
A45: ＜人員基準に関する実人数集計＞
C46: =IF(VLOOKUP($AK$1,[7]選択肢!$A$1:$J$32,C51,FALSE)=0,"-",VLOOKUP($AK$1,[7]選択肢!$A$1:$J$32,C51,FALSE)) -> 管理者 | E46: =IF(VLOOKUP($AK$1,[7]選択肢!$A$1:$J$32,E51,FALSE)=0,"-",VLOOKUP($AK$1,[7]選択肢!$A$1:$J$32,E51,FALSE)) -> サービス管理責任者 | I46: =IF(VLOOKUP($AK$1,[7]選択肢!$A$1:$J$32,I51,FALSE)=0,"-",VLOOKUP($AK$1,[7]選択肢!$A$1:$J$32,I51,FALSE)) -> 地域生活支援員 | O46: =IF(VLOOKUP($AK$1,[7]選択肢!$A$1:$J$32,O51,FALSE)=0,"-",VLOOKUP($AK$1,[7]選択肢!$A$1:$J$32,O51,FALSE)) -> - | U46: =IF(VLOOKUP($AK$1,[7]選択肢!$A$1:$J$32,U51,FALSE)=0,"-",VLOOKUP($AK$1,[7]選択肢!$A$1:$J$32,U51,FALSE)) -> - | AA46: =IF(VLOOKUP($AK$1,[7]選択肢!$A$1:$J$32,AA51,FALSE)=0,"-",VLOOKUP($AK$1,[7]選択肢!$A$1:$J$32,AA51,FALSE)) -> - | AG46: =IF(VLOOKUP($AK$1,[7]選択肢!$A$1:$J$32,AG51,FALSE)=0,"-",VLOOKUP($AK$1,[7]選択肢!$A$1:$J$32,AG51,FALSE)) -> - | AL46: =IF(VLOOKUP($AK$1,[7]選択肢!$A$1:$J$32,AL51,FALSE)=0,"-",VLOOKUP($AK$1,[7]選択肢!$A$1:$J$32,AL51,FALSE)) -> -
C47: 専従 | D47: 兼務 | E47: 専従 | F47: 兼務 | I47: 専従 | L47: 兼務 | O47: 専従 | R47: 兼務 | U47: 専従 | X47: 兼務 | AA47: 専従 | AD47: 兼務 | AG47: 専従 | AJ47: 兼務 | AL47: 専従 | AM47: 兼務
B48: 常勤 | C48: =COUNTIFS($B$11:$B$30,C$46,$C$11:$C$30,"A",$E$11:$E$30,"*") -> 0 | D48: =COUNTIFS($B$11:$B$30,C$46,$C$11:$C$30,"B",$E$11:$E$30,"*") -> 1 | E48: =COUNTIFS($B$11:$B$30,E$46,$C$11:$C$30,"A",$E$11:$E$30,"*") -> 0 | F48: =COUNTIFS($B$11:$B$30,E$46,$C$11:$C$30,"B",$E$11:$E$30,"*") -> 1 | I48: =COUNTIFS($B$11:$B$30,I$46,$C$11:$C$30,"A",$E$11:$E$30,"*") -> 0 | L48: =COUNTIFS($B$11:$B$30,I$46,$C$11:$C$30,"B",$E$11:$E$30,"*") -> 1 | O48: =COUNTIFS($B$11:$B$30,O$46,$C$11:$C$30,"A",$E$11:$E$30,"*") -> 0 | R48: =COUNTIFS($B$11:$B$30,O$46,$C$11:$C$30,"B",$E$11:$E$30,"*") -> 0 | U48: =COUNTIFS($B$11:$B$30,U$46,$C$11:$C$30,"A",$E$11:$E$30,"*") -> 0 | X48: =COUNTIFS($B$11:$B$30,U$46,$C$11:$C$30,"B",$E$11:$E$30,"*") -> 0 | AA48: =COUNTIFS($B$11:$B$30,AA$46,$C$11:$C$30,"A",$E$11:$E$30,"*") -> 0 | AD48: =COUNTIFS($B$11:$B$30,AA$46,$C$11:$C$30,"B",$E$11:$E$30,"*") -> 0 | AG48: =COUNTIFS($B$11:$B$30,AG$46,$C$11:$C$30,"A",$E$11:$E$30,"*") -> 0 | AJ48: =COUNTIFS($B$11:$B$30,AG$46,$C$11:$C$30,"B",$E$11:$E$30,"*") -> 0 | AL48: =COUNTIFS($B$11:$B$30,AL$46,$C$11:$C$30,"A",$E$11:$E$30,"*") -> 0 | AM48: =COUNTIFS($B$11:$B$30,AL$46,$C$11:$C$30,"B",$E$11:$E$30,"*") -> 0
B49: 非常勤 | C49: =COUNTIFS($B$11:$B$30,C$46,$C$11:$C$30,"C",$E$11:$E$30,"*") -> 0 | D49: =COUNTIFS($B$11:$B$30,C$46,$C$11:$C$30,"D",$E$11:$E$30,"*") -> 0 | E49: =COUNTIFS($B$11:$B$30,E$46,$C$11:$C$30,"C",$E$11:$E$30,"*") -> 0 | F49: =COUNTIFS($B$11:$B$30,E$46,$C$11:$C$30,"D",$E$11:$E$30,"*") -> 0 | I49: =COUNTIFS($B$11:$B$30,I$46,$C$11:$C$30,"C",$E$11:$E$30,"*") -> 1 | L49: =COUNTIFS($B$11:$B$30,I$46,$C$11:$C$30,"D",$E$11:$E$30,"*") -> 0 | O49: =COUNTIFS($B$11:$B$30,O$46,$C$11:$C$30,"C",$E$11:$E$30,"*") -> 0 | R49: =COUNTIFS($B$11:$B$30,O$46,$C$11:$C$30,"D",$E$11:$E$30,"*") -> 0 | U49: =COUNTIFS($B$11:$B$30,U$46,$C$11:$C$30,"C",$E$11:$E$30,"*") -> 0 | X49: =COUNTIFS($B$11:$B$30,U$46,$C$11:$C$30,"D",$E$11:$E$30,"*") -> 0 | AA49: =COUNTIFS($B$11:$B$30,AA$46,$C$11:$C$30,"C",$E$11:$E$30,"*") -> 0 | AD49: =COUNTIFS($B$11:$B$30,AA$46,$C$11:$C$30,"D",$E$11:$E$30,"*") -> 0 | AG49: =COUNTIFS($B$11:$B$30,AG$46,$C$11:$C$30,"C",$E$11:$E$30,"*") -> 0 | AJ49: =COUNTIFS($B$11:$B$30,AG$46,$C$11:$C$30,"D",$E$11:$E$30,"*") -> 0 | AL49: =COUNTIFS($B$11:$B$30,AL$46,$C$11:$C$30,"C",$E$11:$E$30,"*") -> 0 | AM49: =COUNTIFS($B$11:$B$30,AL$46,$C$11:$C$30,"D",$E$11:$E$30,"*") -> 0
...

Sheet 主たる障害特定理由
A1: (標準様式１)
A3: 指定障害福祉サービス等の主たる対象者を特定する理由等
B5: 事業所名
B6: 指定障害福祉サービス等の種類 | C6: 自立生活援助
A9: １ 申請に係る指定障害福祉サービス等の主たる対象者
A11: ２ 主たる対象者を１のとおり特定する理由
A13: ３ 今後における主たる対象者の拡充の予定
A14: (１)拡充予定の有無 | C14: ( 有り ・ 無し )
A15: (２)拡充予定の内容及び予定時期
A17: (３)拡充のための方策

Sheet 苦情解決措置の概要
A1: (標準様式２)
A3: 利用者(入所者)又はその家族からの苦情を解決するために講ずる措置の概要
A5: 事業所名
A6: 指定障害福祉サービス等の種類 | B6: 自立生活援助
A8: 措 置 の 概 要
A9: １ 利用者(入所者)又はその家族からの相談又は苦情等に対応する常設の窓口(連絡先)、担当者
A11: ２ 円滑かつ迅速に苦情を解決するための処理体制・手順
A13: ※具体的な対応方針
A15: ３ その他参考事項

Sheet 誓約書
A1: (標準様式３)
A2: 誓 約 書
H4: 年 | J4: 月 | L4: 日
A5: 東京都 | C5: 知事 殿
A7: 申請者 | D7: （名称）
D9: （代表者の職名・氏名）
A13: 申請者が別紙のいずれにも該当しない者であることを誓約します。
B15: ○ | C15: 別紙①： 障害福祉サービス事業者向け
C16: 別紙②： 障害者支援施設向け
C17: 別紙③： 一般相談支援事業者向け
C18: 別紙④： 特定相談支援事業者向け
C19: 別紙⑤： 障害児通所支援事業者向け
C20: 別紙⑥： 障害児入所施設向け
C21: 別紙⑦： 障害児相談支援事業者向け
B22: 注 該当する種別に○を付けてください。

Sheet 別紙①
B1: （別紙①：障害福祉サービス事業者向け）
C2: 障害者の日常生活及び社会生活を総合的に支援するための法律第３６条第３項
B4: 一 | C4: 申請者が都道府県の条例で定める者でないとき。
B5: 二 | C5: 当該申請に係るサービス事業所の従業者の知識及び技能並びに人員が、第四十三条第一項の都道府県の条例で定める基準を満たしていないとき。
B6: 三 | C6: 申請者が、第四十三条第二項の都道府県の条例で定める指定障害福祉サービスの事業の設備及び運営に関する基準に従って適正な障害福祉サービス事業の運営をすることができないと認められるとき。
B7: 四 | C7: 申請者が、禁錮以上の刑に処せられ、その執行を終わり、又は執行を受けることがなくなるまでの者であるとき。
B8: 五 | C8: 申請者が、この法律その他国民の保健医療若しくは福祉に関する法律で政令で定めるものの規定により罰金の刑に処せられ、その執行を終わり、又は執行を受けることがなくなるまでの者であるとき。
B9: 五の二 | C9: 申請者が、労働に関する法律の規定であって政令で定めるものにより罰金の刑に処せられ、その執行を終わり、又は執行を受けることがなくなるまでの者であるとき。
B10: 六 | C10: 申請者が、第五十条第一項（同条第三項において準用する場合を含む。以下この項において同じ。）、第五十一条の二十九第一項若しくは第二項又は第七十六条の三第六項の規定により指定を取り消され、その取消しの日から起算して五年を経過しない者（当該指定を取り消された者が法人である場合においては、当該取消しの処分に係る行政手続法（平成五年法律第八十八号）第十五条の規定による通知があった日前六十日以内に当該法人の役員又はそのサービス事所を管理する者その他の政令で定める使用人（以下「役員等」という。）であった者で当該取消しの日から起算して五年を経過しないものを含み、当該指定を取り消された者が法人でない場合においては、当該通知があった日前六十日以内に当該者の管理者であった者で当該取消しの日から起算して五年を経過しないものを含む。）であるとき。ただし、当該指定の取消しが、指定障害福祉サービス事業者の指定の取消しのうち当該指定の取消しの処分の理由となった事実及び当該事実の発生を防止するための当該指定障害福祉サービス事業者による業務管理体制の整備についての取組の状況その他の当該事実に関して当該指定障害福祉サービス事業者が有していた責任の程度を考慮して、この号本文に規定する指定の取消しに該当しないこととすることが相当であると認められるものとして主務省令で定めるものに該当する場合を除く。
B11: 七 | C11: 申請者と密接な関係を有する者（申請者（法人に限る。以下この号において同じ。）の株式の所有その他の事由を通じて当該申請者の事業を実質的に支配し、若しくはその事業に重要な影響を与える関係にある者として主務省令で定めるもの（以下この号において「申請者の親会社等」という。）、申請者の親会社等が株式の所有その他の事由を通じてその事業を実質的に支配し、若しくはその事業に重要な影響を与える関係にある者として主務省令で定めるもの又は当該申請者が株式の所有その他の事由を通じてその事業を実質的に支配し、若しくはその事業に重要な影響を与える関係にある者として主務省令で定めるもののうち、当該申請者と主務省令で定める密接な関係を有する法人をいう。）が、第五十条第一項、第五十一条の二十九第一項若しくは第二項又は第七十六条の三第六項の規定により指定を取り消され、その取消しの日から起算して五年を経過していないとき。ただし、当該指定の取消しが、指定障害福祉サービス事業者の指定の取消しのうち当該指定の取消しの処分の理由となった事実及び当該事実の発生を防止するための当該指定障害福祉サービス事業者による業務管理体制の整備についての取組の状況その他の当該事実に関して当該指定障害福祉サービス事業者が有していた責任の程度を考慮して、この号本文に規定する指定の取消しに該当しないこととすることが相当であると認められるものとして主務省令で定めるものに該当する場合を除く。
B12: 八 | C12: 申請者が、第五十条第一項、第五十一条の二十九第一項若しくは第二項又は第七十六条の三第六項の規定による指定の取消しの処分に係る行政手続法第十五条の規定による通知があった日から当該処分をする日又は処分をしないことを決定する日までの間に第四十六条第二項又は第五十一条の二十五第二項若しくは第四項の規定による事業の廃止の届出をした者（当該事業の廃止について相当の理由がある者を除く。）で、当該届出の日から起算して五年を経過しないものであるとき。
B13: 九 | C13: 申請者が、第四十八条第一項（同条第三項において準用する場合を含む。）又は第五十一条の二十七第一項若しくは第二項の規定による検査が行われた日から聴聞決定予定日（当該検査の結果に基づき第五十条第一項又は第五十一条の二十九第一項若しくは第二項の規定による指定の取消しの処分に係る聴聞を行うか否かの決定をすることが見込まれる日として主務省令で定めるところにより都道府県知事が当該申請者に当該検査が行われた日から十日以内に特定の日を通知した場合における当該特定の日をいう。）までの間に第四十六条第二項又は第五十一条の二十五第二項若しくは第四項の規定による事業の廃止の届出をした者（当該事業の廃止について相当の理由がある者を除く。）で、当該届出の日から起算して五年を経過しないものであるとき。
B14: 十 | C14: 第八号に規定する期間内に第四十六条第二項又は第五十一条の二十五第二項若しくは第四項の規定による事業の廃止の届出があった場合において、申請者が、同号の通知の日前六十日以内に当該届出に係る法人（当該事業の廃止について相当の理由がある法人を除く。）の役員等又は当該届出に係る法人でない者（当該事業の廃止について相当の理由がある者を除く。）の管理者であった者で、当該届出の日から起算して五年を経過しないものであるとき。
B15: 十一 | C15: 申請者が、指定の申請前五年以内に障害福祉サービスに関し不正又は著しく不当な行為をした者であるとき。
... B17: 十三 | C17: 申請者が、法人でない者で、その管理者が第四号から第六号まで又は第八号から第十一号までのいずれかに該当する者であるとき。
B18: ※療養介護に係る指定の申請にあっては、第七号を除く。

Sheet 事業開始届 
B2: 東京都知事 殿 | O2: 令和 年 月 日
G4: 届出者 氏名
I5: （法人の場合は名称）
F8: 自立生活援助 | N8: 事業開始届
C10: このたび、標記の事業を開始しますので、下記により届け出ます。
K12: 記
C14: 事業 | E14: 種類
E16: 内容
C18: 経営者 | E18: 氏名（法人の場合は名称）
E20: 住所
E22: （法人の場合は主たる事務所の所在地）
C23: 条例、定款その他の基本約款 | J23: 別紙のとおり
C24: 職員の職種 | G24: 職務内容 | P24: 職員の定数
C25: 管理者 | S25: 人
C27: サービス管理責任者 | S27: 人
C29: 地域生活支援員 | S29: 人
N31: 合計 | S31: 人
C33: 主な職員の氏名及び経歴 | J33: 別紙のとおり
C34: 事業を行おうとする区域
C35: （区市町村の委託事業については区市町村名も含む）
C36: 事業開始予定年月日 | J36: 令和 年 月 日
C37: 収支予算書及び事業計画書 | J37: 別紙のとおり
C38: 事業所平面図及び部屋別面積表
C40: この紙面は、事業開始の届出を行おうとする方に「参考例」として示すものであり、届出の様式を定めるものではありません。

Sheet 事業開始届（記載例）
B2: 東京都知事 殿 | O2: 令和 年 月 日
G4: 届出者 氏名
I5: （法人の場合は名称） | N5: 社会福祉法人 東京介護
F8: 自立生活援助 | N8: 事業開始届
C10: このたび、標記の事業を開始しますので、下記により届け出ます。
K12: 記
C14: 事業 | E14: 種類 | J14: 自立生活援助
E16: 内容 | J16: 定期的な巡回訪問等により障害者の状況を把握し、助言並びに相談、関係機関との連絡調整等の必要な措置を講じる
C18: 経営者 | E18: 氏名（法人の場合は名称） | J18: 社会福祉法人東京介護
E20: 住所 | J20: 〒○○○-○○○○ 東京都新宿区西新宿２－８－１
E22: （法人の場合は主たる事務所の所在地）
C23: 条例、定款その他の基本約款 | J23: 別紙のとおり
C24: 職員の職種 | G24: 職務内容 | P24: 職員の定数
C25: 管理者 | G25: 事業所全体の管理 | R25: 1 | S25: 人
P26: （サービス管理責任者と兼務）
C27: サービス管理責任者 | G27: 個別支援計画の作成 | R27: 1 | S27: 人
C29: 地域生活支援員 | G29: 定期的又は随時の訪問、相談、情報提供、助言その他必要な支援を行う。 | R29: 2 | S29: 人
N31: 合計 | R31: 4 | S31: 人
C33: 主な職員の氏名及び経歴 | J33: 別紙のとおり
C34: 事業を行おうとする区域 | J34: ○○区、△△区、◇◇区
C35: （区市町村の委託事業については区市町村名も含む）
C36: 事業開始予定年月日 | J36: 令和 ９年 ２月 １日
C37: 収支予算書及び事業計画書 | J37: 別紙のとおり
C38: 事業所平面図及び部屋別面積表 | J38: 別紙のとおり
C40: この紙面は、事業開始の届出を行おうとする方に「参考例」として示すものであり、届出の様式を定めるものではありません。

Sheet 事業計画書
B2: （参考）
A3: 自立生活援助事業計画書
M6: （法人名）
B8: １ 事業の方針
B11: ２ 事業所名及び所在地
B14: ３ 従業者の人数（この人数は付表と一致する）
B15: 管理者 | L15: 名
B16: サービス管理責任者 | L16: 名
B17: 地域生活支援員 | L17: 名
B20: ４ 契約利用者予定数
B21: 名
B24: ５ サービス提供予定時間（月間及び年間）（この時間数（１ヶ月分）は勤務表の時間と調整する）
B25: １人月当たり | F25: 時間（※収入の積算根拠となる時間）
B28: ６ 収支予算書
B29: 別紙のとおり
C31: 上記に基づき収支予算書を作成し添付してください。
C32: 人件費以外の経費は他の事業と按分して記載してください。
C33: 経費支出按分が難しい場合は、収入は自立生活援助給付費収入と介護給付費等
C34: 他の事業収入とを区別して明示し、支出は合計値のみで結構です。

Sheet 事業計画書（記載例）
B2: （参考）
A3: 自立生活援助事業計画書
M6: （法人名）
N7: 社会福祉法人 東京介護
B8: １ 事業の方針
B9: （運営規程の「運営の方針」等に記載された内容を記載する。）
B10: 〇〇〇
B11: ２ 事業所名及び所在地
B12: 東京福祉支援センター
B13: 東京都新宿区×××２－３３－１ △△ビル３階
B14: ３ 従業者の人数（この人数は付表と一致する）
B15: 管理者 | H15: １名
B16: サービス管理責任者 | H16: ○名
B17: 地域生活支援員 | H17: ○名
B20: ４ 契約利用者予定数
B21: ○名
B24: ５ サービス提供予定利用者延べ人数
B25: １月当たり | F25: ○○人（※収入の積算根拠となる人数）
B28: ６ 収支予算書
B29: 別紙のとおり
C31: 上記に基づき収支予算書を作成し添付してください。
C32: 人件費以外の経費は他の事業と按分して記載してください。
C33: 経費支出按分が難しい場合は、収入は自立生活援助給付費収入と介護給付費等
C34: 他の事業収入とを区別して明示し、支出は合計値のみで結構です。

Sheet 収支予算書
A1: 収支予算書
AB2: （単位：千円）
D3: 4 | E3: 月 | F3: =IF($D$3+1<=12,$D$3+1,$D$3+1-12) -> 5 | G3: 月 | H3: =IF($D$3+2<=12,$D$3+2,$D$3+2-12) -> 6 | I3: 月 | J3: =IF($D$3+3<=12,$D$3+3,$D$3+3-12) -> 7 | K3: 月 | L3: =IF($D$3+4<=12,$D$3+4,$D$3+4-12) -> 8 | M3: 月 | N3: =IF($D$3+5<=12,$D$3+5,$D$3+5-12) -> 9 | O3: 月 | P3: =IF($D$3+6<=12,$D$3+6,$D$3+6-12) -> 10 | Q3: 月 | R3: =IF($D$3+7<=12,$D$3+7,$D$3+7-12) -> 11 | S3: 月 | T3: =IF($D$3+8<=12,$D$3+8,$D$3+8-12) -> 12 | U3: 月 | V3: =IF($D$3+9<=12,$D$3+9,$D$3+9-12) -> 1 | W3: 月 | X3: =IF($D$3+10<=12,$D$3+10,$D$3+10-12) -> 2 | Y3: 月 | Z3: =IF($D$3+11<=12,$D$3+11,$D$3+11-12) -> 3 | AA3: 月 | AB3: 合計
B4: 収入見込み | C4: 利用者見込数 | E4: 人 | G4: 人 | I4: 人 | K4: 人 | M4: 人 | O4: 人 | Q4: 人 | S4: 人 | U4: 人 | W4: 人 | Y4: 人 | AA4: 人
C5: 月平均利用額 (１人当たり) | AB5: =SUM(D5:AA5) -> 0
C6: 訓練等給付費受入れ 額 | H6: =D4*D5 -> 0 | J6: =F4*F5 -> 0 | L6: =H4*H5 -> 0 | N6: =J4*J5 -> 0 | P6: =L4*L5 -> 0 | R6: =N4*N5 -> 0 | T6: =P4*P5 -> 0 | V6: =R4*R5 -> 0 | X6: =T4*T5 -> 0 | Z6: =V4*V5 -> 0 | AB6: =SUM(D6:AA6) -> 0
C7: 合計(Ａ) | D7: =D6 -> 0 | F7: =F6 -> 0 | H7: =H6 -> 0 | J7: =J6 -> 0 | L7: =L6 -> 0 | N7: =N6 -> 0 | P7: =P6 -> 0 | R7: =R6 -> 0 | T7: =T6 -> 0 | V7: =V6 -> 0 | X7: =X6 -> 0 | Z7: =Z6 -> 0 | AB7: =SUM(D7:AA7) -> 0
B8: 支出見込み | C8: 人件費 | AB8: =SUM(D8:AA8) -> 0
C9: 旅費、交通費 | AB9: =SUM(D9:AA9) -> 0
C10: 事務所賃借費 | AB10: =SUM(D10:AA10) -> 0
C11: 通信費 | AB11: =SUM(D11:AA11) -> 0
C12: 諸経費 | AB12: =SUM(D12:AA12) -> 0
C13: 合計(Ｂ) | D13: =SUM(D8:E12) -> 0 | F13: =SUM(F8:G12) -> 0 | H13: =SUM(H8:I12) -> 0 | J13: =SUM(J8:K12) -> 0 | L13: =SUM(L8:M12) -> 0 | N13: =SUM(N8:O12) -> 0 | P13: =SUM(P8:Q12) -> 0 | R13: =SUM(R8:S12) -> 0 | T13: =SUM(T8:U12) -> 0 | V13: =SUM(V8:W12) -> 0 | X13: =SUM(X8:Y12) -> 0 | Z13: =SUM(Z8:AA12) -> 0 | AB13: =SUM(AB8:AB12) -> 0
C14: 利益(Ａ－Ｂ) | D14: =D7-D13 -> 0 | F14: =F7-F13 -> 0 | H14: =H7-H13 -> 0 | J14: =J7-J13 -> 0 | L14: =L7-L13 -> 0 | N14: =N7-N13 -> 0 | P14: =P7-P13 -> 0 | R14: =R7-R13 -> 0 | T14: =T7-T13 -> 0 | V14: =V7-V13 -> 0 | X14: =X7-X13 -> 0 | Z14: =Z7-Z13 -> 0 | AB14: =AB7-AB13 -> 0
C16: ※ 事業開始月から１年分の見込額を記入してください。（支出の費目は、もっと細かく記載しても可）
C17: ※ 介護給付費は、区市町村に請求した月の翌月末に振り込まれます。
C18: （例：４月サービス提供分は、５月に請求し、６月末に振り込まれます。）
C19: ※ 諸経費には、消耗品費、光熱水費、車両管理費、研修費、宣伝広告費、租税公課、社会保険料、借入金返済、レンタル料等が見込まれます。

Sheet 収支予算書（記載例）
A1: 収支予算書(記載例）
AB2: （単位：千円）
D3: 4 | E3: 月 | F3: =IF($D$3+1<=12,$D$3+1,$D$3+1-12) -> 5 | G3: 月 | H3: =IF($D$3+2<=12,$D$3+2,$D$3+2-12) -> 6 | I3: 月 | J3: =IF($D$3+3<=12,$D$3+3,$D$3+3-12) -> 7 | K3: 月 | L3: =IF($D$3+4<=12,$D$3+4,$D$3+4-12) -> 8 | M3: 月 | N3: =IF($D$3+5<=12,$D$3+5,$D$3+5-12) -> 9 | O3: 月 | P3: =IF($D$3+6<=12,$D$3+6,$D$3+6-12) -> 10 | Q3: 月 | R3: =IF($D$3+7<=12,$D$3+7,$D$3+7-12) -> 11 | S3: 月 | T3: =IF($D$3+8<=12,$D$3+8,$D$3+8-12) -> 12 | U3: 月 | V3: =IF($D$3+9<=12,$D$3+9,$D$3+9-12) -> 1 | W3: 月 | X3: =IF($D$3+10<=12,$D$3+10,$D$3+10-12) -> 2 | Y3: 月 | Z3: =IF($D$3+11<=12,$D$3+11,$D$3+11-12) -> 3 | AA3: 月 | AB3: 合計
B4: 収入見込み | C4: 利用者見込数 | D4: 1 | E4: 人 | F4: 2 | G4: 人 | H4: 2 | I4: 人 | J4: 3 | K4: 人 | L4: 3 | M4: 人 | N4: 3 | O4: 人 | P4: 4 | Q4: 人 | R4: 4 | S4: 人 | T4: 4 | U4: 人 | V4: 3 | W4: 人 | X4: 4 | Y4: 人 | Z4: 4 | AA4: 人
C5: 月平均利用額 (１人当たり) | D5: 20 | F5: 50 | H5: 50 | J5: 100 | L5: 100 | N5: 100 | P5: 120 | R5: 120 | T5: 120 | V5: 100 | X5: 120 | Z5: 120
C6: 訓練等給付費受入れ 額 | D6: 0 | F6: 0 | H6: =D4*D5 -> 20 | J6: =F4*F5 -> 100 | L6: =H4*H5 -> 100 | N6: =J4*J5 -> 300 | P6: =L4*L5 -> 300 | R6: =N4*N5 -> 300 | T6: =P4*P5 -> 480 | V6: =R4*R5 -> 480 | X6: =T4*T5 -> 480 | Z6: =V4*V5 -> 300 | AB6: =SUM(D6:AA6) -> 2860
C7: 合計(Ａ) | D7: =D6 -> 0 | F7: =F6 -> 0 | H7: =H6 -> 20 | J7: =J6 -> 100 | L7: =L6 -> 100 | N7: =N6 -> 300 | P7: =P6 -> 300 | R7: =R6 -> 300 | T7: =T6 -> 480 | V7: =V6 -> 480 | X7: =X6 -> 480 | Z7: =Z6 -> 300 | AB7: =SUM(D7:AA7) -> 2860
B8: 支出見込み | C8: 人件費 | D8: 350 | F8: 350 | H8: 350 | J8: 350 | L8: 350 | N8: 350 | P8: 350 | R8: 350 | T8: 350 | V8: 350 | X8: 350 | Z8: 350 | AB8: =SUM(D8:Z8) -> 4200
C9: 旅費、交通費 | D9: 5 | F9: 5 | H9: 5 | J9: 5 | L9: 8 | N9: 8 | P9: 8 | R9: 8 | T9: 8 | V9: 10 | X9: 10 | Z9: 10 | AB9: =SUM(D9:Z9) -> 90
C10: 事務所賃借費 | D10: 50 | F10: 50 | H10: 50 | J10: 50 | L10: 50 | N10: 50 | P10: 50 | R10: 50 | T10: 50 | V10: 50 | X10: 50 | Z10: 50 | AB10: =SUM(D10:Z10) -> 600
C11: 通信費 | D11: 20 | F11: 20 | H11: 20 | J11: 20 | L11: 20 | N11: 20 | P11: 20 | R11: 20 | T11: 20 | V11: 20 | X11: 20 | Z11: 20 | AB11: =SUM(D11:Z11) -> 240
C12: 諸経費 | D12: 80 | F12: 60 | H12: 30 | J12: 30 | L12: 30 | N12: 30 | P12: 30 | R12: 30 | T12: 30 | V12: 30 | X12: 30 | Z12: 30 | AB12: =SUM(D12:Z12) -> 440
C13: 合計(Ｂ) | D13: =SUM(D8:D12) -> 505 | F13: =SUM(F8:F12) -> 485 | H13: =SUM(H8:H12) -> 455 | J13: =SUM(J8:J12) -> 455 | L13: =SUM(L8:L12) -> 458 | N13: =SUM(N8:N12) -> 458 | P13: =SUM(P8:P12) -> 458 | R13: =SUM(R8:R12) -> 458 | T13: =SUM(T8:T12) -> 458 | V13: =SUM(V8:V12) -> 460 | X13: =SUM(X8:X12) -> 460 | Z13: =SUM(Z8:Z12) -> 460 | AB13: =SUM(AB8:AB12) -> 5570
C14: 利益(Ａ－Ｂ) | D14: =D7-D13 -> -505 | F14: =F7-F13 -> -485 | H14: =H7-H13 -> -435 | J14: =J7-J13 -> -355 | L14: =L7-L13 -> -358 | N14: =N7-N13 -> -158 | P14: =P7-P13 -> -158 | R14: =R7-R13 -> -158 | T14: =T7-T13 -> 22 | V14: =V7-V13 -> 20 | X14: =X7-X13 -> 20 | Z14: =Z7-Z13 -> -160 | AB14: =AB7-AB13 -> -2710
C16: ※ 上記の例は、４月から事業開始の例（支出の費目は、もっと細かく記載しても可）
C17: ※ 介護給付費は、区市町村に請求した月の翌月末に振り込まれます。
C18: （例：４月サービス提供分は、５月に請求し、６月末に振り込まれます。）
C19: ※ 諸経費には、消耗品費、光熱水費、車両管理費、研修費、宣伝広告費、租税公課、社会保険料、借入金返済、レンタル料等が見込まれます。

Sheet 社会・労働保険加入状況確認票
A1: 社会福祉事業等の事業所用
A3: 貴事業所の現状等について、下記の項目に回答してください。
A4: Ⅰ．現在、厚生年金保険・健康保険に加入していますか。
B5: （該当する番号に○を付してください。また、必要事項をご記入ください。）
J6: 加入状況
B7: 加入している。 →下記のいずれかの書類の写しを提出してください。
B8: ●保険料の領収証書 ●社会保険料納入証明書
B9: ●社会保険料納入確認書
A10: 1 | B10: ●健康保険・厚生年金保険資格取得確認及び標準報酬決定通知書
B11: ●健康保険・厚生年金保険適用通知書
B12: ※上記書類を所持していない場合には事業所整理記号を下記に記載するのみで可
B13: （本社等にて加入手続が行われている場合も事業所整理記号を下記に記載するのみで可）
A17: 2 | B17: 現在、加入手続中である。
B18: 今後、加入手続を行う。
A19: 3 | B19: （申請から３ヶ月以内に適用要件（法人事業所または従業員５人以上の個人事業所）に該当する予定の場合を含む。）
B20: 令和（ | D20: ）年（ | F20: ）月頃に手続予定 | L20: （申請から３ヶ月以内の年月をご記入ください。）
A21: 4 | B21: 適用要件に該当しない。（個人事業所（法人ではない事業所）であって従業員が４名以下の場合。申請から３
B22: ヶ月以内に適用要件に該当する予定がない。）
B23: 適用要件に該当するか不明である。
A24: 5 | B24: （個人事業所（法人ではない事業所）であって、正社員と、正社員以外で１週間の所定労働時間及び１ヶ月の所定労働
B25: 日数が同じ事業所で同様の業務に従事している正社員の４分の３以上である者との合計が５人以上か不明な場合）
A27: Ⅱ．現在、労働者災害補償保険・雇用保険に加入していますか。
B28: （該当する番号に○を付してください。また、必要事項をご記入ください。）
J29: 加入状況
B30: 加入している。 →下記のいずれかの書類の写しを提出してください。
B31: ●労働保険概算・確定保険料申告書
B32: ●納付書・領収証書 ●保険関係成立届
A33: 1 | B33: ※上記書類を所持していない場合には労働保険番号を下記に記載するのみで可。
B34: （本社等にて加入手続が行われている場合も労働保険番号を下記に記載するのみで可。）
O36: －
A38: 2 | B38: 現在、加入手続中である。
A39: 3 | B39: 今後、加入手続を行う。（申請から３ヶ月以内に従業員（パート・アルバイトを含む。）を雇う予定がある場合を含む。）
B40: 令和（ | D40: ）年（ | F40: ）月頃に手続予定 | L40: （申請から３ヶ月以内の年月をご記入ください。）
A41: 4 | B41: 適用要件に該当しない。（事業主・役員・同居の親族のみで経営、従業員（パート・アルバイトを含む。）がい
B42: ない、申請から３ヶ月以内に従業員を雇う予定がない。）
A44: 回答年月日 | E44: 令和 | G44: 年 | I44: 月 | K44: 日
A45: 事業所名称
A46: 事業所所在地
A47: 会社等法人番号
A48: 電話番号
...

Sheet 情報公表制度用Eメールアドレス登録票
A23: ◎障害福祉サービス等情報公表システム
A24: https://www.wam.go.jp/sfkohyoout/COP000100E0000.do
A25: ◎障害福祉サービス等情報公表システム関係連絡板 (wam.go.jp)
A26: https://www.wam.go.jp/content/wamnet/pcpub/top/shofukuinfopub/jigyo/
A28: 法人名
A29: 事業所名
A30: ご担当者
A31: 連絡先 | B31: TEL：
B32: FAX：
A33: 事業所番号
A34: 事業所種別 | B34: 自立生活援助
A35: 障害福祉サービス等情報公表システム用 Ｅメールアドレス （法人ごと）

Sheet 選択肢
A1: ！申請するサービス類型を選択してください | B1: 職種① | C1: 職種② | D1: 職種③ | E1: 職種④ | F1: 職種⑤ | G1: 職種⑥ | H1: 職種⑦ | I1: 職種⑧ | J1: 職種⑨ | K1: 職種⑩
A2: 居宅介護 | B2: 管理者 | C2: サービス提供責任者 | D2: 従業者
A3: 重度訪問介護 | B3: 管理者 | C3: サービス提供責任者 | D3: 従業者
A4: 同行援護 | B4: 管理者 | C4: サービス提供責任者 | D4: 従業者
A5: 行動援護 | B5: 管理者 | C5: サービス提供責任者 | D5: 従業者
A6: 療養介護 | B6: 管理者 | C6: サービス管理責任者 | D6: 医師 | E6: 看護職員 | F6: 生活支援員
A7: 生活介護 | B7: 管理者 | C7: サービス管理責任者 | D7: 医師 | E7: 看護職員 | F7: 理学療法士 | G7: 作業療法士 | H7: 言語聴覚士 | I7: 生活支援員
A8: 短期入所・併設型 | B8: 管理者 | C8: 生活支援員
A9: 短期入所・空床利用型 | B9: 管理者 | C9: 生活支援員
A10: 短期入所・単独型 | B10: 管理者 | C10: 生活支援員
A11: 重度障害者等包括支援 | B11: 管理者 | C11: サービス提供責任者 | D11: 従業者
A12: 共同生活援助・介護サービス包括型 | B12: 管理者 | C12: サービス管理責任者 | D12: 世話人 | E12: 生活支援員
A13: 共同生活援助・外部サービス利用型 | B13: 管理者 | C13: サービス管理責任者 | D13: 世話人
A14: 共同生活援助・日中サービス支援型 | B14: 管理者 | C14: サービス管理責任者 | D14: 世話人 | E14: 生活支援員 | F14: 夜間支援従事者
A15: 障害者支援施設 | B15: 管理者 | C15: サービス管理責任者 | D15: 医師 | E15: 看護職員 | F15: 理学療法士 | G15: 作業療法士 | H15: 言語聴覚士 | I15: 就労支援員 | J15: 職業指導員 | K15: 生活支援員
A16: 機能訓練 | B16: 管理者 | C16: サービス管理責任者 | D16: 看護職員 | E16: 理学療法士 | F16: 作業療法士 | G16: 言語聴覚士 | H16: 生活支援員
A17: 生活訓練 | B17: 管理者 | C17: サービス管理責任者 | D17: 地域移行支援員 | E17: 生活支援員
A18: 就労選択支援 | B18: 管理者 | C18: 就労選択支援員
A19: 就労移行支援 | B19: 管理者 | C19: サービス管理責任者 | D19: 就労支援員 | E19: 職業指導員 | F19: 生活支援員
A20: 認定指定就労移行支援 | B20: 管理者 | C20: サービス管理責任者 | D20: 職業指導員 | E20: 生活支援員
A21: 就労継続支援Ａ型・Ｂ型 | B21: 管理者 | C21: サービス管理責任者 | D21: 職業指導員 | E21: 生活支援員
A22: 一般相談支援事業 | B22: 管理者 | C22: 相談支援専門員（従事者） | D22: 従事者
A23: 就労定着支援 | B23: 管理者 | C23: サービス管理責任者 | D23: 就労定着支援員
A24: 自立生活援助 | B24: 管理者 | C24: サービス管理責任者 | D24: 地域生活支援員
A25: 特定相談支援・障害児相談支援 | B25: 管理者 | C25: 相談支援専門員 | D25: 相談支援員
A26: 児童発達支援・放課後等デイサービス | B26: 管理者 | C26: 児童発達支援管理責任者 | D26: 児童指導員 | E26: 保育士 | F26: 機能訓練担当職員 | G26: 看護職員 | H26: その他職員
A27: 児童発達支援・主として重症心身障害児を対象とする場合 | B27: 管理者 | C27: 児童発達支援管理責任者 | D27: 嘱託医 | E27: 看護職員 | F27: 児童指導員 | G27: 保育士 | H27: 機能訓練担当職員 | I27: その他職員
A28: 児童発達支援・児童発達支援センターであるもの | B28: 管理者 | C28: 児童発達支援管理責任者 | D28: 嘱託医 | E28: 児童指導員 | F28: 保育士 | G28: 栄養士 | H28: 調理員 | I28: 機能訓練担当職員 | J28: 看護職員 | K28: その他職員
A29: 保育所等訪問支援 | B29: 管理者 | C29: 児童発達支援管理責任者 | D29: 訪問支援員
A30: 居宅訪問型児童発達支援 | B30: 管理者 | C30: 児童発達支援管理責任者 | D30: 訪問支援員
A31: 福祉型障害児入所施設 | B31: 管理者 | C31: 児童発達支援管理責任者 | D31: 医師 | E31: 看護職員 | F31: 児童指導員 | G31: 保育士 | H31: 栄養士 | I31: 調理員 | J31: 心理担当職員
A32: 医療型障害児入所施設 | B32: 児童発達支援管理責任者 | C32: 医師 | D32: 看護職員 | E32: 児童指導員 | F32: 保育士 | G32: 心理担当職員 | H32: 理学療法士又は作業療法士 | I32: 職業指導員
