Workbook
Name _____________________________________________________________________kk29: #REF!
Name ____________________________________________________________________kk29: #REF!
Name ___________________________________________________________________kk29: #REF!
Name __________________________________________________________________kk06: #REF!
Name __________________________________________________________________kk29: #REF!
Name _________________________________________________________________kk06: #REF!
Name _________________________________________________________________kk29: #REF!
Name ________________________________________________________________kk06: #REF!
Name ________________________________________________________________kk29: #REF!
Name _______________________________________________________________kk06: #REF!
Name _______________________________________________________________kk29: #REF!
Name ______________________________________________________________kk06: #REF!
Name ______________________________________________________________kk29: #REF!
Name _____________________________________________________________kk06: #REF!
Name _____________________________________________________________kk29: #REF!
Name ____________________________________________________________kk06: #REF!
Name ____________________________________________________________kk29: #REF!
Name ___________________________________________________________kk06: #REF!
Name ___________________________________________________________kk29: #REF!
Name __________________________________________________________kk06: #REF!
Name __________________________________________________________kk29: #REF!
Name _________________________________________________________kk06: #REF!
Name _________________________________________________________kk29: #REF!
Name ________________________________________________________kk06: #REF!
Name ________________________________________________________kk29: #REF!
Name _______________________________________________________kk06: #REF!
Name _______________________________________________________kk29: #REF!
Name ______________________________________________________kk06: #REF!
Name ______________________________________________________kk29: #REF!
Name _____________________________________________________kk06: #REF!
Name _____________________________________________________kk29: #REF!
Name ____________________________________________________kk06: #REF!
Name ____________________________________________________kk29: #REF!
Name ___________________________________________________kk06: #REF!
Name ___________________________________________________kk29: #REF!
Name __________________________________________________kk06: #REF!
Name __________________________________________________kk29: #REF!
Name _________________________________________________kk06: #REF!
Name _________________________________________________kk29: #REF!
Name ________________________________________________kk06: #REF!
Name ________________________________________________kk29: #REF!
Name _______________________________________________kk06: #REF!
Name _______________________________________________kk29: #REF!
Name ______________________________________________kk06: #REF!
Name ______________________________________________kk29: #REF!
Name _____________________________________________kk06: #REF!
Name _____________________________________________kk29: #REF!
Name ____________________________________________kk06: #REF!
Name ____________________________________________kk29: #REF!
Name ___________________________________________kk06: #REF!
Name ___________________________________________kk29: #REF!
Name __________________________________________kk06: #REF!
Name __________________________________________kk29: #REF!
Name _________________________________________kk06: #REF!
Name _________________________________________kk29: #REF!
Name ________________________________________kk06: #REF!
Name ________________________________________kk29: #REF!
Name _______________________________________kk06: #REF!
Name _______________________________________kk29: #REF!
Name ______________________________________kk06: #REF!

Sheet 変更届の提出書類一覧
I1: ＜提出期限＞ ◆報酬（加算等）に関する体制に係る変更届 ・報酬が増加する場合 届出が１５日以前になされた場合は翌月から 届出が１６日以降になされた場合は翌々月から算定開始 速やかに届出⇒事実が発生した日から算定を変更 ・報酬が減少する場合 ◆その他、下記変更事項に係る変更届 変更があった日から１０日以内に届け出てください。
B3: 変更届の提出は、事業所単位になります
B5: ● ・・・ 必須書類
B6: ▲ ・・・ 変更内容次第で提出が必要となる書類
A8: 変更事項 | D8: 変更届出書 | E8: 指定自立生活援助事業所の指定等に係る記載事項 | F8: 他の事業所又は施設の従事者と兼務の状況 | G8: 介護給付費等の算定に係る体制等状況一覧表 | H8: 登記簿謄本 （履歴事項全部証明書） | I8: 条例等 | J8: 平面図 (図面が用意できない場合は参考様式に記載）・ 周辺地図 | K8: 経歴書 | L8: サービス管理責任者研修修了証等 | M8: サービス管理責任者に係る資格証の写し | N8: サービス管理責任者実務経験証明書 | O8: 運営 規程 | P8: 従業者の勤務の体制及び勤務形態一覧表 | Q8: 誓約書 | R8: 主たる対象者を特定する 理由 | S8: 各加算 届出様式 | T8: その他 | U8: 備 考
D9: 別紙 様式 第二号 | E9: 付表１１ | F9: 別紙2 | G9: 別紙1-1 | H9: （法人の場合） | I9: （公設や公営の場合） | J9: 参考 様式 １ | K9: 参考 様式 ２ | P9: 標準 様式 ４ | Q9: 標準 様式 ３ | R9: 標準 様式 １
A10: 事業所の名称 | D10: ● | E10: ● | I10: ▲ | O10: ●
A11: 事業所の所在地 | D11: ● | E11: ● | I11: ▲ | J11: ● | O11: ●
A12: 事業所の連絡先（電話番号） | D12: ● | E12: ● | O12: ▲ | U12: 電話番号変更に伴い、、運営規程等に変更がないかご確認ください。
A13: 申請者（法人等）の名称 | D13: ● | H13: ● | O13: ●
A14: 申請者（法人等）の主たる事務所の 所在地 | D14: ● | H14: ● | I14: ▲
A15: 申請者の代表者の氏名、住所及び職名 | D15: ● | H15: ● | Q15: ●
A16: 登記事項証明書又は条例等 （当該事業に関するもの） | D16: ● | H16: ● | Q16: ●
A17: 事業所の平面図 （事務室、相談室等の設置場所） | D17: ● | E17: ● | J17: ●
A18: 管理者 （氏名、住所変更含む） | D18: ● | E18: ● | K18: ● | O18: ▲ | P18: ● | Q18: ● | U18: 管理者が苦情相談窓口の場合、運営規程等に変更がないかご確認ください。
A19: サービス管理責任者 （氏名、住所変更含む） | D19: ● | E19: ● | K19: ● | L19: ● | M19: ● | N19: ● | O19: ▲ | P19: ● | U19: サービス管理責任者が苦情相談窓口の場合、運営規程等に変更がないかご確認ください。
A20: 地域生活支援員 （氏名、住所変更含む） | D20: ● | E20: ● | F20: ● | K20: ● | O20: ▲ | P20: ● | U20: 地域生活支援員が苦情相談窓口の場合、運営規程等に変更がないかご確認ください。
A21: 従業者の勤務の体制及び勤務形態 | D21: ● | E21: ● | F21: ▲ | P21: ● | U21: 従業者の勤務の体制及び勤務形態の変更に伴い、兼務の状況に変更ないかご確認ください。
A22: 兼務の状況 | D22: ● | E22: ● | F22: ● | P22: ●
A23: 運営規程（利用料、その他費用含む） | D23: ● | E23: ● | O23: ● | T23: ▲ | U23: 利用者から受領する費用の変更にあたっては、事前に利用者に十分説明してください。場合により、契約書と重要事項説明書を確認させていただくことがあります。なお、苦情相談窓口等、運営規程の記載内容に変更が生じる場合は、本項目（運営規程）により届け出てください。
A24: 報酬（加算等） に関する体制 | B24: 福祉専門職配置等加算 | D24: ● | E24: ● | G24: ● | P24: ● | S24: 別紙 ３－１ | T24: ● | U24: （Ⅰ）（Ⅱ）の場合 ： 資格証の写し （Ⅲ）の場合 ： 実務経験証明書
B25: 居住支援連携体制加算 | D25: ● | E25: ● | G25: ● | S25: 別紙５５ | T25: ● | U25: 居住支援法人又は居住支援協議会との連携の計画等を示す文書を添付してください。
B26: ピアサポート体制加算 | D26: ● | E26: ● | F26: ▲ | G26: ● | P26: ● | S26: 別紙２５ | T26: ● | U26: 受講した研修の実施要綱、カリキュラム及び研修を修了したことを証明する書類及び障害者又は障害者であった者であることを確認できる書類等を添付してください。
B27: 地域生活支援拠点等に関連する加算 | D27: ● | E27: ● | G27: ● | O27: ● | S27: 別紙４７ | T27: ● | U27: ・区市町村との協定書の写し等が必要です。 ・運営規程（地域生活支援拠点等として担う機能を明記）
B28: 地域生活支援拠点等機能強化加算 | D28: ● | E28: ● | G28: ● | O28: ▲ | S28: 別紙３６ | U28: 運営規程は苦情相談窓口などの記載に変更がある場合に添付。
B29: 福祉･介護職員等処遇改善加算
A30: その他 | B30: 主たる対象者 | D30: ● | E30: ● | O30: ● | R30: ●
B31: 地域生活支援拠点等の機能 | D31: ● | E31: ● | G31: ● | O31: ● | T31: ● | U31: 区市町村との協定書の写し等が必要です。
A32: 事業所の休止／廃止 | T32: ● | U32: 休止届/廃止届、移行者リストを休/廃止の１か月前にご提出ください。また、廃止の場合は過去に補助金を受けて建物等を整備していないかご確認ください。
B33: ＜状況によっては、●▲以外の書類の提出をお願いする場合がございますので、御協力ください。＞

Sheet 変更届出書
A1: 別紙様式第二号
A2: 指定障害福祉サービス事業所/指定障害者支援施設
A3: 指定障害児通所支援事業所/指定障害児入所施設
A4: 指定特定相談支援事業所/指定一般相談支援事業所/指定障害児相談支援事業所
S5: 変更届出書
AD6: 年 | AG6: 月 | AJ6: 日
H7: 東京都 | I7: 知事 殿
S8: 所在地
O9: 申請者 | S9: 名称
S10: 代表者氏名
B12: 次のとおり指定を受けた内容を変更しましたので届け出ます。
B14: FALSE | C14: 指定障害福祉サービス事業所等の指定に係る事項の変更の届出先（以下「指定権者」という。）と指定障害福祉サービス
C15: 事業所等の業務管理体制の整備に関する事項の変更の届出先（以下「監督権者」という。）が同一の自治体であり、かつ、
C16: 変更事項が「事業所（施設）の所在地」又は「申請者の代表者の氏名、生年月日、住所及び職名」の場合であって、同事項
C17: に係る事実の確認に支障がないと認めるときは、監督権者への変更の届出又は届出書への記載については、指定権者
C18: への変更の届出があったことをもって省略させることができることとされているので、その場合には左のチェックボックス（□）
C19: に✓を付してください。なお、当該変更届出を受理した指定権者は、当該変更届出の写しを監督権者へ回付してください。
T21: 法人番号(13桁)
T22: 事業所番号
B23: 指定を受けた内容を変更した事業所又は施設 | T23: 名称
T25: 所在地
B28: サービスの種類 | T28: 自立生活援助
B29: 変更年月日 | Y29: 年 | AC29: 月 | AG29: 日
B30: 変更があった事項（該当に○） | T30: 変更の内容
D31: 事業所（施設）の名称 | T31: （変更前）
D32: 事業所（施設）の所在地
D33: 事業所（施設）の連絡先（電話番号）
D34: 申請者の名称
D35: 申請者の主たる事務所の所在地
D36: 申請者の代表者の氏名、生年月日、住所及び職名
D37: 法人等の種類
D38: 登記事項証明書又は条例等（当該事業に関するものに限る。）
D39: 共生型サービスの該当有無
D40: 事業所（施設）の構造概要・平面図・設備の概要
D41: 障害児対象事業の該当有無
D42: 利用する障害児の推定数
D43: 利用者又は入所者の定員 | T43: （変更後）
D44: 管理者の氏名、生年月日、住所及び経歴
D45: サービス管理（提供）責任者又は児童発達支援管理責任者の氏名、生年月日、住所及び経歴
D46: 指定地域相談支援の提供に当たる者又は相談支援専門員の氏名、生年月日、住所及び経歴
...

Sheet 変更届出書 (記載例)
A1: 別紙様式第二号
A2: 指定障害福祉サービス事業所/指定障害者支援施設
A3: 指定障害児通所支援事業所/指定障害児入所施設
A4: 指定特定相談支援事業所/指定一般相談支援事業所/指定障害児相談支援事業所
S5: 変更届出書
Z6: 令和８ | AD6: 年 | AE6: 7 | AG6: 月 | AH6: 1 | AJ6: 日
H7: 東京都 | I7: 知事 殿
S8: 所在地 | W8: 東京都新宿区○○○１－８－１
O9: 申請者 | S9: 名称 | W9: 社会福祉法人東京介護
S10: 代表者氏名 | Z10: 代表取締役 東京 太郎
B12: 次のとおり指定を受けた内容を変更しましたので届け出ます。
B14: TRUE | C14: 指定障害福祉サービス事業所等の指定に係る事項の変更の届出先（以下「指定権者」という。）と指定障害福祉サービス
C15: 事業所等の業務管理体制の整備に関する事項の変更の届出先（以下「監督権者」という。）が同一の自治体であり、かつ、
C16: 変更事項が「事業所（施設）の所在地」又は「申請者の代表者の氏名、生年月日、住所及び職名」の場合であって、同事項
C17: に係る事実の確認に支障がないと認めるときは、監督権者への変更の届出又は届出書への記載については、指定権者
C18: への変更の届出があったことをもって省略させることができることとされているので、その場合には左のチェックボックス（□）
C19: に✓を付してください。なお、当該変更届出を受理した指定権者は、当該変更届出の写しを監督権者へ回付してください。
T21: 法人番号(13桁) | X21: ＊ | Y21: ＊ | Z21: ＊ | AA21: ＊ | AB21: ＊ | AC21: ＊ | AD21: ＊ | AE21: ＊ | AF21: ＊ | AG21: ＊ | AH21: ＊ | AI21: ＊ | AJ21: ＊
T22: 事業所番号 | AA22: １31xxxxxxx
B23: 指定を受けた内容を変更した事業所又は施設 | T23: 名称 | W23: 東京福祉支援センター
T25: 所在地 | W25: 東京都新宿区□□２－３３－１ △△ビル３階
B28: サービスの種類 | T28: 自立生活援助
B29: 変更年月日 | T29: 令和８ | Y29: 年 | Z29: ７ | AC29: 月 | AD29: １ | AG29: 日
B30: 変更があった事項（該当に○） | T30: 変更の内容
D31: 事業所（施設）の名称 | T31: （変更前） 事業所の所在地 〒161-0023 東京都新宿区○○１－８－１ 管理者 介護 五郎 ピアサポート体制加算 なし
B32: ○ | D32: 事業所（施設）の所在地
D33: 事業所（施設）の連絡先（電話番号）
D34: 申請者の名称
D35: 申請者の主たる事務所の所在地
D36: 申請者の代表者の氏名、生年月日、住所及び職名
D37: 法人等の種類
D38: 登記事項証明書又は条例等（当該事業に関するものに限る。）
D39: 共生型サービスの該当有無
D40: 事業所（施設）の構造概要・平面図・設備の概要
D41: 障害児対象事業の該当有無
D42: 利用する障害児の推定数
D43: 利用者又は入所者の定員 | T43: （変更後） 事業所の所在地 〒161-0023 東京都新宿区□□２－８－１ 管理者 自立 一郎 ピアサポート体制加算 あり
B44: ○ | D44: 管理者の氏名、生年月日、住所及び経歴
D45: サービス管理（提供）責任者又は児童発達支援管理責任者の氏名、生年月日、住所及び経歴
D46: 指定地域相談支援の提供に当たる者又は相談支援専門員の氏名、生年月日、住所及び経歴
...

Sheet 付表１１
A1: 付表１１ 自立生活援助事業所の指定等に係る記載事項
A3: 事業所 | B3: フリガナ | C3: =[12]指定申請書!D28 -> 0
B4: 名 称 | C4: =[12]指定申請書!D29 -> 0 | Q4: 自動転記（指定申請書の事業所情報を先に入力してください。）
B5: 所在地 | C5: (郵便番号 | D5: =[12]指定申請書!E30 -> 0 | E5: - | F5: =[12]指定申請書!G30 -> 0 | G5: )
C6: =[12]指定申請書!D31 -> 0
B8: 電話番号
B9: E-Mail
A10: 管理者 | B10: フリガナ | F10: 生年月日
B11: 氏 名 | H11: 年 | J11: 月 | L11: 日
B12: 住 所 | C12: (郵便番号 | E12: - | G12: )
B15: 当該事業所で兼務する他の職種(兼務の場合記入)
B16: 他の事業所又は施設の従業者との兼務(兼務の場合記入) | D16: 事業所等の名称
D17: 兼務する職種及び勤務時間等
A19: サービス管理責任者 | B19: フリガナ | F19: 生年月日
B20: 氏 名 | H20: 年 | J20: 月 | L20: 日
B21: 住 所 | C21: (郵便番号 | E21: - | G21: )
A24: 実施主体が地方公共団体である場合は、当該事業の実施について定めてある条例等 | H24: 第 条 第 項 第 号
A25: ○人員に関する基準の確認に必要な事項
A26: 従業者の職種・員数 | C26: 居宅介護等従業者 | E26: その他の従業者
C27: 専従 | D27: 兼務 | E27: 専従 | F27: 兼務
A28: 常勤(人)
A29: 非常勤(人)
A30: 常勤換算後の人数(人)
A31: 基準上の必要人数(人)
A32: ○運営・設備に関する基準の確認に必要な事項
A33: 利用者の推定数(人)
A34: 営業日(該当する日に○) | C34: 日 | D34: 月 | E34: 火 | F34: 水 | G34: 木 | H34: 金 | J34: 土 | L34: 祝
C36: その他(年末年始等)
A37: 営業時間 | C37: 平日 | E37: ： | G37: ～ | J37: ：
C38: 土曜 | E38: ： | G38: ～ | J38: ：
C39: 日・祝 | E39: ： | G39: ～ | J39: ：
A40: 利用料
A41: その他の費用
A42: 通常の事業の実施地域
A43: (備考)
A44: １．記入欄が不足する場合は、次頁の「記入欄不足時の資料」に記載して添付してください。
A45: ２．更新の場合には、「利用者の推定数」欄は前年度の平均利用者数を記入してください。
A46: ３．「その他の費用」欄には、利用者に直接金銭の負担を求める場合のサービス内容についても記載してく ださい。
A47: 記入欄不足時の資料
A48: ■サービス管理責任者
...

Sheet 付表１１ (記載例)
A1: 付表１１ 自立生活援助事業所の指定等に係る記載事項
A3: 事業所 | B3: フリガナ | C3: =[12]指定申請書!D28 -> 0
B4: 名 称 | C4: =[12]指定申請書!D28 -> 0
B5: 所在地 | C5: (郵便番号 | D5: １６１ | E5: - | F5: ００２３
C6: 東京 | D6: 都 | E6: 新宿 | G6: 区 | H6: □□２－３３－１ △△ビル３階
B8: 電話番号 | C8: ０３-１１１１-５５５５
B9: E-Mail
A10: 管理者 | B10: フリガナ | C10: カイゴ ゴロウ | F10: 生年月日 | G10: 昭和○○年○月○日
B11: 氏 名 | C11: 介護 五郎
B12: 住 所 | C12: (郵便番号１７２－００００ | G12: )
C13: 東京都八王子市○○町５－２５－５
B15: 当該事業所で兼務する他の職種(兼務の場合記入) | H15: サービス管理責任者
B16: 他の事業所又は施設の従業者との兼務(兼務の場合記入) | D16: 事業所等の名称 | F16: 東京福祉相談支援事業所（特定・障害児相談支援事業）
D17: 兼務する職種及び勤務時間等 | F17: 管理者
F18: ９：００～１８：００
A19: サービス管理責任者 | B19: フリガナ | C19: カイゴ ゴロウ | F19: 生年月日 | G19: 昭和○○年○月○日
B20: 氏 名 | C20: 介護 五郎
B21: 住 所 | C21: (郵便番号１７２－００００ | G21: )
C22: 東京都八王子市○○町５－２５－５
A24: 実施主体が地方公共団体である場合は、当該事業の実施について定めてある条例等 | H24: 第 条 第 項 第 号
A25: ○人員に関する基準の確認に必要な事項
A26: 従業者の職種・員数 | C26: 居宅介護等従業者 | E26: その他の従業者
C27: 専従 | D27: 兼務 | E27: 専従 | F27: 兼務
A28: 常勤(人)
A29: 非常勤(人)
A30: 常勤換算後の人数(人)
A31: 基準上の必要人数(人)
A32: ○運営・設備に関する基準の確認に必要な事項
A33: 利用者の推定数(人) | C33: 25
A34: 営業日(該当する日に○) | C34: 日 | D34: 月 | E34: 火 | F34: 水 | G34: 木 | H34: 金 | J34: 土 | L34: 祝
D35: ○ | E35: ○ | F35: ○ | G35: ○ | H35: ○
C36: その他(年末年始等) | F36: 祝日及び12月29日から1月3日は除く
A37: 営業時間 | C37: 平日 | E37: ９：００ | G37: ～ | J37: １８：００
C38: 土曜 | E38: ： | G38: ～ | J38: ：
C39: 日・祝 | E39: ： | G39: ～ | J39: ：
A40: 利用料 | C40: 厚生労働大臣が定める基準による額
A41: その他の費用 | C41: 実施地域以外の交通費
A42: 通常の事業の実施地域 | C42: 〇〇区、△△区、◇◇区
A43: (備考)
A44: １．記入欄が不足する場合は、次頁の「記入欄不足時の資料」に記載して添付してください。
...

Sheet 別紙２　兼務の状況
A2: 別紙２ | I2: 他の事業所又は施設の従事者と兼務の状況について
B6: 他の事業所又は施設の従業者と兼務する従業員（サービス管理責任者・地域生活支援員）を全て記載してください。 （相談支援事業所の従業者、併設する他の障害福祉サービス事業所又は障害者支援施設等の管理者 又はサービス管理責任者の職務との兼務は除く。）
B7: 1 | D7: 氏 名 | L7: 事業所の名称
D8: フリガナ | L8: 事業の種類 | U8: 兼務する職種
D9: 氏名 | L9: 勤務時間
B10: 2 | D10: 氏 名 | L10: 事業所の名称
D11: フリガナ | L11: 事業の種類 | U11: 兼務する職種
D12: 氏名 | L12: 勤務時間
B13: 3 | D13: 氏 名 | L13: 事業所の名称
D14: フリガナ | L14: 事業の種類 | U14: 兼務する職種
D15: 氏名 | L15: 勤務時間
B16: 4 | D16: 氏 名 | L16: 事業所の名称
D17: フリガナ | L17: 事業の種類 | U17: 兼務する職種
D18: 氏名 | L18: 勤務時間
B19: 5 | D19: 氏 名 | L19: 事業所の名称
D20: フリガナ | L20: 事業の種類 | U20: 兼務する職種
D21: 氏名 | L21: 勤務時間

Sheet 平面図（記載例）
A1: （参考様式１）
A2: 平 面 図
C4: 事業所の名称 | E4: 東京福祉支援センター
H9: 洗面所
A12: 玄関 | F12: 扉 | J12: 事務室
C14: 相談室
K18: 電話機
K19: ＦＡＸ
K20: プリンター
F23: 鍵付書庫
F24: （左半分：特定障害児相談、右半分：自立生活援助）
A28: 備考１ 各室の用途を記載してください。※事務室・相談スペース・手指洗浄設備（洗面所等）が必要です。
A29: ２ 当該事業所の専用部分と他の事業所等との共有部分がある場合はそれぞれ色分けする等して使用関係を分かり易く表示してください。
A30: （例： 介護保険法の事業等と共有部分がある場合、事務机、鍵付書庫の使用部分を分かり易く表示してください。）
A31: ３ 必要な設備及び備品（机、椅子、鍵付書庫等）、を記載してください。
A32: ４ この様式は参考様式です。上記事項を満たす書類の添付に代えることも可能です。

Sheet 経歴書（管理者ほか）
A1: （参考様式２）
D2: 管 理 者 | G2: 経歴書
D3: サービス管理責任者
D4: 地域生活支援員
A7: 事業所の名称
A8: フリガナ | F8: 生年月日 | G8: 年 月 日
A9: 氏名
A11: 住所 | B11: （郵便番号 － ）
A13: 電話番号
A14: 主な職歴等
A15: 年 月 ～ 年 月 | D15: 勤務先等 | G15: 職務内容
A31: 職務に関連する資格
A32: 資格の種類 | E32: 資格取得年月日
A40: 備考（研修等の受講の状況等）
A46: 備考１ 住所・電話番号は、自宅のものを記載してください。
A47: ２ 当該管理者が管理する事業所が複数の場合は、「事業所の名称」欄を適宜拡張して、その全てを
A48: 記載してください。

Sheet 実務経験証明書
A1: （参考様式４）
A2: 実 務 経 験 証 明 書
J4: 番 号
J5: 年 月 日
E7: 施設又は事業所所在地及び名称
E9: 代表者氏名 | J9: 印
E10: 電話番号
A12: 下記の者の実務経験は、以下のとおりであることを証明します。
A14: 氏 名 | G14: （生年月日 年 月 日）
A15: 現 住 所
A16: 施設又は事業所名
D17: 施設・事業所の種別（ ）
A18: 業 務 期 間
D19: 年 月 日～ 年 月 日（ 年 月間）
A20: 業 務 内 容 | D20: 職名（ ）
D21: 業務（ 支援業務）
A26: （注） | B26: １． | C26: 施設又は事業所名欄には、障害者支援施設や就労継続支援Ｂ型等の種別も記入すること。
B27: ２． | C27: 業務期間欄は、受験申込者が要援護者に対する直接的な援助を行っていた期間を記入すること。（産休・育休・療養休暇や長期研修期間等は業務期間となりません）
C29: 現在、既に必要とする実務経験期間を満たしている場合は、実務経験証明書作成日までの期間または、退職した日までの期間を記入してください。
B31: ３． | C31: 業務内容欄は、看護師、生活指導員等の職名を記入し、受験申込者の本来業務について、老人デイサービス事業における○○業務、○○実施要綱の○○事業の○○業務等具体的に記入すること。
C34: また、療養病床の病棟等において介護業務を行った場合は明記し、当該病棟が療養病床として許可等を受けた年月日を記入すること。
B36: ４． | C36: 証明内容を訂正した場合は、証明権者の職印を押印してください。なお、修正液による訂正は認められません。

Sheet 実務経験証明書 (記載例)
A1: （参考様式４）
A2: 実 務 経 験 証 明 書
J4: 番 号
J5: 年 月 日
E7: 施設又は事業所所在地及び名称
E9: 代表者氏名 | J9: 印
E10: 電話番号
A12: 下記の者の実務経験は、以下のとおりであることを証明します。
A14: 氏 名 | D14: 介護 五郎 | G14: （生年月日 ○○ 年 ○ 月 ○ 日）
A15: 現 住 所 | D15: 東京都八王子市○○町５－２５－５
A16: 施設又は事業所名 | D16: ○○ヘルパーセンター
D17: 施設・事業所の種別（ 居宅介護事業所 ）
A18: 業 務 期 間
D19: ２００４年４月１日～２０１５年３月３１日（１０年０月間）
A20: 業 務 内 容 | D20: 職名（ 居宅介護従業者 ）
D21: 居宅介護事業における入浴、排せつ、食事その他の介護業務（直接支援業務）
A26: （注） | B26: １． | C26: 施設又は事業所名欄には、障害者支援施設や就労継続支援Ｂ型等の種別も記入すること。
B27: ２． | C27: 業務期間欄は、受験申込者が要援護者に対する直接的な援助を行っていた期間を記入すること。（産休・育休・療養休暇や長期研修期間等は業務期間となりません）
C29: 現在、既に必要とする実務経験期間を満たしている場合は、実務経験証明書作成日までの期間または、退職した日までの期間を記入してください。
B31: ３． | C31: 業務内容欄は、看護師、生活指導員等の職名を記入し、受験申込者の本来業務について、老人デイサービス事業における○○業務、○○実施要綱の○○事業の○○業務等具体的に記入すること。
C34: また、療養病床の病棟等において介護業務を行った場合は明記し、当該病棟が療養病床として許可等を受けた年月日を記入すること。
B36: ４． | C36: 証明内容を訂正した場合は、証明権者の職印を押印してください。なお、修正液による訂正は認められません。

Sheet 勤務形態一覧表
A1: 従業者の勤務の体制及び勤務形態一覧表 | AI1: サービス種別 | AK1: 自立生活援助
M2: 2027 | Q2: 年 | S2: 2 | U2: 月 | AI2: 事業所名
AI3: (1)記載する期間
AI4: (2)予定/実績の別
AG5: (3)事業所における常勤の従業者が勤務すべき時間数 | AK5: 時間/週 | AM5: 時間/月
A7: No. | B7: (4)職種 | C7: (5)勤務形態 | D7: (6)資格 | E7: (7)氏名 | F7: (8) | AK7: (9)勤務時間数合計 | AL7: (10)週平均の勤務時間数 | AM7: (11)兼務状況 （兼務先／兼務する職務の内容）等
F8: 第１週 | M8: 第２週 | T8: 第３週 | AA8: 第４週 | AH8: 第５週
B9: ※選択肢にない職種については直接入力してください | F9: =DATE($M$2,$S$2,1) -> 46419 | G9: =DATE($M$2,$S$2,2) -> 46420 | H9: =DATE($M$2,$S$2,3) -> 46421 | I9: =DATE($M$2,$S$2,4) -> 46422 | J9: =DATE($M$2,$S$2,5) -> 46423 | K9: =DATE($M$2,$S$2,6) -> 46424 | L9: =DATE($M$2,$S$2,7) -> 46425 | M9: =DATE($M$2,$S$2,8) -> 46426 | N9: =DATE($M$2,$S$2,9) -> 46427 | O9: =DATE($M$2,$S$2,10) -> 46428 | P9: =DATE($M$2,$S$2,11) -> 46429 | Q9: =DATE($M$2,$S$2,12) -> 46430 | R9: =DATE($M$2,$S$2,13) -> 46431 | S9: =DATE($M$2,$S$2,14) -> 46432 | T9: =DATE($M$2,$S$2,15) -> 46433 | U9: =DATE($M$2,$S$2,16) -> 46434 | V9: =DATE($M$2,$S$2,17) -> 46435 | W9: =DATE($M$2,$S$2,18) -> 46436 | X9: =DATE($M$2,$S$2,19) -> 46437 | Y9: =DATE($M$2,$S$2,20) -> 46438 | Z9: =DATE($M$2,$S$2,21) -> 46439 | AA9: =DATE($M$2,$S$2,22) -> 46440 | AB9: =DATE($M$2,$S$2,23) -> 46441 | AC9: =DATE($M$2,$S$2,24) -> 46442 | AD9: =DATE($M$2,$S$2,25) -> 46443 | AE9: =DATE($M$2,$S$2,26) -> 46444 | AF9: =DATE($M$2,$S$2,27) -> 46445 | AG9: =DATE($M$2,$S$2,28) -> 46446 | AH9: =IF(DAY(EOMONTH(F9,0))<29,"",DATE($M$2,$S$2,29)) | AI9: =IF(DAY(EOMONTH(F9,0))<30,"",DATE($M$2,$S$2,30)) | AJ9: =IF(DAY(EOMONTH(F9,0))<31,"",DATE($M$2,$S$2,31))
F10: =DATE($M$2,$S$2,1) -> 46419 | G10: =DATE($M$2,$S$2,2) -> 46420 | H10: =DATE($M$2,$S$2,3) -> 46421 | I10: =DATE($M$2,$S$2,4) -> 46422 | J10: =DATE($M$2,$S$2,5) -> 46423 | K10: =DATE($M$2,$S$2,6) -> 46424 | L10: =DATE($M$2,$S$2,7) -> 46425 | M10: =DATE($M$2,$S$2,8) -> 46426 | N10: =DATE($M$2,$S$2,9) -> 46427 | O10: =DATE($M$2,$S$2,10) -> 46428 | P10: =DATE($M$2,$S$2,11) -> 46429 | Q10: =DATE($M$2,$S$2,12) -> 46430 | R10: =DATE($M$2,$S$2,13) -> 46431 | S10: =DATE($M$2,$S$2,14) -> 46432 | T10: =DATE($M$2,$S$2,15) -> 46433 | U10: =DATE($M$2,$S$2,16) -> 46434 | V10: =DATE($M$2,$S$2,17) -> 46435 | W10: =DATE($M$2,$S$2,18) -> 46436 | X10: =DATE($M$2,$S$2,19) -> 46437 | Y10: =DATE($M$2,$S$2,20) -> 46438 | Z10: =DATE($M$2,$S$2,21) -> 46439 | AA10: =DATE($M$2,$S$2,22) -> 46440 | AB10: =DATE($M$2,$S$2,23) -> 46441 | AC10: =DATE($M$2,$S$2,24) -> 46442 | AD10: =DATE($M$2,$S$2,25) -> 46443 | AE10: =DATE($M$2,$S$2,26) -> 46444 | AF10: =DATE($M$2,$S$2,27) -> 46445 | AG10: =DATE($M$2,$S$2,28) -> 46446 | AH10: =IF(DAY(EOMONTH(F10,0))<29,"",DATE($M$2,$S$2,29)) | AI10: =IF(DAY(EOMONTH(F10,0))<30,"",DATE($M$2,$S$2,30)) | AJ10: =IF(DAY(EOMONTH(F10,0))<31,"",DATE($M$2,$S$2,31))
A11: 1 | B11: 管理者 | AK11: =+SUM(F11:AJ11) -> 0 | AL11: =IF($AK$3="４週",AK11/4,AK11/(DAY(EOMONTH($F$9,0))/7)) -> 0
A12: 2 | B12: サービス管理責任者 | AK12: =+SUM(F12:AJ12) -> 0 | AL12: =IF($AK$3="４週",AK12/4,AK12/(DAY(EOMONTH($F$9,0))/7)) -> 0
A13: 3 | B13: 地域生活支援員 | AK13: =+SUM(F13:AJ13) -> 0 | AL13: =IF($AK$3="４週",AK13/4,AK13/(DAY(EOMONTH($F$9,0))/7)) -> 0
A14: 4 | B14: 地域生活支援員 | AK14: =+SUM(F14:AJ14) -> 0 | AL14: =IF($AK$3="４週",AK14/4,AK14/(DAY(EOMONTH($F$9,0))/7)) -> 0
A15: 5 | AK15: =+SUM(F15:AJ15) -> 0 | AL15: =IF($AK$3="４週",AK15/4,AK15/(DAY(EOMONTH($F$9,0))/7)) -> 0
A16: 6 | AK16: =+SUM(F16:AJ16) -> 0 | AL16: =IF($AK$3="４週",AK16/4,AK16/(DAY(EOMONTH($F$9,0))/7)) -> 0
A17: 7 | AK17: =+SUM(F17:AJ17) -> 0 | AL17: =IF($AK$3="４週",AK17/4,AK17/(DAY(EOMONTH($F$9,0))/7)) -> 0
A18: 8 | AK18: =+SUM(F18:AJ18) -> 0 | AL18: =IF($AK$3="４週",AK18/4,AK18/(DAY(EOMONTH($F$9,0))/7)) -> 0
A19: 9 | AK19: =+SUM(F19:AJ19) -> 0 | AL19: =IF($AK$3="４週",AK19/4,AK19/(DAY(EOMONTH($F$9,0))/7)) -> 0
A20: 10 | AK20: =+SUM(F20:AJ20) -> 0 | AL20: =IF($AK$3="４週",AK20/4,AK20/(DAY(EOMONTH($F$9,0))/7)) -> 0
A21: 11 | AK21: =+SUM(F21:AJ21) -> 0 | AL21: =IF($AK$3="４週",AK21/4,AK21/(DAY(EOMONTH($F$9,0))/7)) -> 0
A22: 12 | AK22: =+SUM(F22:AJ22) -> 0 | AL22: =IF($AK$3="４週",AK22/4,AK22/(DAY(EOMONTH($F$9,0))/7)) -> 0
A23: 13 | AK23: =+SUM(F23:AJ23) -> 0 | AL23: =IF($AK$3="４週",AK23/4,AK23/(DAY(EOMONTH($F$9,0))/7)) -> 0
A24: 14 | AK24: =+SUM(F24:AJ24) -> 0 | AL24: =IF($AK$3="４週",AK24/4,AK24/(DAY(EOMONTH($F$9,0))/7)) -> 0
A25: 15 | AK25: =+SUM(F25:AJ25) -> 0 | AL25: =IF($AK$3="４週",AK25/4,AK25/(DAY(EOMONTH($F$9,0))/7)) -> 0
A26: 16 | AK26: =+SUM(F26:AJ26) -> 0 | AL26: =IF($AK$3="４週",AK26/4,AK26/(DAY(EOMONTH($F$9,0))/7)) -> 0
... A30: 20 | AK30: =+SUM(F30:AJ30) -> 0 | AL30: =IF($AK$3="４週",AK30/4,AK30/(DAY(EOMONTH($F$9,0))/7)) -> 0
A31: 合計 | F31: =+SUM(F11:F30) -> 0 | G31: =+SUM(G11:G30) -> 0 | H31: =+SUM(H11:H30) -> 0 | I31: =+SUM(I11:I30) -> 0 | J31: =+SUM(J11:J30) -> 0 | K31: =+SUM(K11:K30) -> 0 | L31: =+SUM(L11:L30) -> 0 | M31: =+SUM(M11:M30) -> 0 | ... AJ31: =+SUM(AJ11:AJ30) -> 0 | AK31: =+SUM(F31:AJ31) -> 0 | AL31: =IF($AK$3="４週",AK31/4,AK31/(DAY(EOMONTH($F$9,0))/7)) -> 0
A32: サービス提供時間
A36: ＜前年度の平均値＞※新規申請の場合は推定数を記載ください。
D37: 4 | E37: 5 | F37: 6 | I37: 7 | L37: 8 | O37: 9 | R37: 10 | U37: 11 | X37: 12 | AA37: 1 | AD37: 2 | AG37: 3 | AJ37: 計 | AL37: 平均利用者数
A38: 利用者延べ数 | AJ38: =SUM(D38:AI38) -> 0 | AL38: =ROUNDUP(AJ38/AJ39,1) -> #DIV/0!
A39: 開所日数 | AJ39: =+SUM(D39:AI39) -> 0
A41: ＜人員に関する基準＞
A42: 区分 | C42: サービス管理責任者 （常勤の場合） | E42: サービス管理責任者 （常勤以外の場合） | I42: 地域生活支援員の数の標準
A43: 必要な配置数 | C43: =ROUNDDOWN(IF(AL38<=60,1,1+ROUNDUP((AL38-60)/60,0)),1) -> #DIV/0! | E43: =ROUNDDOWN(IF(AL38<=30,1,1+ROUNDUP((AL38-30)/30,0)),1) -> #DIV/0! | I43: =ROUNDDOWN(AL38/25,1) -> #DIV/0!
A45: ＜人員基準に関する実人数集計＞
C46: =IF(VLOOKUP($AK$1,[13]選択肢!$A$1:$J$32,C51,FALSE)=0,"-",VLOOKUP($AK$1,[13]選択肢!$A$1:$J$32,C51,FALSE)) -> 管理者 | E46: =IF(VLOOKUP($AK$1,[13]選択肢!$A$1:$J$32,E51,FALSE)=0,"-",VLOOKUP($AK$1,[13]選択肢!$A$1:$J$32,E51,FALSE)) -> サービス管理責任者 | I46: =IF(VLOOKUP($AK$1,[13]選択肢!$A$1:$J$32,I51,FALSE)=0,"-",VLOOKUP($AK$1,[13]選択肢!$A$1:$J$32,I51,FALSE)) -> 地域生活支援員 | O46: =IF(VLOOKUP($AK$1,[13]選択肢!$A$1:$J$32,O51,FALSE)=0,"-",VLOOKUP($AK$1,[13]選択肢!$A$1:$J$32,O51,FALSE)) -> - | U46: =IF(VLOOKUP($AK$1,[13]選択肢!$A$1:$J$32,U51,FALSE)=0,"-",VLOOKUP($AK$1,[13]選択肢!$A$1:$J$32,U51,FALSE)) -> - | AA46: =IF(VLOOKUP($AK$1,[13]選択肢!$A$1:$J$32,AA51,FALSE)=0,"-",VLOOKUP($AK$1,[13]選択肢!$A$1:$J$32,AA51,FALSE)) -> - | AG46: =IF(VLOOKUP($AK$1,[13]選択肢!$A$1:$J$32,AG51,FALSE)=0,"-",VLOOKUP($AK$1,[13]選択肢!$A$1:$J$32,AG51,FALSE)) -> - | AL46: =IF(VLOOKUP($AK$1,[13]選択肢!$A$1:$J$32,AL51,FALSE)=0,"-",VLOOKUP($AK$1,[13]選択肢!$A$1:$J$32,AL51,FALSE)) -> -
C47: 専従 | D47: 兼務 | E47: 専従 | F47: 兼務 | I47: 専従 | L47: 兼務 | O47: 専従 | R47: 兼務 | U47: 専従 | X47: 兼務 | AA47: 専従 | AD47: 兼務 | AG47: 専従 | AJ47: 兼務 | AL47: 専従 | AM47: 兼務
B48: 常勤 | C48: =COUNTIFS($B$11:$B$30,C$46,$C$11:$C$30,"A",$E$11:$E$30,"*") -> 0 | D48: =COUNTIFS($B$11:$B$30,C$46,$C$11:$C$30,"B",$E$11:$E$30,"*") -> 0 | E48: =COUNTIFS($B$11:$B$30,E$46,$C$11:$C$30,"A",$E$11:$E$30,"*") -> 0 | F48: =COUNTIFS($B$11:$B$30,E$46,$C$11:$C$30,"B",$E$11:$E$30,"*") -> 0 | I48: =COUNTIFS($B$11:$B$30,I$46,$C$11:$C$30,"A",$E$11:$E$30,"*") -> 0 | L48: =COUNTIFS($B$11:$B$30,I$46,$C$11:$C$30,"B",$E$11:$E$30,"*") -> 0 | O48: =COUNTIFS($B$11:$B$30,O$46,$C$11:$C$30,"A",$E$11:$E$30,"*") -> 0 | R48: =COUNTIFS($B$11:$B$30,O$46,$C$11:$C$30,"B",$E$11:$E$30,"*") -> 0 | U48: =COUNTIFS($B$11:$B$30,U$46,$C$11:$C$30,"A",$E$11:$E$30,"*") -> 0 | X48: =COUNTIFS($B$11:$B$30,U$46,$C$11:$C$30,"B",$E$11:$E$30,"*") -> 0 | AA48: =COUNTIFS($B$11:$B$30,AA$46,$C$11:$C$30,"A",$E$11:$E$30,"*") -> 0 | AD48: =COUNTIFS($B$11:$B$30,AA$46,$C$11:$C$30,"B",$E$11:$E$30,"*") -> 0 | AG48: =COUNTIFS($B$11:$B$30,AG$46,$C$11:$C$30,"A",$E$11:$E$30,"*") -> 0 | AJ48: =COUNTIFS($B$11:$B$30,AG$46,$C$11:$C$30,"B",$E$11:$E$30,"*") -> 0 | AL48: =COUNTIFS($B$11:$B$30,AL$46,$C$11:$C$30,"A",$E$11:$E$30,"*") -> 0 | AM48: =COUNTIFS($B$11:$B$30,AL$46,$C$11:$C$30,"B",$E$11:$E$30,"*") -> 0
B49: 非常勤 | C49: =COUNTIFS($B$11:$B$30,C$46,$C$11:$C$30,"C",$E$11:$E$30,"*") -> 0 | D49: =COUNTIFS($B$11:$B$30,C$46,$C$11:$C$30,"D",$E$11:$E$30,"*") -> 0 | E49: =COUNTIFS($B$11:$B$30,E$46,$C$11:$C$30,"C",$E$11:$E$30,"*") -> 0 | F49: =COUNTIFS($B$11:$B$30,E$46,$C$11:$C$30,"D",$E$11:$E$30,"*") -> 0 | I49: =COUNTIFS($B$11:$B$30,I$46,$C$11:$C$30,"C",$E$11:$E$30,"*") -> 0 | L49: =COUNTIFS($B$11:$B$30,I$46,$C$11:$C$30,"D",$E$11:$E$30,"*") -> 0 | O49: =COUNTIFS($B$11:$B$30,O$46,$C$11:$C$30,"C",$E$11:$E$30,"*") -> 0 | R49: =COUNTIFS($B$11:$B$30,O$46,$C$11:$C$30,"D",$E$11:$E$30,"*") -> 0 | U49: =COUNTIFS($B$11:$B$30,U$46,$C$11:$C$30,"C",$E$11:$E$30,"*") -> 0 | X49: =COUNTIFS($B$11:$B$30,U$46,$C$11:$C$30,"D",$E$11:$E$30,"*") -> 0 | AA49: =COUNTIFS($B$11:$B$30,AA$46,$C$11:$C$30,"C",$E$11:$E$30,"*") -> 0 | AD49: =COUNTIFS($B$11:$B$30,AA$46,$C$11:$C$30,"D",$E$11:$E$30,"*") -> 0 | AG49: =COUNTIFS($B$11:$B$30,AG$46,$C$11:$C$30,"C",$E$11:$E$30,"*") -> 0 | AJ49: =COUNTIFS($B$11:$B$30,AG$46,$C$11:$C$30,"D",$E$11:$E$30,"*") -> 0 | AL49: =COUNTIFS($B$11:$B$30,AL$46,$C$11:$C$30,"C",$E$11:$E$30,"*") -> 0 | AM49: =COUNTIFS($B$11:$B$30,AL$46,$C$11:$C$30,"D",$E$11:$E$30,"*") -> 0
...

Sheet 勤務形態一覧表　（記載例）
A1: 従業者の勤務の体制及び勤務形態一覧表 | AI1: サービス種別 | AK1: 自立生活援助
M2: 2027 | Q2: 年 | S2: 2 | U2: 月 | AI2: 事業所名 | AK2: 東京福祉支援センター
AI3: (1)記載する期間 | AK3: ４週
AI4: (2)予定/実績の別 | AK4: 予定
AG5: (3)事業所における常勤の従業者が勤務すべき時間数 | AH5: 40 | AK5: 時間/週 | AL5: 160 | AM5: 時間/月
A7: No. | B7: (4)職種 | C7: (5)勤務形態 | D7: (6)資格 | E7: (7)氏名 | F7: (8) | AK7: (9)勤務時間数合計 | AL7: (10)週平均の勤務時間数 | AM7: (11)兼務状況 （兼務先／兼務する職務の内容）等
F8: 第１週 | M8: 第２週 | T8: 第３週 | AA8: 第４週 | AH8: 第５週
B9: ※選択肢にない職種については直接入力してください | F9: =DATE($M$2,$S$2,1) -> 46419 | G9: =DATE($M$2,$S$2,2) -> 46420 | H9: =DATE($M$2,$S$2,3) -> 46421 | I9: =DATE($M$2,$S$2,4) -> 46422 | J9: =DATE($M$2,$S$2,5) -> 46423 | K9: =DATE($M$2,$S$2,6) -> 46424 | L9: =DATE($M$2,$S$2,7) -> 46425 | M9: =DATE($M$2,$S$2,8) -> 46426 | N9: =DATE($M$2,$S$2,9) -> 46427 | O9: =DATE($M$2,$S$2,10) -> 46428 | P9: =DATE($M$2,$S$2,11) -> 46429 | Q9: =DATE($M$2,$S$2,12) -> 46430 | R9: =DATE($M$2,$S$2,13) -> 46431 | S9: =DATE($M$2,$S$2,14) -> 46432 | T9: =DATE($M$2,$S$2,15) -> 46433 | U9: =DATE($M$2,$S$2,16) -> 46434 | V9: =DATE($M$2,$S$2,17) -> 46435 | W9: =DATE($M$2,$S$2,18) -> 46436 | X9: =DATE($M$2,$S$2,19) -> 46437 | Y9: =DATE($M$2,$S$2,20) -> 46438 | Z9: =DATE($M$2,$S$2,21) -> 46439 | AA9: =DATE($M$2,$S$2,22) -> 46440 | AB9: =DATE($M$2,$S$2,23) -> 46441 | AC9: =DATE($M$2,$S$2,24) -> 46442 | AD9: =DATE($M$2,$S$2,25) -> 46443 | AE9: =DATE($M$2,$S$2,26) -> 46444 | AF9: =DATE($M$2,$S$2,27) -> 46445 | AG9: =DATE($M$2,$S$2,28) -> 46446 | AH9: =IF(DAY(EOMONTH(F9,0))<29,"",DATE($M$2,$S$2,29)) | AI9: =IF(DAY(EOMONTH(F9,0))<30,"",DATE($M$2,$S$2,30)) | AJ9: =IF(DAY(EOMONTH(F9,0))<31,"",DATE($M$2,$S$2,31))
F10: =DATE($M$2,$S$2,1) -> 46419 | G10: =DATE($M$2,$S$2,2) -> 46420 | H10: =DATE($M$2,$S$2,3) -> 46421 | I10: =DATE($M$2,$S$2,4) -> 46422 | J10: =DATE($M$2,$S$2,5) -> 46423 | K10: =DATE($M$2,$S$2,6) -> 46424 | L10: =DATE($M$2,$S$2,7) -> 46425 | M10: =DATE($M$2,$S$2,8) -> 46426 | N10: =DATE($M$2,$S$2,9) -> 46427 | O10: =DATE($M$2,$S$2,10) -> 46428 | P10: =DATE($M$2,$S$2,11) -> 46429 | Q10: =DATE($M$2,$S$2,12) -> 46430 | R10: =DATE($M$2,$S$2,13) -> 46431 | S10: =DATE($M$2,$S$2,14) -> 46432 | T10: =DATE($M$2,$S$2,15) -> 46433 | U10: =DATE($M$2,$S$2,16) -> 46434 | V10: =DATE($M$2,$S$2,17) -> 46435 | W10: =DATE($M$2,$S$2,18) -> 46436 | X10: =DATE($M$2,$S$2,19) -> 46437 | Y10: =DATE($M$2,$S$2,20) -> 46438 | Z10: =DATE($M$2,$S$2,21) -> 46439 | AA10: =DATE($M$2,$S$2,22) -> 46440 | AB10: =DATE($M$2,$S$2,23) -> 46441 | AC10: =DATE($M$2,$S$2,24) -> 46442 | AD10: =DATE($M$2,$S$2,25) -> 46443 | AE10: =DATE($M$2,$S$2,26) -> 46444 | AF10: =DATE($M$2,$S$2,27) -> 46445 | AG10: =DATE($M$2,$S$2,28) -> 46446 | AH10: =IF(DAY(EOMONTH(F10,0))<29,"",DATE($M$2,$S$2,29)) | AI10: =IF(DAY(EOMONTH(F10,0))<30,"",DATE($M$2,$S$2,30)) | AJ10: =IF(DAY(EOMONTH(F10,0))<31,"",DATE($M$2,$S$2,31))
A11: 1 | B11: 管理者 | C11: B | D11: 精神保健福祉士 | E11: 介護 五郎 | F11: 1 | G11: 1 | H11: 1 | I11: 1 | J11: 1 | M11: 1 | N11: 1 | O11: 1 | P11: 1 | Q11: 1 | T11: 1 | U11: 1 | V11: 1 | W11: 1 | X11: 1 | AA11: 1 | AB11: 1 | AC11: 1 | AD11: 1 | AE11: 1 | AK11: =+SUM(F11:AJ11) -> 20 | AL11: =IF($AK$3="４週",AK11/4,AK11/(DAY(EOMONTH($F$9,0))/7)) -> 5 | AM11: 一般相談支援事業所／管理者
A12: 2 | B12: サービス管理責任者 | C12: B | D12: 精神保健福祉士 | E12: 介護 五郎 | F12: 2 | G12: 2 | H12: 2 | I12: 2 | J12: 2 | M12: 2 | N12: 2 | O12: 2 | P12: 2 | Q12: 2 | T12: 2 | U12: 2 | V12: 2 | W12: 2 | X12: 2 | AA12: 2 | AB12: 2 | AC12: 2 | AD12: 2 | AE12: 2 | AK12: =+SUM(F12:AJ12) -> 40 | AL12: =IF($AK$3="４週",AK12/4,AK12/(DAY(EOMONTH($F$9,0))/7)) -> 10 | AM12: 一般相談支援事業所／管理者
A13: 3 | B13: 地域生活支援員 | C13: B | E13: 都庁 太郎 | F13: 2 | G13: 2 | H13: 2 | I13: 2 | J13: 2 | M13: 2 | N13: 2 | O13: 2 | P13: 2 | Q13: 2 | T13: 2 | U13: 2 | V13: 2 | W13: 2 | X13: 2 | AA13: 2 | AB13: 2 | AC13: 2 | AD13: 2 | AE13: 2 | AK13: =+SUM(F13:AJ13) -> 40 | AL13: =IF($AK$3="４週",AK13/4,AK13/(DAY(EOMONTH($F$9,0))/7)) -> 10 | AM13: 一般相談支援事業所／相談支援員
A14: 4 | B14: 地域生活支援員 | C14: C | E14: 都庁 花子 | F14: 4 | H14: 4 | J14: 4 | M14: 4 | O14: 4 | Q14: 4 | T14: 4 | V14: 4 | X14: 4 | AA14: 4 | AC14: 4 | AE14: 4 | AK14: =+SUM(F14:AJ14) -> 48 | AL14: =IF($AK$3="４週",AK14/4,AK14/(DAY(EOMONTH($F$9,0))/7)) -> 12
A15: 5 | AK15: =+SUM(F15:AJ15) -> 0 | AL15: =IF($AK$3="４週",AK15/4,AK15/(DAY(EOMONTH($F$9,0))/7)) -> 0
A16: 6 | AK16: =+SUM(F16:AJ16) -> 0 | AL16: =IF($AK$3="４週",AK16/4,AK16/(DAY(EOMONTH($F$9,0))/7)) -> 0
A17: 7 | AK17: =+SUM(F17:AJ17) -> 0 | AL17: =IF($AK$3="４週",AK17/4,AK17/(DAY(EOMONTH($F$9,0))/7)) -> 0
A18: 8 | AK18: =+SUM(F18:AJ18) -> 0 | AL18: =IF($AK$3="４週",AK18/4,AK18/(DAY(EOMONTH($F$9,0))/7)) -> 0
A19: 9 | AK19: =+SUM(F19:AJ19) -> 0 | AL19: =IF($AK$3="４週",AK19/4,AK19/(DAY(EOMONTH($F$9,0))/7)) -> 0
A20: 10 | AK20: =+SUM(F20:AJ20) -> 0 | AL20: =IF($AK$3="４週",AK20/4,AK20/(DAY(EOMONTH($F$9,0))/7)) -> 0
A21: 11 | AK21: =+SUM(F21:AJ21) -> 0 | AL21: =IF($AK$3="４週",AK21/4,AK21/(DAY(EOMONTH($F$9,0))/7)) -> 0
A22: 12 | AK22: =+SUM(F22:AJ22) -> 0 | AL22: =IF($AK$3="４週",AK22/4,AK22/(DAY(EOMONTH($F$9,0))/7)) -> 0
A23: 13 | AK23: =+SUM(F23:AJ23) -> 0 | AL23: =IF($AK$3="４週",AK23/4,AK23/(DAY(EOMONTH($F$9,0))/7)) -> 0
A24: 14 | AK24: =+SUM(F24:AJ24) -> 0 | AL24: =IF($AK$3="４週",AK24/4,AK24/(DAY(EOMONTH($F$9,0))/7)) -> 0
A25: 15 | AK25: =+SUM(F25:AJ25) -> 0 | AL25: =IF($AK$3="４週",AK25/4,AK25/(DAY(EOMONTH($F$9,0))/7)) -> 0
A26: 16 | AK26: =+SUM(F26:AJ26) -> 0 | AL26: =IF($AK$3="４週",AK26/4,AK26/(DAY(EOMONTH($F$9,0))/7)) -> 0
... A30: 20 | AK30: =+SUM(F30:AJ30) -> 0 | AL30: =IF($AK$3="４週",AK30/4,AK30/(DAY(EOMONTH($F$9,0))/7)) -> 0
A31: 合計 | F31: =+SUM(F11:F30) -> 9 | G31: =+SUM(G11:G30) -> 5 | H31: =+SUM(H11:H30) -> 9 | I31: =+SUM(I11:I30) -> 5 | J31: =+SUM(J11:J30) -> 9 | K31: =+SUM(K11:K30) -> 0 | L31: =+SUM(L11:L30) -> 0 | M31: =+SUM(M11:M30) -> 9 | ... AJ31: =+SUM(AJ11:AJ30) -> 0 | AK31: =+SUM(F31:AJ31) -> 148 | AL31: =IF($AK$3="４週",AK31/4,AK31/(DAY(EOMONTH($F$9,0))/7)) -> 37
A32: サービス提供時間
A36: ＜前年度の平均値＞※新規申請の場合は推定数を記載ください。
D37: 4 | E37: 5 | F37: 6 | I37: 7 | L37: 8 | O37: 9 | R37: 10 | U37: 11 | X37: 12 | AA37: 1 | AD37: 2 | AG37: 3 | AJ37: 計 | AL37: 平均利用者数
A38: 利用者延べ数 | D38: 25 | E38: 25 | F38: 25 | I38: 25 | L38: 25 | O38: 25 | R38: 25 | U38: 25 | X38: 25 | AA38: 25 | AD38: 25 | AG38: 25 | AJ38: =SUM(D38:AI38) -> 300 | AL38: =ROUNDUP(AJ38/AJ39,1) -> 1.3
A39: 開所日数 | D39: 20 | E39: 20 | F39: 20 | I39: 20 | L39: 20 | O39: 20 | R39: 20 | U39: 20 | X39: 20 | AA39: 20 | AD39: 20 | AG39: 20 | AJ39: =+SUM(D39:AI39) -> 240
A41: ＜人員に関する基準＞
A42: 区分 | C42: サービス管理責任者 （常勤の場合） | E42: サービス管理責任者 （常勤以外の場合） | I42: 地域生活支援員の数の標準
A43: 必要な配置数 | C43: =ROUNDDOWN(IF(AL38<=60,1,1+ROUNDUP((AL38-60)/60,0)),1) -> 1 | E43: =ROUNDDOWN(IF(AL38<=30,1,1+ROUNDUP((AL38-30)/30,0)),1) -> 1 | I43: =ROUNDDOWN(AL38/25,1) -> 0
A45: ＜人員基準に関する実人数集計＞
C46: =IF(VLOOKUP($AK$1,[13]選択肢!$A$1:$J$32,C51,FALSE)=0,"-",VLOOKUP($AK$1,[13]選択肢!$A$1:$J$32,C51,FALSE)) -> 管理者 | E46: =IF(VLOOKUP($AK$1,[13]選択肢!$A$1:$J$32,E51,FALSE)=0,"-",VLOOKUP($AK$1,[13]選択肢!$A$1:$J$32,E51,FALSE)) -> サービス管理責任者 | I46: =IF(VLOOKUP($AK$1,[13]選択肢!$A$1:$J$32,I51,FALSE)=0,"-",VLOOKUP($AK$1,[13]選択肢!$A$1:$J$32,I51,FALSE)) -> 地域生活支援員 | O46: =IF(VLOOKUP($AK$1,[13]選択肢!$A$1:$J$32,O51,FALSE)=0,"-",VLOOKUP($AK$1,[13]選択肢!$A$1:$J$32,O51,FALSE)) -> - | U46: =IF(VLOOKUP($AK$1,[13]選択肢!$A$1:$J$32,U51,FALSE)=0,"-",VLOOKUP($AK$1,[13]選択肢!$A$1:$J$32,U51,FALSE)) -> - | AA46: =IF(VLOOKUP($AK$1,[13]選択肢!$A$1:$J$32,AA51,FALSE)=0,"-",VLOOKUP($AK$1,[13]選択肢!$A$1:$J$32,AA51,FALSE)) -> - | AG46: =IF(VLOOKUP($AK$1,[13]選択肢!$A$1:$J$32,AG51,FALSE)=0,"-",VLOOKUP($AK$1,[13]選択肢!$A$1:$J$32,AG51,FALSE)) -> - | AL46: =IF(VLOOKUP($AK$1,[13]選択肢!$A$1:$J$32,AL51,FALSE)=0,"-",VLOOKUP($AK$1,[13]選択肢!$A$1:$J$32,AL51,FALSE)) -> -
C47: 専従 | D47: 兼務 | E47: 専従 | F47: 兼務 | I47: 専従 | L47: 兼務 | O47: 専従 | R47: 兼務 | U47: 専従 | X47: 兼務 | AA47: 専従 | AD47: 兼務 | AG47: 専従 | AJ47: 兼務 | AL47: 専従 | AM47: 兼務
B48: 常勤 | C48: =COUNTIFS($B$11:$B$30,C$46,$C$11:$C$30,"A",$E$11:$E$30,"*") -> 0 | D48: =COUNTIFS($B$11:$B$30,C$46,$C$11:$C$30,"B",$E$11:$E$30,"*") -> 1 | E48: =COUNTIFS($B$11:$B$30,E$46,$C$11:$C$30,"A",$E$11:$E$30,"*") -> 0 | F48: =COUNTIFS($B$11:$B$30,E$46,$C$11:$C$30,"B",$E$11:$E$30,"*") -> 1 | I48: =COUNTIFS($B$11:$B$30,I$46,$C$11:$C$30,"A",$E$11:$E$30,"*") -> 0 | L48: =COUNTIFS($B$11:$B$30,I$46,$C$11:$C$30,"B",$E$11:$E$30,"*") -> 1 | O48: =COUNTIFS($B$11:$B$30,O$46,$C$11:$C$30,"A",$E$11:$E$30,"*") -> 0 | R48: =COUNTIFS($B$11:$B$30,O$46,$C$11:$C$30,"B",$E$11:$E$30,"*") -> 0 | U48: =COUNTIFS($B$11:$B$30,U$46,$C$11:$C$30,"A",$E$11:$E$30,"*") -> 0 | X48: =COUNTIFS($B$11:$B$30,U$46,$C$11:$C$30,"B",$E$11:$E$30,"*") -> 0 | AA48: =COUNTIFS($B$11:$B$30,AA$46,$C$11:$C$30,"A",$E$11:$E$30,"*") -> 0 | AD48: =COUNTIFS($B$11:$B$30,AA$46,$C$11:$C$30,"B",$E$11:$E$30,"*") -> 0 | AG48: =COUNTIFS($B$11:$B$30,AG$46,$C$11:$C$30,"A",$E$11:$E$30,"*") -> 0 | AJ48: =COUNTIFS($B$11:$B$30,AG$46,$C$11:$C$30,"B",$E$11:$E$30,"*") -> 0 | AL48: =COUNTIFS($B$11:$B$30,AL$46,$C$11:$C$30,"A",$E$11:$E$30,"*") -> 0 | AM48: =COUNTIFS($B$11:$B$30,AL$46,$C$11:$C$30,"B",$E$11:$E$30,"*") -> 0
B49: 非常勤 | C49: =COUNTIFS($B$11:$B$30,C$46,$C$11:$C$30,"C",$E$11:$E$30,"*") -> 0 | D49: =COUNTIFS($B$11:$B$30,C$46,$C$11:$C$30,"D",$E$11:$E$30,"*") -> 0 | E49: =COUNTIFS($B$11:$B$30,E$46,$C$11:$C$30,"C",$E$11:$E$30,"*") -> 0 | F49: =COUNTIFS($B$11:$B$30,E$46,$C$11:$C$30,"D",$E$11:$E$30,"*") -> 0 | I49: =COUNTIFS($B$11:$B$30,I$46,$C$11:$C$30,"C",$E$11:$E$30,"*") -> 1 | L49: =COUNTIFS($B$11:$B$30,I$46,$C$11:$C$30,"D",$E$11:$E$30,"*") -> 0 | O49: =COUNTIFS($B$11:$B$30,O$46,$C$11:$C$30,"C",$E$11:$E$30,"*") -> 0 | R49: =COUNTIFS($B$11:$B$30,O$46,$C$11:$C$30,"D",$E$11:$E$30,"*") -> 0 | U49: =COUNTIFS($B$11:$B$30,U$46,$C$11:$C$30,"C",$E$11:$E$30,"*") -> 0 | X49: =COUNTIFS($B$11:$B$30,U$46,$C$11:$C$30,"D",$E$11:$E$30,"*") -> 0 | AA49: =COUNTIFS($B$11:$B$30,AA$46,$C$11:$C$30,"C",$E$11:$E$30,"*") -> 0 | AD49: =COUNTIFS($B$11:$B$30,AA$46,$C$11:$C$30,"D",$E$11:$E$30,"*") -> 0 | AG49: =COUNTIFS($B$11:$B$30,AG$46,$C$11:$C$30,"C",$E$11:$E$30,"*") -> 0 | AJ49: =COUNTIFS($B$11:$B$30,AG$46,$C$11:$C$30,"D",$E$11:$E$30,"*") -> 0 | AL49: =COUNTIFS($B$11:$B$30,AL$46,$C$11:$C$30,"C",$E$11:$E$30,"*") -> 0 | AM49: =COUNTIFS($B$11:$B$30,AL$46,$C$11:$C$30,"D",$E$11:$E$30,"*") -> 0
...

Sheet 主たる障害特定理由
A1: (標準様式１)
A3: 指定障害福祉サービス等の主たる対象者を特定する理由等
B5: 事業所名
B6: 指定障害福祉サービス等の種類 | C6: 自立生活援助
A9: １ 申請に係る指定障害福祉サービス等の主たる対象者
A11: ２ 主たる対象者を１のとおり特定する理由
A13: ３ 今後における主たる対象者の拡充の予定
A14: (１)拡充予定の有無 | C14: ( 有り ・ 無し )
A15: (２)拡充予定の内容及び予定時期
A17: (３)拡充のための方策

Sheet 誓約書
A1: (標準様式３)
A2: 誓 約 書
H4: 年 | J4: 月 | L4: 日
A5: 東京都 | C5: 知事 殿
A7: 申請者 | D7: （名称）
D9: （代表者の職名・氏名）
A13: 申請者が別紙のいずれにも該当しない者であることを誓約します。
B15: ○ | C15: 別紙①： 障害福祉サービス事業者向け
C16: 別紙②： 障害者支援施設向け
C17: 別紙③： 一般相談支援事業者向け
C18: 別紙④： 特定相談支援事業者向け
C19: 別紙⑤： 障害児通所支援事業者向け
C20: 別紙⑥： 障害児入所施設向け
C21: 別紙⑦： 障害児相談支援事業者向け
B22: 注 該当する種別に○を付けてください。

Sheet 別紙①
B1: （別紙①：障害福祉サービス事業者向け）
C2: 障害者の日常生活及び社会生活を総合的に支援するための法律第３６条第３項
B4: 一 | C4: 申請者が都道府県の条例で定める者でないとき。
B5: 二 | C5: 当該申請に係るサービス事業所の従業者の知識及び技能並びに人員が、第四十三条第一項の都道府県の条例で定める基準を満たしていないとき。
B6: 三 | C6: 申請者が、第四十三条第二項の都道府県の条例で定める指定障害福祉サービスの事業の設備及び運営に関する基準に従って適正な障害福祉サービス事業の運営をすることができないと認められるとき。
B7: 四 | C7: 申請者が、禁錮以上の刑に処せられ、その執行を終わり、又は執行を受けることがなくなるまでの者であるとき。
B8: 五 | C8: 申請者が、この法律その他国民の保健医療若しくは福祉に関する法律で政令で定めるものの規定により罰金の刑に処せられ、その執行を終わり、又は執行を受けることがなくなるまでの者であるとき。
B9: 五の二 | C9: 申請者が、労働に関する法律の規定であって政令で定めるものにより罰金の刑に処せられ、その執行を終わり、又は執行を受けることがなくなるまでの者であるとき。
B10: 六 | C10: 申請者が、第五十条第一項（同条第三項において準用する場合を含む。以下この項において同じ。）、第五十一条の二十九第一項若しくは第二項又は第七十六条の三第六項の規定により指定を取り消され、その取消しの日から起算して五年を経過しない者（当該指定を取り消された者が法人である場合においては、当該取消しの処分に係る行政手続法（平成五年法律第八十八号）第十五条の規定による通知があった日前六十日以内に当該法人の役員又はそのサービス事所を管理する者その他の政令で定める使用人（以下「役員等」という。）であった者で当該取消しの日から起算して五年を経過しないものを含み、当該指定を取り消された者が法人でない場合においては、当該通知があった日前六十日以内に当該者の管理者であった者で当該取消しの日から起算して五年を経過しないものを含む。）であるとき。ただし、当該指定の取消しが、指定障害福祉サービス事業者の指定の取消しのうち当該指定の取消しの処分の理由となった事実及び当該事実の発生を防止するための当該指定障害福祉サービス事業者による業務管理体制の整備についての取組の状況その他の当該事実に関して当該指定障害福祉サービス事業者が有していた責任の程度を考慮して、この号本文に規定する指定の取消しに該当しないこととすることが相当であると認められるものとして主務省令で定めるものに該当する場合を除く。
B11: 七 | C11: 申請者と密接な関係を有する者（申請者（法人に限る。以下この号において同じ。）の株式の所有その他の事由を通じて当該申請者の事業を実質的に支配し、若しくはその事業に重要な影響を与える関係にある者として主務省令で定めるもの（以下この号において「申請者の親会社等」という。）、申請者の親会社等が株式の所有その他の事由を通じてその事業を実質的に支配し、若しくはその事業に重要な影響を与える関係にある者として主務省令で定めるもの又は当該申請者が株式の所有その他の事由を通じてその事業を実質的に支配し、若しくはその事業に重要な影響を与える関係にある者として主務省令で定めるもののうち、当該申請者と主務省令で定める密接な関係を有する法人をいう。）が、第五十条第一項、第五十一条の二十九第一項若しくは第二項又は第七十六条の三第六項の規定により指定を取り消され、その取消しの日から起算して五年を経過していないとき。ただし、当該指定の取消しが、指定障害福祉サービス事業者の指定の取消しのうち当該指定の取消しの処分の理由となった事実及び当該事実の発生を防止するための当該指定障害福祉サービス事業者による業務管理体制の整備についての取組の状況その他の当該事実に関して当該指定障害福祉サービス事業者が有していた責任の程度を考慮して、この号本文に規定する指定の取消しに該当しないこととすることが相当であると認められるものとして主務省令で定めるものに該当する場合を除く。
B12: 八 | C12: 申請者が、第五十条第一項、第五十一条の二十九第一項若しくは第二項又は第七十六条の三第六項の規定による指定の取消しの処分に係る行政手続法第十五条の規定による通知があった日から当該処分をする日又は処分をしないことを決定する日までの間に第四十六条第二項又は第五十一条の二十五第二項若しくは第四項の規定による事業の廃止の届出をした者（当該事業の廃止について相当の理由がある者を除く。）で、当該届出の日から起算して五年を経過しないものであるとき。
B13: 九 | C13: 申請者が、第四十八条第一項（同条第三項において準用する場合を含む。）又は第五十一条の二十七第一項若しくは第二項の規定による検査が行われた日から聴聞決定予定日（当該検査の結果に基づき第五十条第一項又は第五十一条の二十九第一項若しくは第二項の規定による指定の取消しの処分に係る聴聞を行うか否かの決定をすることが見込まれる日として主務省令で定めるところにより都道府県知事が当該申請者に当該検査が行われた日から十日以内に特定の日を通知した場合における当該特定の日をいう。）までの間に第四十六条第二項又は第五十一条の二十五第二項若しくは第四項の規定による事業の廃止の届出をした者（当該事業の廃止について相当の理由がある者を除く。）で、当該届出の日から起算して五年を経過しないものであるとき。
B14: 十 | C14: 第八号に規定する期間内に第四十六条第二項又は第五十一条の二十五第二項若しくは第四項の規定による事業の廃止の届出があった場合において、申請者が、同号の通知の日前六十日以内に当該届出に係る法人（当該事業の廃止について相当の理由がある法人を除く。）の役員等又は当該届出に係る法人でない者（当該事業の廃止について相当の理由がある者を除く。）の管理者であった者で、当該届出の日から起算して五年を経過しないものであるとき。
B15: 十一 | C15: 申請者が、指定の申請前五年以内に障害福祉サービスに関し不正又は著しく不当な行為をした者であるとき。
... B17: 十三 | C17: 申請者が、法人でない者で、その管理者が第四号から第六号まで又は第八号から第十一号までのいずれかに該当する者であるとき。
B18: ※療養介護に係る指定の申請にあっては、第七号を除く。

Sheet 別紙1-1 体制等状況一覧
A1: （別紙１ー１）
A3: 介護給付費等の算定に係る体制等状況一覧表
A5: 提供サービス | K5: 定員数 | O5: 定員規模 | U5: 多機能型等 定員区分（※1） | AA5: 人員配置区分 （※2） | AF5: その他該当する体制等
BA6: 適用開始日
A7: 各サービス共通 | AF7: 地域区分 | AL7: １．一級地 ２．二級地 ３．三級地 ４．四級地 ５．五級地 ６．六級地 ７．七級地 ２０．その他
A8: 訓練等給付 | B8: 自立生活援助 | AA8: １．30:1未満 ２．30:1以上 | AF8: サービス管理責任者欠如 | AL8: １．なし ２．あり | BG8: 「サービス管理責任者欠如」については、利用者数等基準第２号ロ（サービス管理責任者の員数の基準に限る。）に該当する場合に、「２．あり」と記載してください。
AF9: 標準期間超過 | AL9: １．なし ２．あり | BG9: 「標準期間超過」については、報酬告示別表第12の１の注５の⑶に該当する場合に、「２．あり」と記載してください。
AF10: 虐待防止措置未実施 | AL10: １．なし ２．あり | BG10: 「虐待防止措置未実施」については、障害者総合支援法に基づく指定地域相談支援の事業の人員及び運営に関する基準第36条の２第１号から第３号に規定する基準を満たしていない場合に、「２．あり」と記載してください。
AF11: 業務継続計画未策定 | AL11: １．なし ２．あり | BG11: 「業務継続計画未策定」については、指定地域相談支援基準第28条の２第1項に規定する基準を満たしていない場合に、「２．あり」と記載してください。
AF12: 情報公表未報告 | AL12: １．なし ２．あり | BG12: 「情報公表未報告」については、障害者総合支援法第76条の３第１項の規定に基づく情報公表対象サービス等情報に係る報告を行っていない場合は、「２．あり」と記載してください。
AF13: 福祉専門職員配置等 | AL13: １．なし ３．Ⅱ ４．Ⅲ ５．Ⅰ | BG13: 「福祉専門職員配置等」については、報酬告示別表第13の８の注１に該当する場合に「５．Ⅰ」と、注２に該当する場合に「３．Ⅱ」と、注３に該当する場合に「４．Ⅲ」と記載してください。また、（別紙３-１）「福祉専門職員配置等加算に関する届出書」を添付してください
AF14: 居住支援連携体制 | AL14: １．非該当 ２．該当 | BG14: 「居住支援連携体制」については、障害者総合支援法に基づく指定地域相談支援に要する費用の額の算定に関する基準に基づき厚生労働大臣が定める基準第６号に該当する場合に、「２．該当」と記載の上、（別紙55）「居住支援連携体制加算に関する届出書」を添付してください。
AF15: 福祉・介護職員等処遇改善加算対象 | AL15: １．なし ２．Ⅰ・イ ３．Ⅱ・イ ４．Ⅲ ５．Ⅳ ７．Ⅰ・ロ ８．Ⅱ・ロ
AF16: ピアサポート体制 | AL16: １．なし ２．あり | BG16: 「ピアサポート体制」については、大臣基準第３号に該当する場合に、「２．あり」と記載の上、（別紙25）「ピアサポート体制加算に関する届出書」を添付してください。
AF17: 地域生活支援拠点等 | AL17: １．非該当 ２．該当 | BG17: 「地域生活支援拠点等」については、大臣基準第４号又は第５号に該当する場合に、「２．該当」と記載の上、（別紙47）「地域生活支援拠点等に関連する加算の届出」を添付してください。
AF18: 地域生活支援拠点等機能強化体制 | AL18: １．なし ２．あり | BG18: 「地域生活支援拠点等機能強化体制」については、大臣基準第２号の２に該当する場合に、「２．あり」と記載の上、（別紙36）「地域生活支援拠点等機能強化加算に関する届出書」を添付してください。
A21: ※１ | C21: 多機能型事業所または複数の単位でサービス提供している事業所については、一体的な管理による複数サービス種類の利用定員の合計数を利用定員とした場合の報酬を算定することとなるため、「定員規模」には利用定員の合計数を設定する。 ただし、以下の報酬については、サービス種類毎または単位毎の利用定員に応じた報酬を算定する。 生活介護・・・人員配置体制加算、常勤看護職員等配置加算、就労移行支援体制加算 施設入所支援・・・夜勤職員配置体制加算、地域移行支援体制加算 自立訓練（機能訓練・生活訓練）・・・就労移行支援体制加算 就労継続支援Ａ型・・・重度者支援体制加算、就労移行支援体制加算、賃金向上達成指導員配置加算 就労継続支援Ｂ型・・・重度者支援体制加算、目標工賃達成指導員配置加算、就労移行支援体制加算 その場合、「多機能型等定員区分」には、以下の内容を設定する。 生活介護、施設入所支援、自立訓練（機能訓練・生活訓練）・・・各サービス種類の単位毎の利用定員。 （生活介護において、主として重症心身障害児者を受け入れる多機能型事業所の場合、事業所全体の利用定員に応じて設定する） 就労継続支援A型、就労継続支援B型・・・各サービス種類の利用定員。 なお、「定員規模」と「多機能型等定員区分」が同一の場合、「多機能型等定員区分」は設定しない。
A23: ※２ | C23: 「人員配置区分」欄には、報酬算定上の区分を設定する。
A24: ※３ | C24: 18歳以上の障害児施設入所者への対応として、児童福祉法に基づく指定基準を満たすことをもって、障害者総合支援法に基づく指定基準を満たしているものとみなす特例措置の対象を設定する。
A25: ※４ | C25: 「開所時間減算区分」欄は、開所時間減算が「２．あり」の場合に設定する。
A26: ※５ | C26: 「共生型サービス対象区分」欄が「２．該当」の場合に設定する。
A27: ※６ | C27: 就労移行支援について、令和６年度報酬改定の基本報酬体系適用後の新規事業所及び指定を受けた日から2年を経過しない既存事業所の場合、「08:無し（経過措置対象）」を設定する。 就労移行支援（養成）について、指定を受けた日から3年（修業年限が5年の場合は5年）を経過しない既存事業所の場合、「08:無し（経過措置対象）」を設定する。 就労継続支援Ａ型について、指定を受けた日から1年を経過しない事業所の場合、「08:無し（経過措置対象）」を設定する。 就労継続支援Ｂ型について、指定を受けた日から1年を経過しない事業所の場合、「08:無し（経過措置対象）」を設定する。
A30: ※７ | C30: 「大規模住居」欄の「２．定員8人以上」は、施設区分が「介護サービス包括型」及び「外部サービス利用型」の場合に限る。また、「４．定員21人以上（一体的な運営が行われている場合）」は、施設区分が「介護サービス包括型」及び「日中サービス支援型」の場合に限る。
A32: ※８ | C32: 「重度障害者支援職員配置」欄は、施設区分が「介護サービス包括型」及び「日中サービス支援型」の場合に設定する。
A33: ※９ | C33: 居宅介護について、「特定事業所（経過措置）」欄は、特定事業所が「２．Ⅰ」、「４．Ⅲ」、「５．Ⅳ」の場合に設定する。
C34: 行動援護について、「特定事業所（経過措置）」欄は、特定事業所が「２．Ⅰ」、「３．Ⅱ」、「４．Ⅲ」、「５．Ⅳ」の場合に設定する。
A35: ※１１ | C35: 施設区分が「３．生活訓練（宿泊型）」の場合、「身体拘束廃止未実施」欄は、「１．なし」、「２．あり」を設定する。また、「２．あり（障害者支援施設以外）」を「２．あり」と読み替える。
A36: ※１２ | C36: 「夜間看護体制（看護職員配置数）」欄は、看護職員１名の配置に加え、さらに１名以上配置している場合、その人数を設定する。 例．看護職員配置数が１名の場合、「夜間看護体制（看護職員配置数）」欄は、未設定もしくは「０」を設定する。 看護職員配置数が３名の場合、「夜間看護体制（看護職員配置数）」欄は、「２」を設定する。
A37: ※１３ | C37: 「地域体制強化共同支援加算対象」欄は、地域生活支援拠点等が「１．非該当」の場合、「１．なし」または「２．あり」を設定する。 地域生活支援拠点等が「２．該当」の場合、「１．なし」を設定する。
A38: ※１４ | C38: 「常勤看護職員等配置（看護職員常勤換算員数）」欄は、小数点以下を切り捨てた人数を設定する。
A39: ※１６ | C39: 就労選択支援について、「業務継続計画未策定」欄は、令和９年４月１日以降の場合に設定する。
A40: ※１９ | C40: 以下のサービスについて、指定障害者支援施設にて支援を行う場合、「福祉・介護職員等処遇改善加算」欄は「１．なし」、「２．Ⅰ・イ」、「４．Ⅲ」、「５．Ⅳ」、または「７．Ⅰ・ロ」を設定する。 生活介護、自立訓練（機能訓練・生活訓練）、就労移行支援、就労移行支援（養成）、就労継続支援A型、就労継続支援B型

Sheet 別紙3-1 福祉専門職員配置等加算
B2: （別紙３ー１） | H2: 年 月 日
B4: 福祉専門職員配置等加算に関する届出書 自立生活援助
B6: １ 事業所・施設の名称 | L6: ・加算Ⅰ・Ⅱについては資格証（登録証）の写しを添付してください。
B7: ２ 異動区分 | L7: ・加算Ⅲについては実務経験証明書等、要件を確認できる資料を添付してください。
B8: ３ サービスの種類 | C8: 自立生活援助 | L8: ・従業者の勤務の体制及び勤務形態一覧表により算定根拠が確認できるようにしてください。
B9: ４ 届出項目 | L9: ・職員の異動等により要件に変更が生じた場合は、速やかに届出を行ってください。
B11: ５ 社会福祉士等の状況 | I11: =IF(AND(C9="１ 福祉専門職員配置等加算(Ⅰ)※有資格者35％以上",H13>=35%),"有",IF(AND(C9="２ 福祉専門職員配置等加算(Ⅱ)※有資格者25％以上",H13>=25%),"有","無")) -> 無
D12: ① | E12: 生活支援員等の総数 （常勤） | G12: 人 | H12: ①に占める②の割合が 35％又は25％以上
D13: ② | E13: ①のうち社会福祉士等 の総数（常勤） | G13: 人 | H13: =IF(F12="",0,F13/F12) -> 0
B15: ６ 常勤職員の状況 | I15: =IF(OR(AND(C9="３ 福祉専門職員配置等加算(Ⅲ)※常勤職員が75％以上又は勤続3年以上の常勤職員が30％以上",H17>=75%),AND(C9="３ 福祉専門職員配置等加算(Ⅲ)※常勤職員が75％以上又は勤続3年以上の常勤職員が30％以上",H21>=30%)),"有","無") -> 無
D16: ① | E16: 生活支援員等の総数 （常勤換算） | G16: 人 | H16: ①に占める②の割合が 75％以上
D17: ② | E17: ①のうち常勤の者の数 | G17: 人 | H17: =IF(F16="",0,F17/F16) -> 0
B19: ７ 勤続年数の状況
D20: ① | E20: 生活支援員等の総数 （常勤） | G20: 人 | H20: ①に占める②の割合が 30％以上
D21: ② | E21: ①のうち勤続年数３年以上の者の数 | G21: 人 | H21: =IF(F20="",0,F21/F20) -> 0
B24: 注１ 常勤とは、「障害者の日常生活及び社会生活を総合的に支援するための法律に基づく指定障害福祉サービスの事業等の人員、設備及び運営に関する基準について」（平成18年12月６日厚生労働省社会・援護局障害保健福祉部長通知）第二の２の（３）に定義する「常勤」をいう。
B25: 注２ 生活支援員等とは、
B26: ○自立生活援助にあっては、地域生活支援員

Sheet 別紙55 居住支援連携体制加算
B1: （別紙55）
H2: 年 月 日
B3: 居住支援連携体制加算に関する届出書
B5: 事業所の名称
B6: 異動区分 | C6: １ 新規 ２ 変更 ３ 終了
B7: 居住支援法人又は居住支援協議会との連携状況 | C7: 1 | D7: 居住支援法人又は居住支援協議会の名称
C8: 2 | D8: 居住支援法人又は居住支援協議会の所在地
B9: 注１ 「異動区分」欄については、該当する番号に○を付してください。
B10: 注２ 居住支援法人又は居住支援協議会との連携の計画等を示す文書を添付してください。
B15: （記載例・記載上の注意）
H16: 令和○年○月○日
B17: 居住支援連携体制加算に関する届出書
B19: 事業所の名称 | C19: 〇〇福祉センター
B20: 異動区分 | C20: ① 新規 ２ 変更 ３ 終了
B21: 居住支援法人又は居住支援協議会との連携状況 | C21: 1 | D21: 居住支援法人又は居住支援協議会の名称 | F21: 〇〇居住支援法人／ 〇〇市居住支援協議会
C22: 2 | D22: 居住支援法人又は居住支援協議会の所在地 | F22: 東京都○○市○○町1-1-1 〇〇市役所内（○○課）
B23: 注１ 「異動区分」欄については、該当する番号に○を付してください。
B24: 注２ 居住支援法人又は居住支援協議会との連携の計画等を示す文書を添付してください。
B26: ・本届出に当たっては、居住支援法人又は居住支援協議会との連携の計画等を示す文書の添付が必要です。
B27: （例：連携体制説明書、協定書・覚書、会議運用ルール・様式等）
B28: ・連携の内容は具体的に記載してください。
B29: 「連携している」だけでは不可。頻度（毎月）、方法（対面等）、内容（何を共有するか）を明記。
B30: ・連携先は正式名称＋所在地まで記載してください。
B31: 居住支援法人 or 協議会／市町村窓口だけ記載 → 不十分な場合あり
B32: ・添付書類との整合性を確認してください。
B33: 届出書と添付資料の内容が一致していることを確認。
B34: ・事業所内掲示・公表が必要です。

Sheet 別紙25 ピアサポート体制加算
B1: （別紙25） | N1: （記載例）
J2: 年 月 日 | V2: 令和○年○月○日
A4: ピアサポート体制加算に関する届出書 | M4: ピアサポート体制加算に関する届出書
B6: １ 事業所名 | N6: １ 事業所名 | O6: 〇〇福祉センター
B7: ２ サービスの種類 | N7: ２ サービスの種類 | O7: 自立生活援助
B8: ３ 異動区分 | C8: １ 新規 ２ 変更 ３ 終了 | N8: ３ 異動区分 | O8: ① 新規 ２ 変更 ３ 終了
B9: ４ 障害者ピアサ ポート研修修了 職員 | C9: ＜雇用されている障害者又は障害者であった者＞ | N9: ４ 障害者ピアサ ポート研修修了 職員 | O9: ＜雇用されている障害者又は障害者であった者＞
C10: 職種 | D10: 氏名 | E10: 修了した研修の名称 | H10: 受講 年度 | J10: 研修の 実施主体 | O10: 職種 | P10: 氏名 | Q10: 修了した研修の名称 | T10: 受講 年度 | V10: 研修の 実施主体
I11: 年 | O11: 地域生活支援員 | P11: 東京 花子 | Q11: 東京都障害者ピアサポート研修（基礎研修及び専門研修） | T11: 2025 | U11: 年 | V11: 東京都
I12: 年 | O12: 地域生活支援員 | P12: 東京 一郎 | Q12: 東京都障害者ピアサポート研修（基礎研修及び専門研修） | T12: 2025 | U12: 年 | V12: 東京都
I13: 年 | U13: 年
E15: 常勤（人） | F15: 非常勤（人） | G15: 合計（人） | H15: （0.5以上であること） | Q15: 常勤（人） | R15: 非常勤（人） | S15: 合計（人） | T15: （0.5以上であること）
D16: 実人員 | P16: 実人員 | Q16: 1 | R16: 1 | S16: 2
D17: 常勤換算数 | P17: 常勤換算数 | Q17: 0.5 | R17: 0.5 | S17: 1
C19: ＜その他の職員＞ | O19: ＜その他の職員＞
C20: 職種 | D20: 氏名 | E20: 修了した研修の名称 | H20: 受講 年度 | J20: 研修の 実施主体 | O20: 職種 | P20: 氏名 | Q20: 修了した研修の名称 | T20: 受講 年度 | V20: 研修の 実施主体
I21: 年 | O21: サービス管理責任者 | P21: 東京 次郎 | Q21: 東京都障害者ピアサポート研修（基礎研修及び専門研修） | T21: 2025 | U21: 年 | V21: 東京都
I22: 年 | U22: 年
I23: 年 | U23: 年
E25: 常勤（人） | F25: 非常勤（人） | G25: 合計（人） | H25: （0.5以上であること） | Q25: 常勤（人） | R25: 非常勤（人） | S25: 合計（人） | T25: （0.5以上であること）
D26: 実人員 | P26: 実人員 | Q26: 0 | R26: 1 | S26: 1
D27: 常勤換算数 | P27: 常勤換算数 | Q27: 0 | R27: 0.5 | S27: 0.5
B29: ５ 研修の実施 | C29: 直上により配置した者のいずれかにより、当該事業所等の従業者に対し、障害者に対する配慮等に関する研修を年１回以上行っている。 | H29: 確認欄 | N29: ５ 研修の実施 | O29: 直上により配置した者のいずれかにより、当該事業所等の従業者に対し、障害者に対する配慮等に関する研修を年１回以上行っている。 | T29: 確認欄
T30: ○
B32: 注１ 研修を修了した職員は、＜障害者又は障害者であった者＞及び＜その他の職員＞それぞれ常勤換算方法で 0.5以上を配置（併設する事業所（指定自立生活援助事業所、指定地域移行支援事業所、指定地域定着支援 事業所、指定計画相談支援事業所又は指定障害児相談支援事業所に限る。）の職員を兼務する場合は当該兼 務先を含む業務時間の合計が常勤換算方法で0.5以上になる場合を含む）してください。 | N32: 注１ 研修を修了した職員は、＜障害者又は障害者であった者＞及び＜その他の職員＞それぞれ常勤換算方法で 0.5以上を配置（併設する事業所（指定自立生活援助事業所、指定地域移行支援事業所、指定地域定着支援 事業所、指定計画相談支援事業所又は指定障害児相談支援事業所に限る。）の職員を兼務する場合は当該兼 務先を含む業務時間の合計が常勤換算方法で0.5以上になる場合を含む）してください。
B33: 注２ 修了した研修の名称欄は「地域生活支援事業の障害者ピアサポート研修の基礎研修及び専門研修」等と具 体的に記載。 | N33: 注２ 修了した研修の名称欄は「地域生活支援事業の障害者ピアサポート研修の基礎研修及び専門研修」等と具 体的に記載。
B34: 注３ 受講した研修の実施要綱、カリキュラム及び研修を修了したことを証明する書類等を添付してください。 | N34: 注３ 受講した研修の実施要綱、カリキュラム及び研修を修了したことを証明する書類等を添付してください。

Sheet 別紙47 地域生活支援拠点等加算
B2: （別紙47） | T2: 年 月 日
A4: 地域生活支援拠点等に関連する加算の届出
B6: 地域生活支援拠点等に関連する加算の要件を満たす事業所として、以下のとおり届け出ます。
B8: １ 届出区分 | G8: １ 新規 ２ 変更 ３ 終了
B9: ２ 事業所の名称
B10: ３ 地域生活支援拠点等 としての位置付け | G10: 市町村により地域生活支援拠点等として 位置付けられたことを証明する運営規程の有無 | U10: 有 ・ 無
G12: 市町村により地域生活支援拠点等として位置付けられた日付 | X12: 年 | Z12: 月 | AB12: 日
B13: ４ 市町村及び地域生活 支援拠点等との連携及 び調整に従事する者の 氏名 | G13: ※該当者が複数名いる場合は、各々の氏名を記載すること。
B14: ５ 当該届出により算定する加算 | D14: ≪緊急時対応加算 地域生活支援拠点等の場合≫ | Q14: 対象：訪問系サービス※、 重度障害者等包括支援（訪問系サービスのみ対象）
D15: ≪緊急時支援加算 地域生活支援拠点等の場合≫ | Q15: 対象：自立生活援助、地域定着支援、 重度障害者等包括支援（自立生活援助のみ対象）
D16: ≪地域生活支援拠点等として短期入所を行った場合の加算≫ | Q16: 対象：短期入所、重度障害者等包括支援
D17: ≪緊急時受入加算≫ | Q17: 対象：日中系サービス※
D18: ≪障害福祉サービスの体験支援加算≫ | Q18: 対象：日中系サービス※
D19: ≪障害福祉サービスの体験利用加算・体験宿泊加算≫ | Q19: 対象：地域移行支援
D20: ≪地域移行促進加算（Ⅰ）・（Ⅱ）≫ | Q20: 対象：施設入所支援
D21: ≪地域生活支援拠点等相談強化加算≫ | Q21: 対象：計画相談支援、障害児相談支援
B23: 添付書類：運営規定 運営規程は、当該事業所等が地域生活支援拠点等の機能を担う事業所であることが規定されているもの(規定の変更の手続中であるものを含む。) に限る。なお、事業所の運営規程が変更の手続中のものである場合は、当該変更の手続の完了後、速やかに変更後の運営規程を提出すること。 注１ 地域生活支援拠点等機能強化加算については別に定める様式にて届出を行うこと。 注２ 訪問系サービスとは、居宅介護、重度訪問介護、同行援護、行動援護をいう。 注３ 日中系サービスとは、生活介護、自立訓練（機能訓練）、自立訓練（生活訓練）、就労移行支援（養成含む）、就労 継続支援Ａ型、就労継続支援Ｂ型をいう。

Sheet 別紙36 地域生活支援拠点等機能強化加算
B1: （別紙36）
U3: 年 月 日
C6: 地域生活支援拠点等機能強化加算に関する届出書
C8: 法人 ・ 事業所名
C9: 異 動 等 区 分 | H9: １ 新規 ２ 変更 ３ 終了
D14: ① 当該申請を行う自事業所が、地域生活支援拠点等にとして位置付けられていることを証明できる運営規定 の提出
V16: いずれかを選択 | Y16: 有 ・ 無
D18: ② 市町村及び拠点関係機関の相互の有機的な連携及び調整等の業務に従事する者（拠点コーディネーター） の配置状況
E19: 常勤で専ら当該地域生活支援拠点等におけるコーディネート業務に従事する者
E20: ⑴ 法人・事業所名：
H21: 氏名：
E23: ⑵ 法人・事業所名：
H24: 氏名：
J26: 地域生活支援拠点等に属する常勤の拠点等コーディネーターの人数 | W26: ＝ | X26: （Ⅰ） | AA26: 名
G28: 拠点コーディネーター数に応じた地域生活支援拠点等機能強化加算の月内算定上限 | W28: ＝ | X28: （Ⅱ） | Y28: =Y26*100 -> 0 | AA28: 回
W29: （（Ⅰ）× 100＝（Ⅱ））
D31: ③ 拠点機能強化サービスの構成
E32: ⑴ 拠点機能強化サービスの構成形態
L33: いずれかを選択 | O33: 同一の事業所おいて一体的運営 ・ 相互に連携して運営
E35: ⑵ 地域生活支援拠点等機能強化加算の算定件数上限の配分（目安）
C36: 該当する欄にチェック | E36: 法人 ・ 事業所名 | P36: 該当する障害福祉サービス等 | Y36: 算定回数（目安）
P38: 計画相談支援及び障害児相談支援 （機能強化型基本報酬(Ⅰ)又は(Ⅱ) | AA38: 回
P39: 自立生活援助
P40: 地域移行支援
P41: 地域定着支援
C43: 合計（月内算定上限） | X43: （Ⅲ） | Y43: =SUM(Y38:Z42) -> 0
C44: 目安の合計が、月内算定上限内であるかの確認 | T44: (（Ⅱ）＝（Ⅲ）)=（Ⅳ） | X44: (Ⅳ) | Y44: たしかめ
C45: 月内算定上限内を超えている場合は「上限超えと表示されます。 | Y45: =IF(Y43<=Y28,"OK","上限超え") -> OK
D46: ※ 記載欄が不足する場合は適宜欄を追加すること（別紙可）
D47: ※ 配分件数（目安）に変更が生じる場合は、当様式を再提出すること。
C49: 上記①～③を満たしており、拠点機能強化事業所として要件を満たしている。 | Y49: 有 ・ 無
