Workbook

Sheet 様式１号
A1: 様式第１号 | T1: 第 号
T2: 年 月 日
B4: 東京都知事 殿
M5: 提出者
N6: 所在地
N7: 法人名
N8: 代表者職氏名
B11: 障害者支援施設ＩＣＴ機器導入支援モデル事業補助金の交付申請について
B15: このことについて、下記のとおり提出いたします。
A18: 記
B21: １ 申請額 | F21: 金 円
B23: ２ 施設の名称
B25: ３ 補助金の種類 ＩＣＴ機器 ・ ロボット介護機器
B27: ４ 添付資料
B28: ア 積算調書（別紙１-１）
B29: イ 積算内訳書（別紙１-２）
B30: ウ 業務改善計画書（別紙１-３）
B31: エ 契約書等の写し、仕様書並びにカタログ
B32: オ 誓約書（別紙１-４）
B33: カ 歳入歳出予算書抄本（別紙１-５）
B34: キ その他参考となる資料
M35: 担 当 者
M36: 所属
M38: 氏名
M39: TEL
M40: e-mail

Sheet 別紙1-1「ICT積算調書」
A1: 別紙１-１-１
E2: （法人名）
E3: （事業所種別） | I3: 障害者支援施設（都内）
E4: （事業所名） | I4: 障害者支援施設（都外）
A5: 積算調書
A8: 総事業費 （円） （Ａ） | B8: 対象経費の 実支出予定額 （円） （Ｂ） | C8: 寄附金その他の 収入額 （円） （Ｃ） | D8: 差引後 実支出予定額 （円） （Ｄ＝Ｂ－Ｃ） | E8: 補助基準額 （円） （E） | F8: ＤとＥを比較して 少ない方の額 （円） （Ｆ） | G8: 申請額 （円） （Ｇ＝Ｆ×2/3） (千円未満切捨）
B9: ='別紙1-2-1「ICT積算内訳書」'!G29 -> 0 | D9: =B9-C9 -> 0 | E9: 20000000 | F9: =MIN(E9,D9) -> 0 | G9: =ROUNDDOWN(F9*2/3,-3) -> 0
A12: （注１）申請額は、千円未満を切り捨てた額とすること。
A13: （注２）Ｂは別紙１－２－１の支出予定額合計と一致させること。

Sheet 別紙1-1「ロボット積算調書」 
A1: 別紙１-１-２
E2: （法人名）
E3: （事業所種別） | I3: 障害者支援施設（都内）
E4: （事業所名） | I4: 障害者支援施設（都外）
A5: 積算調書
A8: 総事業費 （円） （Ａ） | B8: 対象経費の 実支出予定額 （円） （Ｂ） | C8: 寄附金その他の 収入額 （円） （Ｃ） | D8: 差引後 実支出予定額 （円） （Ｄ＝Ｂ－Ｃ） | E8: 補助基準額 （円） （E） | F8: ＤとＥを比較して 少ない方の額 （円） （Ｆ） | G8: 申請額 （円） （Ｇ＝Ｆ×2/3） (千円未満切捨）
B9: ='別紙1-2-2「ロボット積算内訳書」 '!G21 -> 0 | D9: =B9-C9 -> 0 | E9: 6000000 | F9: =MIN(E9,D9) -> 0 | G9: =ROUNDDOWN(F9*2/3,-3) -> 0
A12: （注１）申請額は、千円未満を切り捨てた額とすること。
A13: （注２）Ｂは別紙１－２－２の支出予定額合計と一致させること。

Sheet 別紙1-2-1「ICT積算内訳書」
B1: 別紙１-２-１ | J1: 障害者支援施設（都内） | K1: 工事請負費
D2: （法人名） | J2: 障害者支援施設（都外） | K2: 備品購入費
D3: （事業所種別） | K3: 役務費
D4: （事業所名） | K4: 委託料
K5: 使用料及賃借料
B6: 積算内訳書 | K6: その他
B9: １ 利用者支援業務の効率化に資するＩＣＴ機器の導入等
B10: （ア）見守り支援機器
B11: 科目（選択） | C11: 内容 | D11: 支出予定月 | E11: 単価（円） | F11: 数量 | G11: 支出予定額（円）
G12: =E12*F12 -> 0
G13: =E13*F13 -> 0
B14: 小 計（Ａ） | G14: =SUM(G12:G13) -> 0
B16: （イ）情報共有のための通信機器、業務支援のためのソフトウェア等
B17: 科目（選択） | C17: 内容 | D17: 支出予定月 | E17: 単価（円） | F17: 数量 | G17: 支出予定額（円）
G18: =E18*F18 -> 0
G19: =E19*F19 -> 0
B20: 小 計（Ｂ） | G20: =SUM(G18:G19) -> 0
B22: （ウ）通信環境整備
B23: 科目（選択） | C23: 内容 | D23: 支出予定月 | E23: 単価（円） | F23: 数量 | G23: 支出予定額（円）
G24: =E24*F24 -> 0
G25: =E25*F25 -> 0
B26: 小 計（Ｃ） | G26: =SUM(G24:G25) -> 0
G28: 支出予定額（円）
B29: 合 計（Ａ+Ｂ＋Ｃ）（補助対象経費） | G29: =G14+G19+G26 -> 0
B30: （注）契約書等の写しを添付し、補助対象経費の内容について具体的にわかるようにすること。
B31: 支出予定額の積算、内訳等が確認できないものは、対象として認めない。

Sheet 別紙1-2-2「ロボット積算内訳書」 
B1: 別紙１-２-２
D2: （法人名）
D3: （事業所種別）
D4: （事業所名）
J5: 障害者支援施設（都内） | K5: 工事請負費
B6: 積算内訳書 | J6: 障害者支援施設（都外） | K6: 備品購入費
K7: 役務費
K8: 委託料
B9: １ 介護従事者の負担軽減等に資するロボット介護機器の導入等 | K9: 使用料及賃借料
B10: 科目（選択） | C10: 内容 | D10: 支出予定月 | E10: 単価（円） | F10: 数量 | G10: 支出予定額（円） | K10: その他
G11: =E11*F11 -> 0
G19: =E19*F19 -> 0
G20: =E20*F20 -> 0
B21: 合計 | G21: =SUM(G11:G20) -> 0
B24: （注）契約書等の写しを添付し、補助対象経費の内容について具体的にわかるようにすること。
B25: 支出予定額の積算、内訳等が確認できないものは、対象として認めない。

Sheet 別紙1-3「ＩＣＴ活用による業務改善計画書」 (2)
M1: 別紙１-３
A2: ＩＣＴ活用による業務改善計画書
A5: １-１ 法人・事業所概要
A7: 法人名
A8: 事業所名称
A9: 対象事業所種別
A12: 事業所所在地 | B12: 〒
B13: 東京都
A15: １-２ 現在の事業所の状況
A17: 定員数 | B17: ユニット型
B18: 従来型
A19: 建物構造 | G19: 延床面積
A20: 対象事業所種別 | E20: （ 床）
E22: （ ）
A23: 職員数 | B23: 介護職員 | D23: 常勤 | G23: 非常勤 | J23: 計
B24: 看護職員 | D24: 常勤 | G24: 非常勤 | J24: 計
B25: 合計 | D25: 常勤 | G25: 非常勤 | J25: 計
A27: ※補助申請年度の４月１日時点の情報を記入してください。
A28: ※職員数は、併設ショートステイを含めて記載し、その他併設サービスは含まずに記載ください。
N29: ※ＨＰ等での公表は２－１以降
A30: ２-１ 事業所の概要
A31: 対象事業所種別
A34: 法人名・施設名
A35: 竣工年月日
A36: 定員数
A37: 建物構造 | G37: 延床面積
A38: ２-２ 法人・事業所における解決課題
A39: 申請する事業所における現状の問題点、ＩＣＴ活用によって解決したいと考えている課題、効率化を図りたい介護業務等を具体的に記載してください。
A40: （現状の問題点、取り組むべき課題）
A41: （ＩＣＴ化する介護業務等）
A42: ２-３ 法人・事業所における検討状況、組織体制
A43: この申請にあたり、ＩＣＴ環境整備及びＩＣＴ機器導入に当たり、法人・事業所内でのどのような検討を行ったか、ＩＣＴ導入を担当する組織体制など具体的に記載してください。
A44: （内部での検討状況）
A45: （ＩＣＴ導入のための組織体制）
A46: 理事会等の 議事録 | B46: ＩＣＴによる業務改善計画の内容、環境整備や機器等の購入に係る各理事等の発言内容や質疑応答など、法人内部での意思決定過程がわかる詳細な議事録を作成し、原本証明した写しを別途提出すること。 | N46: ※議事録はＨＰ公表なし
A48: ２-４ 業務改善計画（基本単価に関するもの）
A49: １ 利用者処遇業務に関するＩＣＴ導入前の外部コンサルティング
A50: 外部コンサルティングの活用
A51: 活用する場合、委託先及び内容を具体的に記載してください。
A52: （委託先）
...

Sheet 別紙1-3-1「ＩＣＴ業務改善計画書」
A1: 別紙１-３-１
A2: ＩＣＴ機器活用による業務改善計画書
M3: （応募申請・補助協議・交付申請・変更）
A6: １ 法人・事業所概要
A8: 法人名
A9: 事業所名称
A10: 対象事業所種別
A12: 事業所所在地 | B12: 〒
A15: ２ 現在の事業所の状況
A17: 定員数 | B17: 夜間 | C17: 施設入所支援 | H17: 人
B18: 昼間サービス | H18: 人 | M18: 人
H19: 人 | M19: 人
H20: 人 | M20: 人
B21: 短期 入所 | D21: （ | G21: ） | J21: 人
A22: 主たる対象者 | H22: 開設年月 （和暦） | K22: 年 | M22: 月
A23: 建物構造 （選択） | H23: 延床面積 | M23: ㎡
A24: 居室の種類 | E24: 床 | H24: ２床× | J24: 部屋 | K24: ３床× | M24: 部屋
H25: ４床× | J25: 部屋 | K25: ５床以上× | M25: 部屋
A26: 階数 | F26: 階建て | H26: ユニット支援 | Y26: 鉄筋コンクリート造（ＲＣ造）
A27: 職員数 （常勤換算） | B27: 生活支援員 | D27: 常勤 | G27: 非常勤 | K27: 計 | L27: =E27+I27 -> 0 | Y27: 鉄骨造（Ｓ造）
B28: 看護職員 | D28: 常勤 | G28: 非常勤 | K28: 計 | L28: =E28+I28 -> 0 | Y28: 木造（Ｗ造）
B29: リハ専門職 | D29: 常勤 | G29: 非常勤 | K29: 計 | L29: =E29+I29 -> 0 | Y29: 鉄骨鉄筋コンクリート造（ＳＲＣ造）
B30: 合計 | D30: 常勤 | E30: =SUM(E27:F29) -> 0 | G30: 非常勤 | I30: =SUM(I27:J29) -> 0 | K30: 計 | L30: =E30+I30 -> 0 | Y30: 補強コンクリートブロック造（ＣＢ造）
A31: 施設入所支援 利用者の 障害支援区分 | B31: 区分６ | F31: 区分５ | J31: 区分４
B32: 区分３ | F32: 区分２ | J32: 区分１
A33: 利用者 平均年齢 | D33: 歳(小数点第１位まで) | H33: 平均障害支援区分 | L33: =ROUND(($D$31*6+$H$31*5+$L$31*4+$D$32*3+$H$32*2+$L$32*1)/($D$31+$H$31+$L$31+$D$32+$H$32+$L$32),2) -> #DIV/0!
A34: ※補助申請年度の４月１日時点の情報を記入してください。
A35: ※リハ専門職とは、理学療法士、作業療法士、言語聴覚士
A39: １ 現在のＩＣＴ機器活用状況
A40: 申請する事業所で現在活用している機器があれば記入してください。
A41: 機器名称 | G41: 台数 | H41: 導入時期 （和暦） | K41: 利用状況（選択）
A42: ・見守り支援機器 （人感センサー等を含むもの） | G42: 0 | J42: 年度 | Y42: 毎日利用している
A43: ・バイタル測定機器 | G43: 0 | J43: 年度 | Y43: 週に２、３回程度利用している
A44: ・インカム（インターカム） | G44: 0 | J44: 年度 | Y44: 週に１回程度利用している
A45: ・支援記録支援システム | G45: 0 | J45: 年度 | Y45: 月に２、３回程度利用している
A46: ・支援記録支援システムに活用する タブレット端末 | G46: 0 | J46: 年度 | Y46: 月に１回程度利用している
A47: ・個別支援計画作成支援システム | G47: 0 | J47: 年度 | Y47: ほとんど利用していない
A48: ・請求管理支援システム | G48: 0 | J48: 年度 | Y48: 今後導入予定
A49: ・医療・介護連携システム（情報共有等） | G49: 0 | J49: 年度
A50: ・組織管理業務システム （財務・給与・人事等） | G50: 0 | J50: 年度
...

Sheet 別紙1-3-2「ロボット業務改善計画書」 
A1: 別紙１-３-２
A2: ロボット介護機器活用による業務改善計画書
M3: （応募申請・補助協議・交付申請・変更）
A6: １ 法人・事業所概要
A8: 法人名
A9: 事業所名称
A10: 対象事業所種別
A12: 事業所所在地 | B12: 〒
A15: ２ 現在の事業所の状況
A17: 定員数 | B17: 夜間 | C17: 施設入所支援 | H17: 人
B18: 昼間サービス | H18: 人 | M18: 人
H19: 人 | M19: 人
H20: 人 | M20: 人
B21: 短期 入所 | D21: （ | G21: ） | J21: 人 | Y21: 鉄筋コンクリート造（ＲＣ造）
A22: 主たる対象者 | H22: 開設年月 （和暦） | K22: 年 | M22: 月 | Y22: 鉄骨造（Ｓ造）
A23: 建物構造 （選択） | H23: 延床面積 | M23: ㎡ | Y23: 木造（Ｗ造）
A24: 居室の種類 | E24: 床 | H24: ２床× | J24: 部屋 | K24: ３床× | M24: 部屋 | Y24: 鉄骨鉄筋コンクリート造（ＳＲＣ造）
H25: ４床× | J25: 部屋 | K25: ５床以上× | M25: 部屋 | Y25: 補強コンクリートブロック造（ＣＢ造）
A26: 階数 | F26: 階建て | H26: ユニット支援
A27: 職員数 （常勤換算） | B27: 生活支援員 | D27: 常勤 | G27: 非常勤 | K27: 計 | L27: =E27+I27 -> 0
B28: 看護職員 | D28: 常勤 | G28: 非常勤 | K28: 計 | L28: =E28+I28 -> 0 | Y28: ①移乗介護
B29: リハ専門職 | D29: 常勤 | G29: 非常勤 | K29: 計 | L29: =E29+I29 -> 0 | Y29: ②移動支援
B30: 合計 | D30: 常勤 | E30: =SUM(E27:F29) -> 0 | G30: 非常勤 | I30: =SUM(I27:J29) -> 0 | K30: 計 | L30: =E30+I30 -> 0 | Y30: ③排泄支援
A31: 施設入所支援 利用者の 障害支援区分 | B31: 区分６ | F31: 区分５ | J31: 区分４ | Y31: ④見守り
B32: 区分３ | F32: 区分２ | J32: 区分１ | Y32: ⑤コミュニケーション
A33: 利用者 平均年齢 | D33: 歳(小数点第１位まで) | H33: 平均障害支援区分 | L33: =ROUND(($D$31*6+$H$31*5+$L$31*4+$D$32*3+$H$32*2+$L$32*1)/($D$31+$H$31+$L$31+$D$32+$H$32+$L$32),2) -> #DIV/0! | Y33: ⑥入浴支援
A34: ※補助申請年度の４月１日時点の情報を記入してください。 | Y34: ⑦その他
A35: ※リハ専門職とは、理学療法士、作業療法士、言語聴覚士
Y37: 毎日利用している
Y38: 週に２、３回程度利用している
A39: １ 現在のロボット介護機器活用状況 | Y39: 週に１回程度利用している
A40: 申請する事業所で現在活用しているロボット介護機器があれば記入してください。 | Y40: 月に２、３回程度利用している
A41: 機器種類（選択） | B41: 機器名称 | G41: 台数 | H41: 導入時期 （和暦） | K41: 利用状況（選択） | Y41: 月に１回程度利用している
G42: 0 | J42: 年度 | Y42: ほとんど利用していない
G43: 0 | J43: 年度 | Y43: 今後導入予定
G44: 0 | J44: 年度
G45: 0 | J45: 年度
G46: 0 | J46: 年度
A49: ２ 法人・事業所における検討状況、組織体制
A50: （１）この申請に際して、ロボット介護機器導入について、法人・事業所内でこれまでにどのような検討を行いましたか。
...

Sheet 別紙1-4誓約書
A1: 別紙１-４
A4: 誓 約 書
A7: 東 京 都 知 事 殿
A10: 障害者支援施設ＩＣＴ機器導入支援モデル事業補助金交付要綱（令和２年２月４日付３１福保障施第２９８８号）第８条の規定に基づく補助金交付申請を行うにあたり、当該申請により補助金等の交付を受けようとする者（法人その他の団体にあっては、代表者、役員又は使用人その他の従業員若しくは構成員を含む。）が東京都暴力団排除条例第２条第２号に規定する暴力団、同条第３号に規定する暴力団員又は同条第４号に規定する暴力団関係者（以下「暴力団員等」という。）に該当せず、かつ将来にわたっても該当しないことをここに誓約いたします。 また、この誓約に違反又は相違があり、同要綱別記２補助条件７（１）オの規定により補助金等の交付の決定の取消しを受けた場合において、同要綱別記２補助条件８の規定に基づき返還を命じられたときは、これに異議なく応じることを誓約いたします。 あわせて、知事が必要と認めた場合には、暴力団員等であるか否かの確認のため、警視庁へ照会がなされることに同意いたします。
A13: 年 月 日
A16: 所在地
A19: 法人名
A22: 代表者職氏名
A28: ＊ 法人その他の団体にあっては、主たる事務所の所在地、名称及び代表者の氏名を記入すること。 ＊ この誓約書における「暴力団関係者」とは、以下の者をいう。 ・ 暴力団又は暴力団員が実質的に経営を支配する法人等に所属する者 ・ 暴力団員を雇用している者 ・ 暴力団又は暴力団員を不当に利用していると認められる者 ・ 暴力団の維持、運営に協力し、又は関与していると認められる者 ・ 暴力団又は暴力団員と社会的に非難されるべき関係を有していると認められる者

Sheet 別紙1-5予算書抄本
B1: 別紙１-５ | AK1: （法人名）
AK2: （事業所種別） | BH2: 障害者支援施設（都内）
AK3: （事業所名） | BH3: 障害者支援施設（都外）
A5: 歳入歳出予算書抄本
B8: １ 歳入の部
BA9: （単位：円）
D10: 区 分 | S10: 予算額 | AJ10: 備 考
D25: 合 計
B27: ２ 歳出の部
D29: 区 分 | S29: 予算額 | AJ29: 備 考
D44: 合 計
C47: 本書は、原本と相違ないことを証明します。
D49: 年 月 日
E51: 法人名
E53: 代表者名 | AG53: 印

Sheet 様式２号 
A1: 様式第２号 | T1: 第 号
T2: 年 月 日
B4: 東京都知事 殿
M5: 提出者
N6: 所在地
N7: 法人名
N8: 代表者職氏名
B11: 障害者支援施設ＩＣＴ機器導入支援モデル事業補助金の変更交付申請について
B15: このことについて、下記のとおり提出いたします。
A18: 記
B21: １ 変更申請額 | H21: 金 円
B23: ２ 施設の名称
B25: ３ 補助金の種類 ＩＣＴ機器 ・ ロボット介護機器
B27: ４ 添付資料
B28: ア 積算調書（変更交付）（別紙２-１）
B29: イ 積算内訳書（変更交付）（別紙２-２）
B30: ウ 業務改善計画書（別紙１-３）
B31: エ 契約書等の写し、仕様書並びにカタログ
B32: オ 歳入歳出予算書抄本（別紙１-５）
B33: カ その他参考となる資料
M35: 担 当 者
M36: 所属
M38: 氏名
M39: TEL
M40: e-mail

Sheet 別紙２-1-1「ICT積算調書(変更)」  
A1: 別紙２-１-１
G2: （法人名）
G3: （事業所種別） | L3: 障害者支援施設（都内）
G4: （事業所名） | L4: 障害者支援施設（都外）
A5: 積算調書（変更交付）
A8: 総事業費 （円） （Ａ） | B8: 対象経費の 実支出予定額 （円） （Ｂ） | C8: 寄附金その他の 収入額 （円） （Ｃ） | D8: 差引後 実支出予定額 （円） （Ｄ＝Ｂ－Ｃ） | E8: 補助基準額 （円） （E） | F8: ＤとＥを比較して 少ない方の額 （円） （Ｆ） | G8: 積算額 （円） （Ｇ＝Ｆ×2/3） (千円未満切捨） | H8: 既交付決定額 （円） （Ｈ） | I8: 増減額 （円） （Ｉ=Ｇ－Ｈ）
B9: ='別紙２-2-1「ICT積算内訳書（変更）」 '!G29 -> 0 | D9: =B9-C9 -> 0 | E9: 20000000 | F9: =MIN(D9,E9) -> 0 | G9: =ROUNDDOWN(F9*2/3,-3) -> 0 | I9: =G9-H9 -> 0
A11: 内示額（円） J
A13: 変更交付申請額（円） （ＧとＪを比較して少ない方の額） | F13: =MIN(G9,B11) -> 0
A15: （注１）申請額は、千円未満を切り捨てた額とすること。
A16: （注２）Ｂは別紙２－２－１の支出予定額合計と一致させること。

Sheet 別紙2-1-2「ロボット積算調書(変更)」 
A1: 別紙２-１-２
G2: （法人名）
G3: （事業所種別） | L3: 障害者支援施設（都内）
G4: （事業所名） | L4: 障害者支援施設（都外）
A5: 積算調書（変更交付）
A8: 総事業費 （円） （Ａ） | B8: 対象経費の 実支出予定額 （円） （Ｂ） | C8: 寄附金その他の 収入額 （円） （Ｃ） | D8: 差引後 実支出予定額 （円） （Ｄ＝Ｂ－Ｃ） | E8: 補助基準額 （円） （E） | F8: ＤとＥを比較して 少ない方の額 （円） （Ｆ） | G8: 積算額 （円） （Ｇ＝Ｆ×2/3） (千円未満切捨） | H8: 既交付決定額 （円） （Ｈ） | I8: 増減額 （円） （Ｉ=Ｇ－Ｈ）
B9: ='別紙２-2-2「ロボット積算内訳書（変更）」 '!G21 -> 0 | D9: =B9-C9 -> 0 | E9: 6000000 | F9: =MIN(D9,E9) -> 0 | G9: =ROUNDDOWN(F9*2/3,-3) -> 0 | I9: =G9-H9 -> 0
A11: 内示額（円） J
A13: 変更交付申請額（円） （ＧとＪを比較して少ない方の額） | F13: =MIN(G9,B11) -> 0
A15: （注１）申請額は、千円未満を切り捨てた額とすること。
A16: （注２）Ｂは別紙２－２－２の支出予定額合計と一致させること。

Sheet 別紙２-2-1「ICT積算内訳書（変更）」 
B1: 別紙２-２-１ | J1: 障害者支援施設（都内） | K1: 工事請負費
D2: （法人名） | J2: 障害者支援施設（都外） | K2: 備品購入費
D3: （事業所種別） | K3: 役務費
D4: （事業所名） | K4: 委託料
K5: 使用料及賃借料
B6: 積算内訳書(変更交付) | K6: その他
B9: １ 利用者支援業務の効率化に資するＩＣＴ機器の導入等
B10: （ア）見守り支援機器
B11: 科目（選択） | C11: 内容 | D11: 支出予定月 | E11: 単価（円） | F11: 数量 | G11: 支出予定額（円）
G12: =E12*F12 -> 0
G13: =E13*F13 -> 0
B14: 小 計（Ａ） | G14: =SUM(G12:G13) -> 0
B16: （イ）情報共有のための通信機器、業務支援のためのソフトウェア等
B17: 科目（選択） | C17: 内容 | D17: 支出予定月 | E17: 単価（円） | F17: 数量 | G17: 支出予定額（円）
G18: =E18*F18 -> 0
G19: =E19*F19 -> 0
B20: 小 計（Ｂ） | G20: =SUM(G18:G19) -> 0
B22: （ウ）通信環境整備
B23: 科目（選択） | C23: 内容 | D23: 支出予定月 | E23: 単価（円） | F23: 数量 | G23: 支出予定額（円）
G24: =E24*F24 -> 0
G25: =E25*F25 -> 0
B26: 小 計（Ｃ） | G26: =SUM(G24:G25) -> 0
G28: 支出予定額（円）
B29: 合 計（Ａ+Ｂ＋Ｃ）（補助対象経費） | G29: =G14+G19+G26 -> 0
B30: （注）契約書等の写しを添付し、補助対象経費の内容について具体的にわかるようにすること。
B31: 支出予定額の積算、内訳等が確認できないものは、対象として認めない。

Sheet 別紙２-2-2「ロボット積算内訳書（変更）」  
B1: 別紙２-２-２
D2: （法人名）
D3: （事業所種別）
D4: （事業所名）
J5: 障害者支援施設（都内） | K5: 工事請負費
B6: 積算内訳書（変更交付） | J6: 障害者支援施設（都外） | K6: 備品購入費
K7: 役務費
K8: 委託料
B9: １ 介護従事者の負担軽減等に資するロボット介護機器の導入等 | K9: 使用料及賃借料
B10: 科目（選択） | C10: 内容 | D10: 支出予定月 | E10: 単価（円） | F10: 数量 | G10: 支出予定額（円） | K10: その他
G11: =E11*F11 -> 0
G19: =E19*F19 -> 0
G20: =E20*F20 -> 0
B21: 合 計 | G21: =SUM(G11:G20) -> 0
B24: （注）契約書等の写しを添付し、補助対象経費の内容について具体的にわかるようにすること。
B25: 支出予定額の積算、内訳等が確認できないものは、対象として認めない。

Sheet 様式３号 
A1: 様式第３号 | T1: 第 号
T2: 年 月 日
B4: 東京都知事 殿
M5: 提出者
N6: 所在地
N7: 法人名
N8: 代表者職氏名
B11: 障害者支援施設ＩＣＴ機器導入支援モデル事業補助金の実績報告について
B15: このことについて、下記のとおり提出いたします。
A18: 記
B21: １ 実績額 | H21: 金 円
B23: ２ 施設の名称
B25: ３ 補助金の種類 ＩＣＴ機器 ・ ロボット介護機器
B27: ４ 添付資料
B28: ア 実績調書（別紙３-１）
B29: イ 実績内訳書（別紙３-２）
B30: ウ 契約書等、納品書並びに領収書の写し
B31: エ 歳入歳出決算（見込）書抄本（別紙３－３）
B32: オ その他参考となる資料
M35: 担 当 者
M36: 所属
M38: 氏名
M39: TEL
M40: e-mail

Sheet 別紙3-1-1「ICT実績調書」
A1: 別紙３-１-１
G2: （法人名）
G3: （事業所種別） | L3: 障害者支援施設（都内）
G4: （事業所名） | L4: 障害者支援施設（都外）
A5: 実績調書
A8: 総事業費 （円） （Ａ） | B8: 対象経費の 実支出額 （円） （Ｂ） | C8: 寄附金その他の 収入額 （円） （Ｃ） | D8: 差引後 実支出額 （円） （Ｄ＝Ｂ－Ｃ） | E8: 補助基準額 （円） （E） | F8: ＤとＥを比較して 少ない方の額 （円） （Ｆ） | G8: 積算額 （円） （Ｇ＝Ｆ×2/3） (千円未満切捨） | H8: 既交付決定額 （円） （Ｈ） | I8: 増減額 （円） （Ｉ=Ｇ－Ｈ）
B9: ='別紙3-2-1「ICT実績内訳書」'!G29 -> 0 | D9: =B9-C9 -> 0 | E9: 20000000 | F9: =MIN(D9,E9) -> 0 | G9: =ROUNDDOWN(F9*2/3,-3) -> 0 | I9: =G9-H9 -> 0
A11: 実績額（円） （ＧとＨを比較して少ない方の額） | F11: =MIN(G9,H9) -> 0
A13: （注１）申請額は、千円未満を切り捨てた額とすること。
A14: （注２）Ｂは別紙３－２－１の支出予定額合計と一致させること。

Sheet 別紙3-1-2「ロボット実績調書」
A1: 別紙３-１-２
G2: （法人名）
G3: （事業所種別） | L3: 障害者支援施設（都内）
G4: （事業所名） | L4: 障害者支援施設（都外）
A5: 実績調書
A8: 総事業費 （円） （Ａ） | B8: 対象経費の 実支出額 （円） （Ｂ） | C8: 寄附金その他の 収入額 （円） （Ｃ） | D8: 差引後 実支出額 （円） （Ｄ＝Ｂ－Ｃ） | E8: 補助基準額 （円） （E） | F8: ＤとＥを比較して 少ない方の額 （円） （Ｆ） | G8: 積算額 （円） （Ｇ＝Ｆ×2/3） (千円未満切捨） | H8: 既交付決定額 （円） （Ｈ） | I8: 増減額 （円） （Ｉ=Ｇ－Ｈ）
B9: ='別紙3-2-2「ロボット実績内訳書」'!G21 -> 0 | D9: =B9-C9 -> 0 | E9: 6000000 | F9: =MIN(D9,E9) -> 0 | G9: =ROUNDDOWN(F9*2/3,-3) -> 0 | I9: =G9-H9 -> 0
A11: 実績額（円） （ＧとＨを比較して少ない方の額） | F11: =MIN(G9,H9) -> 0
A13: （注１）申請額は、千円未満を切り捨てた額とすること。
A14: （注２）Ｂは別紙３－２－２の支出予定額合計と一致させること。

Sheet 別紙3-2-1「ICT実績内訳書」
B1: 別紙３-２-１ | J1: 障害者支援施設（都内） | K1: 工事請負費
D2: （法人名） | J2: 障害者支援施設（都外） | K2: 備品購入費
D3: （事業所種別） | K3: 役務費
D4: （事業所名） | K4: 委託料
K5: 使用料及賃借料
B6: 実績内訳書 | K6: その他
B9: １ 利用者支援業務の効率化に資するＩＣＴ機器の導入等
B10: （ア）見守り支援機器
B11: 科目（選択） | C11: 内容 | D11: 支出月 | E11: 単価（円） | F11: 数量 | G11: 支出額（円） | K11: その他
G12: =E12*F12 -> 0
G13: =E13*F13 -> 0
B14: 小 計（Ａ） | G14: =SUM(G12:G13) -> 0
B16: （イ）情報共有のための通信機器、業務支援のためのソフトウェア等
B17: 科目（選択） | C17: 内容 | D17: 支出月 | E17: 単価（円） | F17: 数量 | G17: 支出額（円）
G18: =E18*F18 -> 0
G19: =E19*F19 -> 0
B20: 小 計（Ｂ） | G20: =SUM(G18:G19) -> 0
B22: （ウ）通信環境整備
B23: 科目（選択） | C23: 内容 | D23: 支出月 | E23: 単価（円） | F23: 数量 | G23: 支出額（円）
G24: =E24*F24 -> 0
G25: =E25*F25 -> 0
B26: 小 計（Ｃ） | G26: =SUM(G24:G25) -> 0
G28: 支出額（円）
B29: 合 計（Ａ+Ｂ＋Ｃ）（補助対象経費） | G29: =G14+G19+G26 -> 0
B30: （注）契約書等の写しを添付し、補助対象経費の内容について具体的にわかるようにすること。
B31: 支出予定額の積算、内訳等が確認できないものは、対象として認めない。

Sheet 別紙3-2-2「ロボット実績内訳書」
B1: 別紙３-２-２
D2: （法人名）
D3: （事業所種別）
D4: （事業所名）
J5: 障害者支援施設（都内） | K5: 工事請負費
B6: 実績内訳書 | J6: 障害者支援施設（都外） | K6: 備品購入費
K7: 役務費
K8: 委託料
B9: １ 介護従事者の負担軽減等に資するロボット介護機器の導入等 | K9: 使用料及賃借料
B10: 科目（選択） | C10: 内容 | D10: 支出月 | E10: 単価（円） | F10: 数量 | G10: 支出額（円） | K10: その他
G11: =E11*F11 -> 0
G19: =E19*F19 -> 0
G20: =E20*F20 -> 0
B21: 合 計 | G21: =SUM(G11:G20) -> 0
B24: （注）契約書等の写しを添付し、補助対象経費の内容について具体的にわかるようにすること。
B25: 支出予定額の積算、内訳等が確認できないものは、対象として認めない。

Sheet 別紙３-３決算書抄本 
B1: 別紙３-３ | AK1: （法人名）
AK2: （事業所種別） | BH2: 障害者支援施設（都内）
AK3: （事業所名） | BH3: 障害者支援施設（都外）
A5: 歳入歳出決算（見込）書抄本
B8: １ 歳入の部
BA9: （単位：円）
D10: 区 分 | S10: 決算（見込）額 | AJ10: 備 考
D25: 合 計
B27: ２ 歳出の部
D29: 区 分 | S29: 決算（見込）額 | AJ29: 備 考
D44: 合 計
C47: 本書は、原本と相違ないことを証明します。
D49: 年 月 日
E51: 法人名
E53: 代表者名 | AG53: 印

Sheet 様式４号
A1: 様式第４号 | T1: 第 号
T2: 年 月 日
B4: 東京都知事 殿
M5: 提出者
N6: 所在地
N7: 法人名
N8: 代表者職氏名
A11: 障害者支援施設ＩＣＴ機器導入支援モデル事業補助金請求書
A13: 障害者支援施設ＩＣＴ機器導入支援モデル事業補助金交付要綱第１４条に基づき、下記のとおり請求します。
A17: 記
B19: １ 施設の名称
B21: ２ 補助金の種類 ＩＣＴ機器 ・ ロボット介護機器
B23: ３ 請求額 | H23: 金 | I23: 円 | Q23: 円
B25: ４ 添付資料
B26: 支払金口座振替依頼書（口座情報払用）
B27: 印鑑証明書
M35: 担 当 者
M36: 所属
M38: 氏名
M39: TEL
M40: e-mail

Sheet 様式４号の２
A1: 様式第４号の２ | T1: 第 号
T2: 年 月 日
B4: 東京都知事 殿
M5: 提出者
N6: 所在地
N7: 法人名
N8: 代表者職氏名
A11: 障害者支援施設ＩＣＴ機器導入支援モデル事業補助金概算払請求書
A13: 年 月 日付 第 号により交付決定を受けた上記補助金について、障害者支援施設ＩＣＴ機器導入支援モデル事業補助金交付要綱第１４条に基づき、下記のとおり請求します。
A17: 記
B19: １ 施設の名称
B21: ２ 補助金の種類 ＩＣＴ機器 ・ ロボット介護機器
B23: ３ 概算払請求額 | H23: 金 | Q23: 円
B25: ４ 概算払受領済額 | H25: 金 | I25: 円 | Q25: 円
B27: ５ 今回請求額 | H27: 金 | I27: 円 | Q27: 円
B29: ６ 残額 | H29: 金 | I29: 円 | Q29: 円
B31: ７ 概算払請求の理由
B33: ８ 添付資料
B34: 支払金口座振替依頼書（口座情報払用）
B35: 印鑑証明書 | M35: 担 当 者
M36: 所属
M38: 氏名
M39: TEL
M40: e-mail

Sheet 様式５号
A1: 様式第５号 | T1: 第 号
T2: 年 月 日
B4: 東京都知事 殿
M5: 提出者
N6: 所在地
N7: 法人名
N8: 代表者職氏名
A11: 障害者支援施設ＩＣＴ機器導入支援モデル事業に伴う精算書
A13: 年 月 日までに事業を終了し債務が確定した上記事業について、下記のとおり精算します。
A17: 記
B19: １ 施設の名称
B21: ２ 補助金の種類 ＩＣＴ機器 ・ ロボット介護機器
B23: ３ 概算受領額 | H23: 金 | I23: 円 | Q23: 円
B25: ４ 精算額 | H25: 金 | I25: 円 | Q25: 円
B27: ５ 差引額 | H27: 金 | I27: 円 | Q27: 円
B29: ６ 差引額の納付 | H29: 別添納入通知書兼領収書（写）のとおり
B31: ７ 精算額内訳 | H31: 別紙のとおり
M34: 担 当 者
M35: 所属
M37: 氏名
M38: TEL
M39: e-mail

Sheet 様式５号別紙
A1: 様式第５号別紙
G2: （法人名） | M2: 障害者支援施設（都内）
G3: （事業所種別） | M3: 障害者支援施設（都外）
G4: （事業所名）
A8: 精算額内訳
B10: 当初受領額 | D10: 変更交付決定に伴う返還額 | G10: 支出額 | H10: 残金
H13: （単位：円）

Sheet 様式6号
A1: 様式第６号 | T1: 第 号
T2: 年 月 日
B4: 東京都知事 殿
M5: 提出者
N6: 所在地
N7: 法人名
N8: 代表者職氏名
A11: 消費税及び地方消費税に係る仕入控除税額報告書
AD12: 「４ 補助金返還相当額」の記載方法 ① 消費税申告の必要が無く、法人が消費税申告をしていない場合 「金 ０円（消費税申告無し）」とご記入ください。 ② 法人が消費税申告をしており、簡易課税適用となっている場合 「金 ０円」とご記入の上、当該年度の「消費税及び地方税の確定申告書」及び「付表５ 控除対象仕入税額の計算表」を添付してください。 ③ 法人が消費税申告をしており、簡易課税適用無しで特定収入割合５％以上の場合 「金 ０円」とご記入の上、当該年度の「消費税及び地方税の確定申告書」、「付表２ 課税売上割合・控除対象仕入税額等の計算表」及び特定収入割合（特定収入の合計額／資産の譲渡対価の合計額＋特定収入の合計額）の計算書をご提出ください。 ④ 法人が消費税申告をしており、補助対象経費にかかる消費税を個別対応方式において「非課税売上のみに要するもの」として申告している場合 「金 ０円」とご記入の上、当該年度の「消費税及び地方税の確定申告書」及び補助対象経費にかかる消費税を個別対応方式において非課税売上のみに要するものと計上していることが分かる書類をご提出ください。 ⑤ 法人が消費税申告をしており、簡易課税適用無しで特定収入割合５％以下の場合 ア 課税売上割合が９５％以上 補助金額×１０／１００＝返還額 イ 課税売上割合が９５％未満であって、個別対応方式により消費税申告している場合 A+B＝返還額 A 課税売上げのみに要する補助対象経費に使用された補助金 補助金額×１０／１００＝返還額 B 課税売上げと非課税売上に共通して要する補助対象経費に使用された補助金 補助金額×１０／１００×課税売上割合＝返還額 ウ 課税売上割合が９５％未満であって、一括比例方式により消費税申告している場合 補助金額×１０／１００×課税売上割合＝返還額 返還額を「金 △△円」と記載し、当該年度の「仕入控除税額報告書」、「消費税及び地方税の確定申告書」、「付表２ 課税売上割合・控除対象仕入税額等の計算表」及び特定収入割合（特定収入の合計額／資産の譲渡対価の合計額＋特定収入の合計額）の計算書をご提出ください。（後に、補助金の返還手続きを行います。）
A14: 年 月 日付 第 号により交付決定を受けた障害者支援施設ＩＣＴ機器導入支援モデル事業補助金について、交付決定に付された条件に基づき、下記のとおり報告します。
A18: 記
B20: １ 施設の名称
B22: ２ 補助金の種類 ＩＣＴ機器 ・ ロボット介護機器
B24: ３ 補助金確定額 | I24: 金 | S24: 円
B26: ４ 補助金返還相当額 | I26: 金 | S26: 円
B27: （消費税及び地方消費税の申告により確定した消費税及び地方消費税に
B28: 係る仕入控除額（要補助金返還相当額））
B30: ５ 積算内訳等 | I30: （４の消費税仕入控除税額の積算内訳等を添付）
P35: 担 当 者
P36: 所属
P38: 氏名
P39: TEL
P40: e-mail
