Workbook
Name _new1: 【参考】サービス名一覧!$A$4:$A$27
Name erea: 【参考】サービス名一覧!$A$3:$A$27
Name erea: #REF!
Name new: 【参考】サービス名一覧!$A$4:$A$27
Name new: #REF!
Name www: #REF!
Name www: #REF!
Name サービス: #REF!
Name サービス: #REF!
Name サービス: #REF!
Name サービス種別: [1]サービス種類一覧!$B$4:$B$20
Name サービス種類: [2]サービス種類一覧!$C$4:$C$20
Name サービス名: 【参考】サービス名一覧!$A$3:$A$20
Name サービス名: #REF!
Name サービス名: #REF!
Name サービス名: #REF!
Name サービス名: #REF!
Name サービス名称: #REF!
Name 一覧: [3]加算率一覧!$A$4:$A$25
Name 種類: [4]サービス種類一覧!$A$4:$A$20
Name 特定: #REF!
Name 特定: #REF!

Sheet はじめに
A1: 障害福祉サービス等処遇改善実績報告書 作成にあたっての入力シート等の説明
A2: 令和３年４月以降の処遇改善加算を申請した場合の実績報告書の作成方法をご説明しています
A4: ワークシート名 （左からの順） | B4: 枚数 | C4: ワークシートの入力の順番（推奨） | D4: 説明 | F4: 提出の 必要性
A5: はじめに | B5: 1 | C5: - | D5: ・本様式の内容と使い方を説明しています。 | F5: 不要
A6: 基本情報入力シート | B6: 1 | C6: ① | D6: ・法人の基本的な情報を入力することで、様式３へ自動的に転記が行われるため、こちらから入力してください。 ・本シートは提出不要です。 | F6: 不要
A7: 別紙様式3-1 | B7: 1 | C7: ③ | D7: ・実績報告の概要と要件に関する情報を入力します。 ・加算総額や賃金改善所要額、平均賃金改善額等の要件を確認します。 ・最後に入力してください。 | F7: 提出
A8: 別紙様式3-2 | B8: 1 | C8: ② | D8: ・事業所別の情報を入力します。 ・事業所ごとに加算総額、賃金総額等を入力します。 ・基本情報入力シートの次に入力してください。 | F8: 提出
A16: ２ 書類の作成方法
A19: 【留意事項】
A20: ・原則、本様式を用いて実績報告書を作成してください。
A21: ・根拠資料は、保管の有無をチェックリストで確認することで原則提出不要です。
A22: ・複数事業所を一括して申請する際の指定権者別・都道府県別一覧表は不要です。
A23: ・「賃金改善所要額」の比較対象となる年度は、「初めて加算を取得する（した）前年度」ではなく「（申請の）前年度」です。
A24: ・特定加算の平均賃金改善額についての計算方法は以下のとおりです。（下図参照）
B26: 特定加算の平均賃金改善額の計算方法
A27: 実績 報告
A29: ※１ 特定加算の配分（賃金改善）に伴う法定福利費等の事業主負担の増加分を含むことができる。
A30: ※２ 処遇改善加算等を取得し実施される賃金改善及び各障害福祉サービス事業者等の独自の賃金改善額を除く。

Sheet 基本情報入力シート
A1: 障害福祉サービス等処遇改善実績報告書作成用 基本情報入力シート | AD1: ↓一部項目の他シートへの読み込み列
A2: 【注意】本シートは様式作成用のため、提出は不要です。
A4: ●次の情報を本シートの黄色セルに入力することで、各様式に自動的に転記されます。
A5: ・提出先に関する情報
A6: ・基本情報
A7: ・加算対象事業所に関する情報
A9: １ 提出先に関する情報
B10: 処遇改善加算・特定加算の算定届出に係る提出先（指定権者）の名称を入力してください。
B11: 提出先
A13: ２ 基本情報
B14: ⇒下表に必要事項を入力してください。
B15: 法人名 | C15: フリガナ
C16: 名称 | AD16: 〒結合
B17: 法人住所 | C17: 〒 | P17: － | AD17: =CONCATENATE(M17,N17,O17,P17,Q17,R17,S17,T17) -> －
C18: 住所１（番地・住居番号まで）
C19: 住所２（建物名等）
B20: 法人代表者 | C20: 職名
C21: 氏名
B22: 書類作成 担当者 | C22: フリガナ
C23: 氏名
B24: 連絡先 | C24: 電話番号
C25: FAX番号
C26: e-mail
A28: ３ 加算対象事業所に関する情報
B29: 下表に必要事項を入力してください。記入内容が様式3-1及び3-2に反映されます。
B31: 通し番号 | C31: 障害福祉サービス等 事業所番号 | M31: 指定権者名 | R31: 事業所の所在地 | X31: 事業所名 | Y31: サービス名
R32: 都道府県 | W32: 市区町村
B33: 1
B34: =B33+1 -> 2
B35: =B34+1 -> 3
B36: =B35+1 -> 4
B37: =B36+1 -> 5
B38: =B37+1 -> 6
B39: =B38+1 -> 7
B40: =B39+1 -> 8
B41: =B40+1 -> 9
B42: =B41+1 -> 10
B43: =B42+1 -> 11
B44: =B43+1 -> 12
B45: =B44+1 -> 13
...

Sheet 別紙様式3-1
A1: 別紙様式３－１（案） | Y1: 提出先 | AC1: =IF(基本情報入力シート!C11="","",基本情報入力シート!C11)
Z3: 障害福祉サービス等処遇改善実績報告書（令和 | AC3: 年度）
A4: （福祉・介護職員処遇改善実績報告書、福祉・介護職員等特定処遇改善実績報告書）
A6: １ 基本情報
A8: フリガナ | G8: =IF(基本情報入力シート!M15="","",基本情報入力シート!M15)
A9: 法人名 | G9: =IF(基本情報入力シート!M16="","",基本情報入力シート!M16)
A10: 法人所在地 | G10: 〒 | H10: =IF(基本情報入力シート!AD17="","",基本情報入力シート!AD17) -> －
G11: =IF(基本情報入力シート!M18="","",基本情報入力シート!M18)
G12: =IF(基本情報入力シート!M19="","",基本情報入力シート!M19)
A13: フリガナ | G13: =IF(基本情報入力シート!M22="","",基本情報入力シート!M22)
A14: 書類作成担当者 | G14: =IF(基本情報入力シート!M23="","",基本情報入力シート!M23)
A15: 連絡先 | G15: 電話番号 | K15: =IF(基本情報入力シート!M24="","",基本情報入力シート!M24) | P15: FAX番号 | T15: =IF(基本情報入力シート!M25="","",基本情報入力シート!M25) | Y15: E-mail | AC15: =IF(基本情報入力シート!M26="","",基本情報入力シート!M26)
A18: 【本報告書で報告する加算】 加算名称にチェックを入れること。 | AL18: 処遇 | AM18: 特定
C19: 福祉・介護職員処遇改善加算（処遇改善加算） | T19: 福祉・介護職員等特定処遇改善加算（特定加算） | AL19: FALSE | AM19: FALSE
A23: ２ 実績報告＜共通＞ | J23: ※詳細は別紙様式３－２に記載
A25: （１）福祉・介護職員処遇改善加算のみの場合
AB26: 処遇改善加算
A27: ① | B27: 令和 | D27: =IF($AA$3="","",$AA$3) | F27: 年度分の処遇改善加算の総額 | AB27: ='別紙様式3-2'!$Q$7 -> 0 | AI27: 円 | AK27: <- | AL27: =IFERROR(IF(AND(ISNUMBER(AB28),ISNUMBER(AB27),AB28>AB27),"○","☓"),"") -> ☓ | AM27: ！この欄が○でない場合、処遇改善加算による賃金改善の見込額が要件を満たしていません。
A28: ② | B28: 賃金改善所要額（ⅰ－ⅱ） | AA28: (右欄の額は①欄の額を上回ること) | AB28: =AB29-AB30 -> 0 | AI28: 円
B29: ⅰ）処遇改善加算の算定により賃金改善を行った福祉・介護職員の賃金の総額 | AB29: ='別紙様式3-2'!$U$7 -> 0 | AI29: 円
B30: ⅱ）前年度の福祉・介護職員の賃金の総額【基準額１】 | AI30: 円
B32: ※②ⅰ）には、賃金改善に伴う法定福利費等の事業主負担の増加分を含めることができる。
B33: ※②ⅱ）には、計画書の（１）④ⅱ）の額を記載すること
B34: ※処遇改善加算のみの場合、別紙様式３－２におけるグループ別の内訳は記載不要
A37: （２）福祉・介護職員等特定処遇改善加算を併せて報告する場合
S39: 処遇改善加算 | AB39: 特定加算
A40: ① | B40: 令和 | D40: =IF($AA$3="","",$AA$3) | F40: 年度分の加算の総額 | S40: ='別紙様式3-2'!$Q$7 -> 0 | Z40: 円 | AB40: ='別紙様式3-2'!$Q$8 -> 0 | AI40: 円 | AL40: =IFERROR(IF(AND(ISNUMBER(S41),ISNUMBER(S40),S41>S40),"○","☓"),"") -> ☓ | AM40: ！この欄が○でない場合、処遇改善加算による賃金改善所要額が要件を満たしていません。
A41: ② | B41: 賃金改善所要額（ⅰ－ⅱ） | R41: ※右欄の額は①欄の額を上回ること | S41: =S42-S46 -> 0 | Z41: 円 | AB41: =AB42-AB46 -> 0 | AI41: 円 | AK41: <- | AL41: =IFERROR(IF(AND(ISNUMBER(AB41),ISNUMBER(AB40),AB41>AB40),"○","☓"),"") -> ☓ | AM41: ！この欄が○でない場合、特定加算による賃金改善所要額が要件を満たしていません。
B42: ⅰ）加算の算定により賃金改善を行った賃金の総額 | S42: =S43-S45 -> 0 | Z42: 円 | AB42: =AB43-AB44 -> 0 | AI42: 円
C43: 本年度の賃金の総額(a) | S43: ='別紙様式3-2'!$U$7 -> 0 | Z43: 円 | AB43: ='別紙様式3-2'!$U$8 -> 0 | AI43: 円
C44: 処遇改善加算の総額(b) | AB44: ='別紙様式3-2'!$Q$7 -> 0 | AI44: 円
C45: 特定加算の総額(c) ※その他の職種への支給分を除く | S45: ='別紙様式3-2'!Q8-'別紙様式3-2'!$T$8 -> 0 | Z45: 円
B46: ⅱ）前年度の賃金の総額【基準額１】【基準額２】 | Z46: 円 | AI46: 円
B48: ※②の「本年度の賃金の総額」には、賃金改善に伴う法定福利費等の事業主負担の増加分を含めることができる。
B49: ※「前年度の賃金の総額」には、計画書の（２）④ⅱ）及び（３）⑤ⅱ）の額を記載すること
A51: ③ | B51: 平均賃金改善額＜特定加算＞
K53: 賃金改善を実施した グループ | N53: 前年度の平均賃金額(月額)【基準額３】 | S53: 本年度の平均賃金額(月額) | X53: 平均賃金改善額 | AC53: (配分比率) | AF53: 改善後の賃金が 最も高額となった者の賃金(年額)
A54: （Ａ）経験・技能のある障害福祉人材 | L54: FALSE | R54: 円 | S54: =IF(L54,('別紙様式3-2'!V8-'別紙様式3-2'!R7)/'別紙様式3-2'!Y8,"（対象外）") -> （対象外） | W54: =IF($L54,"円","") | X54: =IF(L54,S54-N54,"（対象外）") -> （対象外） | AB54: =IF($L54,"円","") | AC54: =IF(AND(L54,L55),X54/X55,IF(AND(L54,L56),X54/X56,"-")) -> - | AL54: =IFERROR(IF(AND(L54,L55),IF(AC54>1,"○","☓"),IF(AND(L54,L56),IF(AC54>2,"○","☓"),"")),"") | AM54: ！この欄が☓の場合、A:BまたはA:Cの配分比率が要件を満たしていません。
A55: （Ｂ）他の障害福祉人材 | L55: FALSE | R55: 円 | S55: =IF(L55,('別紙様式3-2'!W8-'別紙様式3-2'!S7)/'別紙様式3-2'!Z8,"（対象外）") -> （対象外） | W55: =IF($L55,"円","") | X55: =IF(L55,S55-N55,"（対象外）") -> （対象外） | AB55: =IF($L55,"円","") | AC55: =IF(AND(L55,OR(L54,L56)),1,"-") -> - | AL55: =IFERROR(IF(AND(L55,L56),IF(AC56<=0.5,"○","☓"),""),"") | AM55: ！この欄が☓の場合、B:Cの配分比率が要件を満たしていません。
A56: （Ｃ）その他の職種 | L56: FALSE | R56: 円 | S56: =IF(L56,'別紙様式3-2'!X8/'別紙様式3-2'!AA8,"（対象外）") -> （対象外） | W56: =IF($L56,"円","") | X56: =IF(L56,S56-N56,"（対象外）") -> （対象外） | AB56: =IF($L56,"円","") | AC56: =IF(AND(L55,L56),X56/X55,IF(AND(L54,L56),1,"-")) -> - | AJ56: 円 | AL56: =IFERROR(IF(AF56<=4400000,"○","☓"),"") -> ○ | AM56: ！この欄が☓の場合、Cのうち改善後の賃金が最も高額となった者の賃金が440万円を超えています。
...

Sheet 別紙様式3-2
A1: 別紙様式３－２（案） | I1: 障害福祉サービス等処遇改善実績報告書（施設・事業所別個表）
A3: 法人名 | D3: =基本情報入力シート!$M$16 -> 0
Q5: 本年度の加算の総額［円］ | R5: （グループ別内訳） | U5: 本年度の賃金の総額［円］ | V5: （グループ別内訳） | Y5: 本年度の常勤換算職員数［人］ | AB5: 経験・技能のある障害福祉人材のうち月平均8万円以上又は年額440万円以上［人］
R6: 経験・技能のある障害福祉人材(A) | S6: 他の 障害福祉人材(B) | T6: その他の職種(C) | V6: 経験・技能のある障害福祉人材(A) | W6: 他の 障害福祉人材(B) | X6: その他の職種(C) | Y6: 経験・技能のある障害福祉人材(A) | Z6: 他の 障害福祉人材(B) | AA6: その他の職種(C) | AC6: 未設定の 事業所
B7: 福祉・介護職員処遇改善加算の合計 | Q7: =SUM(S20:S119) -> 0 | R7: =SUM(T20:T119) -> 0 | S7: =SUM(U20:U119) -> 0 | U7: =SUM(V20:V119) -> 0
B8: 福祉・介護職員等特定処遇改善加算の合計 | Q8: =SUM(X20:X119) -> 0 | R8: =SUM(Y20:Y119) -> 0 | S8: =SUM(Z20:Z119) -> 0 | T8: =SUM(AA20:AA119) -> 0 | U8: =SUM(V8:X8) -> 0 | V8: =SUM(AB20:AB119) -> 0 | W8: =SUM(AC20:AC119) -> 0 | X8: =SUM(AD20:AD119) -> 0 | Y8: =SUM(AE20:AE119) -> 0 | Z8: =SUM(AF20:AF119) -> 0 | AA8: =SUM(AG20:AG119) -> 0 | AB8: =SUM(AH20:AH119) -> 0 | AC8: =COUNTIFS(AH20:AH119,"",AF20:AF119,">０")+COUNTIFS(AH20:AH119,"",AE20:AE119,">０")-COUNTIFS(AE20:AE119,">0",AF20:AF119,">０",AH20:AH119,"") -> 0 | AE8: =IFERROR(IF(COUNTA(W20:W104)=0,"",IF(AND(Q8=SUM(R8:T8),U8=SUM(V8:X8)),"○","×")),"") | AF8: =IF(AE8="×","【エラー】特定加算に係る加算額または賃金額が総額と内訳で異なっています。","")
B10: ※本表に記載する事業所は、計画書の別紙様式２－２に記載した事業所と一致しなければならない。
B11: ※事業所の数が多く、１枚に記載しきれない場合は、適宜、行を追加すること。
B12: ※福祉・介護職員処遇改善加算のみの場合は、グループ別内訳の入力は不要である。
B14: 障害福祉サービス 事業所番号 | M14: 指定権者 | N14: 事業所の所在地 | P14: 事業所名 | Q14: サービス名 | R14: 福祉・介護職員処遇改善加算 | W14: 福祉・介護職員等特定処遇改善加算
R15: 算定する障害福祉人材処遇改善加算の区分 | S15: 本年度の加算の総額［円］ | V15: 本年度の賃金の総額［円］ | W15: 算定する障害福祉人材等特定処遇改善加算の区分 | X15: 本年度の加算の総額［円］ | AB15: 本年度の賃金の総額(［円］ | AE15: 本年度の常勤換算職員数［人］ | AH15: 経験・技能のある障害福祉人材のうち月平均8万円以上又は年額440万円以上［人］
N16: 都道府県 | O16: 市区町村 | T16: グループ別内訳 | Y16: グループ別内訳
T17: 経験・技能のある障害福祉人材(A) | U17: 他の 障害福祉人材(B) | Y17: 経験・技能のある障害福祉人材(A) | Z17: 他の 障害福祉人材(B) | AA17: その他の職種(C) | AB17: 経験・技能のある障害福祉人材(A) | AC17: 他の 障害福祉人材(B) | AD17: その他の職種(C) | AE17: 経験・技能のある障害福祉人材(A) | AF17: 他の 障害福祉人材(B) | AG17: その他の職種(C) | AJ17: 総額と内訳等のエラーチェック
AJ18: 処遇改善加算の加算額 | AK18: 特定加算の 加算額 | AL18: 処遇改善加算と特定加算を併せて申請する場合の賃金総額（A・B）
A20: 1 | B20: =IF(基本情報入力シート!C33="","",基本情報入力シート!C33) | C20: =IF(基本情報入力シート!D33="","",基本情報入力シート!D33) | D20: =IF(基本情報入力シート!E33="","",基本情報入力シート!E33) | E20: =IF(基本情報入力シート!F33="","",基本情報入力シート!F33) | F20: =IF(基本情報入力シート!G33="","",基本情報入力シート!G33) | G20: =IF(基本情報入力シート!H33="","",基本情報入力シート!H33) | H20: =IF(基本情報入力シート!I33="","",基本情報入力シート!I33) | I20: =IF(基本情報入力シート!J33="","",基本情報入力シート!J33) | ... K20: =IF(基本情報入力シート!L33="","",基本情報入力シート!L33) | L20: =B20&C20 | M20: =IF(基本情報入力シート!M33="","",基本情報入力シート!M33) | N20: =IF(基本情報入力シート!R33="","",基本情報入力シート!R33) | O20: =IF(基本情報入力シート!W33="","",基本情報入力シート!W33) | P20: =IF(基本情報入力シート!X33="","",基本情報入力シート!X33) | Q20: =IF(基本情報入力シート!Y33="","",基本情報入力シート!Y33) | AJ20: =IF(SUM(T20:U20)>0,IF(S20=SUM(T20:U20),"","×"),"") | AK20: =IF(X20=SUM(Y20:AA20),"","×") | AL20: =IF(SUM(AB20:AD20)>0,IF(V20=SUM(AB20:AC20),"","×"),"")
A21: =A20+1 -> 2 | B21: =IF(基本情報入力シート!C34="","",基本情報入力シート!C34) | C21: =IF(基本情報入力シート!D34="","",基本情報入力シート!D34) | D21: =IF(基本情報入力シート!E34="","",基本情報入力シート!E34) | E21: =IF(基本情報入力シート!F34="","",基本情報入力シート!F34) | F21: =IF(基本情報入力シート!G34="","",基本情報入力シート!G34) | G21: =IF(基本情報入力シート!H34="","",基本情報入力シート!H34) | H21: =IF(基本情報入力シート!I34="","",基本情報入力シート!I34) | I21: =IF(基本情報入力シート!J34="","",基本情報入力シート!J34) | ... K21: =IF(基本情報入力シート!L34="","",基本情報入力シート!L34) | L21: =B21&C21 | M21: =IF(基本情報入力シート!M34="","",基本情報入力シート!M34) | N21: =IF(基本情報入力シート!R34="","",基本情報入力シート!R34) | O21: =IF(基本情報入力シート!W34="","",基本情報入力シート!W34) | P21: =IF(基本情報入力シート!X34="","",基本情報入力シート!X34) | Q21: =IF(基本情報入力シート!Y34="","",基本情報入力シート!Y34) | AJ21: =IF(SUM(T21:U21)>0,IF(S21=SUM(T21:U21),"","×"),"") | AK21: =IF(X21=SUM(Y21:AA21),"","×") | AL21: =IF(SUM(AB21:AD21)>0,IF(V21=SUM(AB21:AC21),"","×"),"")
A22: =A21+1 -> 3 | B22: =IF(基本情報入力シート!C35="","",基本情報入力シート!C35) | C22: =IF(基本情報入力シート!D35="","",基本情報入力シート!D35) | D22: =IF(基本情報入力シート!E35="","",基本情報入力シート!E35) | E22: =IF(基本情報入力シート!F35="","",基本情報入力シート!F35) | F22: =IF(基本情報入力シート!G35="","",基本情報入力シート!G35) | G22: =IF(基本情報入力シート!H35="","",基本情報入力シート!H35) | H22: =IF(基本情報入力シート!I35="","",基本情報入力シート!I35) | I22: =IF(基本情報入力シート!J35="","",基本情報入力シート!J35) | ... K22: =IF(基本情報入力シート!L35="","",基本情報入力シート!L35) | L22: =B22&C22 | M22: =IF(基本情報入力シート!M35="","",基本情報入力シート!M35) | N22: =IF(基本情報入力シート!R35="","",基本情報入力シート!R35) | O22: =IF(基本情報入力シート!W35="","",基本情報入力シート!W35) | P22: =IF(基本情報入力シート!X35="","",基本情報入力シート!X35) | Q22: =IF(基本情報入力シート!Y35="","",基本情報入力シート!Y35) | AJ22: =IF(SUM(T22:U22)>0,IF(S22=SUM(T22:U22),"","×"),"") | AK22: =IF(X22=SUM(Y22:AA22),"","×") | AL22: =IF(SUM(AB22:AD22)>0,IF(V22=SUM(AB22:AC22),"","×"),"")
A23: =A22+1 -> 4 | B23: =IF(基本情報入力シート!C36="","",基本情報入力シート!C36) | C23: =IF(基本情報入力シート!D36="","",基本情報入力シート!D36) | D23: =IF(基本情報入力シート!E36="","",基本情報入力シート!E36) | E23: =IF(基本情報入力シート!F36="","",基本情報入力シート!F36) | F23: =IF(基本情報入力シート!G36="","",基本情報入力シート!G36) | G23: =IF(基本情報入力シート!H36="","",基本情報入力シート!H36) | H23: =IF(基本情報入力シート!I36="","",基本情報入力シート!I36) | I23: =IF(基本情報入力シート!J36="","",基本情報入力シート!J36) | ... K23: =IF(基本情報入力シート!L36="","",基本情報入力シート!L36) | L23: =B23&C23 | M23: =IF(基本情報入力シート!M36="","",基本情報入力シート!M36) | N23: =IF(基本情報入力シート!R36="","",基本情報入力シート!R36) | O23: =IF(基本情報入力シート!W36="","",基本情報入力シート!W36) | P23: =IF(基本情報入力シート!X36="","",基本情報入力シート!X36) | Q23: =IF(基本情報入力シート!Y36="","",基本情報入力シート!Y36) | AJ23: =IF(SUM(T23:U23)>0,IF(S23=SUM(T23:U23),"","×"),"") | AK23: =IF(X23=SUM(Y23:AA23),"","×") | AL23: =IF(SUM(AB23:AD23)>0,IF(V23=SUM(AB23:AC23),"","×"),"")
A24: =A23+1 -> 5 | B24: =IF(基本情報入力シート!C37="","",基本情報入力シート!C37) | C24: =IF(基本情報入力シート!D37="","",基本情報入力シート!D37) | D24: =IF(基本情報入力シート!E37="","",基本情報入力シート!E37) | E24: =IF(基本情報入力シート!F37="","",基本情報入力シート!F37) | F24: =IF(基本情報入力シート!G37="","",基本情報入力シート!G37) | G24: =IF(基本情報入力シート!H37="","",基本情報入力シート!H37) | H24: =IF(基本情報入力シート!I37="","",基本情報入力シート!I37) | I24: =IF(基本情報入力シート!J37="","",基本情報入力シート!J37) | ... K24: =IF(基本情報入力シート!L37="","",基本情報入力シート!L37) | L24: =B24&C24 | M24: =IF(基本情報入力シート!M37="","",基本情報入力シート!M37) | N24: =IF(基本情報入力シート!R37="","",基本情報入力シート!R37) | O24: =IF(基本情報入力シート!W37="","",基本情報入力シート!W37) | P24: =IF(基本情報入力シート!X37="","",基本情報入力シート!X37) | Q24: =IF(基本情報入力シート!Y37="","",基本情報入力シート!Y37) | AJ24: =IF(SUM(T24:U24)>0,IF(S24=SUM(T24:U24),"","×"),"") | AK24: =IF(X24=SUM(Y24:AA24),"","×") | AL24: =IF(SUM(AB24:AD24)>0,IF(V24=SUM(AB24:AC24),"","×"),"")
A25: =A24+1 -> 6 | B25: =IF(基本情報入力シート!C38="","",基本情報入力シート!C38) | C25: =IF(基本情報入力シート!D38="","",基本情報入力シート!D38) | D25: =IF(基本情報入力シート!E38="","",基本情報入力シート!E38) | E25: =IF(基本情報入力シート!F38="","",基本情報入力シート!F38) | F25: =IF(基本情報入力シート!G38="","",基本情報入力シート!G38) | G25: =IF(基本情報入力シート!H38="","",基本情報入力シート!H38) | H25: =IF(基本情報入力シート!I38="","",基本情報入力シート!I38) | I25: =IF(基本情報入力シート!J38="","",基本情報入力シート!J38) | ... K25: =IF(基本情報入力シート!L38="","",基本情報入力シート!L38) | L25: =B25&C25 | M25: =IF(基本情報入力シート!M38="","",基本情報入力シート!M38) | N25: =IF(基本情報入力シート!R38="","",基本情報入力シート!R38) | O25: =IF(基本情報入力シート!W38="","",基本情報入力シート!W38) | P25: =IF(基本情報入力シート!X38="","",基本情報入力シート!X38) | Q25: =IF(基本情報入力シート!Y38="","",基本情報入力シート!Y38) | AJ25: =IF(SUM(T25:U25)>0,IF(S25=SUM(T25:U25),"","×"),"") | AK25: =IF(X25=SUM(Y25:AA25),"","×") | AL25: =IF(SUM(AB25:AD25)>0,IF(V25=SUM(AB25:AC25),"","×"),"")
A26: =A25+1 -> 7 | B26: =IF(基本情報入力シート!C39="","",基本情報入力シート!C39) | C26: =IF(基本情報入力シート!D39="","",基本情報入力シート!D39) | D26: =IF(基本情報入力シート!E39="","",基本情報入力シート!E39) | E26: =IF(基本情報入力シート!F39="","",基本情報入力シート!F39) | F26: =IF(基本情報入力シート!G39="","",基本情報入力シート!G39) | G26: =IF(基本情報入力シート!H39="","",基本情報入力シート!H39) | H26: =IF(基本情報入力シート!I39="","",基本情報入力シート!I39) | I26: =IF(基本情報入力シート!J39="","",基本情報入力シート!J39) | ... K26: =IF(基本情報入力シート!L39="","",基本情報入力シート!L39) | L26: =B26&C26 | M26: =IF(基本情報入力シート!M39="","",基本情報入力シート!M39) | N26: =IF(基本情報入力シート!R39="","",基本情報入力シート!R39) | O26: =IF(基本情報入力シート!W39="","",基本情報入力シート!W39) | P26: =IF(基本情報入力シート!X39="","",基本情報入力シート!X39) | Q26: =IF(基本情報入力シート!Y39="","",基本情報入力シート!Y39) | AJ26: =IF(SUM(T26:U26)>0,IF(S26=SUM(T26:U26),"","×"),"") | AK26: =IF(X26=SUM(Y26:AA26),"","×") | AL26: =IF(SUM(AB26:AD26)>0,IF(V26=SUM(AB26:AC26),"","×"),"")
A27: =A26+1 -> 8 | B27: =IF(基本情報入力シート!C40="","",基本情報入力シート!C40) | C27: =IF(基本情報入力シート!D40="","",基本情報入力シート!D40) | D27: =IF(基本情報入力シート!E40="","",基本情報入力シート!E40) | E27: =IF(基本情報入力シート!F40="","",基本情報入力シート!F40) | F27: =IF(基本情報入力シート!G40="","",基本情報入力シート!G40) | G27: =IF(基本情報入力シート!H40="","",基本情報入力シート!H40) | H27: =IF(基本情報入力シート!I40="","",基本情報入力シート!I40) | I27: =IF(基本情報入力シート!J40="","",基本情報入力シート!J40) | ... K27: =IF(基本情報入力シート!L40="","",基本情報入力シート!L40) | L27: =B27&C27 | M27: =IF(基本情報入力シート!M40="","",基本情報入力シート!M40) | N27: =IF(基本情報入力シート!R40="","",基本情報入力シート!R40) | O27: =IF(基本情報入力シート!W40="","",基本情報入力シート!W40) | P27: =IF(基本情報入力シート!X40="","",基本情報入力シート!X40) | Q27: =IF(基本情報入力シート!Y40="","",基本情報入力シート!Y40) | AJ27: =IF(SUM(T27:U27)>0,IF(S27=SUM(T27:U27),"","×"),"") | AK27: =IF(X27=SUM(Y27:AA27),"","×") | AL27: =IF(SUM(AB27:AD27)>0,IF(V27=SUM(AB27:AC27),"","×"),"")
A28: =A27+1 -> 9 | B28: =IF(基本情報入力シート!C41="","",基本情報入力シート!C41) | C28: =IF(基本情報入力シート!D41="","",基本情報入力シート!D41) | D28: =IF(基本情報入力シート!E41="","",基本情報入力シート!E41) | E28: =IF(基本情報入力シート!F41="","",基本情報入力シート!F41) | F28: =IF(基本情報入力シート!G41="","",基本情報入力シート!G41) | G28: =IF(基本情報入力シート!H41="","",基本情報入力シート!H41) | H28: =IF(基本情報入力シート!I41="","",基本情報入力シート!I41) | I28: =IF(基本情報入力シート!J41="","",基本情報入力シート!J41) | ... K28: =IF(基本情報入力シート!L41="","",基本情報入力シート!L41) | L28: =B28&C28 | M28: =IF(基本情報入力シート!M41="","",基本情報入力シート!M41) | N28: =IF(基本情報入力シート!R41="","",基本情報入力シート!R41) | O28: =IF(基本情報入力シート!W41="","",基本情報入力シート!W41) | P28: =IF(基本情報入力シート!X41="","",基本情報入力シート!X41) | Q28: =IF(基本情報入力シート!Y41="","",基本情報入力シート!Y41) | AJ28: =IF(SUM(T28:U28)>0,IF(S28=SUM(T28:U28),"","×"),"") | AK28: =IF(X28=SUM(Y28:AA28),"","×") | AL28: =IF(SUM(AB28:AD28)>0,IF(V28=SUM(AB28:AC28),"","×"),"")
A29: =A28+1 -> 10 | B29: =IF(基本情報入力シート!C42="","",基本情報入力シート!C42) | C29: =IF(基本情報入力シート!D42="","",基本情報入力シート!D42) | D29: =IF(基本情報入力シート!E42="","",基本情報入力シート!E42) | E29: =IF(基本情報入力シート!F42="","",基本情報入力シート!F42) | F29: =IF(基本情報入力シート!G42="","",基本情報入力シート!G42) | G29: =IF(基本情報入力シート!H42="","",基本情報入力シート!H42) | H29: =IF(基本情報入力シート!I42="","",基本情報入力シート!I42) | I29: =IF(基本情報入力シート!J42="","",基本情報入力シート!J42) | ... K29: =IF(基本情報入力シート!L42="","",基本情報入力シート!L42) | L29: =B29&C29 | M29: =IF(基本情報入力シート!M42="","",基本情報入力シート!M42) | N29: =IF(基本情報入力シート!R42="","",基本情報入力シート!R42) | O29: =IF(基本情報入力シート!W42="","",基本情報入力シート!W42) | P29: =IF(基本情報入力シート!X42="","",基本情報入力シート!X42) | Q29: =IF(基本情報入力シート!Y42="","",基本情報入力シート!Y42) | AJ29: =IF(SUM(T29:U29)>0,IF(S29=SUM(T29:U29),"","×"),"") | AK29: =IF(X29=SUM(Y29:AA29),"","×") | AL29: =IF(SUM(AB29:AD29)>0,IF(V29=SUM(AB29:AC29),"","×"),"")
A30: =A29+1 -> 11 | B30: =IF(基本情報入力シート!C43="","",基本情報入力シート!C43) | C30: =IF(基本情報入力シート!D43="","",基本情報入力シート!D43) | D30: =IF(基本情報入力シート!E43="","",基本情報入力シート!E43) | E30: =IF(基本情報入力シート!F43="","",基本情報入力シート!F43) | F30: =IF(基本情報入力シート!G43="","",基本情報入力シート!G43) | G30: =IF(基本情報入力シート!H43="","",基本情報入力シート!H43) | H30: =IF(基本情報入力シート!I43="","",基本情報入力シート!I43) | I30: =IF(基本情報入力シート!J43="","",基本情報入力シート!J43) | ... K30: =IF(基本情報入力シート!L43="","",基本情報入力シート!L43) | L30: =B30&C30 | M30: =IF(基本情報入力シート!M43="","",基本情報入力シート!M43) | N30: =IF(基本情報入力シート!R43="","",基本情報入力シート!R43) | O30: =IF(基本情報入力シート!W43="","",基本情報入力シート!W43) | P30: =IF(基本情報入力シート!X43="","",基本情報入力シート!X43) | Q30: =IF(基本情報入力シート!Y43="","",基本情報入力シート!Y43) | AJ30: =IF(SUM(T30:U30)>0,IF(S30=SUM(T30:U30),"","×"),"") | AK30: =IF(X30=SUM(Y30:AA30),"","×") | AL30: =IF(SUM(AB30:AD30)>0,IF(V30=SUM(AB30:AC30),"","×"),"")
A31: =A30+1 -> 12 | B31: =IF(基本情報入力シート!C44="","",基本情報入力シート!C44) | C31: =IF(基本情報入力シート!D44="","",基本情報入力シート!D44) | D31: =IF(基本情報入力シート!E44="","",基本情報入力シート!E44) | E31: =IF(基本情報入力シート!F44="","",基本情報入力シート!F44) | F31: =IF(基本情報入力シート!G44="","",基本情報入力シート!G44) | G31: =IF(基本情報入力シート!H44="","",基本情報入力シート!H44) | H31: =IF(基本情報入力シート!I44="","",基本情報入力シート!I44) | I31: =IF(基本情報入力シート!J44="","",基本情報入力シート!J44) | ... K31: =IF(基本情報入力シート!L44="","",基本情報入力シート!L44) | L31: =B31&C31 | M31: =IF(基本情報入力シート!M44="","",基本情報入力シート!M44) | N31: =IF(基本情報入力シート!R44="","",基本情報入力シート!R44) | O31: =IF(基本情報入力シート!W44="","",基本情報入力シート!W44) | P31: =IF(基本情報入力シート!X44="","",基本情報入力シート!X44) | Q31: =IF(基本情報入力シート!Y44="","",基本情報入力シート!Y44) | AJ31: =IF(SUM(T31:U31)>0,IF(S31=SUM(T31:U31),"","×"),"") | AK31: =IF(X31=SUM(Y31:AA31),"","×") | AL31: =IF(SUM(AB31:AD31)>0,IF(V31=SUM(AB31:AC31),"","×"),"")
A32: =A31+1 -> 13 | B32: =IF(基本情報入力シート!C45="","",基本情報入力シート!C45) | C32: =IF(基本情報入力シート!D45="","",基本情報入力シート!D45) | D32: =IF(基本情報入力シート!E45="","",基本情報入力シート!E45) | E32: =IF(基本情報入力シート!F45="","",基本情報入力シート!F45) | F32: =IF(基本情報入力シート!G45="","",基本情報入力シート!G45) | G32: =IF(基本情報入力シート!H45="","",基本情報入力シート!H45) | H32: =IF(基本情報入力シート!I45="","",基本情報入力シート!I45) | I32: =IF(基本情報入力シート!J45="","",基本情報入力シート!J45) | ... K32: =IF(基本情報入力シート!L45="","",基本情報入力シート!L45) | L32: =B32&C32 | M32: =IF(基本情報入力シート!M45="","",基本情報入力シート!M45) | N32: =IF(基本情報入力シート!R45="","",基本情報入力シート!R45) | O32: =IF(基本情報入力シート!W45="","",基本情報入力シート!W45) | P32: =IF(基本情報入力シート!X45="","",基本情報入力シート!X45) | Q32: =IF(基本情報入力シート!Y45="","",基本情報入力シート!Y45) | AJ32: =IF(SUM(T32:U32)>0,IF(S32=SUM(T32:U32),"","×"),"") | AK32: =IF(X32=SUM(Y32:AA32),"","×") | AL32: =IF(SUM(AB32:AD32)>0,IF(V32=SUM(AB32:AC32),"","×"),"")
... A119: =A118+1 -> 100 | B119: =IF(基本情報入力シート!C132="","",基本情報入力シート!C132) | C119: =IF(基本情報入力シート!D132="","",基本情報入力シート!D132) | D119: =IF(基本情報入力シート!E132="","",基本情報入力シート!E132) | E119: =IF(基本情報入力シート!F132="","",基本情報入力シート!F132) | F119: =IF(基本情報入力シート!G132="","",基本情報入力シート!G132) | G119: =IF(基本情報入力シート!H132="","",基本情報入力シート!H132) | H119: =IF(基本情報入力シート!I132="","",基本情報入力シート!I132) | I119: =IF(基本情報入力シート!J132="","",基本情報入力シート!J132) | ... K119: =IF(基本情報入力シート!L132="","",基本情報入力シート!L132) | L119: =B119&C119 | M119: =IF(基本情報入力シート!M132="","",基本情報入力シート!M132) | N119: =IF(基本情報入力シート!R132="","",基本情報入力シート!R132) | O119: =IF(基本情報入力シート!W132="","",基本情報入力シート!W132) | P119: =IF(基本情報入力シート!X132="","",基本情報入力シート!X132) | Q119: =IF(基本情報入力シート!Y132="","",基本情報入力シート!Y132) | AJ119: =IF(SUM(T119:U119)>0,IF(S119=SUM(T119:U119),"","×"),"") | AK119: =IF(X119=SUM(Y119:AA119),"","×") | AL119: =IF(SUM(AB119:AD119)>0,IF(V119=SUM(AB119:AC119),"","×"),"")

Sheet 【参考】サービス名一覧
A2: ＜サービス区分一覧>
A3: サービス区分
A4: 居宅介護
A5: 重度訪問介護
A6: 同行援護
A7: 行動援護
A8: 重度障害者等包括支援
A9: 生活介護
A10: 施設入所支援
A11: 短期入所
A12: 療養介護
A13: 自立訓練（機能訓練）
... A33: 障害者支援施設：就労継続支援Ｂ型
