Workbook

Sheet 報告シート
A1: 【東京都分】 福祉・介護職員臨時特例交付金に係る賃金改善開始の報告シート
B2: 【報告期限】 報告受付フォーム：https://www.shinsei.elg-front.jp/tokyo2/uketsuke/form.do?id=1642989532345 ① 令和４年２月から賃金改善を実施する場合・・・令和４年２月２８日（月曜日） ２４時必着 ② 令和４年３月から賃金改善を実施する場合（３月は２月の賃金改善分も支給すること）・・・令和４年３月３１日（木曜日） ２４時必着 ※ 報告対象は、福祉・介護職員処遇改善加算ⅠⅡⅢのいずれかを取得している都内の障害福祉サービス事業所等で、「福祉・介護職員処遇改善加算臨時特例交付金」の交付を希望するものです。 福祉・介護職員処遇改善加算は、令和４年２月サービス提供分からの取得が必要です。 他県への報告分については、他県にお問合せください。報告いただいても、審査対象外とさせていただきます。 なお、本交付金の要件等は、下記ホームページに掲載する事務連絡をよくご確認ください。 ◆ 交付金に関する通知等掲載場所（東京都障害者サービス情報）： https://www.shougaifukushi.metro.tokyo.lg.jp/Lib/LibDspCatego.php?catid=022 ◆ 交付金に関する問合せフォーム： https://www.shinsei.elg-front.jp/tokyo2/uketsuke/form.do?id=1643363161334
B4: 回答者情報
B5: 法人名 | G5: 代表者名
B6: 書類作成担当者氏名 | G6: FAX番号
B7: 電話番号 | G7: メールアドレス
B8: ※ 報告後、東京都より報告内容に関して電話等による確認をさせていただく場合がございます。
B10: 交付金交付予定事業所について（※行が足りなくなったら、適宜追加してください。）
B11: 項番 | C11: 事業所指定番号 （＊「13~」から始まる10桁の番号入力） | E11: 事業所名 （＊入力） | G11: 事業所サービス種別 （＊プルダウンから選択） | H11: R4.2サービス提供分の 処遇改善加算区分 （＊プルダウンから選択） | J11: 本交付金に係る 賃金改善開始報告 （＊プルダウンから選択）
B13: 1
B14: 2
B15: 3
B16: 4
B17: 5
B18: 6
B19: 7
B20: 8
B21: 9
B22: 10
B23: 11
B24: 12
... B312: 300

Sheet (入力不要)事業所種別
B2: 事業所種別
B3: 居宅介護
B4: 重度訪問介護
B5: 同行援護
B6: 行動援護
B7: 重度障害者等包括支援
B8: 生活介護
B9: 施設入所支援
B10: 短期入所
B11: 療養介護
B12: 自立訓練（機能訓練）
B13: 自立訓練（生活訓練）
... B23: 医療型障害児入所施設

Sheet （入力不要）東京都使用集計シート
A2: 法人名 | B2: 書類作成担当者氏名 | C2: 電話番号 | D2: メールアドレス | E2: 事業所番号 | G2: 事業所名 | I2: 事業所種別 | J2: 処遇加算区分 | K2: 賃金改善開始月
A3: =報告シート!$D$5 -> 0 | B3: =報告シート!$D$6 -> 0 | C3: =報告シート!$D$7 -> 0 | D3: =報告シート!$I$7 -> 0 | E3: =報告シート!C13 -> 0 | G3: =報告シート!E13 -> 0 | I3: =報告シート!G13 -> 0 | J3: =報告シート!H13 -> 0 | K3: =報告シート!J13 -> 0
A4: =報告シート!$D$5 -> 0 | B4: =報告シート!$D$6 -> 0 | C4: =報告シート!$D$7 -> 0 | D4: =報告シート!$I$7 -> 0 | E4: =報告シート!C14 -> 0 | G4: =報告シート!E14 -> 0 | I4: =報告シート!G14 -> 0 | J4: =報告シート!H14 -> 0 | K4: =報告シート!J14 -> 0
A5: =報告シート!$D$5 -> 0 | B5: =報告シート!$D$6 -> 0 | C5: =報告シート!$D$7 -> 0 | D5: =報告シート!$I$7 -> 0 | E5: =報告シート!C15 -> 0 | G5: =報告シート!E15 -> 0 | I5: =報告シート!G15 -> 0 | J5: =報告シート!H15 -> 0 | K5: =報告シート!J15 -> 0
A6: =報告シート!$D$5 -> 0 | B6: =報告シート!$D$6 -> 0 | C6: =報告シート!$D$7 -> 0 | D6: =報告シート!$I$7 -> 0 | E6: =報告シート!C16 -> 0 | G6: =報告シート!E16 -> 0 | I6: =報告シート!G16 -> 0 | J6: =報告シート!H16 -> 0 | K6: =報告シート!J16 -> 0
A7: =報告シート!$D$5 -> 0 | B7: =報告シート!$D$6 -> 0 | C7: =報告シート!$D$7 -> 0 | D7: =報告シート!$I$7 -> 0 | E7: =報告シート!C17 -> 0 | G7: =報告シート!E17 -> 0 | I7: =報告シート!G17 -> 0 | J7: =報告シート!H17 -> 0 | K7: =報告シート!J17 -> 0
A8: =報告シート!$D$5 -> 0 | B8: =報告シート!$D$6 -> 0 | C8: =報告シート!$D$7 -> 0 | D8: =報告シート!$I$7 -> 0 | E8: =報告シート!C18 -> 0 | G8: =報告シート!E18 -> 0 | I8: =報告シート!G18 -> 0 | J8: =報告シート!H18 -> 0 | K8: =報告シート!J18 -> 0
A9: =報告シート!$D$5 -> 0 | B9: =報告シート!$D$6 -> 0 | C9: =報告シート!$D$7 -> 0 | D9: =報告シート!$I$7 -> 0 | E9: =報告シート!C19 -> 0 | G9: =報告シート!E19 -> 0 | I9: =報告シート!G19 -> 0 | J9: =報告シート!H19 -> 0 | K9: =報告シート!J19 -> 0
A10: =報告シート!$D$5 -> 0 | B10: =報告シート!$D$6 -> 0 | C10: =報告シート!$D$7 -> 0 | D10: =報告シート!$I$7 -> 0 | E10: =報告シート!C20 -> 0 | G10: =報告シート!E20 -> 0 | I10: =報告シート!G20 -> 0 | J10: =報告シート!H20 -> 0 | K10: =報告シート!J20 -> 0
A11: =報告シート!$D$5 -> 0 | B11: =報告シート!$D$6 -> 0 | C11: =報告シート!$D$7 -> 0 | D11: =報告シート!$I$7 -> 0 | E11: =報告シート!C21 -> 0 | G11: =報告シート!E21 -> 0 | I11: =報告シート!G21 -> 0 | J11: =報告シート!H21 -> 0 | K11: =報告シート!J21 -> 0
A12: =報告シート!$D$5 -> 0 | B12: =報告シート!$D$6 -> 0 | C12: =報告シート!$D$7 -> 0 | D12: =報告シート!$I$7 -> 0 | E12: =報告シート!C22 -> 0 | G12: =報告シート!E22 -> 0 | I12: =報告シート!G22 -> 0 | J12: =報告シート!H22 -> 0 | K12: =報告シート!J22 -> 0
A13: =報告シート!$D$5 -> 0 | B13: =報告シート!$D$6 -> 0 | C13: =報告シート!$D$7 -> 0 | D13: =報告シート!$I$7 -> 0 | E13: =報告シート!C23 -> 0 | G13: =報告シート!E23 -> 0 | I13: =報告シート!G23 -> 0 | J13: =報告シート!H23 -> 0 | K13: =報告シート!J23 -> 0
A14: =報告シート!$D$5 -> 0 | B14: =報告シート!$D$6 -> 0 | C14: =報告シート!$D$7 -> 0 | D14: =報告シート!$I$7 -> 0 | E14: =報告シート!C24 -> 0 | G14: =報告シート!E24 -> 0 | I14: =報告シート!G24 -> 0 | J14: =報告シート!H24 -> 0 | K14: =報告シート!J24 -> 0
... A302: =報告シート!$D$5 -> 0 | B302: =報告シート!$D$6 -> 0 | C302: =報告シート!$D$7 -> 0 | D302: =報告シート!$I$7 -> 0 | E302: =報告シート!C312 -> 0 | G302: =報告シート!E312 -> 0 | I302: =報告シート!G312 -> 0 | J302: =報告シート!H312 -> 0 | K302: =報告シート!J312 -> 0

Sheet 集計
A1: 集計
B2: 対象者について | T2: 事業について
B3: 1 29年度 | E3: （２）退職理由 | K3: 2 30年度 | N3: （２）退職理由 | T3: 3 現在の利用状況 | X3: （２）（３）未受託理由 | AD3: ４ 効果 | AH3: （２）（３）効果なし理由 | AM3: ５ 自由記述
A4: 法人名 | B4: （１）① | C4: （１）② | D4: （１）③ | E4: ①他業種への転職 | F4: ②他施設・事業所への転職 | G4: ③病気・けが | H4: ④転居 | I4: ⑤結婚、出産、育児等 | J4: ⑥その他 | K4: （１）① | L4: （１）② | M4: （１）③ | N4: ①他業種への転職 | O4: ②他施設・事業所への転職 | P4: ③病気・けが | Q4: ④転居 | R4: ⑤結婚、出産、育児等 | S4: ⑥その他 | T4: （１）① | U4: （１）② | V4: （１）③ | W4: （１）④ | X4: 事業の効果が見られなかった | Y4: 申請書類の作成等事務が煩雑 | Z4: 人員が足りており申請する必要がなかった | AA4: 申請を失念していた | AB4: その他 | AC4: その他・自由記述 | AD4: （１）① | AE4: （１）② | AF4: （１）③ | AG4: （１）④ | AH4: 雇用に(ほとんど)至らなかった | AI4: 雇用はできたものの良質な人材の確保に至らなかった | AJ4: 雇用はできたものの定着には至らなかった | AK4: その他 | AL4: その他・自由記述
A5: =報告シート!#REF! -> #REF! | B5: =COUNTIF(報告シート!#REF!,"○") -> #REF! | C5: =COUNTIF(報告シート!#REF!,"○") -> #REF! | D5: =COUNTIF(報告シート!#REF!,"○") -> #REF! | E5: =COUNTIF(報告シート!#REF!,"他業種への転職") -> #REF! | F5: =COUNTIF(報告シート!#REF!,"他施設・事業所への転職") -> #REF! | G5: =COUNTIF(報告シート!#REF!,"病気・けが") -> #REF! | H5: =COUNTIF(報告シート!#REF!,"転居") -> #REF! | I5: =COUNTIF(報告シート!#REF!,"結婚、出産、育児等") -> #REF! | J5: =COUNTIF(報告シート!#REF!,"その他") -> #REF! | K5: =COUNTIF(報告シート!#REF!,"○") -> #REF! | L5: =COUNTIF(報告シート!#REF!,"○") -> #REF! | M5: =COUNTIF(報告シート!#REF!,"○") -> #REF! | N5: =COUNTIF(報告シート!#REF!,"他業種への転職") -> #REF! | O5: =COUNTIF(報告シート!#REF!,"他施設・事業所への転職") -> #REF! | P5: =COUNTIF(報告シート!#REF!,"病気・けが") -> #REF! | Q5: =COUNTIF(報告シート!#REF!,"転居") -> #REF! | R5: =COUNTIF(報告シート!#REF!,"結婚、出産、育児等") -> #REF! | S5: =COUNTIF(報告シート!#REF!,"その他") -> #REF! | T5: =IF(報告シート!#REF!="①",1,0) -> #REF! | U5: =IF(報告シート!#REF!="②",1,0) -> #REF! | V5: =IF(報告シート!#REF!="③",1,0) -> #REF! | W5: =IF(報告シート!#REF!="④",1,0) -> #REF! | X5: =IF(報告シート!#REF!="事業の効果が見られなかった",1,0) -> #REF! | Y5: =IF(報告シート!#REF!="申請書類の作成等事務が煩雑",1,0) -> #REF! | Z5: =IF(報告シート!#REF!="人員が足りており申請する必要がなかった",1,0) -> #REF! | AA5: =IF(報告シート!#REF!="申請を失念していた",1,0) -> #REF! | AB5: =IF(報告シート!#REF!="その他",1,0) -> #REF! | AC5: =報告シート!#REF! -> #REF! | AD5: =IF(報告シート!#REF!="①",1,0) -> #REF! | AE5: =IF(報告シート!#REF!="③",1,0) -> #REF! | AF5: =IF(報告シート!#REF!="②",1,0) -> #REF! | AG5: =IF(報告シート!#REF!="④",1,0) -> #REF! | AH5: =IF(報告シート!#REF!="雇用に(ほとんど)至らなかった",1,0) -> #REF! | AI5: =IF(報告シート!#REF!="雇用はできたものの良質な人材の確保に至らなかった",1,0) -> #REF! | AJ5: =IF(報告シート!#REF!="雇用はできたものの定着には至らなかった",1,0) -> #REF! | AL5: =報告シート!#REF! -> #REF! | AM5: =報告シート!#REF! -> #REF!
