Workbook

Sheet 【手順１】別記第１号様式(交付申請書)
B2: 別記第１号様式
I5: 45047
B7: 東 京 都 知 事 殿
F8: 法人・事業者所在地 | H8: :
F9: 東京都新宿区西新宿2-8-1
F10: 法人名・事業者名 | H10: ： | I10: 社会福祉法人東京の会
F11: 代表者職氏名 | H11: ： | I11: 理事長 東京 太郎
B14: 令和５年度東京都障害者支援施設等事業継続支援（宿泊先確保）事業補助金交付申請書
B16: このことについて、下記のとおり関係資料を添えて申請します。
B20: 記
B23: １ 補助申請額 | F23: 金 | G23: ='【手順2】別紙１経費所要額調書(交付申請用)'!L13 -> 332000 | J23: 円
B25: ２ 経費所要額調書（別紙１）
B27: ３ 支出予定額明細書（別紙２）
B29: ４ 添付資料
B30: (1) 当該事業に係る歳入歳出予算書の抄本
B31: (2) その他参考資料
G32: 担当者
G33: 部署名 | I33: 庶務課
G34: 担当者名 | I34: 東京 次郎
G35: 電話番号 | I35: 03－5320－xxxx
G36: E-mail | I36: xxxx＠xxxx.com

Sheet 【手順2】別紙１経費所要額調書(交付申請用)
B2: 別紙１（交付申請用）
B4: 経 費 所 要 額 調 書
K5: 都作業用番号 | O5: 都作業用番号 | P5: =L5 -> 0
H7: 法人名・事業者名： | J7: ='【手順１】別記第１号様式(交付申請書)'!I10 -> 社会福祉法人東京の会
L8: （単位：円）
B9: 区 分 | D9: 総 事 業 費 | E9: 寄付金その他 の収入額 | F9: 差 引 額 | G9: 対象経費の 支出予定額 | H9: 基 準 額 | I9: 選 定 額 | J9: 補助基本額 | K9: 補助率 | L9: 都補助所要額 (交付申請額) | M9: 既交付決定額 | N9: 上半期既交付額 | O9: 下半期既交付額 | P9: 下半期変更交付申請時差引予定額
D12: Ａ | E12: Ｂ | F12: Ｃ | G12: Ｄ | H12: Ｅ | I12: Ｆ | J12: Ｇ | K12: Ｈ | L12: Ｉ | M12: Ｍ | N12: Ｎ | O12: Ｏ | P12: Ｐ
B13: 障害者支援施設等 事業継続支援（宿泊先確保）事業 | D13: ='【手順3】別紙２支出予定額明細書（交付申請用）'!G121 -> 342980 | E13: 0 | F13: =D13-E13 -> 342980 | G13: ='【手順3】別紙２支出予定額明細書（交付申請用）'!G121 -> 342980 | H13: ='【手順3】別紙２支出予定額明細書（交付申請用）'!O121 -> 332980 | I13: =MIN(G13,H13) -> 332980 | J13: =MIN(F13,I13) -> 332980 | K13: 10/10 | L13: =ROUNDDOWN(J13,-3) -> 332000 | P13: =L13-M13 -> 332000
B15: （注） | C15: １ Ｃ欄は、Ａ欄の額からＢ欄の額を差し引いた額
C16: ２ Ｆ欄は、Ｄ欄とＥ欄の額を比較して低い方の額
C17: ３ Ｇ欄は、Ｃ欄とＦ欄の額を比較して低い方の額
C18: ４ Ｉ欄は、Ｇ欄の額にＨ欄の補助率を乗じて得た額（1,000円未満の端数が生じた場合には切り捨てる）
C19: ５ 複数施設について申請を行う場合は、施設ごとの対象経費の支出予定額、基準額及び選定額の内訳を記載した書類を添付のこと

Sheet 【手順3】別紙２支出予定額明細書（交付申請用）
B2: 別紙２
B4: 支 出 予 定 額 明 細 書
F6: 法人名・事業者名： | G6: ='【手順１】別記第１号様式(交付申請書)'!I10 -> 社会福祉法人東京の会
B8: ○ 確認事項
D9: 借上げに係る契約書又は立替えに係る領収書等を適切に保管し、都から求めがあった場合は速やかに提出する。
D10: 入所者と業務上接する機会があり、入所者への新型コロナウイルス感染症の感染防止を図る必要がある、又は基礎疾患を有する家族等と同居し自宅内での感染防止を図る必要があるため、宿泊した職員のみ選定している。
D11: 宿泊施設については、自己所有の施設や職員寮ではなく、あらかじめ契約等により施設が指定する宿泊施設である。
D12: 申請した経費について他の補助事業による補助を受けていない。
D13: 以上を満たしていることを申請者として証明する。
C14: ※ 都において把握した情報等と相違があった場合又は疑義があった場合には、根拠資料を照会する場合があります。
C15: ※ 補助対象とならないことが監査等で確認された場合には、補助金を返還いただくことがあります。
B16: ○ 支出予定額積算内訳
C17: 区分 | E17: 支出予定額 | H17: 備考 | L17: 上限額 | O17: 基準額
E18: 利用 単価 | F18: 延べ 利用 日数 （※１） | G18: 計 | L18: 利用 単価 | M18: 延べ 利用 日数 | N18: 計
E19: (１人１部屋1日当たり) | L19: (１人１部屋当たり)
C20: 利用予定宿泊施設名
C21: 1 | D21: Aホテル（平日） | E21: 5000 | F21: 10 | G21: =E21*F21 -> 50000 | L21: 8000 | M21: =F21 -> 10 | N21: =L21*M21 -> 80000 | O21: =MIN(G21,N21) -> 50000
C22: 2 | D22: Aホテル（土日祝） | E22: 9000 | F22: 10 | G22: =E22*F22 -> 90000 | L22: 8000 | M22: =F22 -> 10 | N22: =L22*M22 -> 80000 | O22: =MIN(G22,N22) -> 80000
C23: 3 | D23: Bホテル | E23: 8000 | F23: 15 | G23: =E23*F23 -> 120000 | L23: 8000 | M23: =F23 -> 15 | N23: =L23*M23 -> 120000 | O23: =MIN(G23,N23) -> 120000
C24: 4 | D24: Cマンション | E24: 2766 | F24: 30 | G24: =E24*F24 -> 82980 | L24: 8000 | M24: =F24 -> 30 | N24: =L24*M24 -> 240000 | O24: =MIN(G24,N24) -> 82980
C25: 5 | G25: =E25*F25 -> 0 | L25: 8000 | M25: =F25 -> 0 | N25: =L25*M25 -> 0 | O25: =MIN(G25,N25) -> 0
C26: 6 | G26: =E26*F26 -> 0 | L26: 8000 | M26: =F26 -> 0 | N26: =L26*M26 -> 0 | O26: =MIN(G26,N26) -> 0
C27: 7 | G27: =E27*F27 -> 0 | L27: 8000 | M27: =F27 -> 0 | N27: =L27*M27 -> 0 | O27: =MIN(G27,N27) -> 0
C28: 8 | G28: =E28*F28 -> 0 | L28: 8000 | M28: =F28 -> 0 | N28: =L28*M28 -> 0 | O28: =MIN(G28,N28) -> 0
C29: 9 | G29: =E29*F29 -> 0 | L29: 8000 | M29: =F29 -> 0 | N29: =L29*M29 -> 0 | O29: =MIN(G29,N29) -> 0
C30: 10 | G30: =E30*F30 -> 0 | L30: 8000 | M30: =F30 -> 0 | N30: =L30*M30 -> 0 | O30: =MIN(G30,N30) -> 0
C31: 11 | G31: =E31*F31 -> 0 | L31: 8000 | M31: =F31 -> 0 | N31: =L31*M31 -> 0 | O31: =MIN(G31,N31) -> 0
C32: 12 | G32: =E32*F32 -> 0 | L32: 8000 | M32: =F32 -> 0 | N32: =L32*M32 -> 0 | O32: =MIN(G32,N32) -> 0
C33: 13 | G33: =E33*F33 -> 0 | L33: 8000 | M33: =F33 -> 0 | N33: =L33*M33 -> 0 | O33: =MIN(G33,N33) -> 0
C34: 14 | G34: =E34*F34 -> 0 | L34: 8000 | M34: =F34 -> 0 | N34: =L34*M34 -> 0 | O34: =MIN(G34,N34) -> 0
C35: 15 | G35: =E35*F35 -> 0 | L35: 8000 | M35: =F35 -> 0 | N35: =L35*M35 -> 0 | O35: =MIN(G35,N35) -> 0
C36: 16 | G36: =E36*F36 -> 0 | L36: 8000 | M36: =F36 -> 0 | N36: =L36*M36 -> 0 | O36: =MIN(G36,N36) -> 0
... C120: 100 | G120: =E120*F120 -> 0 | L120: 8000 | M120: =F120 -> 0 | N120: =L120*M120 -> 0 | O120: =MIN(G120,N120) -> 0
C121: 合計 | E121: =_xlfn.AGGREGATE(9,6,E21:E120) -> 24766 | F121: =_xlfn.AGGREGATE(9,6,F21:F120) -> 65 | G121: =_xlfn.AGGREGATE(9,6,G21:G120) -> 342980 | L121: 合計 | M121: =SUM(M21:M120) -> 65 | N121: =SUM(N21:N120) -> 520000 | O121: =SUM(O21:O120) -> 332980
C122: （※１）延べ利用日数は、宿泊施設の確保日数を記載してください。実際に職員が利用しなかった場合でも 対象者数等に照らし、適切な規模を勘案いただいた上で各施設の事業継続に必要な範囲で宿泊場所を 確保した場合、補助対象となります。

Sheet 【手順4】別添１（補助対象施設一覧）
B2: （別添）
B3: 補助対象施設一覧
D5: 法人名： | E5: ='【手順１】別記第１号様式(交付申請書)'!I10 -> 社会福祉法人東京の会
B7: 番号 | C7: 補助対象施設名 | D7: サービス種別 | E7: 事業所番号 | H7: 障害者支援施設
B8: 1 | C8: 障害者支援施設Ａ福祉園 | D8: 障害者支援施設（都内） | E8: 131xxxxxxx | H8: 福祉型障害児入所施設
B9: 2 | C9: 障害児入所施設Ｂ学園 | D9: 福祉型障害児入所施設 | E9: 135xxxxxxx | H9: 医療型障害児入所施設
B10: 3 | C10: グループホームＣの家 | D10: 障害者グループホーム | E10: 132xxxxxxx | H10: 都外施設（障害者支援施設）
B11: 4 | H11: 都外施設（障害児入所施設）
B12: 5 | H12: 障害者グループホーム
B13: 6
B14: 7
B15: 8
B16: 9
B17: 10
B18: 11
B19: 12
B20: 13
B21: 14
B22: 15
B23: 16
B24: 17
... B37: 30

Sheet 【手順５】別添2（施設別内訳）
A1: （別添２）
B2: 施設別支出予定額等内訳
E3: 法人名・事業者名： | F3: ='【手順１】別記第１号様式(交付申請書)'!I10 -> 社会福祉法人東京の会
B5: 番号 | C5: 施設名 | D5: 対象経費の 支出予定額 | E5: 基準額 （上限基準額） | F5: 選定額 （選定後基準額） | G5: 備考
B6: 1 | C6: ='【手順3】別紙２支出予定額明細書（交付申請用）'!D21 -> Aホテル（平日） | D6: ='【手順3】別紙２支出予定額明細書（交付申請用）'!G21 -> 50000 | E6: ='【手順3】別紙２支出予定額明細書（交付申請用）'!N21 -> 80000 | F6: ='【手順3】別紙２支出予定額明細書（交付申請用）'!O21 -> 50000
B7: 2 | C7: ='【手順3】別紙２支出予定額明細書（交付申請用）'!D22 -> Aホテル（土日祝） | D7: ='【手順3】別紙２支出予定額明細書（交付申請用）'!G22 -> 90000 | E7: ='【手順3】別紙２支出予定額明細書（交付申請用）'!N22 -> 80000 | F7: ='【手順3】別紙２支出予定額明細書（交付申請用）'!O22 -> 80000
B8: 3 | C8: ='【手順3】別紙２支出予定額明細書（交付申請用）'!D23 -> Bホテル | D8: ='【手順3】別紙２支出予定額明細書（交付申請用）'!G23 -> 120000 | E8: ='【手順3】別紙２支出予定額明細書（交付申請用）'!N23 -> 120000 | F8: ='【手順3】別紙２支出予定額明細書（交付申請用）'!O23 -> 120000
B9: 4 | C9: ='【手順3】別紙２支出予定額明細書（交付申請用）'!D24 -> Cマンション | D9: ='【手順3】別紙２支出予定額明細書（交付申請用）'!G24 -> 82980 | E9: ='【手順3】別紙２支出予定額明細書（交付申請用）'!N24 -> 240000 | F9: ='【手順3】別紙２支出予定額明細書（交付申請用）'!O24 -> 82980
B10: 5 | C10: ='【手順3】別紙２支出予定額明細書（交付申請用）'!D25 -> 0 | D10: ='【手順3】別紙２支出予定額明細書（交付申請用）'!G25 -> 0 | E10: ='【手順3】別紙２支出予定額明細書（交付申請用）'!N25 -> 0 | F10: ='【手順3】別紙２支出予定額明細書（交付申請用）'!O25 -> 0
B11: 6 | C11: ='【手順3】別紙２支出予定額明細書（交付申請用）'!D26 -> 0 | D11: ='【手順3】別紙２支出予定額明細書（交付申請用）'!G26 -> 0 | E11: ='【手順3】別紙２支出予定額明細書（交付申請用）'!N26 -> 0 | F11: ='【手順3】別紙２支出予定額明細書（交付申請用）'!O26 -> 0
B12: 7 | C12: ='【手順3】別紙２支出予定額明細書（交付申請用）'!D27 -> 0 | D12: ='【手順3】別紙２支出予定額明細書（交付申請用）'!G27 -> 0 | E12: ='【手順3】別紙２支出予定額明細書（交付申請用）'!N27 -> 0 | F12: ='【手順3】別紙２支出予定額明細書（交付申請用）'!O27 -> 0
B13: 8 | C13: ='【手順3】別紙２支出予定額明細書（交付申請用）'!D28 -> 0 | D13: ='【手順3】別紙２支出予定額明細書（交付申請用）'!G28 -> 0 | E13: ='【手順3】別紙２支出予定額明細書（交付申請用）'!N28 -> 0 | F13: ='【手順3】別紙２支出予定額明細書（交付申請用）'!O28 -> 0
B14: 9 | C14: ='【手順3】別紙２支出予定額明細書（交付申請用）'!D29 -> 0 | D14: ='【手順3】別紙２支出予定額明細書（交付申請用）'!G29 -> 0 | E14: ='【手順3】別紙２支出予定額明細書（交付申請用）'!N29 -> 0 | F14: ='【手順3】別紙２支出予定額明細書（交付申請用）'!O29 -> 0
B15: 10 | C15: ='【手順3】別紙２支出予定額明細書（交付申請用）'!D30 -> 0 | D15: ='【手順3】別紙２支出予定額明細書（交付申請用）'!G30 -> 0 | E15: ='【手順3】別紙２支出予定額明細書（交付申請用）'!N30 -> 0 | F15: ='【手順3】別紙２支出予定額明細書（交付申請用）'!O30 -> 0
B16: 11 | C16: ='【手順3】別紙２支出予定額明細書（交付申請用）'!D31 -> 0 | D16: ='【手順3】別紙２支出予定額明細書（交付申請用）'!G31 -> 0 | E16: ='【手順3】別紙２支出予定額明細書（交付申請用）'!N31 -> 0 | F16: ='【手順3】別紙２支出予定額明細書（交付申請用）'!O31 -> 0
B17: 12 | C17: ='【手順3】別紙２支出予定額明細書（交付申請用）'!D32 -> 0 | D17: ='【手順3】別紙２支出予定額明細書（交付申請用）'!G32 -> 0 | E17: ='【手順3】別紙２支出予定額明細書（交付申請用）'!N32 -> 0 | F17: ='【手順3】別紙２支出予定額明細書（交付申請用）'!O32 -> 0
... B105: 100 | C105: ='【手順3】別紙２支出予定額明細書（交付申請用）'!D120 -> 0 | D105: ='【手順3】別紙２支出予定額明細書（交付申請用）'!G120 -> 0 | E105: ='【手順3】別紙２支出予定額明細書（交付申請用）'!N120 -> 0 | F105: ='【手順3】別紙２支出予定額明細書（交付申請用）'!O120 -> 0
C106: 合 計 | D106: =SUM(D6:D105) -> 342980 | E106: =SUM(E6:E105) -> 520000 | F106: =SUM(F6:F105) -> 332980

Sheet 歳入歳出予算書抄本
B4: 東京都障害者支援施設等事業継続支援（宿泊先確保）事業 補助金に係る歳入歳出予算書抄本
C8: １ 歳入の部
H9: （単位：円）
C10: 区 分 | F10: 予算額
C11: 補助金 | F11: ='【手順2】別紙１経費所要額調書(交付申請用)'!L13 -> 332000
C12: 寄付金その他の収入額 | F12: ='【手順2】別紙１経費所要額調書(交付申請用)'!E13 -> 0
C13: 自己負担額 | F13: ='【手順2】別紙１経費所要額調書(交付申請用)'!D13-'【手順2】別紙１経費所要額調書(交付申請用)'!L13 -> 10980
C16: 計 | F16: =SUM(F11:H15) -> 342980
C18: ２ 歳出の部
H19: （単位：円）
C20: 区 分 | F20: 予算額
C21: （事業に要する経費） | F21: ='【手順2】別紙１経費所要額調書(交付申請用)'!D13 -> 342980
C26: 計 | F26: =SUM(F21:H25) -> 342980
C28: 上記のとおり相違ありません。
E30: ='【手順１】別記第１号様式(交付申請書)'!I5 -> 45047
E32: 法人・事業者所在地 | F32: : | G32: ='【手順１】別記第１号様式(交付申請書)'!F9 -> 東京都新宿区西新宿2-8-1
E33: 法人名・事業者名 | F33: : | G33: ='【手順１】別記第１号様式(交付申請書)'!I10 -> 社会福祉法人東京の会
E34: 代表者職氏名 | F34: : | G34: ='【手順１】別記第１号様式(交付申請書)'!I11 -> 理事長 東京 太郎 | H34: 印

Sheet 都集計シート
A1: 1 | B1: 2 | C1: 3 | D1: 4 | E1: 5 | F1: 6 | G1: 7 | H1: 8 | I1: 9 | J1: 10 | K1: 11 | L1: 12 | M1: 13 | N1: 14 | O1: 15 | P1: 16
A2: 日付 | B2: 法人名 | C2: 法人所在地 | D2: 法人代表者名 | E2: 部署名 | F2: 担当者名 | G2: 電話番号 | H2: E-mail | I2: 総事業費 | J2: 寄付金 その他の 収入額 | K2: 差 引 額 | L2: 対象経費の 実支出額 | M2: 基 準 額 | N2: 選 定 額 | O2: 補助基本額 | P2: 都補助 所要額
A3: ='【手順１】別記第１号様式(交付申請書)'!I5 -> 45047 | B3: ='【手順１】別記第１号様式(交付申請書)'!I10 -> 社会福祉法人東京の会 | C3: ='【手順１】別記第１号様式(交付申請書)'!F9 -> 東京都新宿区西新宿2-8-1 | D3: ='【手順１】別記第１号様式(交付申請書)'!I11 -> 理事長 東京 太郎 | E3: ='【手順１】別記第１号様式(交付申請書)'!I33 -> 庶務課 | F3: ='【手順１】別記第１号様式(交付申請書)'!I34 -> 東京 次郎 | G3: ='【手順１】別記第１号様式(交付申請書)'!I35 -> 03－5320－xxxx | H3: ='【手順１】別記第１号様式(交付申請書)'!I36 -> xxxx＠xxxx.com | I3: ='【手順2】別紙１経費所要額調書(交付申請用)'!D13 -> 342980 | J3: ='【手順2】別紙１経費所要額調書(交付申請用)'!E13 -> 0 | K3: ='【手順2】別紙１経費所要額調書(交付申請用)'!F13 -> 342980 | L3: ='【手順2】別紙１経費所要額調書(交付申請用)'!G13 -> 342980 | M3: ='【手順2】別紙１経費所要額調書(交付申請用)'!H13 -> 332980 | N3: ='【手順2】別紙１経費所要額調書(交付申請用)'!I13 -> 332980 | O3: ='【手順2】別紙１経費所要額調書(交付申請用)'!J13 -> 332980 | P3: ='【手順2】別紙１経費所要額調書(交付申請用)'!L13 -> 332000
