Workbook
Name www: #REF!
Name www: #REF!
Name サービス: #REF!
Name サービス: #REF!
Name サービス種別: [1]サービス種類一覧!$B$4:$B$20
Name サービス名: [2]数式用!$A$5:$A$28
Name 一覧: [3]加算率一覧!$A$4:$A$25
Name 種類: [4]サービス種類一覧!$A$4:$A$20
Name 特定: #REF!
Name 特定: #REF!

Sheet はじめに
A1: 障害福祉サービス等処遇改善計画書の作成にあたっての入力シート等の説明
A2: 令和４年度以降の処遇改善加算等に係る計画書の作成方法をご説明しています
A4: ワークシート名 （左からの順） | B4: 枚数 | C4: ワークシートの 入力順番（推奨） | D4: 説明 | F4: 提出の 要否
A5: はじめに | B5: 1 | C5: - | D5: ・本様式の内容と使い方を説明しています。 | F5: 不要
A6: 基本情報入力シート | B6: 1 | C6: ① | D6: ・法人の基本的な情報を入力することで、様式2へ自動的に転記が行われるため、こちらから入力してください。 ・本シートは提出不要です。 | F6: 不要
A7: 様式2-1 計画書_総括表 | B7: 1 | C7: ③ | D7: ・計画の概要と要件に関する情報を入力します。 ・具体的には、申請者情報・賃金改善計画の概要・キャリアパス要件・職場環境要件・見える化要件の5つです。 ・最後に入力してください。 | F7: 提出
A8: 様式2-2 個表_処遇 | B8: 1 | C8: ② | D8: ・福祉・介護職員処遇改善加算について、事業所毎の情報を入力します。 ・事業所ごとに新規・継続の別、加算区分、対象期間等を入力します。 ・基本情報入力シートの次に入力してください。 | F8: 提出
A9: 様式2-3 個表_特定 | B9: 1 | C9: ② | D9: ・福祉・介護職員等特定処遇改善加算について、事業所毎の情報を入力します。 ・事業所ごとに新規・継続の別、加算区分、対象期間、配置等要件、グループ別の職員の常勤換算人数等を入力します。 ・基本情報入力シートの次に入力してください。 | F9: 提出
A10: 様式2-4 個表_ベースアップ等加算 | B10: 1 | C10: ② | D10: ・福祉・介護職員等ベースアップ等支援加算について、事業所毎の情報を入力します。 ・事業所毎に新規・継続の別、算定対象月、グループ別の賃金改善見込額、当該見込額のうちベースアップ等による賃金改善の見込額等を入力します。 ・基本情報入力シートの次に入力してください。 | F10: 提出
A18: ２ 書類の作成方法
A22: 【留意事項】
A23: ・原則、本様式を用いて計画書を作成してください。
A24: ・根拠資料は、保管の有無をチェックリストで確認することで原則提出不要です。
A25: ・複数事業所を一括して申請する際の指定権者別・都道府県別一覧表は不要です。
A26: ・「賃金改善の見込額」の比較対象となる年度は、「初めて加算を取得する（した）前年度」ではなく「（申請の）前年度」です。
A28: 【令和4年度からの主な変更点】
A29: ・ベースアップ等加算を創設し、当該加算による賃金改善の合計額の３分の２以上は、
A30: 基本給又は決まって毎月支払われる手当の引上げに充てることを求めることとしました。
A32: 【用語の省略等】
A33: ○福祉・介護職員処遇改善加算⇒処遇改善加算
A34: ○福祉・介護職員等特定処遇改善加算⇒特定加算
... A37: ○福祉・介護職員処遇改善加算において対象となる職員⇒福祉・介護職員

Sheet 基本情報入力シート
A1: 処遇改善計画書（処遇改善計画書、特定処遇改善計画書、ベースアップ等支援計画書）作成用 基本情報入力シート | AD1: ↓一部項目の他シートへの読み込み列
A2: 【注意】本シートは様式作成用のため、提出は不要です。
A4: ●次の情報を本シートの黄色セルに入力することで、各様式に自動的に転記されます。
A5: ・提出先に関する情報
A6: ・基本情報
A7: ・加算対象事業所に関する情報
A9: １ 提出先に関する情報
B10: 処遇改善加算・特定加算・ベースアップ等加算の届出に係る提出先（指定権者）の名称を入力してください。
B11: 加算提出先
A13: ２ 基本情報
B14: ⇒下表に必要事項を入力してください。記入内容が別紙様式に反映されます。
B15: 法人名 | C15: フリガナ
C16: 名称 | AD16: 〒結合
B17: 法人住所 | C17: 〒 | P17: － | AD17: =CONCATENATE(M17,N17,O17,P17,Q17,R17,S17,T17) -> －
C18: 住所１（番地・住居番号まで）
C19: 住所２（建物名等）
B20: 法人代表者 | C20: 職名
C21: 氏名
B22: 書類作成 担当者 | C22: フリガナ
C23: 氏名
B24: 連絡先 | C24: 電話番号
C25: FAX番号
C26: e-mail
A28: ３ 加算対象事業所に関する情報
B29: 下表に必要事項を入力してください。記入内容が別紙様式2-2、2-3、2-4に反映されます。
B30: ※１ | C30: 「一月当たりの障害福祉サービス等報酬総額［円］」には、「障害福祉サービス費等支払決定額内訳書」に基づき、 前年１月から12月までの１年間のサービス別の報酬総額（処遇改善加算等を含む、各種加算減算を含む。）を12で除したもの（12ヶ月に満たない場合は、一月あたりの標準的な額として見込まれるもの）を記載すること。
B31: ※２ | C31: 「一月当たりの処遇改善加算等の総額［円］」には、 前年１月から12月までの１年間の「福祉・介護職員処遇改善加算等総額のお知らせ」に基づき、サービス別の処遇改善加算等の総額を12で除したもの（12ヶ月に満たない場合は、一月あたりの標準的な額として見込まれるもの）を記載すること。
B32: 通し番号 | C32: 障害福祉サービス等 事業所番号 | M32: 指定権者名 | R32: 事業所の所在地 | X32: 事業所名 | Y32: サービス名 | Z32: 一月当たりの障害福祉サービス等報酬総額（※１）[円](a) | AA32: 一月当たりの 処遇改善加算等の総額（※２）[円](b) | AB32: 一月当たり（処遇改善加算等を除いた）障害福祉サービス等報酬総額[円]（c)
R33: 都道府県 | W33: 市区町村 | AD33: 事業所番号
B34: 1 | AB34: =IF(Z34="","",Z34-AA34) | AD34: =C34&D34&E34&F34&G34&H34&I34&J34&K34&L34
B35: =B34+1 -> 2 | AB35: =IF(Z35="","",Z35-AA35) | AD35: =C35&D35&E35&F35&G35&H35&I35&J35&K35&L35
B36: =B35+1 -> 3 | AB36: =IF(Z36="","",Z36-AA36) | AD36: =C36&D36&E36&F36&G36&H36&I36&J36&K36&L36
B37: =B36+1 -> 4 | AB37: =IF(Z37="","",Z37-AA37) | AD37: =C37&D37&E37&F37&G37&H37&I37&J37&K37&L37
B38: =B37+1 -> 5 | AB38: =IF(Z38="","",Z38-AA38) | AD38: =C38&D38&E38&F38&G38&H38&I38&J38&K38&L38
B39: =B38+1 -> 6 | AB39: =IF(Z39="","",Z39-AA39) | AD39: =C39&D39&E39&F39&G39&H39&I39&J39&K39&L39
B40: =B39+1 -> 7 | AB40: =IF(Z40="","",Z40-AA40) | AD40: =C40&D40&E40&F40&G40&H40&I40&J40&K40&L40
B41: =B40+1 -> 8 | AB41: =IF(Z41="","",Z41-AA41) | AD41: =C41&D41&E41&F41&G41&H41&I41&J41&K41&L41
B42: =B41+1 -> 9 | AB42: =IF(Z42="","",Z42-AA42) | AD42: =C42&D42&E42&F42&G42&H42&I42&J42&K42&L42
B43: =B42+1 -> 10 | AB43: =IF(Z43="","",Z43-AA43) | AD43: =C43&D43&E43&F43&G43&H43&I43&J43&K43&L43
B44: =B43+1 -> 11 | AB44: =IF(Z44="","",Z44-AA44) | AD44: =C44&D44&E44&F44&G44&H44&I44&J44&K44&L44
...

Sheet 別紙様式2-4 個表_ベースアップ
A1: 別紙様式２－４ | G1: 福祉・介護職員等ベースアップ等支援計画書（施設・事業所別個表） | Q1: ・(o-1)及び(p-1)には、福祉・介護職員とその他の職種の賃金改善額について、事業所ごとに「ベースアップ等加算の算定により賃金改善を行う場合の賃金の総額（見込額）」（別紙様式2－1の2(1)の②参照）と、「前年度の賃金の総額（処遇改善加算等を取得し実施される賃金改善額及び独自の賃金改善額を除く）」（別紙様式2-1の2(1)②の【基準額３】参照）とを比較し、その差額を事業所ごとに記入すること。 ・(o-2)及び(p-2)には、別紙様式2-1（5）ハに記載した具体的な取組に基づき、ベースアップ等による賃金改善の見込額を記載すること。
P2: 【記入上の注意】
A3: 法人名 | D3: =IF(基本情報入力シート!M16="","",基本情報入力シート!M16)
A5: 福祉・介護職員等ベースアップ等支援加算額（見込額）の合計［円］ （別紙様式2-1 ２ （1）①に転記） | O5: =IF(SUM(AG14:AG3013)=0,"",SUM(AG14:AG3013))
AC7: 合計 | AG7: =SUM(AG14:AG3013) -> 0 | AH7: =SUM(AH14:AH3013) -> 0 | AI7: =SUM(AI14:AI3013) -> 0 | AJ7: =SUM(AJ14:AJ3013) -> 0 | AK7: =SUM(AK14:AK3013) -> 0 | AM7: 要件Ⅰ | AN7: =IF((AH7+AJ7)="","",IF(AG7="","",IF((AH7+AJ7)>AG7,"○","×"))) -> × | AO7: ！×の場合、【⑤ⅰ+⑤ⅱ＞①】となるように修正してください。
AC8: ベースアップ等の割合 | AH8: 福祉・介護職員 | AI8: =IFERROR($AI$7/$AH$7,0) -> 0 | AJ8: その他職員 | AK8: =IFERROR($AK$7/$AJ$7,0) -> 0 | AM8: 要件Ⅱ | AN8: =IF(AND($AI$8=0,$AK$8=0),"×",IF(OR($AI$8=0,$AI$8>=(2/3)),"○","×")) -> × | AO8: ！×の場合、【福祉・介護職員のベースアップ等による賃金改善額が2/3(66.66…％)以上】となるように修正してください。
B9: 障害福祉サービス等 事業所番号 | L9: 指定権者名 | M9: 事業所の所在地 | O9: 事業所名 | P9: サービス名 | Q9: 算定する福祉・介護職員処遇改善加算の区分 | R9: 一月あたり（処遇改善加算等を除いた）障害福祉サービス等報酬総額[円](c) | S9: （３）ベースアップ等支援加算 | AN9: =IF(AND($AK$8=0,$AI$8=0),"×",IF(OR($AK$8=0,$AK$8>=(2/3)),"○","×")) -> × | AO9: ！×の場合、【その他の職員のベースアップ等による賃金改善額が2/3(66.66…％)以上】となるように修正してください。
S10: 新規・継続 の別 | T10: 加算率(m) | U10: 算定対象月(n) | AG10: ①福祉・介護職員等ベースアップ等支援加算の見込額 (c×m×n) [円] | AH10: 列ごとの合計を「２賃金改善計画について」（４）に転記
M12: 都道府県 | N12: 市区町村 | AH12: （o-1） ⑤ⅰ） 福祉・介護職員の賃金改善見込額［円］ | AI12: （o-2） 左記のうち、ベースアップ等による賃金改善の見込額［円］ | AJ12: （p-1） ⑤ⅱ） その他職種の賃金改善見込額［円］ | AK12: （p-2） 左記のうち、ベースアップ等による賃金改善の見込額［円］
A14: 1 | B14: =IF(基本情報入力シート!C34="","",基本情報入力シート!C34) | C14: =IF(基本情報入力シート!D34="","",基本情報入力シート!D34) | D14: =IF(基本情報入力シート!E34="","",基本情報入力シート!E34) | E14: =IF(基本情報入力シート!F34="","",基本情報入力シート!F34) | F14: =IF(基本情報入力シート!G34="","",基本情報入力シート!G34) | G14: =IF(基本情報入力シート!H34="","",基本情報入力シート!H34) | H14: =IF(基本情報入力シート!I34="","",基本情報入力シート!I34) | I14: =IF(基本情報入力シート!J34="","",基本情報入力シート!J34) | ... L14: =IF(基本情報入力シート!M34="","",基本情報入力シート!M34) | M14: =IF(基本情報入力シート!R34="","",基本情報入力シート!R34) | N14: =IF(基本情報入力シート!W34="","",基本情報入力シート!W34) | O14: =IF(基本情報入力シート!X34="","",基本情報入力シート!X34) | P14: =IF(基本情報入力シート!Y34="","",基本情報入力シート!Y34) | R14: =IF(基本情報入力シート!AB34="","",基本情報入力シート!AB34) | T14: =IF(P14="","",VLOOKUP(P14,【参考】数式用!$J$2:$L$34,3,FALSE)) | U14: 令和 | W14: 年 | Y14: 月～令和 | AA14: 年 | AC14: 月 | AD14: （ | AE14: =IF(V14>=1,(Z14*12+AB14)-(V14*12+X14)+1,"") | AF14: ヶ月） | AG14: =IFERROR(ROUNDDOWN(R14*T14,0)*AE14,"")
A15: =A14+1 -> 2 | B15: =IF(基本情報入力シート!C35="","",基本情報入力シート!C35) | C15: =IF(基本情報入力シート!D35="","",基本情報入力シート!D35) | D15: =IF(基本情報入力シート!E35="","",基本情報入力シート!E35) | E15: =IF(基本情報入力シート!F35="","",基本情報入力シート!F35) | F15: =IF(基本情報入力シート!G35="","",基本情報入力シート!G35) | G15: =IF(基本情報入力シート!H35="","",基本情報入力シート!H35) | H15: =IF(基本情報入力シート!I35="","",基本情報入力シート!I35) | I15: =IF(基本情報入力シート!J35="","",基本情報入力シート!J35) | ... L15: =IF(基本情報入力シート!M35="","",基本情報入力シート!M35) | M15: =IF(基本情報入力シート!R35="","",基本情報入力シート!R35) | N15: =IF(基本情報入力シート!W35="","",基本情報入力シート!W35) | O15: =IF(基本情報入力シート!X35="","",基本情報入力シート!X35) | P15: =IF(基本情報入力シート!Y35="","",基本情報入力シート!Y35) | R15: =IF(基本情報入力シート!AB35="","",基本情報入力シート!AB35) | T15: =IF(P15="","",VLOOKUP(P15,【参考】数式用!$J$2:$L$34,3,FALSE)) | U15: 令和 | W15: 年 | Y15: 月～令和 | AA15: 年 | AC15: 月 | AD15: （ | AE15: =IF(V15>=1,(Z15*12+AB15)-(V15*12+X15)+1,"") | AF15: ヶ月） | AG15: =IFERROR(ROUNDDOWN(R15*T15,0)*AE15,"")
A16: =A15+1 -> 3 | B16: =IF(基本情報入力シート!C36="","",基本情報入力シート!C36) | C16: =IF(基本情報入力シート!D36="","",基本情報入力シート!D36) | D16: =IF(基本情報入力シート!E36="","",基本情報入力シート!E36) | E16: =IF(基本情報入力シート!F36="","",基本情報入力シート!F36) | F16: =IF(基本情報入力シート!G36="","",基本情報入力シート!G36) | G16: =IF(基本情報入力シート!H36="","",基本情報入力シート!H36) | H16: =IF(基本情報入力シート!I36="","",基本情報入力シート!I36) | I16: =IF(基本情報入力シート!J36="","",基本情報入力シート!J36) | ... L16: =IF(基本情報入力シート!M36="","",基本情報入力シート!M36) | M16: =IF(基本情報入力シート!R36="","",基本情報入力シート!R36) | N16: =IF(基本情報入力シート!W36="","",基本情報入力シート!W36) | O16: =IF(基本情報入力シート!X36="","",基本情報入力シート!X36) | P16: =IF(基本情報入力シート!Y36="","",基本情報入力シート!Y36) | R16: =IF(基本情報入力シート!AB36="","",基本情報入力シート!AB36) | T16: =IF(P16="","",VLOOKUP(P16,【参考】数式用!$J$2:$L$34,3,FALSE)) | U16: 令和 | W16: 年 | Y16: 月～令和 | AA16: 年 | AC16: 月 | AD16: （ | AE16: =IF(V16>=1,(Z16*12+AB16)-(V16*12+X16)+1,"") | AF16: ヶ月） | AG16: =IFERROR(ROUNDDOWN(R16*T16,0)*AE16,"")
A17: =A16+1 -> 4 | B17: =IF(基本情報入力シート!C37="","",基本情報入力シート!C37) | C17: =IF(基本情報入力シート!D37="","",基本情報入力シート!D37) | D17: =IF(基本情報入力シート!E37="","",基本情報入力シート!E37) | E17: =IF(基本情報入力シート!F37="","",基本情報入力シート!F37) | F17: =IF(基本情報入力シート!G37="","",基本情報入力シート!G37) | G17: =IF(基本情報入力シート!H37="","",基本情報入力シート!H37) | H17: =IF(基本情報入力シート!I37="","",基本情報入力シート!I37) | I17: =IF(基本情報入力シート!J37="","",基本情報入力シート!J37) | ... L17: =IF(基本情報入力シート!M37="","",基本情報入力シート!M37) | M17: =IF(基本情報入力シート!R37="","",基本情報入力シート!R37) | N17: =IF(基本情報入力シート!W37="","",基本情報入力シート!W37) | O17: =IF(基本情報入力シート!X37="","",基本情報入力シート!X37) | P17: =IF(基本情報入力シート!Y37="","",基本情報入力シート!Y37) | R17: =IF(基本情報入力シート!AB37="","",基本情報入力シート!AB37) | T17: =IF(P17="","",VLOOKUP(P17,【参考】数式用!$J$2:$L$34,3,FALSE)) | U17: 令和 | W17: 年 | Y17: 月～令和 | AA17: 年 | AC17: 月 | AD17: （ | AE17: =IF(V17>=1,(Z17*12+AB17)-(V17*12+X17)+1,"") | AF17: ヶ月） | AG17: =IFERROR(ROUNDDOWN(R17*T17,0)*AE17,"")
A18: =A17+1 -> 5 | B18: =IF(基本情報入力シート!C38="","",基本情報入力シート!C38) | C18: =IF(基本情報入力シート!D38="","",基本情報入力シート!D38) | D18: =IF(基本情報入力シート!E38="","",基本情報入力シート!E38) | E18: =IF(基本情報入力シート!F38="","",基本情報入力シート!F38) | F18: =IF(基本情報入力シート!G38="","",基本情報入力シート!G38) | G18: =IF(基本情報入力シート!H38="","",基本情報入力シート!H38) | H18: =IF(基本情報入力シート!I38="","",基本情報入力シート!I38) | I18: =IF(基本情報入力シート!J38="","",基本情報入力シート!J38) | ... L18: =IF(基本情報入力シート!M38="","",基本情報入力シート!M38) | M18: =IF(基本情報入力シート!R38="","",基本情報入力シート!R38) | N18: =IF(基本情報入力シート!W38="","",基本情報入力シート!W38) | O18: =IF(基本情報入力シート!X38="","",基本情報入力シート!X38) | P18: =IF(基本情報入力シート!Y38="","",基本情報入力シート!Y38) | R18: =IF(基本情報入力シート!AB38="","",基本情報入力シート!AB38) | T18: =IF(P18="","",VLOOKUP(P18,【参考】数式用!$J$2:$L$34,3,FALSE)) | U18: 令和 | W18: 年 | Y18: 月～令和 | AA18: 年 | AC18: 月 | AD18: （ | AE18: =IF(V18>=1,(Z18*12+AB18)-(V18*12+X18)+1,"") | AF18: ヶ月） | AG18: =IFERROR(ROUNDDOWN(R18*T18,0)*AE18,"")
A19: =A18+1 -> 6 | B19: =IF(基本情報入力シート!C39="","",基本情報入力シート!C39) | C19: =IF(基本情報入力シート!D39="","",基本情報入力シート!D39) | D19: =IF(基本情報入力シート!E39="","",基本情報入力シート!E39) | E19: =IF(基本情報入力シート!F39="","",基本情報入力シート!F39) | F19: =IF(基本情報入力シート!G39="","",基本情報入力シート!G39) | G19: =IF(基本情報入力シート!H39="","",基本情報入力シート!H39) | H19: =IF(基本情報入力シート!I39="","",基本情報入力シート!I39) | I19: =IF(基本情報入力シート!J39="","",基本情報入力シート!J39) | ... L19: =IF(基本情報入力シート!M39="","",基本情報入力シート!M39) | M19: =IF(基本情報入力シート!R39="","",基本情報入力シート!R39) | N19: =IF(基本情報入力シート!W39="","",基本情報入力シート!W39) | O19: =IF(基本情報入力シート!X39="","",基本情報入力シート!X39) | P19: =IF(基本情報入力シート!Y39="","",基本情報入力シート!Y39) | R19: =IF(基本情報入力シート!AB39="","",基本情報入力シート!AB39) | T19: =IF(P19="","",VLOOKUP(P19,【参考】数式用!$J$2:$L$34,3,FALSE)) | U19: 令和 | W19: 年 | Y19: 月～令和 | AA19: 年 | AC19: 月 | AD19: （ | AE19: =IF(V19>=1,(Z19*12+AB19)-(V19*12+X19)+1,"") | AF19: ヶ月） | AG19: =IFERROR(ROUNDDOWN(R19*T19,0)*AE19,"")
A20: =A19+1 -> 7 | B20: =IF(基本情報入力シート!C40="","",基本情報入力シート!C40) | C20: =IF(基本情報入力シート!D40="","",基本情報入力シート!D40) | D20: =IF(基本情報入力シート!E40="","",基本情報入力シート!E40) | E20: =IF(基本情報入力シート!F40="","",基本情報入力シート!F40) | F20: =IF(基本情報入力シート!G40="","",基本情報入力シート!G40) | G20: =IF(基本情報入力シート!H40="","",基本情報入力シート!H40) | H20: =IF(基本情報入力シート!I40="","",基本情報入力シート!I40) | I20: =IF(基本情報入力シート!J40="","",基本情報入力シート!J40) | ... L20: =IF(基本情報入力シート!M40="","",基本情報入力シート!M40) | M20: =IF(基本情報入力シート!R40="","",基本情報入力シート!R40) | N20: =IF(基本情報入力シート!W40="","",基本情報入力シート!W40) | O20: =IF(基本情報入力シート!X40="","",基本情報入力シート!X40) | P20: =IF(基本情報入力シート!Y40="","",基本情報入力シート!Y40) | R20: =IF(基本情報入力シート!AB40="","",基本情報入力シート!AB40) | T20: =IF(P20="","",VLOOKUP(P20,【参考】数式用!$J$2:$L$34,3,FALSE)) | U20: 令和 | W20: 年 | Y20: 月～令和 | AA20: 年 | AC20: 月 | AD20: （ | AE20: =IF(V20>=1,(Z20*12+AB20)-(V20*12+X20)+1,"") | AF20: ヶ月） | AG20: =IFERROR(ROUNDDOWN(R20*T20,0)*AE20,"")
A21: =A20+1 -> 8 | B21: =IF(基本情報入力シート!C41="","",基本情報入力シート!C41) | C21: =IF(基本情報入力シート!D41="","",基本情報入力シート!D41) | D21: =IF(基本情報入力シート!E41="","",基本情報入力シート!E41) | E21: =IF(基本情報入力シート!F41="","",基本情報入力シート!F41) | F21: =IF(基本情報入力シート!G41="","",基本情報入力シート!G41) | G21: =IF(基本情報入力シート!H41="","",基本情報入力シート!H41) | H21: =IF(基本情報入力シート!I41="","",基本情報入力シート!I41) | I21: =IF(基本情報入力シート!J41="","",基本情報入力シート!J41) | ... L21: =IF(基本情報入力シート!M41="","",基本情報入力シート!M41) | M21: =IF(基本情報入力シート!R41="","",基本情報入力シート!R41) | N21: =IF(基本情報入力シート!W41="","",基本情報入力シート!W41) | O21: =IF(基本情報入力シート!X41="","",基本情報入力シート!X41) | P21: =IF(基本情報入力シート!Y41="","",基本情報入力シート!Y41) | R21: =IF(基本情報入力シート!AB41="","",基本情報入力シート!AB41) | T21: =IF(P21="","",VLOOKUP(P21,【参考】数式用!$J$2:$L$34,3,FALSE)) | U21: 令和 | W21: 年 | Y21: 月～令和 | AA21: 年 | AC21: 月 | AD21: （ | AE21: =IF(V21>=1,(Z21*12+AB21)-(V21*12+X21)+1,"") | AF21: ヶ月） | AG21: =IFERROR(ROUNDDOWN(R21*T21,0)*AE21,"")
A22: =A21+1 -> 9 | B22: =IF(基本情報入力シート!C42="","",基本情報入力シート!C42) | C22: =IF(基本情報入力シート!D42="","",基本情報入力シート!D42) | D22: =IF(基本情報入力シート!E42="","",基本情報入力シート!E42) | E22: =IF(基本情報入力シート!F42="","",基本情報入力シート!F42) | F22: =IF(基本情報入力シート!G42="","",基本情報入力シート!G42) | G22: =IF(基本情報入力シート!H42="","",基本情報入力シート!H42) | H22: =IF(基本情報入力シート!I42="","",基本情報入力シート!I42) | I22: =IF(基本情報入力シート!J42="","",基本情報入力シート!J42) | ... L22: =IF(基本情報入力シート!M42="","",基本情報入力シート!M42) | M22: =IF(基本情報入力シート!R42="","",基本情報入力シート!R42) | N22: =IF(基本情報入力シート!W42="","",基本情報入力シート!W42) | O22: =IF(基本情報入力シート!X42="","",基本情報入力シート!X42) | P22: =IF(基本情報入力シート!Y42="","",基本情報入力シート!Y42) | R22: =IF(基本情報入力シート!AB42="","",基本情報入力シート!AB42) | T22: =IF(P22="","",VLOOKUP(P22,【参考】数式用!$J$2:$L$34,3,FALSE)) | U22: 令和 | W22: 年 | Y22: 月～令和 | AA22: 年 | AC22: 月 | AD22: （ | AE22: =IF(V22>=1,(Z22*12+AB22)-(V22*12+X22)+1,"") | AF22: ヶ月） | AG22: =IFERROR(ROUNDDOWN(R22*T22,0)*AE22,"")
A23: =A22+1 -> 10 | B23: =IF(基本情報入力シート!C43="","",基本情報入力シート!C43) | C23: =IF(基本情報入力シート!D43="","",基本情報入力シート!D43) | D23: =IF(基本情報入力シート!E43="","",基本情報入力シート!E43) | E23: =IF(基本情報入力シート!F43="","",基本情報入力シート!F43) | F23: =IF(基本情報入力シート!G43="","",基本情報入力シート!G43) | G23: =IF(基本情報入力シート!H43="","",基本情報入力シート!H43) | H23: =IF(基本情報入力シート!I43="","",基本情報入力シート!I43) | I23: =IF(基本情報入力シート!J43="","",基本情報入力シート!J43) | ... L23: =IF(基本情報入力シート!M43="","",基本情報入力シート!M43) | M23: =IF(基本情報入力シート!R43="","",基本情報入力シート!R43) | N23: =IF(基本情報入力シート!W43="","",基本情報入力シート!W43) | O23: =IF(基本情報入力シート!X43="","",基本情報入力シート!X43) | P23: =IF(基本情報入力シート!Y43="","",基本情報入力シート!Y43) | R23: =IF(基本情報入力シート!AB43="","",基本情報入力シート!AB43) | T23: =IF(P23="","",VLOOKUP(P23,【参考】数式用!$J$2:$L$34,3,FALSE)) | U23: 令和 | W23: 年 | Y23: 月～令和 | AA23: 年 | AC23: 月 | AD23: （ | AE23: =IF(V23>=1,(Z23*12+AB23)-(V23*12+X23)+1,"") | AF23: ヶ月） | AG23: =IFERROR(ROUNDDOWN(R23*T23,0)*AE23,"")
A24: =A23+1 -> 11 | B24: =IF(基本情報入力シート!C44="","",基本情報入力シート!C44) | C24: =IF(基本情報入力シート!D44="","",基本情報入力シート!D44) | D24: =IF(基本情報入力シート!E44="","",基本情報入力シート!E44) | E24: =IF(基本情報入力シート!F44="","",基本情報入力シート!F44) | F24: =IF(基本情報入力シート!G44="","",基本情報入力シート!G44) | G24: =IF(基本情報入力シート!H44="","",基本情報入力シート!H44) | H24: =IF(基本情報入力シート!I44="","",基本情報入力シート!I44) | I24: =IF(基本情報入力シート!J44="","",基本情報入力シート!J44) | ... L24: =IF(基本情報入力シート!M44="","",基本情報入力シート!M44) | M24: =IF(基本情報入力シート!R44="","",基本情報入力シート!R44) | N24: =IF(基本情報入力シート!W44="","",基本情報入力シート!W44) | O24: =IF(基本情報入力シート!X44="","",基本情報入力シート!X44) | P24: =IF(基本情報入力シート!Y44="","",基本情報入力シート!Y44) | R24: =IF(基本情報入力シート!AB44="","",基本情報入力シート!AB44) | T24: =IF(P24="","",VLOOKUP(P24,【参考】数式用!$J$2:$L$34,3,FALSE)) | U24: 令和 | W24: 年 | Y24: 月～令和 | AA24: 年 | AC24: 月 | AD24: （ | AE24: =IF(V24>=1,(Z24*12+AB24)-(V24*12+X24)+1,"") | AF24: ヶ月） | AG24: =IFERROR(ROUNDDOWN(R24*T24,0)*AE24,"")
A25: =A24+1 -> 12 | B25: =IF(基本情報入力シート!C45="","",基本情報入力シート!C45) | C25: =IF(基本情報入力シート!D45="","",基本情報入力シート!D45) | D25: =IF(基本情報入力シート!E45="","",基本情報入力シート!E45) | E25: =IF(基本情報入力シート!F45="","",基本情報入力シート!F45) | F25: =IF(基本情報入力シート!G45="","",基本情報入力シート!G45) | G25: =IF(基本情報入力シート!H45="","",基本情報入力シート!H45) | H25: =IF(基本情報入力シート!I45="","",基本情報入力シート!I45) | I25: =IF(基本情報入力シート!J45="","",基本情報入力シート!J45) | ... L25: =IF(基本情報入力シート!M45="","",基本情報入力シート!M45) | M25: =IF(基本情報入力シート!R45="","",基本情報入力シート!R45) | N25: =IF(基本情報入力シート!W45="","",基本情報入力シート!W45) | O25: =IF(基本情報入力シート!X45="","",基本情報入力シート!X45) | P25: =IF(基本情報入力シート!Y45="","",基本情報入力シート!Y45) | R25: =IF(基本情報入力シート!AB45="","",基本情報入力シート!AB45) | T25: =IF(P25="","",VLOOKUP(P25,【参考】数式用!$J$2:$L$34,3,FALSE)) | U25: 令和 | W25: 年 | Y25: 月～令和 | AA25: 年 | AC25: 月 | AD25: （ | AE25: =IF(V25>=1,(Z25*12+AB25)-(V25*12+X25)+1,"") | AF25: ヶ月） | AG25: =IFERROR(ROUNDDOWN(R25*T25,0)*AE25,"")
A26: =A25+1 -> 13 | B26: =IF(基本情報入力シート!C46="","",基本情報入力シート!C46) | C26: =IF(基本情報入力シート!D46="","",基本情報入力シート!D46) | D26: =IF(基本情報入力シート!E46="","",基本情報入力シート!E46) | E26: =IF(基本情報入力シート!F46="","",基本情報入力シート!F46) | F26: =IF(基本情報入力シート!G46="","",基本情報入力シート!G46) | G26: =IF(基本情報入力シート!H46="","",基本情報入力シート!H46) | H26: =IF(基本情報入力シート!I46="","",基本情報入力シート!I46) | I26: =IF(基本情報入力シート!J46="","",基本情報入力シート!J46) | ... L26: =IF(基本情報入力シート!M46="","",基本情報入力シート!M46) | M26: =IF(基本情報入力シート!R46="","",基本情報入力シート!R46) | N26: =IF(基本情報入力シート!W46="","",基本情報入力シート!W46) | O26: =IF(基本情報入力シート!X46="","",基本情報入力シート!X46) | P26: =IF(基本情報入力シート!Y46="","",基本情報入力シート!Y46) | R26: =IF(基本情報入力シート!AB46="","",基本情報入力シート!AB46) | T26: =IF(P26="","",VLOOKUP(P26,【参考】数式用!$J$2:$L$34,3,FALSE)) | U26: 令和 | W26: 年 | Y26: 月～令和 | AA26: 年 | AC26: 月 | AD26: （ | AE26: =IF(V26>=1,(Z26*12+AB26)-(V26*12+X26)+1,"") | AF26: ヶ月） | AG26: =IFERROR(ROUNDDOWN(R26*T26,0)*AE26,"")
... A3013: =A3012+1 -> 3000 | B3013: =IF(基本情報入力シート!C3033="","",基本情報入力シート!C3033) | C3013: =IF(基本情報入力シート!D3033="","",基本情報入力シート!D3033) | D3013: =IF(基本情報入力シート!E3033="","",基本情報入力シート!E3033) | E3013: =IF(基本情報入力シート!F3033="","",基本情報入力シート!F3033) | F3013: =IF(基本情報入力シート!G3033="","",基本情報入力シート!G3033) | G3013: =IF(基本情報入力シート!H3033="","",基本情報入力シート!H3033) | H3013: =IF(基本情報入力シート!I3033="","",基本情報入力シート!I3033) | I3013: =IF(基本情報入力シート!J3033="","",基本情報入力シート!J3033) | ... L3013: =IF(基本情報入力シート!M3033="","",基本情報入力シート!M3033) | M3013: =IF(基本情報入力シート!R3033="","",基本情報入力シート!R3033) | N3013: =IF(基本情報入力シート!W3033="","",基本情報入力シート!W3033) | O3013: =IF(基本情報入力シート!X3033="","",基本情報入力シート!X3033) | P3013: =IF(基本情報入力シート!Y3033="","",基本情報入力シート!Y3033) | R3013: =IF(基本情報入力シート!AB3033="","",基本情報入力シート!AB3033) | T3013: =IF(P3013="","",VLOOKUP(P3013,【参考】数式用!$J$2:$L$34,3,FALSE)) | U3013: 令和 | W3013: 年 | Y3013: 月～令和 | AA3013: 年 | AC3013: 月 | AD3013: （ | AE3013: =IF(V3013>=1,(Z3013*12+AB3013)-(V3013*12+X3013)+1,"") | AF3013: ヶ月） | AG3013: =IFERROR(ROUNDDOWN(R3013*T3013,0)*AE3013,"")

Sheet 別紙様式2-1 計画書_総括表
A1: 別紙様式２－１ | Y1: 提出先 | AC1: =IF(基本情報入力シート!C11="","",基本情報入力シート!C11)
X3: 障害福祉サービス等処遇改善計画書（令和 | Y3: 4 | AA3: 年度）
A4: （福祉・介護職員処遇改善計画書、福祉・介護職員等特定処遇改善計画書、福祉・介護職員等ベースアップ等支援計画書）
A6: １ 基本情報＜共通＞
A8: フリガナ | G8: =IF(基本情報入力シート!M15="","",基本情報入力シート!M15)
A9: 法人名 | G9: =IF(基本情報入力シート!M16="","",基本情報入力シート!M16)
A10: 法人所在地 | G10: 〒 | H10: =IF(基本情報入力シート!AD17="","",基本情報入力シート!AD17) -> －
G11: =IF(基本情報入力シート!M18="","",基本情報入力シート!M18)
G12: =IF(基本情報入力シート!M19="","",基本情報入力シート!M19)
A13: フリガナ | G13: =IF(基本情報入力シート!M22="","",基本情報入力シート!M22)
A14: 書類作成担当者 | G14: =IF(基本情報入力シート!M23="","",基本情報入力シート!M23)
A15: 連絡先 | G15: 電話番号 | K15: =IF(基本情報入力シート!M24="","",基本情報入力シート!M24) | P15: FAX番号 | T15: =IF(基本情報入力シート!M25="","",基本情報入力シート!M25) | Y15: E-mail | AC15: =IF(基本情報入力シート!M26="","",基本情報入力シート!M26)
A18: 【本計画書で提出する加算】 ※加算名をチェックすること。
B19: × | C19: 福祉・介護職員処遇改善加算 （処遇改善加算） | L19: × | M19: 福祉・介護職員等特定処遇改善加算 （特定加算） | W19: ○ | X19: 福祉・介護職員等ベースアップ等支援加算 （ベースアップ等加算）
B20: ※すでに処遇改善加算・特定加算を算定している事業所が、令和４年10月以降にベースアップ等加算を算定するために計画書を提出する場合、ベースアップ等加算の算定に必要なセルのみ記入すること。 ※「×」をつけた加算に係る記入欄（グレーになるセル）は、記入不要。
A23: ２ 賃金改善計画について＜共通＞
A24: （１）加算額を上回る賃金改善について
B25: ※本計画に記載された金額は見込額であり、提出後の運営状況(利用者数等)、人員配置状況(職員数等)その他の事由により変動があり得る。 ※（１）では下記の要件を確認しており、オレンジ色のセルが「○」でない場合、加算の算定要件を満たしていない。 Ⅰ 福祉・介護職員の処遇改善加算による賃金改善の見込額が、同加算の算定見込額を上回ること Ⅱ 福祉・介護職員その他の職員の特定加算による賃金改善の見込額が、同加算の算定見込額を上回ること Ⅲ 福祉・介護職員その他の職員のベースアップ等加算による賃金改善の見込額が、同加算の算定見込額を上回ること
P27: 処遇改善加算 | V27: =IF(P28="","",IF(P29="","",IF(P29>P28,"○","☓"))) | W27: 特定加算 | AC27: =IF(W28="","",IF(W29="","",IF(W29>W28,"○","☓"))) | AD27: ベースアップ等加算 | AJ27: =IF(AD28="","",IF(AD29="","",IF(AD29>AD28,"○","☓")))
A28: ① | B28: 令和 | D28: =IF(V4=0,"",V4) | F28: 年度の加算の見込額 | P28: =IF('別紙様式2-2 個表_処遇'!O5="","",'別紙様式2-2 個表_処遇'!O5) | V28: 円 | W28: =IF('別紙様式2-3 個表_特定'!O5="","",'別紙様式2-3 個表_特定'!O5) | AC28: 円 | AD28: =IF('別紙様式2-4 個表_ベースアップ'!O5="","",'別紙様式2-4 個表_ベースアップ'!O5) | AJ28: 円
A29: ② | B29: 賃金改善の見込額(ⅰ-ⅱ） （右側の額は加算見込額を上回ること） | P29: =IFERROR(P30-P31,"") | V29: 円 | W29: =IFERROR(W30-W31,"") | AC29: 円 | AD29: =IFERROR(AD30-AD31,"") | AJ29: 円 | AL29: ② | AM29: =IF(($M$93+$M$96)=$AD$29,"○","×") -> × | AN29: ！×の場合、【②＝Ｍ９３＋Ｍ９６】となるように修正してください。
B30: ⅰ）それぞれの加算の算定により賃金改善を行う場合の賃金の総額（見込額） | V30: 円 | AC30: 円 | AD30: 0 | AJ30: 円 | AN30: ②= | AO30: =AQ30+AS30 -> 0 | AP30: ←Ｍ９３ | AQ30: =M93 -> 0 | AR30: Ｍ９６ | AS30: =M96 -> 0
B31: ⅱ）前年度の賃金の総額（処遇改善加算等を取得し実施される賃金改善額及び独自の賃金改善額を除く）【基準額１・基準額２・基準額３】 | P31: =IF((P32-P33-P34-P35-P36)=0,"",(P32-P33-P34-P35-P36)) | V31: 円 | W31: =IF((W32-W33-W34-W35-W36)=0,"",(W32-W33-W34-W35-W36)) | AC31: 円 | AD31: =IF((AD32-AD33-AD34-AD35-AD36)=0,"",(AD32-AD33-AD34-AD35-AD36)) | AJ31: 円
C32: (ア)前年度の賃金の総額 | V32: 円 | AC32: 円 | AJ32: 円
C33: (イ)前年度の処遇改善加算の総額 | V33: 円 | AC33: 円 | AJ33: 円
C34: (ウ)前年度の特定加算の総額 | V34: 円 | AC34: 円 | AJ34: 円
C35: (エ)前年度のベースアップ等加算の総額 （福祉・介護職員処遇改善臨時特例交付金の総額を含む） | V35: 円 | AC35: 円 | AJ35: 円
C36: (オ)前年度の各障害福祉サービス事業者等の 独自の賃金改善額 | V36: 円 | AC36: 円 | AJ36: 円
A38: 【賃金の総額に係る記入上の注意】
A39: ・ | B39: (1)には、処遇改善加算の算定のみにより賃金改善を行った場合の福祉・介護職員（特定加算を併せて取得する場合は「経験・技能のある障害福祉人材（Ａ）」及び「他の障害福祉人材（Ｂ）」）の賃金総額（見込額）を記載すること。（すなわち、特定加算、処遇改善臨時特例交付金及びベースアップ等加算を取得し実施される賃金の改善見込額を除いた額を記載すること。）
A40: ・ | B40: (2)には、特定加算の算定のみにより賃金改善を行った場合の賃金総額（見込額）を記載すること。（すなわち、処遇改善加算、処遇改善臨時特例交付金及びベースアップ等加算を取得し実施される賃金の改善見込額を除いた額を記載すること。）
A41: ・ | B41: (3)には、ベースアップ等加算の算定のみにより賃金改善を行った場合の賃金総額（見込額）を記載すること。（すなわち、処遇改善加算、特定加算及び処遇改善臨時特例交付金を取得し実施される賃金の改善見込額を除いた額を記載すること。）
A42: ・ | B42: (4)には、福祉・介護職員（特定加算を併せて取得する場合は「経験・技能のある障害福祉人材（Ａ）」及び「他の障害福祉人材（Ｂ）」）のみの賃金の総額を記載すること。
A43: ・ | B43: (5)には、事業所に従事するすべての職員（福祉・介護職員及びその他の職種）の賃金の総額を記載すること。
A44: ・ | B44: (6)には、ベースアップ等加算の配分対象が福祉・介護職員のみである場合、福祉・介護職員のみの賃金の総額を記載することとし、原則として(4)と同一の数値を記載すること。また、ベースアップ等加算の配分対象にその他の職種を含む場合、事業所に従事するすべての職員（福祉・介護職員及びその他の職種）の賃金の合計額を記載することとし、原則として(5)と同一の数値を記載すること。
A45: ・ | B45: (1)～(6)には、それぞれの加算による賃金改善を行った場合の法定福利費等の事業主負担の増加分を含めることができる。
A46: 【加算の総額に係る記入上の注意】
A47: ・ | B47: (7)～(15）は、都道府県国民健康保険団体連合会から通知される「福祉・介護職員処遇改善加算等総額のお知らせ」「福祉・介護職員処遇改善臨時特例交付金 支払額通知書」に基づき記載すること。
A48: ・ | B48: （10）（13）には、前年度の特定加算・ベースアップ等加算の総額のうち、その他の職種（Ｃ）に支払われた額を除いた加算額のみを記載し、(11)(12)(14)(15)には事業所に従事するすべての職員（福祉・介護職員とその他の職種）に支払われた加算額（加算額の総額）を記載すること。
A49: 【独自の賃金改善額に係る記入上の注意】
...

Sheet 別紙様式2-2 個表_処遇
A1: 別紙様式２－２ | G1: 福祉・介護職員処遇改善計画書（施設・事業所別個表）
A3: 法人名 | D3: =IF(基本情報入力シート!M16="","",基本情報入力シート!M16)
A5: 福祉・介護職員処遇改善加算額（見込額）の合計［円］ （別紙様式2-1 ２ （1）①に転記） | O5: =IF(SUM(AG12:AG111)=0,"",SUM(AG12:AG111))
B7: 障害福祉サービス等 事業所番号 | L7: 指定権者名 | M7: 事業所の所在地 | O7: 事業所名 | P7: サービス名 | Q7: 一月あたり（処遇改善加算等を除いた）障害福祉サービス等報酬総額[円](c) | R7: （１）福祉・介護職員処遇改善加算
S8: 算定する福祉・介護職員処遇改善加算の区分 | T8: 加算率(d) | U8: 算定対象月(e) | AG8: 福祉・介護職員処遇改善加算の見込額 (c×d×e) [円]
R9: 新規・継続の別
M10: 都道府県 | N10: 市区町村
A12: 1 | B12: =IF(基本情報入力シート!C34="","",基本情報入力シート!C34) | C12: =IF(基本情報入力シート!D34="","",基本情報入力シート!D34) | D12: =IF(基本情報入力シート!E34="","",基本情報入力シート!E34) | E12: =IF(基本情報入力シート!F34="","",基本情報入力シート!F34) | F12: =IF(基本情報入力シート!G34="","",基本情報入力シート!G34) | G12: =IF(基本情報入力シート!H34="","",基本情報入力シート!H34) | H12: =IF(基本情報入力シート!I34="","",基本情報入力シート!I34) | I12: =IF(基本情報入力シート!J34="","",基本情報入力シート!J34) | ... L12: =IF(基本情報入力シート!M34="","",基本情報入力シート!M34) | M12: =IF(基本情報入力シート!R34="","",基本情報入力シート!R34) | N12: =IF(基本情報入力シート!W34="","",基本情報入力シート!W34) | O12: =IF(基本情報入力シート!X34="","",基本情報入力シート!X34) | P12: =IF(基本情報入力シート!Y34="","",基本情報入力シート!Y34) | Q12: =IF(基本情報入力シート!AB34="","",基本情報入力シート!AB34) | T12: =IF(P12="","",VLOOKUP(P12,【参考】数式用!$A$5:$H$34,MATCH(S12,【参考】数式用!$C$4:$E$4,0)+2,0)) | U12: 令和 | W12: 年 | Y12: 月～令和 | AA12: 年 | AC12: 月 | AD12: （ | AE12: =IF(AND(V12>=1,X12>=1,Z12>=1,AB12>=1),(Z12*12+AB12)-(V12*12+X12)+1,"") | AF12: ヶ月） | AG12: =IFERROR(ROUNDDOWN(Q12*T12,0)*AE12,"")
A13: =A12+1 -> 2 | B13: =IF(基本情報入力シート!C35="","",基本情報入力シート!C35) | C13: =IF(基本情報入力シート!D35="","",基本情報入力シート!D35) | D13: =IF(基本情報入力シート!E35="","",基本情報入力シート!E35) | E13: =IF(基本情報入力シート!F35="","",基本情報入力シート!F35) | F13: =IF(基本情報入力シート!G35="","",基本情報入力シート!G35) | G13: =IF(基本情報入力シート!H35="","",基本情報入力シート!H35) | H13: =IF(基本情報入力シート!I35="","",基本情報入力シート!I35) | I13: =IF(基本情報入力シート!J35="","",基本情報入力シート!J35) | ... L13: =IF(基本情報入力シート!M35="","",基本情報入力シート!M35) | M13: =IF(基本情報入力シート!R35="","",基本情報入力シート!R35) | N13: =IF(基本情報入力シート!W35="","",基本情報入力シート!W35) | O13: =IF(基本情報入力シート!X35="","",基本情報入力シート!X35) | P13: =IF(基本情報入力シート!Y35="","",基本情報入力シート!Y35) | Q13: =IF(基本情報入力シート!AB35="","",基本情報入力シート!AB35) | T13: =IF(P13="","",VLOOKUP(P13,【参考】数式用!$A$5:$H$34,MATCH(S13,【参考】数式用!$C$4:$E$4,0)+2,0)) | U13: 令和 | W13: 年 | Y13: 月～令和 | AA13: 年 | AC13: 月 | AD13: （ | AE13: =IF(AND(V13>=1,X13>=1,Z13>=1,AB13>=1),(Z13*12+AB13)-(V13*12+X13)+1,"") | AF13: ヶ月） | AG13: =IFERROR(ROUNDDOWN(Q13*T13,0)*AE13,"")
A14: =A13+1 -> 3 | B14: =IF(基本情報入力シート!C36="","",基本情報入力シート!C36) | C14: =IF(基本情報入力シート!D36="","",基本情報入力シート!D36) | D14: =IF(基本情報入力シート!E36="","",基本情報入力シート!E36) | E14: =IF(基本情報入力シート!F36="","",基本情報入力シート!F36) | F14: =IF(基本情報入力シート!G36="","",基本情報入力シート!G36) | G14: =IF(基本情報入力シート!H36="","",基本情報入力シート!H36) | H14: =IF(基本情報入力シート!I36="","",基本情報入力シート!I36) | I14: =IF(基本情報入力シート!J36="","",基本情報入力シート!J36) | ... L14: =IF(基本情報入力シート!M36="","",基本情報入力シート!M36) | M14: =IF(基本情報入力シート!R36="","",基本情報入力シート!R36) | N14: =IF(基本情報入力シート!W36="","",基本情報入力シート!W36) | O14: =IF(基本情報入力シート!X36="","",基本情報入力シート!X36) | P14: =IF(基本情報入力シート!Y36="","",基本情報入力シート!Y36) | Q14: =IF(基本情報入力シート!AB36="","",基本情報入力シート!AB36) | T14: =IF(P14="","",VLOOKUP(P14,【参考】数式用!$A$5:$H$34,MATCH(S14,【参考】数式用!$C$4:$E$4,0)+2,0)) | U14: 令和 | W14: 年 | Y14: 月～令和 | AA14: 年 | AC14: 月 | AD14: （ | AE14: =IF(AND(V14>=1,X14>=1,Z14>=1,AB14>=1),(Z14*12+AB14)-(V14*12+X14)+1,"") | AF14: ヶ月） | AG14: =IFERROR(ROUNDDOWN(Q14*T14,0)*AE14,"")
A15: =A14+1 -> 4 | B15: =IF(基本情報入力シート!C37="","",基本情報入力シート!C37) | C15: =IF(基本情報入力シート!D37="","",基本情報入力シート!D37) | D15: =IF(基本情報入力シート!E37="","",基本情報入力シート!E37) | E15: =IF(基本情報入力シート!F37="","",基本情報入力シート!F37) | F15: =IF(基本情報入力シート!G37="","",基本情報入力シート!G37) | G15: =IF(基本情報入力シート!H37="","",基本情報入力シート!H37) | H15: =IF(基本情報入力シート!I37="","",基本情報入力シート!I37) | I15: =IF(基本情報入力シート!J37="","",基本情報入力シート!J37) | ... L15: =IF(基本情報入力シート!M37="","",基本情報入力シート!M37) | M15: =IF(基本情報入力シート!R37="","",基本情報入力シート!R37) | N15: =IF(基本情報入力シート!W37="","",基本情報入力シート!W37) | O15: =IF(基本情報入力シート!X37="","",基本情報入力シート!X37) | P15: =IF(基本情報入力シート!Y37="","",基本情報入力シート!Y37) | Q15: =IF(基本情報入力シート!AB37="","",基本情報入力シート!AB37) | T15: =IF(P15="","",VLOOKUP(P15,【参考】数式用!$A$5:$H$34,MATCH(S15,【参考】数式用!$C$4:$E$4,0)+2,0)) | U15: 令和 | W15: 年 | Y15: 月～令和 | AA15: 年 | AC15: 月 | AD15: （ | AE15: =IF(AND(V15>=1,X15>=1,Z15>=1,AB15>=1),(Z15*12+AB15)-(V15*12+X15)+1,"") | AF15: ヶ月） | AG15: =IFERROR(ROUNDDOWN(Q15*T15,0)*AE15,"")
A16: =A15+1 -> 5 | B16: =IF(基本情報入力シート!C38="","",基本情報入力シート!C38) | C16: =IF(基本情報入力シート!D38="","",基本情報入力シート!D38) | D16: =IF(基本情報入力シート!E38="","",基本情報入力シート!E38) | E16: =IF(基本情報入力シート!F38="","",基本情報入力シート!F38) | F16: =IF(基本情報入力シート!G38="","",基本情報入力シート!G38) | G16: =IF(基本情報入力シート!H38="","",基本情報入力シート!H38) | H16: =IF(基本情報入力シート!I38="","",基本情報入力シート!I38) | I16: =IF(基本情報入力シート!J38="","",基本情報入力シート!J38) | ... L16: =IF(基本情報入力シート!M38="","",基本情報入力シート!M38) | M16: =IF(基本情報入力シート!R38="","",基本情報入力シート!R38) | N16: =IF(基本情報入力シート!W38="","",基本情報入力シート!W38) | O16: =IF(基本情報入力シート!X38="","",基本情報入力シート!X38) | P16: =IF(基本情報入力シート!Y38="","",基本情報入力シート!Y38) | Q16: =IF(基本情報入力シート!AB38="","",基本情報入力シート!AB38) | T16: =IF(P16="","",VLOOKUP(P16,【参考】数式用!$A$5:$H$34,MATCH(S16,【参考】数式用!$C$4:$E$4,0)+2,0)) | U16: 令和 | W16: 年 | Y16: 月～令和 | AA16: 年 | AC16: 月 | AD16: （ | AE16: =IF(AND(V16>=1,X16>=1,Z16>=1,AB16>=1),(Z16*12+AB16)-(V16*12+X16)+1,"") | AF16: ヶ月） | AG16: =IFERROR(ROUNDDOWN(Q16*T16,0)*AE16,"")
A17: =A16+1 -> 6 | B17: =IF(基本情報入力シート!C39="","",基本情報入力シート!C39) | C17: =IF(基本情報入力シート!D39="","",基本情報入力シート!D39) | D17: =IF(基本情報入力シート!E39="","",基本情報入力シート!E39) | E17: =IF(基本情報入力シート!F39="","",基本情報入力シート!F39) | F17: =IF(基本情報入力シート!G39="","",基本情報入力シート!G39) | G17: =IF(基本情報入力シート!H39="","",基本情報入力シート!H39) | H17: =IF(基本情報入力シート!I39="","",基本情報入力シート!I39) | I17: =IF(基本情報入力シート!J39="","",基本情報入力シート!J39) | ... L17: =IF(基本情報入力シート!M39="","",基本情報入力シート!M39) | M17: =IF(基本情報入力シート!R39="","",基本情報入力シート!R39) | N17: =IF(基本情報入力シート!W39="","",基本情報入力シート!W39) | O17: =IF(基本情報入力シート!X39="","",基本情報入力シート!X39) | P17: =IF(基本情報入力シート!Y39="","",基本情報入力シート!Y39) | Q17: =IF(基本情報入力シート!AB39="","",基本情報入力シート!AB39) | T17: =IF(P17="","",VLOOKUP(P17,【参考】数式用!$A$5:$H$34,MATCH(S17,【参考】数式用!$C$4:$E$4,0)+2,0)) | U17: 令和 | W17: 年 | Y17: 月～令和 | AA17: 年 | AC17: 月 | AD17: （ | AE17: =IF(AND(V17>=1,X17>=1,Z17>=1,AB17>=1),(Z17*12+AB17)-(V17*12+X17)+1,"") | AF17: ヶ月） | AG17: =IFERROR(ROUNDDOWN(Q17*T17,0)*AE17,"")
A18: =A17+1 -> 7 | B18: =IF(基本情報入力シート!C40="","",基本情報入力シート!C40) | C18: =IF(基本情報入力シート!D40="","",基本情報入力シート!D40) | D18: =IF(基本情報入力シート!E40="","",基本情報入力シート!E40) | E18: =IF(基本情報入力シート!F40="","",基本情報入力シート!F40) | F18: =IF(基本情報入力シート!G40="","",基本情報入力シート!G40) | G18: =IF(基本情報入力シート!H40="","",基本情報入力シート!H40) | H18: =IF(基本情報入力シート!I40="","",基本情報入力シート!I40) | I18: =IF(基本情報入力シート!J40="","",基本情報入力シート!J40) | ... L18: =IF(基本情報入力シート!M40="","",基本情報入力シート!M40) | M18: =IF(基本情報入力シート!R40="","",基本情報入力シート!R40) | N18: =IF(基本情報入力シート!W40="","",基本情報入力シート!W40) | O18: =IF(基本情報入力シート!X40="","",基本情報入力シート!X40) | P18: =IF(基本情報入力シート!Y40="","",基本情報入力シート!Y40) | Q18: =IF(基本情報入力シート!AB40="","",基本情報入力シート!AB40) | T18: =IF(P18="","",VLOOKUP(P18,【参考】数式用!$A$5:$H$34,MATCH(S18,【参考】数式用!$C$4:$E$4,0)+2,0)) | U18: 令和 | W18: 年 | Y18: 月～令和 | AA18: 年 | AC18: 月 | AD18: （ | AE18: =IF(AND(V18>=1,X18>=1,Z18>=1,AB18>=1),(Z18*12+AB18)-(V18*12+X18)+1,"") | AF18: ヶ月） | AG18: =IFERROR(ROUNDDOWN(Q18*T18,0)*AE18,"")
A19: =A18+1 -> 8 | B19: =IF(基本情報入力シート!C41="","",基本情報入力シート!C41) | C19: =IF(基本情報入力シート!D41="","",基本情報入力シート!D41) | D19: =IF(基本情報入力シート!E41="","",基本情報入力シート!E41) | E19: =IF(基本情報入力シート!F41="","",基本情報入力シート!F41) | F19: =IF(基本情報入力シート!G41="","",基本情報入力シート!G41) | G19: =IF(基本情報入力シート!H41="","",基本情報入力シート!H41) | H19: =IF(基本情報入力シート!I41="","",基本情報入力シート!I41) | I19: =IF(基本情報入力シート!J41="","",基本情報入力シート!J41) | ... L19: =IF(基本情報入力シート!M41="","",基本情報入力シート!M41) | M19: =IF(基本情報入力シート!R41="","",基本情報入力シート!R41) | N19: =IF(基本情報入力シート!W41="","",基本情報入力シート!W41) | O19: =IF(基本情報入力シート!X41="","",基本情報入力シート!X41) | P19: =IF(基本情報入力シート!Y41="","",基本情報入力シート!Y41) | Q19: =IF(基本情報入力シート!AB41="","",基本情報入力シート!AB41) | T19: =IF(P19="","",VLOOKUP(P19,【参考】数式用!$A$5:$H$34,MATCH(S19,【参考】数式用!$C$4:$E$4,0)+2,0)) | U19: 令和 | W19: 年 | Y19: 月～令和 | AA19: 年 | AC19: 月 | AD19: （ | AE19: =IF(AND(V19>=1,X19>=1,Z19>=1,AB19>=1),(Z19*12+AB19)-(V19*12+X19)+1,"") | AF19: ヶ月） | AG19: =IFERROR(ROUNDDOWN(Q19*T19,0)*AE19,"")
A20: =A19+1 -> 9 | B20: =IF(基本情報入力シート!C42="","",基本情報入力シート!C42) | C20: =IF(基本情報入力シート!D42="","",基本情報入力シート!D42) | D20: =IF(基本情報入力シート!E42="","",基本情報入力シート!E42) | E20: =IF(基本情報入力シート!F42="","",基本情報入力シート!F42) | F20: =IF(基本情報入力シート!G42="","",基本情報入力シート!G42) | G20: =IF(基本情報入力シート!H42="","",基本情報入力シート!H42) | H20: =IF(基本情報入力シート!I42="","",基本情報入力シート!I42) | I20: =IF(基本情報入力シート!J42="","",基本情報入力シート!J42) | ... L20: =IF(基本情報入力シート!M42="","",基本情報入力シート!M42) | M20: =IF(基本情報入力シート!R42="","",基本情報入力シート!R42) | N20: =IF(基本情報入力シート!W42="","",基本情報入力シート!W42) | O20: =IF(基本情報入力シート!X42="","",基本情報入力シート!X42) | P20: =IF(基本情報入力シート!Y42="","",基本情報入力シート!Y42) | Q20: =IF(基本情報入力シート!AB42="","",基本情報入力シート!AB42) | T20: =IF(P20="","",VLOOKUP(P20,【参考】数式用!$A$5:$H$34,MATCH(S20,【参考】数式用!$C$4:$E$4,0)+2,0)) | U20: 令和 | W20: 年 | Y20: 月～令和 | AA20: 年 | AC20: 月 | AD20: （ | AE20: =IF(AND(V20>=1,X20>=1,Z20>=1,AB20>=1),(Z20*12+AB20)-(V20*12+X20)+1,"") | AF20: ヶ月） | AG20: =IFERROR(ROUNDDOWN(Q20*T20,0)*AE20,"")
A21: =A20+1 -> 10 | B21: =IF(基本情報入力シート!C43="","",基本情報入力シート!C43) | C21: =IF(基本情報入力シート!D43="","",基本情報入力シート!D43) | D21: =IF(基本情報入力シート!E43="","",基本情報入力シート!E43) | E21: =IF(基本情報入力シート!F43="","",基本情報入力シート!F43) | F21: =IF(基本情報入力シート!G43="","",基本情報入力シート!G43) | G21: =IF(基本情報入力シート!H43="","",基本情報入力シート!H43) | H21: =IF(基本情報入力シート!I43="","",基本情報入力シート!I43) | I21: =IF(基本情報入力シート!J43="","",基本情報入力シート!J43) | ... L21: =IF(基本情報入力シート!M43="","",基本情報入力シート!M43) | M21: =IF(基本情報入力シート!R43="","",基本情報入力シート!R43) | N21: =IF(基本情報入力シート!W43="","",基本情報入力シート!W43) | O21: =IF(基本情報入力シート!X43="","",基本情報入力シート!X43) | P21: =IF(基本情報入力シート!Y43="","",基本情報入力シート!Y43) | Q21: =IF(基本情報入力シート!AB43="","",基本情報入力シート!AB43) | T21: =IF(P21="","",VLOOKUP(P21,【参考】数式用!$A$5:$H$34,MATCH(S21,【参考】数式用!$C$4:$E$4,0)+2,0)) | U21: 令和 | W21: 年 | Y21: 月～令和 | AA21: 年 | AC21: 月 | AD21: （ | AE21: =IF(AND(V21>=1,X21>=1,Z21>=1,AB21>=1),(Z21*12+AB21)-(V21*12+X21)+1,"") | AF21: ヶ月） | AG21: =IFERROR(ROUNDDOWN(Q21*T21,0)*AE21,"")
A22: =A21+1 -> 11 | B22: =IF(基本情報入力シート!C44="","",基本情報入力シート!C44) | C22: =IF(基本情報入力シート!D44="","",基本情報入力シート!D44) | D22: =IF(基本情報入力シート!E44="","",基本情報入力シート!E44) | E22: =IF(基本情報入力シート!F44="","",基本情報入力シート!F44) | F22: =IF(基本情報入力シート!G44="","",基本情報入力シート!G44) | G22: =IF(基本情報入力シート!H44="","",基本情報入力シート!H44) | H22: =IF(基本情報入力シート!I44="","",基本情報入力シート!I44) | I22: =IF(基本情報入力シート!J44="","",基本情報入力シート!J44) | ... L22: =IF(基本情報入力シート!M44="","",基本情報入力シート!M44) | M22: =IF(基本情報入力シート!R44="","",基本情報入力シート!R44) | N22: =IF(基本情報入力シート!W44="","",基本情報入力シート!W44) | O22: =IF(基本情報入力シート!X44="","",基本情報入力シート!X44) | P22: =IF(基本情報入力シート!Y44="","",基本情報入力シート!Y44) | Q22: =IF(基本情報入力シート!AB44="","",基本情報入力シート!AB44) | T22: =IF(P22="","",VLOOKUP(P22,【参考】数式用!$A$5:$H$34,MATCH(S22,【参考】数式用!$C$4:$E$4,0)+2,0)) | U22: 令和 | W22: 年 | Y22: 月～令和 | AA22: 年 | AC22: 月 | AD22: （ | AE22: =IF(AND(V22>=1,X22>=1,Z22>=1,AB22>=1),(Z22*12+AB22)-(V22*12+X22)+1,"") | AF22: ヶ月） | AG22: =IFERROR(ROUNDDOWN(Q22*T22,0)*AE22,"")
A23: =A22+1 -> 12 | B23: =IF(基本情報入力シート!C45="","",基本情報入力シート!C45) | C23: =IF(基本情報入力シート!D45="","",基本情報入力シート!D45) | D23: =IF(基本情報入力シート!E45="","",基本情報入力シート!E45) | E23: =IF(基本情報入力シート!F45="","",基本情報入力シート!F45) | F23: =IF(基本情報入力シート!G45="","",基本情報入力シート!G45) | G23: =IF(基本情報入力シート!H45="","",基本情報入力シート!H45) | H23: =IF(基本情報入力シート!I45="","",基本情報入力シート!I45) | I23: =IF(基本情報入力シート!J45="","",基本情報入力シート!J45) | ... L23: =IF(基本情報入力シート!M45="","",基本情報入力シート!M45) | M23: =IF(基本情報入力シート!R45="","",基本情報入力シート!R45) | N23: =IF(基本情報入力シート!W45="","",基本情報入力シート!W45) | O23: =IF(基本情報入力シート!X45="","",基本情報入力シート!X45) | P23: =IF(基本情報入力シート!Y45="","",基本情報入力シート!Y45) | Q23: =IF(基本情報入力シート!AB45="","",基本情報入力シート!AB45) | T23: =IF(P23="","",VLOOKUP(P23,【参考】数式用!$A$5:$H$34,MATCH(S23,【参考】数式用!$C$4:$E$4,0)+2,0)) | U23: 令和 | W23: 年 | Y23: 月～令和 | AA23: 年 | AC23: 月 | AD23: （ | AE23: =IF(AND(V23>=1,X23>=1,Z23>=1,AB23>=1),(Z23*12+AB23)-(V23*12+X23)+1,"") | AF23: ヶ月） | AG23: =IFERROR(ROUNDDOWN(Q23*T23,0)*AE23,"")
A24: =A23+1 -> 13 | B24: =IF(基本情報入力シート!C46="","",基本情報入力シート!C46) | C24: =IF(基本情報入力シート!D46="","",基本情報入力シート!D46) | D24: =IF(基本情報入力シート!E46="","",基本情報入力シート!E46) | E24: =IF(基本情報入力シート!F46="","",基本情報入力シート!F46) | F24: =IF(基本情報入力シート!G46="","",基本情報入力シート!G46) | G24: =IF(基本情報入力シート!H46="","",基本情報入力シート!H46) | H24: =IF(基本情報入力シート!I46="","",基本情報入力シート!I46) | I24: =IF(基本情報入力シート!J46="","",基本情報入力シート!J46) | ... L24: =IF(基本情報入力シート!M46="","",基本情報入力シート!M46) | M24: =IF(基本情報入力シート!R46="","",基本情報入力シート!R46) | N24: =IF(基本情報入力シート!W46="","",基本情報入力シート!W46) | O24: =IF(基本情報入力シート!X46="","",基本情報入力シート!X46) | P24: =IF(基本情報入力シート!Y46="","",基本情報入力シート!Y46) | Q24: =IF(基本情報入力シート!AB46="","",基本情報入力シート!AB46) | T24: =IF(P24="","",VLOOKUP(P24,【参考】数式用!$A$5:$H$34,MATCH(S24,【参考】数式用!$C$4:$E$4,0)+2,0)) | U24: 令和 | W24: 年 | Y24: 月～令和 | AA24: 年 | AC24: 月 | AD24: （ | AE24: =IF(AND(V24>=1,X24>=1,Z24>=1,AB24>=1),(Z24*12+AB24)-(V24*12+X24)+1,"") | AF24: ヶ月） | AG24: =IFERROR(ROUNDDOWN(Q24*T24,0)*AE24,"")
... A111: =A110+1 -> 100 | B111: =IF(基本情報入力シート!C133="","",基本情報入力シート!C133) | C111: =IF(基本情報入力シート!D133="","",基本情報入力シート!D133) | D111: =IF(基本情報入力シート!E133="","",基本情報入力シート!E133) | E111: =IF(基本情報入力シート!F133="","",基本情報入力シート!F133) | F111: =IF(基本情報入力シート!G133="","",基本情報入力シート!G133) | G111: =IF(基本情報入力シート!H133="","",基本情報入力シート!H133) | H111: =IF(基本情報入力シート!I133="","",基本情報入力シート!I133) | I111: =IF(基本情報入力シート!J133="","",基本情報入力シート!J133) | ... L111: =IF(基本情報入力シート!M133="","",基本情報入力シート!M133) | M111: =IF(基本情報入力シート!R133="","",基本情報入力シート!R133) | N111: =IF(基本情報入力シート!W133="","",基本情報入力シート!W133) | O111: =IF(基本情報入力シート!X133="","",基本情報入力シート!X133) | P111: =IF(基本情報入力シート!Y133="","",基本情報入力シート!Y133) | Q111: =IF(基本情報入力シート!AB133="","",基本情報入力シート!AB133) | T111: =IF(P111="","",VLOOKUP(P111,【参考】数式用!$A$5:$H$34,MATCH(S111,【参考】数式用!$C$4:$E$4,0)+2,0)) | U111: 令和 | W111: 年 | Y111: 月～令和 | AA111: 年 | AC111: 月 | AD111: （ | AE111: =IF(AND(V111>=1,X111>=1,Z111>=1,AB111>=1),(Z111*12+AB111)-(V111*12+X111)+1,"") | AF111: ヶ月） | AG111: =IFERROR(ROUNDDOWN(Q111*T111,0)*AE111,"")

Sheet 別紙様式2-3 個表_特定
A1: 別紙様式２－３ | H1: 福祉・介護職員等特定処遇改善計画書（施設・事業所別個表）
A3: 法人名 | D3: =IF(基本情報入力シート!M16="","",基本情報入力シート!M16)
A5: 福祉・介護職員等特定処遇改善加算額（見込額）の合計[円] （別紙様式2-1 ２ （1）①に転記） | O5: =IF((SUM(AH12:AH111))=0,"",SUM(AH12:AH111))
B7: 障害福祉サービス等 事業所番号 | L7: 指定権者名 | M7: 事業所の所在地 | O7: 事業所名 | P7: サービス名 | Q7: 一月あたり（処遇改善加算等を除いた）障害福祉サービス等報酬総額[円](c) | R7: （２）福祉・介護職員等特定処遇改善加算
S8: 算定する福祉・介護職員等特定処遇改善加算の区分 | T8: 加算率(f)
R9: 新規・ 継続 の別 | U9: 配置等要件 | V9: 算定対象月(g) | AH9: 福祉・介護職員等特定処遇改善加算の見込額 (c×f×g) [円]
M10: 都道府県 | N10: 市区町村
A12: 1 | B12: =IF(基本情報入力シート!C34="","",基本情報入力シート!C34) | C12: =IF(基本情報入力シート!D34="","",基本情報入力シート!D34) | D12: =IF(基本情報入力シート!E34="","",基本情報入力シート!E34) | E12: =IF(基本情報入力シート!F34="","",基本情報入力シート!F34) | F12: =IF(基本情報入力シート!G34="","",基本情報入力シート!G34) | G12: =IF(基本情報入力シート!H34="","",基本情報入力シート!H34) | H12: =IF(基本情報入力シート!I34="","",基本情報入力シート!I34) | I12: =IF(基本情報入力シート!J34="","",基本情報入力シート!J34) | ... L12: =IF(基本情報入力シート!M34="","",基本情報入力シート!M34) | M12: =IF(基本情報入力シート!R34="","",基本情報入力シート!R34) | N12: =IF(基本情報入力シート!W34="","",基本情報入力シート!W34) | O12: =IF(基本情報入力シート!X34="","",基本情報入力シート!X34) | P12: =IF(基本情報入力シート!Y34="","",基本情報入力シート!Y34) | Q12: =IF(基本情報入力シート!AB34="","",基本情報入力シート!AB34) | T12: =IFERROR(IF(R12="","",VLOOKUP(P12,【参考】数式用!$A$5:$H$34,MATCH(S12,【参考】数式用!$F$4:$H$4,0)+5,0)),"") | U12: =IF(S12="特定加算Ⅰ",VLOOKUP(P12,【参考】数式用!$A$5:$I$28,9,FALSE),"-") -> - | V12: 令和 | X12: 年 | Z12: 月～令和 | AB12: 年 | AD12: 月 | AE12: （ | AF12: =IF(AND(W12>=1,Y12>=1,AA12>=1,AC12>=1),(AA12*12+AC12)-(W12*12+Y12)+1,"") | AG12: ヶ月） | AH12: =IFERROR(ROUNDDOWN(Q12*T12,0)*AF12,"") | AJ12: =IFERROR(IF(T12="エラー","☓","○"),"") -> ○ | AK12: =IFERROR(IF(T12="エラー","当該サービスに存在しない加算区分が選択されていますので、修正してください。",""),"")
A13: =A12+1 -> 2 | B13: =IF(基本情報入力シート!C35="","",基本情報入力シート!C35) | C13: =IF(基本情報入力シート!D35="","",基本情報入力シート!D35) | D13: =IF(基本情報入力シート!E35="","",基本情報入力シート!E35) | E13: =IF(基本情報入力シート!F35="","",基本情報入力シート!F35) | F13: =IF(基本情報入力シート!G35="","",基本情報入力シート!G35) | G13: =IF(基本情報入力シート!H35="","",基本情報入力シート!H35) | H13: =IF(基本情報入力シート!I35="","",基本情報入力シート!I35) | I13: =IF(基本情報入力シート!J35="","",基本情報入力シート!J35) | ... L13: =IF(基本情報入力シート!M35="","",基本情報入力シート!M35) | M13: =IF(基本情報入力シート!R35="","",基本情報入力シート!R35) | N13: =IF(基本情報入力シート!W35="","",基本情報入力シート!W35) | O13: =IF(基本情報入力シート!X35="","",基本情報入力シート!X35) | P13: =IF(基本情報入力シート!Y35="","",基本情報入力シート!Y35) | Q13: =IF(基本情報入力シート!AB35="","",基本情報入力シート!AB35) | T13: =IFERROR(IF(R13="","",VLOOKUP(P13,【参考】数式用!$A$5:$H$34,MATCH(S13,【参考】数式用!$F$4:$H$4,0)+5,0)),"") | U13: =IF(S13="特定加算Ⅰ",VLOOKUP(P13,【参考】数式用!$A$5:$I$28,9,FALSE),"-") -> - | V13: 令和 | X13: 年 | Z13: 月～令和 | AB13: 年 | AD13: 月 | AE13: （ | AF13: =IF(AND(W13>=1,Y13>=1,AA13>=1,AC13>=1),(AA13*12+AC13)-(W13*12+Y13)+1,"") | AG13: ヶ月） | AH13: =IFERROR(ROUNDDOWN(Q13*T13,0)*AF13,"") | AJ13: =IFERROR(IF(T13="エラー","☓","○"),"") -> ○ | AK13: =IFERROR(IF(T13="エラー","当該サービスに存在しない加算区分が選択されていますので、修正してください。",""),"")
A14: =A13+1 -> 3 | B14: =IF(基本情報入力シート!C36="","",基本情報入力シート!C36) | C14: =IF(基本情報入力シート!D36="","",基本情報入力シート!D36) | D14: =IF(基本情報入力シート!E36="","",基本情報入力シート!E36) | E14: =IF(基本情報入力シート!F36="","",基本情報入力シート!F36) | F14: =IF(基本情報入力シート!G36="","",基本情報入力シート!G36) | G14: =IF(基本情報入力シート!H36="","",基本情報入力シート!H36) | H14: =IF(基本情報入力シート!I36="","",基本情報入力シート!I36) | I14: =IF(基本情報入力シート!J36="","",基本情報入力シート!J36) | ... L14: =IF(基本情報入力シート!M36="","",基本情報入力シート!M36) | M14: =IF(基本情報入力シート!R36="","",基本情報入力シート!R36) | N14: =IF(基本情報入力シート!W36="","",基本情報入力シート!W36) | O14: =IF(基本情報入力シート!X36="","",基本情報入力シート!X36) | P14: =IF(基本情報入力シート!Y36="","",基本情報入力シート!Y36) | Q14: =IF(基本情報入力シート!AB36="","",基本情報入力シート!AB36) | T14: =IFERROR(IF(R14="","",VLOOKUP(P14,【参考】数式用!$A$5:$H$34,MATCH(S14,【参考】数式用!$F$4:$H$4,0)+5,0)),"") | U14: =IF(S14="特定加算Ⅰ",VLOOKUP(P14,【参考】数式用!$A$5:$I$28,9,FALSE),"-") -> - | V14: 令和 | X14: 年 | Z14: 月～令和 | AB14: 年 | AD14: 月 | AE14: （ | AF14: =IF(AND(W14>=1,Y14>=1,AA14>=1,AC14>=1),(AA14*12+AC14)-(W14*12+Y14)+1,"") | AG14: ヶ月） | AH14: =IFERROR(ROUNDDOWN(Q14*T14,0)*AF14,"") | AJ14: =IFERROR(IF(T14="エラー","☓","○"),"") -> ○ | AK14: =IFERROR(IF(T14="エラー","当該サービスに存在しない加算区分が選択されていますので、修正してください。",""),"")
A15: =A14+1 -> 4 | B15: =IF(基本情報入力シート!C37="","",基本情報入力シート!C37) | C15: =IF(基本情報入力シート!D37="","",基本情報入力シート!D37) | D15: =IF(基本情報入力シート!E37="","",基本情報入力シート!E37) | E15: =IF(基本情報入力シート!F37="","",基本情報入力シート!F37) | F15: =IF(基本情報入力シート!G37="","",基本情報入力シート!G37) | G15: =IF(基本情報入力シート!H37="","",基本情報入力シート!H37) | H15: =IF(基本情報入力シート!I37="","",基本情報入力シート!I37) | I15: =IF(基本情報入力シート!J37="","",基本情報入力シート!J37) | ... L15: =IF(基本情報入力シート!M37="","",基本情報入力シート!M37) | M15: =IF(基本情報入力シート!R37="","",基本情報入力シート!R37) | N15: =IF(基本情報入力シート!W37="","",基本情報入力シート!W37) | O15: =IF(基本情報入力シート!X37="","",基本情報入力シート!X37) | P15: =IF(基本情報入力シート!Y37="","",基本情報入力シート!Y37) | Q15: =IF(基本情報入力シート!AB37="","",基本情報入力シート!AB37) | T15: =IFERROR(IF(R15="","",VLOOKUP(P15,【参考】数式用!$A$5:$H$34,MATCH(S15,【参考】数式用!$F$4:$H$4,0)+5,0)),"") | U15: =IF(S15="特定加算Ⅰ",VLOOKUP(P15,【参考】数式用!$A$5:$I$28,9,FALSE),"-") -> - | V15: 令和 | X15: 年 | Z15: 月～令和 | AB15: 年 | AD15: 月 | AE15: （ | AF15: =IF(AND(W15>=1,Y15>=1,AA15>=1,AC15>=1),(AA15*12+AC15)-(W15*12+Y15)+1,"") | AG15: ヶ月） | AH15: =IFERROR(ROUNDDOWN(Q15*T15,0)*AF15,"") | AJ15: =IFERROR(IF(T15="エラー","☓","○"),"") -> ○ | AK15: =IFERROR(IF(T15="エラー","当該サービスに存在しない加算区分が選択されていますので、修正してください。",""),"")
A16: =A15+1 -> 5 | B16: =IF(基本情報入力シート!C38="","",基本情報入力シート!C38) | C16: =IF(基本情報入力シート!D38="","",基本情報入力シート!D38) | D16: =IF(基本情報入力シート!E38="","",基本情報入力シート!E38) | E16: =IF(基本情報入力シート!F38="","",基本情報入力シート!F38) | F16: =IF(基本情報入力シート!G38="","",基本情報入力シート!G38) | G16: =IF(基本情報入力シート!H38="","",基本情報入力シート!H38) | H16: =IF(基本情報入力シート!I38="","",基本情報入力シート!I38) | I16: =IF(基本情報入力シート!J38="","",基本情報入力シート!J38) | ... L16: =IF(基本情報入力シート!M38="","",基本情報入力シート!M38) | M16: =IF(基本情報入力シート!R38="","",基本情報入力シート!R38) | N16: =IF(基本情報入力シート!W38="","",基本情報入力シート!W38) | O16: =IF(基本情報入力シート!X38="","",基本情報入力シート!X38) | P16: =IF(基本情報入力シート!Y38="","",基本情報入力シート!Y38) | Q16: =IF(基本情報入力シート!AB38="","",基本情報入力シート!AB38) | T16: =IFERROR(IF(R16="","",VLOOKUP(P16,【参考】数式用!$A$5:$H$34,MATCH(S16,【参考】数式用!$F$4:$H$4,0)+5,0)),"") | U16: =IF(S16="特定加算Ⅰ",VLOOKUP(P16,【参考】数式用!$A$5:$I$28,9,FALSE),"-") -> - | V16: 令和 | X16: 年 | Z16: 月～令和 | AB16: 年 | AD16: 月 | AE16: （ | AF16: =IF(AND(W16>=1,Y16>=1,AA16>=1,AC16>=1),(AA16*12+AC16)-(W16*12+Y16)+1,"") | AG16: ヶ月） | AH16: =IFERROR(ROUNDDOWN(Q16*T16,0)*AF16,"") | AJ16: =IFERROR(IF(T16="エラー","☓","○"),"") -> ○ | AK16: =IFERROR(IF(T16="エラー","当該サービスに存在しない加算区分が選択されていますので、修正してください。",""),"")
A17: =A16+1 -> 6 | B17: =IF(基本情報入力シート!C39="","",基本情報入力シート!C39) | C17: =IF(基本情報入力シート!D39="","",基本情報入力シート!D39) | D17: =IF(基本情報入力シート!E39="","",基本情報入力シート!E39) | E17: =IF(基本情報入力シート!F39="","",基本情報入力シート!F39) | F17: =IF(基本情報入力シート!G39="","",基本情報入力シート!G39) | G17: =IF(基本情報入力シート!H39="","",基本情報入力シート!H39) | H17: =IF(基本情報入力シート!I39="","",基本情報入力シート!I39) | I17: =IF(基本情報入力シート!J39="","",基本情報入力シート!J39) | ... L17: =IF(基本情報入力シート!M39="","",基本情報入力シート!M39) | M17: =IF(基本情報入力シート!R39="","",基本情報入力シート!R39) | N17: =IF(基本情報入力シート!W39="","",基本情報入力シート!W39) | O17: =IF(基本情報入力シート!X39="","",基本情報入力シート!X39) | P17: =IF(基本情報入力シート!Y39="","",基本情報入力シート!Y39) | Q17: =IF(基本情報入力シート!AB39="","",基本情報入力シート!AB39) | T17: =IFERROR(IF(R17="","",VLOOKUP(P17,【参考】数式用!$A$5:$H$34,MATCH(S17,【参考】数式用!$F$4:$H$4,0)+5,0)),"") | U17: =IF(S17="特定加算Ⅰ",VLOOKUP(P17,【参考】数式用!$A$5:$I$28,9,FALSE),"-") -> - | V17: 令和 | X17: 年 | Z17: 月～令和 | AB17: 年 | AD17: 月 | AE17: （ | AF17: =IF(AND(W17>=1,Y17>=1,AA17>=1,AC17>=1),(AA17*12+AC17)-(W17*12+Y17)+1,"") | AG17: ヶ月） | AH17: =IFERROR(ROUNDDOWN(Q17*T17,0)*AF17,"") | AJ17: =IFERROR(IF(T17="エラー","☓","○"),"") -> ○ | AK17: =IFERROR(IF(T17="エラー","当該サービスに存在しない加算区分が選択されていますので、修正してください。",""),"")
A18: =A17+1 -> 7 | B18: =IF(基本情報入力シート!C40="","",基本情報入力シート!C40) | C18: =IF(基本情報入力シート!D40="","",基本情報入力シート!D40) | D18: =IF(基本情報入力シート!E40="","",基本情報入力シート!E40) | E18: =IF(基本情報入力シート!F40="","",基本情報入力シート!F40) | F18: =IF(基本情報入力シート!G40="","",基本情報入力シート!G40) | G18: =IF(基本情報入力シート!H40="","",基本情報入力シート!H40) | H18: =IF(基本情報入力シート!I40="","",基本情報入力シート!I40) | I18: =IF(基本情報入力シート!J40="","",基本情報入力シート!J40) | ... L18: =IF(基本情報入力シート!M40="","",基本情報入力シート!M40) | M18: =IF(基本情報入力シート!R40="","",基本情報入力シート!R40) | N18: =IF(基本情報入力シート!W40="","",基本情報入力シート!W40) | O18: =IF(基本情報入力シート!X40="","",基本情報入力シート!X40) | P18: =IF(基本情報入力シート!Y40="","",基本情報入力シート!Y40) | Q18: =IF(基本情報入力シート!AB40="","",基本情報入力シート!AB40) | T18: =IFERROR(IF(R18="","",VLOOKUP(P18,【参考】数式用!$A$5:$H$34,MATCH(S18,【参考】数式用!$F$4:$H$4,0)+5,0)),"") | U18: =IF(S18="特定加算Ⅰ",VLOOKUP(P18,【参考】数式用!$A$5:$I$28,9,FALSE),"-") -> - | V18: 令和 | X18: 年 | Z18: 月～令和 | AB18: 年 | AD18: 月 | AE18: （ | AF18: =IF(AND(W18>=1,Y18>=1,AA18>=1,AC18>=1),(AA18*12+AC18)-(W18*12+Y18)+1,"") | AG18: ヶ月） | AH18: =IFERROR(ROUNDDOWN(Q18*T18,0)*AF18,"") | AJ18: =IFERROR(IF(T18="エラー","☓","○"),"") -> ○ | AK18: =IFERROR(IF(T18="エラー","当該サービスに存在しない加算区分が選択されていますので、修正してください。",""),"")
A19: =A18+1 -> 8 | B19: =IF(基本情報入力シート!C41="","",基本情報入力シート!C41) | C19: =IF(基本情報入力シート!D41="","",基本情報入力シート!D41) | D19: =IF(基本情報入力シート!E41="","",基本情報入力シート!E41) | E19: =IF(基本情報入力シート!F41="","",基本情報入力シート!F41) | F19: =IF(基本情報入力シート!G41="","",基本情報入力シート!G41) | G19: =IF(基本情報入力シート!H41="","",基本情報入力シート!H41) | H19: =IF(基本情報入力シート!I41="","",基本情報入力シート!I41) | I19: =IF(基本情報入力シート!J41="","",基本情報入力シート!J41) | ... L19: =IF(基本情報入力シート!M41="","",基本情報入力シート!M41) | M19: =IF(基本情報入力シート!R41="","",基本情報入力シート!R41) | N19: =IF(基本情報入力シート!W41="","",基本情報入力シート!W41) | O19: =IF(基本情報入力シート!X41="","",基本情報入力シート!X41) | P19: =IF(基本情報入力シート!Y41="","",基本情報入力シート!Y41) | Q19: =IF(基本情報入力シート!AB41="","",基本情報入力シート!AB41) | T19: =IFERROR(IF(R19="","",VLOOKUP(P19,【参考】数式用!$A$5:$H$34,MATCH(S19,【参考】数式用!$F$4:$H$4,0)+5,0)),"") | U19: =IF(S19="特定加算Ⅰ",VLOOKUP(P19,【参考】数式用!$A$5:$I$28,9,FALSE),"-") -> - | V19: 令和 | X19: 年 | Z19: 月～令和 | AB19: 年 | AD19: 月 | AE19: （ | AF19: =IF(AND(W19>=1,Y19>=1,AA19>=1,AC19>=1),(AA19*12+AC19)-(W19*12+Y19)+1,"") | AG19: ヶ月） | AH19: =IFERROR(ROUNDDOWN(Q19*T19,0)*AF19,"") | AJ19: =IFERROR(IF(T19="エラー","☓","○"),"") -> ○ | AK19: =IFERROR(IF(T19="エラー","当該サービスに存在しない加算区分が選択されていますので、修正してください。",""),"")
A20: =A19+1 -> 9 | B20: =IF(基本情報入力シート!C42="","",基本情報入力シート!C42) | C20: =IF(基本情報入力シート!D42="","",基本情報入力シート!D42) | D20: =IF(基本情報入力シート!E42="","",基本情報入力シート!E42) | E20: =IF(基本情報入力シート!F42="","",基本情報入力シート!F42) | F20: =IF(基本情報入力シート!G42="","",基本情報入力シート!G42) | G20: =IF(基本情報入力シート!H42="","",基本情報入力シート!H42) | H20: =IF(基本情報入力シート!I42="","",基本情報入力シート!I42) | I20: =IF(基本情報入力シート!J42="","",基本情報入力シート!J42) | ... L20: =IF(基本情報入力シート!M42="","",基本情報入力シート!M42) | M20: =IF(基本情報入力シート!R42="","",基本情報入力シート!R42) | N20: =IF(基本情報入力シート!W42="","",基本情報入力シート!W42) | O20: =IF(基本情報入力シート!X42="","",基本情報入力シート!X42) | P20: =IF(基本情報入力シート!Y42="","",基本情報入力シート!Y42) | Q20: =IF(基本情報入力シート!AB42="","",基本情報入力シート!AB42) | T20: =IFERROR(IF(R20="","",VLOOKUP(P20,【参考】数式用!$A$5:$H$34,MATCH(S20,【参考】数式用!$F$4:$H$4,0)+5,0)),"") | U20: =IF(S20="特定加算Ⅰ",VLOOKUP(P20,【参考】数式用!$A$5:$I$28,9,FALSE),"-") -> - | V20: 令和 | X20: 年 | Z20: 月～令和 | AB20: 年 | AD20: 月 | AE20: （ | AF20: =IF(AND(W20>=1,Y20>=1,AA20>=1,AC20>=1),(AA20*12+AC20)-(W20*12+Y20)+1,"") | AG20: ヶ月） | AH20: =IFERROR(ROUNDDOWN(Q20*T20,0)*AF20,"") | AJ20: =IFERROR(IF(T20="エラー","☓","○"),"") -> ○ | AK20: =IFERROR(IF(T20="エラー","当該サービスに存在しない加算区分が選択されていますので、修正してください。",""),"")
A21: =A20+1 -> 10 | B21: =IF(基本情報入力シート!C43="","",基本情報入力シート!C43) | C21: =IF(基本情報入力シート!D43="","",基本情報入力シート!D43) | D21: =IF(基本情報入力シート!E43="","",基本情報入力シート!E43) | E21: =IF(基本情報入力シート!F43="","",基本情報入力シート!F43) | F21: =IF(基本情報入力シート!G43="","",基本情報入力シート!G43) | G21: =IF(基本情報入力シート!H43="","",基本情報入力シート!H43) | H21: =IF(基本情報入力シート!I43="","",基本情報入力シート!I43) | I21: =IF(基本情報入力シート!J43="","",基本情報入力シート!J43) | ... L21: =IF(基本情報入力シート!M43="","",基本情報入力シート!M43) | M21: =IF(基本情報入力シート!R43="","",基本情報入力シート!R43) | N21: =IF(基本情報入力シート!W43="","",基本情報入力シート!W43) | O21: =IF(基本情報入力シート!X43="","",基本情報入力シート!X43) | P21: =IF(基本情報入力シート!Y43="","",基本情報入力シート!Y43) | Q21: =IF(基本情報入力シート!AB43="","",基本情報入力シート!AB43) | T21: =IFERROR(IF(R21="","",VLOOKUP(P21,【参考】数式用!$A$5:$H$34,MATCH(S21,【参考】数式用!$F$4:$H$4,0)+5,0)),"") | U21: =IF(S21="特定加算Ⅰ",VLOOKUP(P21,【参考】数式用!$A$5:$I$28,9,FALSE),"-") -> - | V21: 令和 | X21: 年 | Z21: 月～令和 | AB21: 年 | AD21: 月 | AE21: （ | AF21: =IF(AND(W21>=1,Y21>=1,AA21>=1,AC21>=1),(AA21*12+AC21)-(W21*12+Y21)+1,"") | AG21: ヶ月） | AH21: =IFERROR(ROUNDDOWN(Q21*T21,0)*AF21,"") | AJ21: =IFERROR(IF(T21="エラー","☓","○"),"") -> ○ | AK21: =IFERROR(IF(T21="エラー","当該サービスに存在しない加算区分が選択されていますので、修正してください。",""),"")
A22: =A21+1 -> 11 | B22: =IF(基本情報入力シート!C44="","",基本情報入力シート!C44) | C22: =IF(基本情報入力シート!D44="","",基本情報入力シート!D44) | D22: =IF(基本情報入力シート!E44="","",基本情報入力シート!E44) | E22: =IF(基本情報入力シート!F44="","",基本情報入力シート!F44) | F22: =IF(基本情報入力シート!G44="","",基本情報入力シート!G44) | G22: =IF(基本情報入力シート!H44="","",基本情報入力シート!H44) | H22: =IF(基本情報入力シート!I44="","",基本情報入力シート!I44) | I22: =IF(基本情報入力シート!J44="","",基本情報入力シート!J44) | ... L22: =IF(基本情報入力シート!M44="","",基本情報入力シート!M44) | M22: =IF(基本情報入力シート!R44="","",基本情報入力シート!R44) | N22: =IF(基本情報入力シート!W44="","",基本情報入力シート!W44) | O22: =IF(基本情報入力シート!X44="","",基本情報入力シート!X44) | P22: =IF(基本情報入力シート!Y44="","",基本情報入力シート!Y44) | Q22: =IF(基本情報入力シート!AB44="","",基本情報入力シート!AB44) | T22: =IFERROR(IF(R22="","",VLOOKUP(P22,【参考】数式用!$A$5:$H$34,MATCH(S22,【参考】数式用!$F$4:$H$4,0)+5,0)),"") | U22: =IF(S22="特定加算Ⅰ",VLOOKUP(P22,【参考】数式用!$A$5:$I$28,9,FALSE),"-") -> - | V22: 令和 | X22: 年 | Z22: 月～令和 | AB22: 年 | AD22: 月 | AE22: （ | AF22: =IF(AND(W22>=1,Y22>=1,AA22>=1,AC22>=1),(AA22*12+AC22)-(W22*12+Y22)+1,"") | AG22: ヶ月） | AH22: =IFERROR(ROUNDDOWN(Q22*T22,0)*AF22,"") | AJ22: =IFERROR(IF(T22="エラー","☓","○"),"") -> ○ | AK22: =IFERROR(IF(T22="エラー","当該サービスに存在しない加算区分が選択されていますので、修正してください。",""),"")
A23: =A22+1 -> 12 | B23: =IF(基本情報入力シート!C45="","",基本情報入力シート!C45) | C23: =IF(基本情報入力シート!D45="","",基本情報入力シート!D45) | D23: =IF(基本情報入力シート!E45="","",基本情報入力シート!E45) | E23: =IF(基本情報入力シート!F45="","",基本情報入力シート!F45) | F23: =IF(基本情報入力シート!G45="","",基本情報入力シート!G45) | G23: =IF(基本情報入力シート!H45="","",基本情報入力シート!H45) | H23: =IF(基本情報入力シート!I45="","",基本情報入力シート!I45) | I23: =IF(基本情報入力シート!J45="","",基本情報入力シート!J45) | ... L23: =IF(基本情報入力シート!M45="","",基本情報入力シート!M45) | M23: =IF(基本情報入力シート!R45="","",基本情報入力シート!R45) | N23: =IF(基本情報入力シート!W45="","",基本情報入力シート!W45) | O23: =IF(基本情報入力シート!X45="","",基本情報入力シート!X45) | P23: =IF(基本情報入力シート!Y45="","",基本情報入力シート!Y45) | Q23: =IF(基本情報入力シート!AB45="","",基本情報入力シート!AB45) | T23: =IFERROR(IF(R23="","",VLOOKUP(P23,【参考】数式用!$A$5:$H$34,MATCH(S23,【参考】数式用!$F$4:$H$4,0)+5,0)),"") | U23: =IF(S23="特定加算Ⅰ",VLOOKUP(P23,【参考】数式用!$A$5:$I$28,9,FALSE),"-") -> - | V23: 令和 | X23: 年 | Z23: 月～令和 | AB23: 年 | AD23: 月 | AE23: （ | AF23: =IF(AND(W23>=1,Y23>=1,AA23>=1,AC23>=1),(AA23*12+AC23)-(W23*12+Y23)+1,"") | AG23: ヶ月） | AH23: =IFERROR(ROUNDDOWN(Q23*T23,0)*AF23,"") | AJ23: =IFERROR(IF(T23="エラー","☓","○"),"") -> ○ | AK23: =IFERROR(IF(T23="エラー","当該サービスに存在しない加算区分が選択されていますので、修正してください。",""),"")
A24: =A23+1 -> 13 | B24: =IF(基本情報入力シート!C46="","",基本情報入力シート!C46) | C24: =IF(基本情報入力シート!D46="","",基本情報入力シート!D46) | D24: =IF(基本情報入力シート!E46="","",基本情報入力シート!E46) | E24: =IF(基本情報入力シート!F46="","",基本情報入力シート!F46) | F24: =IF(基本情報入力シート!G46="","",基本情報入力シート!G46) | G24: =IF(基本情報入力シート!H46="","",基本情報入力シート!H46) | H24: =IF(基本情報入力シート!I46="","",基本情報入力シート!I46) | I24: =IF(基本情報入力シート!J46="","",基本情報入力シート!J46) | ... L24: =IF(基本情報入力シート!M46="","",基本情報入力シート!M46) | M24: =IF(基本情報入力シート!R46="","",基本情報入力シート!R46) | N24: =IF(基本情報入力シート!W46="","",基本情報入力シート!W46) | O24: =IF(基本情報入力シート!X46="","",基本情報入力シート!X46) | P24: =IF(基本情報入力シート!Y46="","",基本情報入力シート!Y46) | Q24: =IF(基本情報入力シート!AB46="","",基本情報入力シート!AB46) | T24: =IFERROR(IF(R24="","",VLOOKUP(P24,【参考】数式用!$A$5:$H$34,MATCH(S24,【参考】数式用!$F$4:$H$4,0)+5,0)),"") | U24: =IF(S24="特定加算Ⅰ",VLOOKUP(P24,【参考】数式用!$A$5:$I$28,9,FALSE),"-") -> - | V24: 令和 | X24: 年 | Z24: 月～令和 | AB24: 年 | AD24: 月 | AE24: （ | AF24: =IF(AND(W24>=1,Y24>=1,AA24>=1,AC24>=1),(AA24*12+AC24)-(W24*12+Y24)+1,"") | AG24: ヶ月） | AH24: =IFERROR(ROUNDDOWN(Q24*T24,0)*AF24,"") | AJ24: =IFERROR(IF(T24="エラー","☓","○"),"") -> ○ | AK24: =IFERROR(IF(T24="エラー","当該サービスに存在しない加算区分が選択されていますので、修正してください。",""),"")
... A111: =A110+1 -> 100 | B111: =IF(基本情報入力シート!C133="","",基本情報入力シート!C133) | C111: =IF(基本情報入力シート!D133="","",基本情報入力シート!D133) | D111: =IF(基本情報入力シート!E133="","",基本情報入力シート!E133) | E111: =IF(基本情報入力シート!F133="","",基本情報入力シート!F133) | F111: =IF(基本情報入力シート!G133="","",基本情報入力シート!G133) | G111: =IF(基本情報入力シート!H133="","",基本情報入力シート!H133) | H111: =IF(基本情報入力シート!I133="","",基本情報入力シート!I133) | I111: =IF(基本情報入力シート!J133="","",基本情報入力シート!J133) | ... L111: =IF(基本情報入力シート!M133="","",基本情報入力シート!M133) | M111: =IF(基本情報入力シート!R133="","",基本情報入力シート!R133) | N111: =IF(基本情報入力シート!W133="","",基本情報入力シート!W133) | O111: =IF(基本情報入力シート!X133="","",基本情報入力シート!X133) | P111: =IF(基本情報入力シート!Y133="","",基本情報入力シート!Y133) | Q111: =IF(基本情報入力シート!AB133="","",基本情報入力シート!AB133) | T111: =IFERROR(IF(R111="","",VLOOKUP(P111,【参考】数式用!$A$5:$H$34,MATCH(S111,【参考】数式用!$F$4:$H$4,0)+5,0)),"") | U111: =IF(S111="特定加算Ⅰ",VLOOKUP(P111,【参考】数式用!$A$5:$I$28,9,FALSE),"-") -> - | V111: 令和 | X111: 年 | Z111: 月～令和 | AB111: 年 | AD111: 月 | AE111: （ | AF111: =IF(AND(W111>=1,Y111>=1,AA111>=1,AC111>=1),(AA111*12+AC111)-(W111*12+Y111)+1,"") | AG111: ヶ月） | AH111: =IFERROR(ROUNDDOWN(Q111*T111,0)*AF111,"") | AJ111: =IFERROR(IF(T111="エラー","☓","○"),"") -> ○ | AK111: =IFERROR(IF(T111="エラー","当該サービスに存在しない加算区分が選択されていますので、修正してください。",""),"")

Sheet 【参考】数式用
A1: 表１ 加算算定対象サービス
A2: サービス区分 | C2: 福祉・介護職員処遇改善加算 | F2: 福祉・介護職員等特定処遇改善加算 | J2: サービス区分 | L2: 福祉・介護職員等ベースアップ等支援加算
C3: キャリアパス要件等の適合状況に応じた加算率 | F3: 配置等要件に応じた加算率 | I3: 配置等要件
C4: 加算Ⅰ | D4: 加算Ⅱ | E4: 加算Ⅲ | F4: 特定加算Ⅰ | G4: 特定加算Ⅱ | H4: 区分なし | I4: 特定加算Ⅰ | N4: 月
A5: 居宅介護 | C5: 0.274 | D5: 0.2 | E5: 0.111 | F5: 0.07 | G5: 0.055 | H5: エラー | I5: 特定事業所加算 | J5: 居宅介護 | L5: 0.045 | N5: 1
A6: 重度訪問介護 | C6: 0.2 | D6: 0.146 | E6: 0.081 | F6: 0.07 | G6: 0.055 | H6: エラー | I6: 特定事業所加算 | J6: 重度訪問介護 | L6: 0.045 | N6: 2
A7: 同行援護 | C7: 0.274 | D7: 0.2 | E7: 0.111 | F7: 0.07 | G7: 0.055 | H7: エラー | I7: 特定事業所加算 | J7: 同行援護 | L7: 0.045 | N7: 3
A8: 行動援護 | C8: 0.239 | D8: 0.175 | E8: 0.097 | F8: 0.07 | G8: 0.055 | H8: エラー | I8: 特定事業所加算 | J8: 行動援護 | L8: 0.045 | N8: 4
A9: 重度障害者等包括支援 | C9: 0.089 | D9: 0.065 | E9: 0.036 | F9: エラー | G9: エラー | H9: 0.061 | I9: - | J9: 重度障害者等包括支援 | L9: 0.045 | N9: 5
A10: 生活介護 | C10: 0.044 | D10: 0.032 | E10: 0.018 | F10: 0.014 | G10: 0.013 | H10: エラー | I10: 福祉専門職員配置等加算 | J10: 生活介護 | L10: 0.011 | N10: 6
A11: 施設入所支援 | C11: 0.086 | D11: 0.063 | E11: 0.035 | F11: エラー | G11: エラー | H11: 0.021 | I11: - | J11: 施設入所支援 | L11: 0.028 | N11: 7
A12: 短期入所 | C12: 0.086 | D12: 0.063 | E12: 0.035 | F12: エラー | G12: エラー | H12: 0.021 | I12: - | J12: 短期入所 | L12: 0.028 | N12: 8
A13: 療養介護 | C13: 0.064 | D13: 0.047 | E13: 0.026 | F13: 0.021 | G13: 0.019 | H13: エラー | I13: 福祉専門職員配置等加算 | J13: 療養介護 | L13: 0.028 | N13: 9
A14: 自立訓練（機能訓練） | C14: 0.067 | D14: 0.049 | E14: 0.027 | F14: 0.04 | G14: 0.036 | H14: エラー | I14: 福祉専門職員配置等加算 | J14: 自立訓練（機能訓練） | L14: 0.018 | N14: 10
A15: 自立訓練（生活訓練） | C15: 0.067 | D15: 0.049 | E15: 0.027 | F15: 0.04 | G15: 0.036 | H15: エラー | I15: 福祉専門職員配置等加算 | J15: 自立訓練（生活訓練） | L15: 0.018 | N15: 11
A16: 就労移行支援 | C16: 0.064 | D16: 0.047 | E16: 0.026 | F16: 0.017 | G16: 0.015 | H16: エラー | I16: 福祉専門職員配置等加算 | J16: 就労移行支援 | L16: 0.013 | N16: 12
A17: 就労継続支援Ａ型 | C17: 0.057 | D17: 0.041 | E17: 0.023 | F17: 0.017 | G17: 0.015 | H17: エラー | I17: 福祉専門職員配置等加算 | J17: 就労継続支援Ａ型 | L17: 0.013
A18: 就労継続支援Ｂ型 | C18: 0.054 | D18: 0.04 | E18: 0.022 | F18: 0.017 | G18: 0.015 | H18: エラー | I18: 福祉専門職員配置等加算 | J18: 就労継続支援Ｂ型 | L18: 0.013
A19: 共同生活援助（介護サービス包括型） | C19: 0.086 | D19: 0.063 | E19: 0.035 | F19: 0.019 | G19: 0.016 | H19: エラー | I19: 福祉専門職員配置等加算 | J19: 共同生活援助（介護サービス包括型） | L19: 0.026
A20: 共同生活援助（日中サービス支援型） | C20: 0.086 | D20: 0.063 | E20: 0.035 | F20: 0.019 | G20: 0.016 | H20: エラー | I20: 福祉専門職員配置等加算 | J20: 共同生活援助（日中サービス支援型） | L20: 0.026
A21: 共同生活援助（外部サービス利用型） | C21: 0.15 | D21: 0.11 | E21: 0.061 | F21: 0.019 | G21: 0.016 | H21: エラー | I21: 福祉専門職員配置等加算 | J21: 共同生活援助（外部サービス利用型） | L21: 0.026
A22: 児童発達支援 | C22: 0.081 | D22: 0.059 | E22: 0.033 | F22: 0.013 | G22: 0.01 | H22: エラー | I22: 福祉専門職員配置等加算 | J22: 児童発達支援 | L22: 0.02
A23: 医療型児童発達支援 | C23: 0.126 | D23: 0.092 | E23: 0.051 | F23: 0.013 | G23: 0.01 | H23: エラー | I23: 福祉専門職員配置等加算 | J23: 医療型児童発達支援 | L23: 0.02
A24: 放課後等デイサービス | C24: 0.084 | D24: 0.061 | E24: 0.034 | F24: 0.013 | G24: 0.01 | H24: エラー | I24: 福祉専門職員配置等加算 | J24: 放課後等デイサービス | L24: 0.02
A25: 居宅訪問型児童発達支援 | C25: 0.081 | D25: 0.059 | E25: 0.033 | F25: エラー | G25: エラー | H25: 0.011 | I25: - | J25: 居宅訪問型児童発達支援 | L25: 0.02
A26: 保育所等訪問支援 | C26: 0.081 | D26: 0.059 | E26: 0.033 | F26: エラー | G26: エラー | H26: 0.011 | I26: - | J26: 保育所等訪問支援 | L26: 0.02
A27: 福祉型障害児入所施設 | C27: 0.099 | D27: 0.072 | E27: 0.04 | F27: 0.043 | G27: 0.039 | H27: エラー | I27: 福祉専門職員配置等加算 | J27: 福祉型障害児入所施設 | L27: 0.038
A28: 医療型障害児入所施設 | C28: 0.079 | D28: 0.058 | E28: 0.032 | F28: 0.043 | G28: 0.039 | H28: エラー | I28: 福祉専門職員配置等加算 | J28: 医療型障害児入所施設 | L28: 0.038
A29: 障害者支援施設：生活介護 | C29: 0.061 | D29: 0.044 | E29: 0.025 | F29: エラー | G29: エラー | H29: 0.017 | I29: - | J29: 障害者支援施設：生活介護 | L29: 0.011
A30: 障害者支援施設：自立訓練（機能訓練） | C30: 0.068 | D30: 0.05 | E30: 0.028 | F30: エラー | G30: エラー | H30: 0.026 | I30: - | J30: 障害者支援施設：自立訓練（機能訓練） | L30: 0.018
A31: 障害者支援施設：自立訓練（生活訓練） | C31: 0.068 | D31: 0.05 | E31: 0.028 | F31: エラー | G31: エラー | H31: 0.026 | I31: - | J31: 障害者支援施設：自立訓練（生活訓練） | L31: 0.018
A32: 障害者支援施設：就労移行支援 | C32: 0.067 | D32: 0.049 | E32: 0.027 | F32: エラー | G32: エラー | H32: 0.018 | I32: - | J32: 障害者支援施設：就労移行支援 | L32: 0.013
A33: 障害者支援施設：就労継続支援Ａ型 | C33: 0.065 | D33: 0.047 | E33: 0.026 | F33: エラー | G33: エラー | H33: 0.018 | I33: - | J33: 障害者支援施設：就労継続支援Ａ型 | L33: 0.013
A34: 障害者支援施設：就労継続支援Ｂ型 | C34: 0.064 | D34: 0.047 | E34: 0.026 | F34: エラー | G34: エラー | H34: 0.018 | I34: - | J34: 障害者支援施設：就労継続支援Ｂ型 | L34: 0.013
