Workbook
Name _new1: 【参考】サービス名一覧!$A$4:$A$27
Name erea: 【参考】サービス名一覧!$A$3:$A$27
Name erea: #REF!
Name erea: #REF!
Name new: 【参考】サービス名一覧!$A$4:$A$27
Name new: #REF!
Name new: #REF!
Name www: #REF!
Name www: #REF!
Name www: #REF!
Name サービス: #REF!
Name サービス: #REF!
Name サービス: #REF!
Name サービス: #REF!
Name サービス種別: [1]サービス種類一覧!$B$4:$B$20
Name サービス種類: [2]サービス種類一覧!$C$4:$C$20
Name サービス名: 【参考】サービス名一覧!$A$3:$A$20
Name サービス名: #REF!
Name サービス名: #REF!
Name サービス名: #REF!
Name サービス名: #REF!
Name サービス名: #REF!
Name サービス名称: #REF!
Name サービス名称: #REF!
Name 一覧: [3]加算率一覧!$A$4:$A$25
Name 種類: [4]サービス種類一覧!$A$4:$A$20
Name 特定: #REF!
Name 特定: #REF!
Name 特定: #REF!

Sheet はじめに
A1: 障害福祉サービス等処遇改善実績報告書 作成にあたっての入力シート等の説明
A2: 令和３年４月以降の処遇改善加算を申請した場合の実績報告書の作成方法をご説明しています
A4: ワークシート名 （左からの順） | B4: 枚数 | C4: ワークシートの入力の順番（推奨） | D4: 説明 | F4: 提出の 必要性
A5: はじめに | B5: 1 | C5: - | D5: ・本様式の内容と使い方を説明しています。 | F5: 不要
A6: 基本情報入力シート | B6: 1 | C6: ① | D6: ・法人の基本的な情報を入力することで、様式３へ自動的に転記が行われるため、こちらから入力してください。 ・本シートは提出不要です。 | F6: 不要
A7: 別紙様式3-1 | B7: 1 | C7: ③ | D7: ・実績報告の概要と要件に関する情報を入力します。 ・加算総額や賃金改善所要額、平均賃金改善額等の要件を確認します。 ・最後に入力してください。 | F7: 提出
A8: 別紙様式3-2 | B8: 1 | C8: ② | D8: ・事業所別の情報を入力します。 ・事業所ごとに加算総額、賃金総額等を入力します。 ・基本情報入力シートの次に入力してください。 | F8: 提出
A16: ２ 書類の作成方法
A19: 【留意事項】
A20: ・原則、本様式を用いて実績報告書を作成してください。
A21: ・根拠資料は、保管の有無をチェックリストで確認することで原則提出不要です。
A22: ・複数事業所を一括して申請する際の指定権者別・都道府県別一覧表は不要です。
A23: ・「賃金改善所要額」の比較対象となる年度は、「初めて加算を取得する（した）前年度」ではなく「（申請の）前年度」です。
A24: ・特定加算の平均賃金改善額についての計算方法は以下のとおりです。（下図参照）
B26: 特定加算の平均賃金改善額の計算方法
A27: 実績 報告
A29: ※１ 特定加算の配分（賃金改善）に伴う法定福利費等の事業主負担の増加分を含むことができる。
A30: ※２ 処遇改善加算等を取得し実施される賃金改善及び各障害福祉サービス事業者等の独自の賃金改善額を除く。

Sheet ①【全員最初に作成】基本情報
A1: 障害福祉サービス等処遇改善実績報告書作成用 基本情報入力シート | AD1: ↓一部項目の他シートへの読み込み列
A4: ●次の情報を本シートの黄色セルに入力することで、各様式に自動的に転記されます。
A5: ・提出先に関する情報
A6: ・基本情報
A7: ・加算対象事業所に関する情報
A9: １ 提出先に関する情報
B10: 処遇改善加算・特定加算の算定届出に係る提出先（指定権者）の名称を入力してください。
B11: 提出先 | C11: 東京都
A13: ２ 基本情報
B14: ⇒下表に必要事項を入力してください。
B15: 法人名 | C15: フリガナ | M15: シャカイフクシホウジンマルマルカイ
C16: 名称 | M16: 社会福祉法人○○会 | AD16: 〒結合
B17: 法人住所 | C17: 〒 | M17: 1 | N17: 0 | O17: 0 | P17: － | Q17: 1 | R17: 2 | S17: 3 | T17: 4 | AD17: =CONCATENATE(M17,N17,O17,P17,Q17,R17,S17,T17) -> 100－1234
C18: 住所１（番地・住居番号まで） | M18: 千代田区霞が関１－２－２
C19: 住所２（建物名等） | M19: ○○ビル18Ｆ
B20: 法人代表者 | C20: 職名 | M20: 代表取締役
C21: 氏名 | M21: 厚労 花子
B22: 書類作成 担当者 | C22: フリガナ | M22: コウロウ タロウ
C23: 氏名 | M23: 厚労 太郎
B24: 連絡先 | C24: 電話番号 | M24: 03-3571-0000
C25: FAX番号 | M25: 03-3571-9999
C26: e-mail | M26: aaa@aaa.aa.jp
A28: ３ 加算対象事業所に関する情報
B29: 下表に必要事項を入力してください。記入内容が3-2に反映されます。
B31: 通し番号 | C31: 障害福祉サービス等 事業所番号 | M31: 指定権者名 | R31: 事業所の所在地 | X31: 事業所名 | Y31: サービス名
R32: 都道府県 | W32: 市区町村
B33: 1 | C33: 1 | D33: 3 | E33: 1 | F33: 4 | G33: 5 | H33: 6 | I33: 7 | J33: 8 | K33: 9 | L33: 1 | M33: 東京都 | R33: 東京都 | W33: 千代田区 | X33: 障害福祉事業所名称０１ | Y33: 居宅介護
B34: =B33+1 -> 2 | C34: 1 | D34: 3 | E34: 1 | F34: 4 | G34: 5 | H34: 6 | I34: 7 | J34: 8 | K34: 9 | L34: 2 | M34: 東京都 | R34: 東京都 | W34: 豊島区 | X34: 障害福祉事業所名称０２ | Y34: 居宅介護
B35: =B34+1 -> 3 | C35: 1 | D35: 3 | E35: 1 | F35: 4 | G35: 5 | H35: 6 | I35: 7 | J35: 8 | K35: 9 | L35: 3 | M35: 東京都 | R35: 東京都 | W35: 世田谷区 | X35: 障害福祉事業所名称０３ | Y35: 生活介護
B36: =B35+1 -> 4 | C36: 1 | D36: 1 | E36: 1 | F36: 4 | G36: 5 | H36: 6 | I36: 7 | J36: 8 | K36: 9 | L36: 4 | M36: さいたま市 | R36: 埼玉県 | W36: さいたま市 | X36: 障害福祉事業所名称０４ | Y36: 就労継続支援Ｂ型
B37: =B36+1 -> 5 | C37: 1 | D37: 2 | E37: 1 | F37: 4 | G37: 5 | H37: 6 | I37: 7 | J37: 8 | K37: 9 | L37: 5 | M37: 千葉市 | R37: 千葉県 | W37: 千葉市 | X37: 障害福祉事業所名称０５ | Y37: 施設入所支援
B38: =B37+1 -> 6 | C38: 1 | D38: 2 | E38: 1 | F38: 4 | G38: 5 | H38: 6 | I38: 7 | J38: 8 | K38: 9 | L38: 5 | M38: 千葉市 | R38: 千葉県 | W38: 千葉市 | X38: 障害福祉事業所名称０５ | Y38: 障害者支援施設：生活介護
B39: =B38+1 -> 7
B40: =B39+1 -> 8
B41: =B40+1 -> 9
B42: =B41+1 -> 10
B43: =B42+1 -> 11
B44: =B43+1 -> 12
B45: =B44+1 -> 13
B46: =B45+1 -> 14
B47: =B46+1 -> 15
B48: =B47+1 -> 16
B49: =B48+1 -> 17
B50: =B49+1 -> 18
... B132: =B131+1 -> 100

Sheet ②【次に作成】別紙様式3-2
A1: 別紙様式３－２ | I1: 障害福祉サービス等処遇改善実績報告書（施設・事業所別個表）
A3: 法人名 | D3: =①【全員最初に作成】基本情報!$M$16 -> 社会福祉法人○○会
Q5: 本年度の加算の総額［円］ | R5: （グループ別内訳） | U5: 本年度の賃金の総額［円］ | V5: （グループ別内訳） | Z5: 本年度の常勤換算職員数［人］ | AC5: 経験・技能のある障害福祉人材のうち月平均8万円以上又は年額440万円以上［人］
R6: 経験・技能のある障害福祉人材(A) | S6: 他の 障害福祉人材(B) | T6: その他の職種(C) | V6: 経験・技能のある障害福祉人材(A) | W6: 他の 障害福祉人材(B) | X6: その他の職種(C) | Y6: 賃金改善前の賃金が年額440万円を上回る職員 | Z6: 経験・技能のある障害福祉人材(A) | AA6: 他の 障害福祉人材(B) | AB6: その他の職種(C) | AD6: 未設定の 事業所
B7: 福祉・介護職員処遇改善加算の合計 | Q7: =SUM(S20:S119) -> 24535200 | R7: =SUM(T20:T119) -> 6145200 | S7: =SUM(U20:U119) -> 18390000 | U7: =SUM(V20:V119) -> 236850000
B8: 福祉・介護職員等特定処遇改善加算の合計 | Q8: =SUM(X20:X119) -> 6727560 | R8: =SUM(Y20:Y119) -> 1561560 | S8: =SUM(Z20:Z119) -> 4590000 | T8: =SUM(AA20:AA119) -> 576000 | U8: =SUM(V8:X8) -> 284850000 | V8: =SUM(AB20:AB119) -> 65850000 | W8: =SUM(AC20:AC119) -> 171000000 | X8: =SUM(AD20:AD119) -> 48000000 | Y8: =SUM(AE20:AE119) -> 0 | Z8: =SUM(AF20:AF119) -> 171.6 | AA8: =SUM(AG20:AG119) -> 510 | AB8: =SUM(AH20:AH119) -> 144 | AC8: =SUM(AI20:AI119) -> 6 | AD8: =COUNTIFS(AI20:AI119,"",AG20:AG119,">０")+COUNTIFS(AI20:AI119,"",AF20:AF119,">０")-COUNTIFS(AF20:AF119,">0",AG20:AG119,">０",AI20:AI119,"") -> 0 | AF8: =IFERROR(IF(COUNTA(W20:W104)=0,"",IF(AND(Q8=SUM(R8:T8),U8=SUM(V8:Y8)),"○","×")),"") -> ○ | AG8: =IF(AF8="×","【エラー】特定加算に係る加算額または賃金額が総額と内訳で異なっています。","")
B10: ※本表に記載する事業所は、計画書の別紙様式２－２に記載した事業所と一致しなければならない。
B11: ※事業所の数が多く、１枚に記載しきれない場合は、適宜、行を追加すること。
B12: ※福祉・介護職員処遇改善加算のみの場合は、グループ別内訳の入力は不要である。
B14: 障害福祉サービス 事業所番号 | M14: 指定権者 | N14: 事業所の所在地 | P14: 事業所名 | Q14: サービス名 | R14: 福祉・介護職員処遇改善加算 | W14: 福祉・介護職員等特定処遇改善加算
R15: 算定する障害福祉人材処遇改善加算の区分 | S15: 本年度の加算の総額［円］ | V15: 本年度の賃金の総額［円］ | W15: 算定する障害福祉人材等特定処遇改善加算の区分 | X15: 本年度の加算の総額［円］ | AB15: 本年度の賃金の総額(［円］ | AF15: 本年度の常勤換算職員数［人］ | AI15: 経験・技能のある障害福祉人材のうち月平均8万円以上又は年額440万円以上［人］
N16: 都道府県 | O16: 市区町村 | T16: グループ別内訳 | Y16: グループ別内訳
T17: 経験・技能のある障害福祉人材(A) | U17: 他の 障害福祉人材(B) | Y17: 経験・技能のある障害福祉人材(A) | Z17: 他の 障害福祉人材(B) | AA17: その他の職種(C) | AB17: 経験・技能のある障害福祉人材(A) | AC17: 他の 障害福祉人材(B) | AD17: その他の職種(C) | AE17: 賃金改善前の賃金が年額440万円を上回る職員 | AF17: 経験・技能のある障害福祉人材(A) | AG17: 他の 障害福祉人材(B) | AH17: その他の職種(C) | AK17: 総額と内訳等のエラーチェック
AK18: 処遇改善加算の加算額 | AL18: 特定加算の 加算額 | AM18: 処遇改善加算と特定加算を併せて申請する場合の賃金総額（A・B）
A20: 1 | B20: =IF(①【全員最初に作成】基本情報!C33="","",①【全員最初に作成】基本情報!C33) -> 1 | C20: =IF(①【全員最初に作成】基本情報!D33="","",①【全員最初に作成】基本情報!D33) -> 3 | D20: =IF(①【全員最初に作成】基本情報!E33="","",①【全員最初に作成】基本情報!E33) -> 1 | E20: =IF(①【全員最初に作成】基本情報!F33="","",①【全員最初に作成】基本情報!F33) -> 4 | F20: =IF(①【全員最初に作成】基本情報!G33="","",①【全員最初に作成】基本情報!G33) -> 5 | G20: =IF(①【全員最初に作成】基本情報!H33="","",①【全員最初に作成】基本情報!H33) -> 6 | H20: =IF(①【全員最初に作成】基本情報!I33="","",①【全員最初に作成】基本情報!I33) -> 7 | I20: =IF(①【全員最初に作成】基本情報!J33="","",①【全員最初に作成】基本情報!J33) -> 8 | ... K20: =IF(①【全員最初に作成】基本情報!L33="","",①【全員最初に作成】基本情報!L33) -> 1 | L20: =B20&C20 -> 13 | M20: =IF(①【全員最初に作成】基本情報!M33="","",①【全員最初に作成】基本情報!M33) -> 東京都 | N20: =IF(①【全員最初に作成】基本情報!R33="","",①【全員最初に作成】基本情報!R33) -> 東京都 | O20: =IF(①【全員最初に作成】基本情報!W33="","",①【全員最初に作成】基本情報!W33) -> 千代田区 | P20: =IF(①【全員最初に作成】基本情報!X33="","",①【全員最初に作成】基本情報!X33) -> 障害福祉事業所名称０１ | Q20: =IF(①【全員最初に作成】基本情報!Y33="","",①【全員最初に作成】基本情報!Y33) -> 居宅介護 | R20: 加算Ⅰ | S20: =SUM(T20:U20) -> 2042400 | T20: 710400 | U20: 1332000 | V20: 19200000 | W20: 特定加算Ⅱ | X20: =SUM(Y20:AA20) -> 546720 | Y20: 174720 | Z20: 324000 | AA20: 48000 | AB20: 7200000 | AC20: 12000000 | AD20: 4000000 | AF20: =1.6*12 -> 19.2 | AG20: =3*12 -> 36 | AH20: =1*12 -> 12 | AI20: 1 | AK20: =IF(SUM(T20:U20)>0,IF(S20=SUM(T20:U20),"","×"),"") | AL20: =IF(X20=SUM(Y20:AA20),"","×") | AM20: =IF(SUM(AB20:AC20)>0,IF(V20=SUM(AB20:AC20),"","×"),"")
A21: =A20+1 -> 2 | B21: =IF(①【全員最初に作成】基本情報!C34="","",①【全員最初に作成】基本情報!C34) -> 1 | C21: =IF(①【全員最初に作成】基本情報!D34="","",①【全員最初に作成】基本情報!D34) -> 3 | D21: =IF(①【全員最初に作成】基本情報!E34="","",①【全員最初に作成】基本情報!E34) -> 1 | E21: =IF(①【全員最初に作成】基本情報!F34="","",①【全員最初に作成】基本情報!F34) -> 4 | F21: =IF(①【全員最初に作成】基本情報!G34="","",①【全員最初に作成】基本情報!G34) -> 5 | G21: =IF(①【全員最初に作成】基本情報!H34="","",①【全員最初に作成】基本情報!H34) -> 6 | H21: =IF(①【全員最初に作成】基本情報!I34="","",①【全員最初に作成】基本情報!I34) -> 7 | I21: =IF(①【全員最初に作成】基本情報!J34="","",①【全員最初に作成】基本情報!J34) -> 8 | ... K21: =IF(①【全員最初に作成】基本情報!L34="","",①【全員最初に作成】基本情報!L34) -> 2 | L21: =B21&C21 -> 13 | M21: =IF(①【全員最初に作成】基本情報!M34="","",①【全員最初に作成】基本情報!M34) -> 東京都 | N21: =IF(①【全員最初に作成】基本情報!R34="","",①【全員最初に作成】基本情報!R34) -> 東京都 | O21: =IF(①【全員最初に作成】基本情報!W34="","",①【全員最初に作成】基本情報!W34) -> 豊島区 | P21: =IF(①【全員最初に作成】基本情報!X34="","",①【全員最初に作成】基本情報!X34) -> 障害福祉事業所名称０２ | Q21: =IF(①【全員最初に作成】基本情報!Y34="","",①【全員最初に作成】基本情報!Y34) -> 居宅介護 | R21: 加算Ⅰ | S21: =SUM(T21:U21) -> 1846800 | T21: 550800 | U21: 1296000 | V21: 23650000 | W21: 特定加算Ⅰ | X21: =SUM(Y21:AA21) -> 665640 | Y21: 185640 | Z21: 432000 | AA21: 48000 | AB21: 7650000 | AC21: 16000000 | AD21: 4000000 | AF21: =1.7*12 -> 20.4 | AG21: =4*12 -> 48 | AH21: =1*12 -> 12 | AI21: 1 | AK21: =IF(SUM(T21:U21)>0,IF(S21=SUM(T21:U21),"","×"),"") | AL21: =IF(X21=SUM(Y21:AA21),"","×") | AM21: =IF(SUM(AB21:AC21)>0,IF(V21=SUM(AB21:AC21),"","×"),"")
A22: =A21+1 -> 3 | B22: =IF(①【全員最初に作成】基本情報!C35="","",①【全員最初に作成】基本情報!C35) -> 1 | C22: =IF(①【全員最初に作成】基本情報!D35="","",①【全員最初に作成】基本情報!D35) -> 3 | D22: =IF(①【全員最初に作成】基本情報!E35="","",①【全員最初に作成】基本情報!E35) -> 1 | E22: =IF(①【全員最初に作成】基本情報!F35="","",①【全員最初に作成】基本情報!F35) -> 4 | F22: =IF(①【全員最初に作成】基本情報!G35="","",①【全員最初に作成】基本情報!G35) -> 5 | G22: =IF(①【全員最初に作成】基本情報!H35="","",①【全員最初に作成】基本情報!H35) -> 6 | H22: =IF(①【全員最初に作成】基本情報!I35="","",①【全員最初に作成】基本情報!I35) -> 7 | I22: =IF(①【全員最初に作成】基本情報!J35="","",①【全員最初に作成】基本情報!J35) -> 8 | ... K22: =IF(①【全員最初に作成】基本情報!L35="","",①【全員最初に作成】基本情報!L35) -> 3 | L22: =B22&C22 -> 13 | M22: =IF(①【全員最初に作成】基本情報!M35="","",①【全員最初に作成】基本情報!M35) -> 東京都 | N22: =IF(①【全員最初に作成】基本情報!R35="","",①【全員最初に作成】基本情報!R35) -> 東京都 | O22: =IF(①【全員最初に作成】基本情報!W35="","",①【全員最初に作成】基本情報!W35) -> 世田谷区 | P22: =IF(①【全員最初に作成】基本情報!X35="","",①【全員最初に作成】基本情報!X35) -> 障害福祉事業所名称０３ | Q22: =IF(①【全員最初に作成】基本情報!Y35="","",①【全員最初に作成】基本情報!Y35) -> 生活介護 | R22: 加算Ⅰ | S22: =SUM(T22:U22) -> 2486400 | T22: 710400 | U22: 1776000 | V22: 23200000 | W22: 特定加算Ⅰ | X22: =SUM(Y22:AA22) -> 702720 | Y22: 174720 | Z22: 432000 | AA22: 96000 | AB22: 7200000 | AC22: 16000000 | AD22: 8000000 | AF22: =1.6*12 -> 19.2 | AG22: =4*12 -> 48 | AH22: =2*12 -> 24 | AI22: 1 | AK22: =IF(SUM(T22:U22)>0,IF(S22=SUM(T22:U22),"","×"),"") | AL22: =IF(X22=SUM(Y22:AA22),"","×") | AM22: =IF(SUM(AB22:AC22)>0,IF(V22=SUM(AB22:AC22),"","×"),"")
A23: =A22+1 -> 4 | B23: =IF(①【全員最初に作成】基本情報!C36="","",①【全員最初に作成】基本情報!C36) -> 1 | C23: =IF(①【全員最初に作成】基本情報!D36="","",①【全員最初に作成】基本情報!D36) -> 1 | D23: =IF(①【全員最初に作成】基本情報!E36="","",①【全員最初に作成】基本情報!E36) -> 1 | E23: =IF(①【全員最初に作成】基本情報!F36="","",①【全員最初に作成】基本情報!F36) -> 4 | F23: =IF(①【全員最初に作成】基本情報!G36="","",①【全員最初に作成】基本情報!G36) -> 5 | G23: =IF(①【全員最初に作成】基本情報!H36="","",①【全員最初に作成】基本情報!H36) -> 6 | H23: =IF(①【全員最初に作成】基本情報!I36="","",①【全員最初に作成】基本情報!I36) -> 7 | I23: =IF(①【全員最初に作成】基本情報!J36="","",①【全員最初に作成】基本情報!J36) -> 8 | ... K23: =IF(①【全員最初に作成】基本情報!L36="","",①【全員最初に作成】基本情報!L36) -> 4 | L23: =B23&C23 -> 11 | M23: =IF(①【全員最初に作成】基本情報!M36="","",①【全員最初に作成】基本情報!M36) -> さいたま市 | N23: =IF(①【全員最初に作成】基本情報!R36="","",①【全員最初に作成】基本情報!R36) -> 埼玉県 | O23: =IF(①【全員最初に作成】基本情報!W36="","",①【全員最初に作成】基本情報!W36) -> さいたま市 | P23: =IF(①【全員最初に作成】基本情報!X36="","",①【全員最初に作成】基本情報!X36) -> 障害福祉事業所名称０４ | Q23: =IF(①【全員最初に作成】基本情報!Y36="","",①【全員最初に作成】基本情報!Y36) -> 就労継続支援Ｂ型 | R23: 加算Ⅰ | S23: =SUM(T23:U23) -> 1554000 | T23: 444000 | U23: 1110000 | V23: 17000000 | W23: 特定加算Ⅰ | X23: =SUM(Y23:AA23) -> 475200 | Y23: 109200 | Z23: 270000 | AA23: 96000 | AB23: 6000000 | AC23: 11000000 | AD23: 8000000 | AF23: =1*12 -> 12 | AG23: =2.5*12 -> 30 | AH23: =2*12 -> 24 | AI23: 1 | AK23: =IF(SUM(T23:U23)>0,IF(S23=SUM(T23:U23),"","×"),"") | AL23: =IF(X23=SUM(Y23:AA23),"","×") | AM23: =IF(SUM(AB23:AC23)>0,IF(V23=SUM(AB23:AC23),"","×"),"")
A24: =A23+1 -> 5 | B24: =IF(①【全員最初に作成】基本情報!C37="","",①【全員最初に作成】基本情報!C37) -> 1 | C24: =IF(①【全員最初に作成】基本情報!D37="","",①【全員最初に作成】基本情報!D37) -> 2 | D24: =IF(①【全員最初に作成】基本情報!E37="","",①【全員最初に作成】基本情報!E37) -> 1 | E24: =IF(①【全員最初に作成】基本情報!F37="","",①【全員最初に作成】基本情報!F37) -> 4 | F24: =IF(①【全員最初に作成】基本情報!G37="","",①【全員最初に作成】基本情報!G37) -> 5 | G24: =IF(①【全員最初に作成】基本情報!H37="","",①【全員最初に作成】基本情報!H37) -> 6 | H24: =IF(①【全員最初に作成】基本情報!I37="","",①【全員最初に作成】基本情報!I37) -> 7 | I24: =IF(①【全員最初に作成】基本情報!J37="","",①【全員最初に作成】基本情報!J37) -> 8 | ... K24: =IF(①【全員最初に作成】基本情報!L37="","",①【全員最初に作成】基本情報!L37) -> 5 | L24: =B24&C24 -> 12 | M24: =IF(①【全員最初に作成】基本情報!M37="","",①【全員最初に作成】基本情報!M37) -> 千葉市 | N24: =IF(①【全員最初に作成】基本情報!R37="","",①【全員最初に作成】基本情報!R37) -> 千葉県 | O24: =IF(①【全員最初に作成】基本情報!W37="","",①【全員最初に作成】基本情報!W37) -> 千葉市 | P24: =IF(①【全員最初に作成】基本情報!X37="","",①【全員最初に作成】基本情報!X37) -> 障害福祉事業所名称０５ | Q24: =IF(①【全員最初に作成】基本情報!Y37="","",①【全員最初に作成】基本情報!Y37) -> 施設入所支援 | R24: 加算Ⅰ | S24: =SUM(T24:U24) -> 7326000 | T24: 1554000 | U24: 5772000 | V24: 67750000 | W24: 区分なし | X24: =SUM(Y24:AA24) -> 1930200 | Y24: 382200 | Z24: 1404000 | AA24: 144000 | AB24: 15750000 | AC24: 52000000 | AD24: 12000000 | AF24: =3.5*12 -> 42 | AG24: =13*12 -> 156 | AH24: =3*12 -> 36 | AI24: 1 | AK24: =IF(SUM(T24:U24)>0,IF(S24=SUM(T24:U24),"","×"),"") | AL24: =IF(X24=SUM(Y24:AA24),"","×") | AM24: =IF(SUM(AB24:AC24)>0,IF(V24=SUM(AB24:AC24),"","×"),"")
A25: =A24+1 -> 6 | B25: =IF(①【全員最初に作成】基本情報!C38="","",①【全員最初に作成】基本情報!C38) -> 1 | C25: =IF(①【全員最初に作成】基本情報!D38="","",①【全員最初に作成】基本情報!D38) -> 2 | D25: =IF(①【全員最初に作成】基本情報!E38="","",①【全員最初に作成】基本情報!E38) -> 1 | E25: =IF(①【全員最初に作成】基本情報!F38="","",①【全員最初に作成】基本情報!F38) -> 4 | F25: =IF(①【全員最初に作成】基本情報!G38="","",①【全員最初に作成】基本情報!G38) -> 5 | G25: =IF(①【全員最初に作成】基本情報!H38="","",①【全員最初に作成】基本情報!H38) -> 6 | H25: =IF(①【全員最初に作成】基本情報!I38="","",①【全員最初に作成】基本情報!I38) -> 7 | I25: =IF(①【全員最初に作成】基本情報!J38="","",①【全員最初に作成】基本情報!J38) -> 8 | ... K25: =IF(①【全員最初に作成】基本情報!L38="","",①【全員最初に作成】基本情報!L38) -> 5 | L25: =B25&C25 -> 12 | M25: =IF(①【全員最初に作成】基本情報!M38="","",①【全員最初に作成】基本情報!M38) -> 千葉市 | N25: =IF(①【全員最初に作成】基本情報!R38="","",①【全員最初に作成】基本情報!R38) -> 千葉県 | O25: =IF(①【全員最初に作成】基本情報!W38="","",①【全員最初に作成】基本情報!W38) -> 千葉市 | P25: =IF(①【全員最初に作成】基本情報!X38="","",①【全員最初に作成】基本情報!X38) -> 障害福祉事業所名称０５ | Q25: =IF(①【全員最初に作成】基本情報!Y38="","",①【全員最初に作成】基本情報!Y38) -> 障害者支援施設：生活介護 | R25: 加算Ⅰ | S25: =SUM(T25:U25) -> 9279600 | T25: 2175600 | U25: 7104000 | V25: 86050000 | W25: 区分なし | X25: =SUM(Y25:AA25) -> 2407080 | Y25: 535080 | Z25: 1728000 | AA25: 144000 | AB25: 22050000 | AC25: 64000000 | AD25: 12000000 | AF25: =4.9*12 -> 58.8 | AG25: =16*12 -> 192 | AH25: =3*12 -> 36 | AI25: 1 | AK25: =IF(SUM(T25:U25)>0,IF(S25=SUM(T25:U25),"","×"),"") | AL25: =IF(X25=SUM(Y25:AA25),"","×") | AM25: =IF(SUM(AB25:AC25)>0,IF(V25=SUM(AB25:AC25),"","×"),"")
A26: =A25+1 -> 7 | B26: =IF(①【全員最初に作成】基本情報!C39="","",①【全員最初に作成】基本情報!C39) | C26: =IF(①【全員最初に作成】基本情報!D39="","",①【全員最初に作成】基本情報!D39) | D26: =IF(①【全員最初に作成】基本情報!E39="","",①【全員最初に作成】基本情報!E39) | E26: =IF(①【全員最初に作成】基本情報!F39="","",①【全員最初に作成】基本情報!F39) | F26: =IF(①【全員最初に作成】基本情報!G39="","",①【全員最初に作成】基本情報!G39) | G26: =IF(①【全員最初に作成】基本情報!H39="","",①【全員最初に作成】基本情報!H39) | H26: =IF(①【全員最初に作成】基本情報!I39="","",①【全員最初に作成】基本情報!I39) | I26: =IF(①【全員最初に作成】基本情報!J39="","",①【全員最初に作成】基本情報!J39) | ... K26: =IF(①【全員最初に作成】基本情報!L39="","",①【全員最初に作成】基本情報!L39) | L26: =B26&C26 | M26: =IF(①【全員最初に作成】基本情報!M39="","",①【全員最初に作成】基本情報!M39) | N26: =IF(①【全員最初に作成】基本情報!R39="","",①【全員最初に作成】基本情報!R39) | O26: =IF(①【全員最初に作成】基本情報!W39="","",①【全員最初に作成】基本情報!W39) | P26: =IF(①【全員最初に作成】基本情報!X39="","",①【全員最初に作成】基本情報!X39) | Q26: =IF(①【全員最初に作成】基本情報!Y39="","",①【全員最初に作成】基本情報!Y39) | AK26: =IF(SUM(T26:U26)>0,IF(S26=SUM(T26:U26),"","×"),"") | AL26: =IF(X26=SUM(Y26:AA26),"","×") | AM26: =IF(SUM(AB26:AC26)>0,IF(V26=SUM(AB26:AC26),"","×"),"")
A27: =A26+1 -> 8 | B27: =IF(①【全員最初に作成】基本情報!C40="","",①【全員最初に作成】基本情報!C40) | C27: =IF(①【全員最初に作成】基本情報!D40="","",①【全員最初に作成】基本情報!D40) | D27: =IF(①【全員最初に作成】基本情報!E40="","",①【全員最初に作成】基本情報!E40) | E27: =IF(①【全員最初に作成】基本情報!F40="","",①【全員最初に作成】基本情報!F40) | F27: =IF(①【全員最初に作成】基本情報!G40="","",①【全員最初に作成】基本情報!G40) | G27: =IF(①【全員最初に作成】基本情報!H40="","",①【全員最初に作成】基本情報!H40) | H27: =IF(①【全員最初に作成】基本情報!I40="","",①【全員最初に作成】基本情報!I40) | I27: =IF(①【全員最初に作成】基本情報!J40="","",①【全員最初に作成】基本情報!J40) | ... K27: =IF(①【全員最初に作成】基本情報!L40="","",①【全員最初に作成】基本情報!L40) | L27: =B27&C27 | M27: =IF(①【全員最初に作成】基本情報!M40="","",①【全員最初に作成】基本情報!M40) | N27: =IF(①【全員最初に作成】基本情報!R40="","",①【全員最初に作成】基本情報!R40) | O27: =IF(①【全員最初に作成】基本情報!W40="","",①【全員最初に作成】基本情報!W40) | P27: =IF(①【全員最初に作成】基本情報!X40="","",①【全員最初に作成】基本情報!X40) | Q27: =IF(①【全員最初に作成】基本情報!Y40="","",①【全員最初に作成】基本情報!Y40) | AK27: =IF(SUM(T27:U27)>0,IF(S27=SUM(T27:U27),"","×"),"") | AL27: =IF(X27=SUM(Y27:AA27),"","×") | AM27: =IF(SUM(AB27:AC27)>0,IF(V27=SUM(AB27:AC27),"","×"),"")
A28: =A27+1 -> 9 | B28: =IF(①【全員最初に作成】基本情報!C41="","",①【全員最初に作成】基本情報!C41) | C28: =IF(①【全員最初に作成】基本情報!D41="","",①【全員最初に作成】基本情報!D41) | D28: =IF(①【全員最初に作成】基本情報!E41="","",①【全員最初に作成】基本情報!E41) | E28: =IF(①【全員最初に作成】基本情報!F41="","",①【全員最初に作成】基本情報!F41) | F28: =IF(①【全員最初に作成】基本情報!G41="","",①【全員最初に作成】基本情報!G41) | G28: =IF(①【全員最初に作成】基本情報!H41="","",①【全員最初に作成】基本情報!H41) | H28: =IF(①【全員最初に作成】基本情報!I41="","",①【全員最初に作成】基本情報!I41) | I28: =IF(①【全員最初に作成】基本情報!J41="","",①【全員最初に作成】基本情報!J41) | ... K28: =IF(①【全員最初に作成】基本情報!L41="","",①【全員最初に作成】基本情報!L41) | L28: =B28&C28 | M28: =IF(①【全員最初に作成】基本情報!M41="","",①【全員最初に作成】基本情報!M41) | N28: =IF(①【全員最初に作成】基本情報!R41="","",①【全員最初に作成】基本情報!R41) | O28: =IF(①【全員最初に作成】基本情報!W41="","",①【全員最初に作成】基本情報!W41) | P28: =IF(①【全員最初に作成】基本情報!X41="","",①【全員最初に作成】基本情報!X41) | Q28: =IF(①【全員最初に作成】基本情報!Y41="","",①【全員最初に作成】基本情報!Y41) | AK28: =IF(SUM(T28:U28)>0,IF(S28=SUM(T28:U28),"","×"),"") | AL28: =IF(X28=SUM(Y28:AA28),"","×") | AM28: =IF(SUM(AB28:AC28)>0,IF(V28=SUM(AB28:AC28),"","×"),"")
A29: =A28+1 -> 10 | B29: =IF(①【全員最初に作成】基本情報!C42="","",①【全員最初に作成】基本情報!C42) | C29: =IF(①【全員最初に作成】基本情報!D42="","",①【全員最初に作成】基本情報!D42) | D29: =IF(①【全員最初に作成】基本情報!E42="","",①【全員最初に作成】基本情報!E42) | E29: =IF(①【全員最初に作成】基本情報!F42="","",①【全員最初に作成】基本情報!F42) | F29: =IF(①【全員最初に作成】基本情報!G42="","",①【全員最初に作成】基本情報!G42) | G29: =IF(①【全員最初に作成】基本情報!H42="","",①【全員最初に作成】基本情報!H42) | H29: =IF(①【全員最初に作成】基本情報!I42="","",①【全員最初に作成】基本情報!I42) | I29: =IF(①【全員最初に作成】基本情報!J42="","",①【全員最初に作成】基本情報!J42) | ... K29: =IF(①【全員最初に作成】基本情報!L42="","",①【全員最初に作成】基本情報!L42) | L29: =B29&C29 | M29: =IF(①【全員最初に作成】基本情報!M42="","",①【全員最初に作成】基本情報!M42) | N29: =IF(①【全員最初に作成】基本情報!R42="","",①【全員最初に作成】基本情報!R42) | O29: =IF(①【全員最初に作成】基本情報!W42="","",①【全員最初に作成】基本情報!W42) | P29: =IF(①【全員最初に作成】基本情報!X42="","",①【全員最初に作成】基本情報!X42) | Q29: =IF(①【全員最初に作成】基本情報!Y42="","",①【全員最初に作成】基本情報!Y42) | AK29: =IF(SUM(T29:U29)>0,IF(S29=SUM(T29:U29),"","×"),"") | AL29: =IF(X29=SUM(Y29:AA29),"","×") | AM29: =IF(SUM(AB29:AC29)>0,IF(V29=SUM(AB29:AC29),"","×"),"")
A30: =A29+1 -> 11 | B30: =IF(①【全員最初に作成】基本情報!C43="","",①【全員最初に作成】基本情報!C43) | C30: =IF(①【全員最初に作成】基本情報!D43="","",①【全員最初に作成】基本情報!D43) | D30: =IF(①【全員最初に作成】基本情報!E43="","",①【全員最初に作成】基本情報!E43) | E30: =IF(①【全員最初に作成】基本情報!F43="","",①【全員最初に作成】基本情報!F43) | F30: =IF(①【全員最初に作成】基本情報!G43="","",①【全員最初に作成】基本情報!G43) | G30: =IF(①【全員最初に作成】基本情報!H43="","",①【全員最初に作成】基本情報!H43) | H30: =IF(①【全員最初に作成】基本情報!I43="","",①【全員最初に作成】基本情報!I43) | I30: =IF(①【全員最初に作成】基本情報!J43="","",①【全員最初に作成】基本情報!J43) | ... K30: =IF(①【全員最初に作成】基本情報!L43="","",①【全員最初に作成】基本情報!L43) | L30: =B30&C30 | M30: =IF(①【全員最初に作成】基本情報!M43="","",①【全員最初に作成】基本情報!M43) | N30: =IF(①【全員最初に作成】基本情報!R43="","",①【全員最初に作成】基本情報!R43) | O30: =IF(①【全員最初に作成】基本情報!W43="","",①【全員最初に作成】基本情報!W43) | P30: =IF(①【全員最初に作成】基本情報!X43="","",①【全員最初に作成】基本情報!X43) | Q30: =IF(①【全員最初に作成】基本情報!Y43="","",①【全員最初に作成】基本情報!Y43) | AK30: =IF(SUM(T30:U30)>0,IF(S30=SUM(T30:U30),"","×"),"") | AL30: =IF(X30=SUM(Y30:AA30),"","×") | AM30: =IF(SUM(AB30:AC30)>0,IF(V30=SUM(AB30:AC30),"","×"),"")
A31: =A30+1 -> 12 | B31: =IF(①【全員最初に作成】基本情報!C44="","",①【全員最初に作成】基本情報!C44) | C31: =IF(①【全員最初に作成】基本情報!D44="","",①【全員最初に作成】基本情報!D44) | D31: =IF(①【全員最初に作成】基本情報!E44="","",①【全員最初に作成】基本情報!E44) | E31: =IF(①【全員最初に作成】基本情報!F44="","",①【全員最初に作成】基本情報!F44) | F31: =IF(①【全員最初に作成】基本情報!G44="","",①【全員最初に作成】基本情報!G44) | G31: =IF(①【全員最初に作成】基本情報!H44="","",①【全員最初に作成】基本情報!H44) | H31: =IF(①【全員最初に作成】基本情報!I44="","",①【全員最初に作成】基本情報!I44) | I31: =IF(①【全員最初に作成】基本情報!J44="","",①【全員最初に作成】基本情報!J44) | ... K31: =IF(①【全員最初に作成】基本情報!L44="","",①【全員最初に作成】基本情報!L44) | L31: =B31&C31 | M31: =IF(①【全員最初に作成】基本情報!M44="","",①【全員最初に作成】基本情報!M44) | N31: =IF(①【全員最初に作成】基本情報!R44="","",①【全員最初に作成】基本情報!R44) | O31: =IF(①【全員最初に作成】基本情報!W44="","",①【全員最初に作成】基本情報!W44) | P31: =IF(①【全員最初に作成】基本情報!X44="","",①【全員最初に作成】基本情報!X44) | Q31: =IF(①【全員最初に作成】基本情報!Y44="","",①【全員最初に作成】基本情報!Y44) | AK31: =IF(SUM(T31:U31)>0,IF(S31=SUM(T31:U31),"","×"),"") | AL31: =IF(X31=SUM(Y31:AA31),"","×") | AM31: =IF(SUM(AB31:AC31)>0,IF(V31=SUM(AB31:AC31),"","×"),"")
A32: =A31+1 -> 13 | B32: =IF(①【全員最初に作成】基本情報!C45="","",①【全員最初に作成】基本情報!C45) | C32: =IF(①【全員最初に作成】基本情報!D45="","",①【全員最初に作成】基本情報!D45) | D32: =IF(①【全員最初に作成】基本情報!E45="","",①【全員最初に作成】基本情報!E45) | E32: =IF(①【全員最初に作成】基本情報!F45="","",①【全員最初に作成】基本情報!F45) | F32: =IF(①【全員最初に作成】基本情報!G45="","",①【全員最初に作成】基本情報!G45) | G32: =IF(①【全員最初に作成】基本情報!H45="","",①【全員最初に作成】基本情報!H45) | H32: =IF(①【全員最初に作成】基本情報!I45="","",①【全員最初に作成】基本情報!I45) | I32: =IF(①【全員最初に作成】基本情報!J45="","",①【全員最初に作成】基本情報!J45) | ... K32: =IF(①【全員最初に作成】基本情報!L45="","",①【全員最初に作成】基本情報!L45) | L32: =B32&C32 | M32: =IF(①【全員最初に作成】基本情報!M45="","",①【全員最初に作成】基本情報!M45) | N32: =IF(①【全員最初に作成】基本情報!R45="","",①【全員最初に作成】基本情報!R45) | O32: =IF(①【全員最初に作成】基本情報!W45="","",①【全員最初に作成】基本情報!W45) | P32: =IF(①【全員最初に作成】基本情報!X45="","",①【全員最初に作成】基本情報!X45) | Q32: =IF(①【全員最初に作成】基本情報!Y45="","",①【全員最初に作成】基本情報!Y45) | AK32: =IF(SUM(T32:U32)>0,IF(S32=SUM(T32:U32),"","×"),"") | AL32: =IF(X32=SUM(Y32:AA32),"","×") | AM32: =IF(SUM(AB32:AC32)>0,IF(V32=SUM(AB32:AC32),"","×"),"")
A33: =A32+1 -> 14 | B33: =IF(①【全員最初に作成】基本情報!C46="","",①【全員最初に作成】基本情報!C46) | C33: =IF(①【全員最初に作成】基本情報!D46="","",①【全員最初に作成】基本情報!D46) | D33: =IF(①【全員最初に作成】基本情報!E46="","",①【全員最初に作成】基本情報!E46) | E33: =IF(①【全員最初に作成】基本情報!F46="","",①【全員最初に作成】基本情報!F46) | F33: =IF(①【全員最初に作成】基本情報!G46="","",①【全員最初に作成】基本情報!G46) | G33: =IF(①【全員最初に作成】基本情報!H46="","",①【全員最初に作成】基本情報!H46) | H33: =IF(①【全員最初に作成】基本情報!I46="","",①【全員最初に作成】基本情報!I46) | I33: =IF(①【全員最初に作成】基本情報!J46="","",①【全員最初に作成】基本情報!J46) | ... K33: =IF(①【全員最初に作成】基本情報!L46="","",①【全員最初に作成】基本情報!L46) | L33: =B33&C33 | M33: =IF(①【全員最初に作成】基本情報!M46="","",①【全員最初に作成】基本情報!M46) | N33: =IF(①【全員最初に作成】基本情報!R46="","",①【全員最初に作成】基本情報!R46) | O33: =IF(①【全員最初に作成】基本情報!W46="","",①【全員最初に作成】基本情報!W46) | P33: =IF(①【全員最初に作成】基本情報!X46="","",①【全員最初に作成】基本情報!X46) | Q33: =IF(①【全員最初に作成】基本情報!Y46="","",①【全員最初に作成】基本情報!Y46) | AK33: =IF(SUM(T33:U33)>0,IF(S33=SUM(T33:U33),"","×"),"") | AL33: =IF(X33=SUM(Y33:AA33),"","×") | AM33: =IF(SUM(AB33:AC33)>0,IF(V33=SUM(AB33:AC33),"","×"),"")
A34: =A33+1 -> 15 | B34: =IF(①【全員最初に作成】基本情報!C47="","",①【全員最初に作成】基本情報!C47) | C34: =IF(①【全員最初に作成】基本情報!D47="","",①【全員最初に作成】基本情報!D47) | D34: =IF(①【全員最初に作成】基本情報!E47="","",①【全員最初に作成】基本情報!E47) | E34: =IF(①【全員最初に作成】基本情報!F47="","",①【全員最初に作成】基本情報!F47) | F34: =IF(①【全員最初に作成】基本情報!G47="","",①【全員最初に作成】基本情報!G47) | G34: =IF(①【全員最初に作成】基本情報!H47="","",①【全員最初に作成】基本情報!H47) | H34: =IF(①【全員最初に作成】基本情報!I47="","",①【全員最初に作成】基本情報!I47) | I34: =IF(①【全員最初に作成】基本情報!J47="","",①【全員最初に作成】基本情報!J47) | ... K34: =IF(①【全員最初に作成】基本情報!L47="","",①【全員最初に作成】基本情報!L47) | L34: =B34&C34 | M34: =IF(①【全員最初に作成】基本情報!M47="","",①【全員最初に作成】基本情報!M47) | N34: =IF(①【全員最初に作成】基本情報!R47="","",①【全員最初に作成】基本情報!R47) | O34: =IF(①【全員最初に作成】基本情報!W47="","",①【全員最初に作成】基本情報!W47) | P34: =IF(①【全員最初に作成】基本情報!X47="","",①【全員最初に作成】基本情報!X47) | Q34: =IF(①【全員最初に作成】基本情報!Y47="","",①【全員最初に作成】基本情報!Y47) | AK34: =IF(SUM(T34:U34)>0,IF(S34=SUM(T34:U34),"","×"),"") | AL34: =IF(X34=SUM(Y34:AA34),"","×") | AM34: =IF(SUM(AB34:AC34)>0,IF(V34=SUM(AB34:AC34),"","×"),"")
A35: =A34+1 -> 16 | B35: =IF(①【全員最初に作成】基本情報!C48="","",①【全員最初に作成】基本情報!C48) | C35: =IF(①【全員最初に作成】基本情報!D48="","",①【全員最初に作成】基本情報!D48) | D35: =IF(①【全員最初に作成】基本情報!E48="","",①【全員最初に作成】基本情報!E48) | E35: =IF(①【全員最初に作成】基本情報!F48="","",①【全員最初に作成】基本情報!F48) | F35: =IF(①【全員最初に作成】基本情報!G48="","",①【全員最初に作成】基本情報!G48) | G35: =IF(①【全員最初に作成】基本情報!H48="","",①【全員最初に作成】基本情報!H48) | H35: =IF(①【全員最初に作成】基本情報!I48="","",①【全員最初に作成】基本情報!I48) | I35: =IF(①【全員最初に作成】基本情報!J48="","",①【全員最初に作成】基本情報!J48) | ... K35: =IF(①【全員最初に作成】基本情報!L48="","",①【全員最初に作成】基本情報!L48) | L35: =B35&C35 | M35: =IF(①【全員最初に作成】基本情報!M48="","",①【全員最初に作成】基本情報!M48) | N35: =IF(①【全員最初に作成】基本情報!R48="","",①【全員最初に作成】基本情報!R48) | O35: =IF(①【全員最初に作成】基本情報!W48="","",①【全員最初に作成】基本情報!W48) | P35: =IF(①【全員最初に作成】基本情報!X48="","",①【全員最初に作成】基本情報!X48) | Q35: =IF(①【全員最初に作成】基本情報!Y48="","",①【全員最初に作成】基本情報!Y48) | AK35: =IF(SUM(T35:U35)>0,IF(S35=SUM(T35:U35),"","×"),"") | AL35: =IF(X35=SUM(Y35:AA35),"","×") | AM35: =IF(SUM(AB35:AC35)>0,IF(V35=SUM(AB35:AC35),"","×"),"")
A36: =A35+1 -> 17 | B36: =IF(①【全員最初に作成】基本情報!C49="","",①【全員最初に作成】基本情報!C49) | C36: =IF(①【全員最初に作成】基本情報!D49="","",①【全員最初に作成】基本情報!D49) | D36: =IF(①【全員最初に作成】基本情報!E49="","",①【全員最初に作成】基本情報!E49) | E36: =IF(①【全員最初に作成】基本情報!F49="","",①【全員最初に作成】基本情報!F49) | F36: =IF(①【全員最初に作成】基本情報!G49="","",①【全員最初に作成】基本情報!G49) | G36: =IF(①【全員最初に作成】基本情報!H49="","",①【全員最初に作成】基本情報!H49) | H36: =IF(①【全員最初に作成】基本情報!I49="","",①【全員最初に作成】基本情報!I49) | I36: =IF(①【全員最初に作成】基本情報!J49="","",①【全員最初に作成】基本情報!J49) | ... K36: =IF(①【全員最初に作成】基本情報!L49="","",①【全員最初に作成】基本情報!L49) | L36: =B36&C36 | M36: =IF(①【全員最初に作成】基本情報!M49="","",①【全員最初に作成】基本情報!M49) | N36: =IF(①【全員最初に作成】基本情報!R49="","",①【全員最初に作成】基本情報!R49) | O36: =IF(①【全員最初に作成】基本情報!W49="","",①【全員最初に作成】基本情報!W49) | P36: =IF(①【全員最初に作成】基本情報!X49="","",①【全員最初に作成】基本情報!X49) | Q36: =IF(①【全員最初に作成】基本情報!Y49="","",①【全員最初に作成】基本情報!Y49) | AK36: =IF(SUM(T36:U36)>0,IF(S36=SUM(T36:U36),"","×"),"") | AL36: =IF(X36=SUM(Y36:AA36),"","×") | AM36: =IF(SUM(AB36:AC36)>0,IF(V36=SUM(AB36:AC36),"","×"),"")
A37: =A36+1 -> 18 | B37: =IF(①【全員最初に作成】基本情報!C50="","",①【全員最初に作成】基本情報!C50) | C37: =IF(①【全員最初に作成】基本情報!D50="","",①【全員最初に作成】基本情報!D50) | D37: =IF(①【全員最初に作成】基本情報!E50="","",①【全員最初に作成】基本情報!E50) | E37: =IF(①【全員最初に作成】基本情報!F50="","",①【全員最初に作成】基本情報!F50) | F37: =IF(①【全員最初に作成】基本情報!G50="","",①【全員最初に作成】基本情報!G50) | G37: =IF(①【全員最初に作成】基本情報!H50="","",①【全員最初に作成】基本情報!H50) | H37: =IF(①【全員最初に作成】基本情報!I50="","",①【全員最初に作成】基本情報!I50) | I37: =IF(①【全員最初に作成】基本情報!J50="","",①【全員最初に作成】基本情報!J50) | ... K37: =IF(①【全員最初に作成】基本情報!L50="","",①【全員最初に作成】基本情報!L50) | L37: =B37&C37 | M37: =IF(①【全員最初に作成】基本情報!M50="","",①【全員最初に作成】基本情報!M50) | N37: =IF(①【全員最初に作成】基本情報!R50="","",①【全員最初に作成】基本情報!R50) | O37: =IF(①【全員最初に作成】基本情報!W50="","",①【全員最初に作成】基本情報!W50) | P37: =IF(①【全員最初に作成】基本情報!X50="","",①【全員最初に作成】基本情報!X50) | Q37: =IF(①【全員最初に作成】基本情報!Y50="","",①【全員最初に作成】基本情報!Y50) | AK37: =IF(SUM(T37:U37)>0,IF(S37=SUM(T37:U37),"","×"),"") | AL37: =IF(X37=SUM(Y37:AA37),"","×") | AM37: =IF(SUM(AB37:AC37)>0,IF(V37=SUM(AB37:AC37),"","×"),"")
... A119: =A118+1 -> 100 | B119: =IF(①【全員最初に作成】基本情報!C132="","",①【全員最初に作成】基本情報!C132) | C119: =IF(①【全員最初に作成】基本情報!D132="","",①【全員最初に作成】基本情報!D132) | D119: =IF(①【全員最初に作成】基本情報!E132="","",①【全員最初に作成】基本情報!E132) | E119: =IF(①【全員最初に作成】基本情報!F132="","",①【全員最初に作成】基本情報!F132) | F119: =IF(①【全員最初に作成】基本情報!G132="","",①【全員最初に作成】基本情報!G132) | G119: =IF(①【全員最初に作成】基本情報!H132="","",①【全員最初に作成】基本情報!H132) | H119: =IF(①【全員最初に作成】基本情報!I132="","",①【全員最初に作成】基本情報!I132) | I119: =IF(①【全員最初に作成】基本情報!J132="","",①【全員最初に作成】基本情報!J132) | ... K119: =IF(①【全員最初に作成】基本情報!L132="","",①【全員最初に作成】基本情報!L132) | L119: =B119&C119 | M119: =IF(①【全員最初に作成】基本情報!M132="","",①【全員最初に作成】基本情報!M132) | N119: =IF(①【全員最初に作成】基本情報!R132="","",①【全員最初に作成】基本情報!R132) | O119: =IF(①【全員最初に作成】基本情報!W132="","",①【全員最初に作成】基本情報!W132) | P119: =IF(①【全員最初に作成】基本情報!X132="","",①【全員最初に作成】基本情報!X132) | Q119: =IF(①【全員最初に作成】基本情報!Y132="","",①【全員最初に作成】基本情報!Y132) | AK119: =IF(SUM(T119:U119)>0,IF(S119=SUM(T119:U119),"","×"),"") | AL119: =IF(X119=SUM(Y119:AA119),"","×") | AM119: =IF(SUM(AB119:AC119)>0,IF(V119=SUM(AB119:AC119),"","×"),"")

Sheet ③【様式3-2の後に作成】別紙様式3-1
A1: 別紙様式３－１ | Y1: 提出先 | AC1: =IF(①【全員最初に作成】基本情報!C11="","",①【全員最初に作成】基本情報!C11) -> 東京都
Z3: 障害福祉サービス等処遇改善実績報告書（令和 | AA3: 3 | AC3: 年度）
A4: （福祉・介護職員処遇改善実績報告書、福祉・介護職員等特定処遇改善実績報告書）
A6: １ 基本情報
A8: フリガナ | G8: =IF(①【全員最初に作成】基本情報!M15="","",①【全員最初に作成】基本情報!M15) -> シャカイフクシホウジンマルマルカイ
A9: 法人名 | G9: =IF(①【全員最初に作成】基本情報!M16="","",①【全員最初に作成】基本情報!M16) -> 社会福祉法人○○会
A10: 法人所在地 | G10: 〒 | H10: =IF(①【全員最初に作成】基本情報!AD17="","",①【全員最初に作成】基本情報!AD17) -> 100－1234
G11: =IF(①【全員最初に作成】基本情報!M18="","",①【全員最初に作成】基本情報!M18) -> 千代田区霞が関１－２－２
G12: =IF(①【全員最初に作成】基本情報!M19="","",①【全員最初に作成】基本情報!M19) -> ○○ビル18Ｆ
A13: フリガナ | G13: =IF(①【全員最初に作成】基本情報!M22="","",①【全員最初に作成】基本情報!M22) -> コウロウ タロウ
A14: 書類作成担当者 | G14: =IF(①【全員最初に作成】基本情報!M23="","",①【全員最初に作成】基本情報!M23) -> 厚労 太郎
A15: 連絡先 | G15: 電話番号 | K15: =IF(①【全員最初に作成】基本情報!M24="","",①【全員最初に作成】基本情報!M24) -> 03-3571-0000 | P15: FAX番号 | T15: =IF(①【全員最初に作成】基本情報!M25="","",①【全員最初に作成】基本情報!M25) -> 03-3571-9999 | Y15: E-mail | AC15: =IF(①【全員最初に作成】基本情報!M26="","",①【全員最初に作成】基本情報!M26) -> aaa@aaa.aa.jp
A18: 【本報告書で報告する加算】 加算名称にチェックを入れること。 | AL18: 処遇 | AM18: 特定
C19: 福祉・介護職員処遇改善加算（処遇改善加算） | T19: 福祉・介護職員等特定処遇改善加算（特定加算） | AL19: TRUE | AM19: TRUE
A23: ２ 実績報告＜共通＞ | J23: ※詳細は別紙様式３－２に記載
A25: （１）福祉・介護職員処遇改善加算のみの場合
AB26: 処遇改善加算
A27: ① | B27: 令和 | D27: =IF($AA$3="","",$AA$3) -> 3 | F27: 年度分の処遇改善加算の総額 | AB27: ='②【次に作成】別紙様式3-2'!$Q$7 -> 24535200 | AI27: 円 | AK27: <- | AL27: =IFERROR(IF(AND(ISNUMBER(AB28),ISNUMBER(AB27),AB28>=AB27),"○","☓"),"") -> ○ | AM27: ！この欄が○でない場合、処遇改善加算による賃金改善所要額が要件を満たしていません。
A28: ② | B28: 賃金改善所要額（ⅰ－ⅱ） | AA28: (右欄の額は①欄の額以上となること) | AB28: =AB29-AB30 -> 236850000 | AI28: 円
B29: ⅰ）処遇改善加算の算定により賃金改善を行った福祉・介護職員の賃金の総額 | AB29: ='②【次に作成】別紙様式3-2'!$U$7 -> 236850000 | AI29: 円
B30: ⅱ）前年度の福祉・介護職員の賃金の総額【基準額１】 | AI30: 円
B32: ※②ⅰ）には、賃金改善に伴う法定福利費等の事業主負担の増加分を含めることができる。
B33: ※②ⅱ）には、計画書の（１）④ⅱ）の額を記載すること
B34: ※処遇改善加算のみの場合、別紙様式３－２におけるグループ別の内訳は記載不要
A37: （２）福祉・介護職員等特定処遇改善加算を併せて報告する場合
S39: 処遇改善加算 | AB39: 特定加算
A40: ① | B40: 令和 | D40: =IF($AA$3="","",$AA$3) -> 3 | F40: 年度分の加算の総額 | S40: ='②【次に作成】別紙様式3-2'!$Q$7 -> 24535200 | Z40: 円 | AB40: ='②【次に作成】別紙様式3-2'!$Q$8 -> 6727560 | AI40: 円 | AL40: =IFERROR(IF(AND(ISNUMBER(S41),ISNUMBER(S40),S41>=S40),"○","☓"),"") -> ○ | AM40: ！この欄が○でない場合、処遇改善加算による賃金改善所要額が要件を満たしていません。
A41: ② | B41: 賃金改善所要額（ⅰ－ⅱ） | R41: ※右欄の額は①欄の額以上となること | S41: =S42-S46 -> 24572440 | Z41: 円 | AB41: =AB42-AB46 -> 6764800 | AI41: 円 | AK41: <- | AL41: =IFERROR(IF(AND(ISNUMBER(AB41),ISNUMBER(AB40),AB41>=AB40),"○","☓"),"") -> ○ | AM41: ！この欄が○でない場合、特定加算による賃金改善所要額が要件を満たしていません。
B42: ⅰ）加算の算定により賃金改善を行った賃金の総額 | S42: =S43-S45 -> 230698440 | Z42: 円 | AB42: =AB43-AB44 -> 260314800 | AI42: 円
C43: 本年度の賃金の総額(a) | S43: ='②【次に作成】別紙様式3-2'!$U$7 -> 236850000 | Z43: 円 | AB43: ='②【次に作成】別紙様式3-2'!$U$8 -> 284850000 | AI43: 円
C44: 処遇改善加算の総額(b) | AB44: ='②【次に作成】別紙様式3-2'!$Q$7 -> 24535200 | AI44: 円
C45: 特定加算の総額(c) ※その他の職種への支給分を除く | S45: ='②【次に作成】別紙様式3-2'!Q8-'②【次に作成】別紙様式3-2'!$T$8 -> 6151560 | Z45: 円
B46: ⅱ）前年度の賃金の総額【基準額１】【基準額２】 | S46: 206126000 | Z46: 円 | AB46: 253550000 | AI46: 円
B48: ※②の「本年度の賃金の総額」には、賃金改善に伴う法定福利費等の事業主負担の増加分を含めることができる。
B49: ※「前年度の賃金の総額」には、計画書の（２）④ⅱ）及び（３）⑤ⅱ）の額を記載すること
A51: ③ | B51: 平均賃金改善額＜特定加算＞
K53: 賃金改善を実施した グループ | N53: 前年度の平均賃金額(月額)【基準額３】 | S53: 本年度の平均賃金額(月額) | X53: 平均賃金改善額 | AC53: (配分比率) | AF53: 改善後の賃金が 最も高額となった者の賃金(年額)
A54: （Ａ）経験・技能のある障害福祉人材 | L54: TRUE | N54: 335000 | R54: 円 | S54: =IF(L54,('②【次に作成】別紙様式3-2'!V8-'②【次に作成】別紙様式3-2'!R7)/'②【次に作成】別紙様式3-2'!Z8,"（対象外）") -> 347930.07 | W54: =IF($L54,"円","") -> 円 | X54: =IF(L54,S54-N54,"（対象外）") -> 12930.07 | AB54: =IF($L54,"円","") -> 円 | AC54: =IF(AND(L54,L55),X54/X55,IF(AND(L54,L56),X54/X56,"-")) -> 1.1508439 | AL54: =IFERROR(IF(AND(L54,L55),IF(AC54>=1,"○","☓"),IF(AND(L54,L56),IF(AC54>=2,"○","☓"),"")),"") -> ○ | AM54: ！この欄が☓の場合、A:BまたはA:Cの配分比率が要件を満たしていません。
A55: （Ｂ）他の障害福祉人材 | L55: TRUE | N55: 288000 | R55: 円 | S55: =IF(L55,('②【次に作成】別紙様式3-2'!W8-'②【次に作成】別紙様式3-2'!S7)/'②【次に作成】別紙様式3-2'!AA8,"（対象外）") -> 299235.29 | W55: =IF($L55,"円","") -> 円 | X55: =IF(L55,S55-N55,"（対象外）") -> 11235.294 | AB55: =IF($L55,"円","") -> 円 | AC55: =IF(AND(L55,OR(L54,L56)),1,"-") -> 1 | AL55: =IFERROR(IF(AND(L55,L56),IF(AC56<=0.5,"○","☓"),""),"") -> ○ | AM55: ！この欄が☓の場合、B:Cの配分比率が要件を満たしていません。
A56: （Ｃ）その他の職種 | L56: TRUE | N56: 328000 | R56: 円 | S56: =IF(L56,'②【次に作成】別紙様式3-2'!X8/'②【次に作成】別紙様式3-2'!AB8,"（対象外）") -> 333333.33 | W56: =IF($L56,"円","") -> 円 | X56: =IF(L56,S56-N56,"（対象外）") -> 5333.3333 | AB56: =IF($L56,"円","") -> 円 | AC56: =IF(AND(L55,L56),X56/X55,IF(AND(L54,L56),1,"-")) -> 0.47469459 | AF56: 4300000 | AJ56: 円 | AL56: =IFERROR(IF(AF56<=4400000,"○","☓"),"") -> ○ | AM56: ！この欄が☓の場合、Cのうち改善後の賃金が最も高額となった者の賃金が440万円を超えています。
B57: ※「前年度の平均賃金額（月額）」には、計画書（３）⑥ⅳ）の額を記載すること。 | AL57: =IFERROR(IF(OR(AND(NOT(L54),NOT(L55),NOT(L56)),AND(NOT(L54),NOT(L55),L56)),"☓","○"),"") -> ○ | AM57: ！この欄が☓の場合、「賃金改善を実施したグループ」の選択方法が不適当です。
A59: ④ | B59: 月額平均８万円又は改善後の賃金が年額440万円となった者＜特定加算＞ | X59: いずれかに該当する人数 | AF59: ='②【次に作成】別紙様式3-2'!$AC$8 -> 6 | AI59: 人 | AL59: =IFERROR(IF(AF59<=0,IF(OR(C65:C68),"○","☓"),"○"),"") -> ○ | AM59: ！この欄が☓の場合、「設定できない事業所があった場合その理由」欄にチェックが必要です。
X61: ↓複数サービスを運営する場合で、上記人数に重複計上がある場合に記入
X62: いずれかに該当する人数(実人数) | AI62: 人
B64: （設定できない事業所があった場合その理由） ※複数回答可
C65: FALSE | D65: 小規模事業所等で加算額全体が少額であるため。
C66: FALSE | D66: 職員全体の賃金水準が低く、直ちに月額平均８万円等まで賃金を引き上げることが困難であるため。
C67: FALSE | D67: 月額平均８万円等の賃金改善を行うに当たり、これまで以上に事業所内の階層や役職にある者に求められる能力や処遇を明確化することが必要であり、規程の整備や研修・実務経験の蓄積などに一定期間を要するため。
C68: FALSE | D68: その他 | F68: （ | AI68: ）
A70: ⑤ | B70: その他（やむを得ず配分比率を満たすことができなくなった場合等については、下記の欄に記載すること。）
A75: （３）職場環境等要件に基づいて実施した取組について＜全体＞
AF76: ※今年度に提出した計画書の記載内容から変更がない場合は「変更なし」にチェック（✔） | AH76: 変更なし
A77: 【処遇改善加算】 届出に係る計画の期間中に、全体で必ず１つ以上の取組を行うことが必要であること。 【特定加算】 届出に係る計画の期間中に、「入職促進に向けた取組」、「資質の向上やキャリアアップに向けた支援」、「両立支援・多様な働き方の推進」、「腰痛を含む心身の健康管理」、「生産性向上のための業務改善の取組」及び「やりがい・働きがいの構成」の６つの区分から任意で３つの区分を選択し、選択した区分でそれぞれ１つ以上の取組を行うことが必要であること。 ※処遇改善加算と特定加算とで、別の取組を行うことは要しない。 ※ 前年度から引き続き加算を算定しており、かつ、前年度に職場環境等要件を満たす取組実績がある事業所において、合理的な理由により当該期間中に実施できなかった場合は、当該理由を明記すること。（処遇改善加算、特定加算共通）
A79: 分類 | E79: 内容
A80: 入職促進に向けた取組 | F80: 法人や事業所の経営理念や支援方針・人材育成方針、その実現のための施策・仕組みなどの明確化
F81: 事業者の共同による採用・人事ローテーション・研修のための制度構築
F82: 他産業からの転職者、主婦層、中高年齢者等、経験者・有資格者にこだわらない幅広い採用の仕組みの構築
F83: 職業体験の受入れや地域行事への参加や主催等による職業魅力向上の取組の実施
A84: 資質の向上やキャリアアップに向けた支援 | F84: 働きながら介護福祉士等の取得を目指す者に対する実務者研修受講支援や、より専門性の高い支援技術を取得しようとする者に対する喀痰吸引研修、強度行動障害支援者養成研修、サービス提供責任者研修、中堅職員に対するマネジメント研修の受講支援等
F85: 研修の受講やキャリア段位制度と人事考課との連動
F86: エルダー・メンター（仕事やメンタル面のサポート等をする担当者）制度等の導入
F87: 上位者・担当者等によるキャリア面談など、キャリアアップ等に関する定期的な相談の機会の確保
A88: 両立支援・多様な働き方の推進 | F88: 子育てや家族等の介護等と仕事の両立を目指すための休業制度等の充実、事業所内託児施設の整備
F89: 職員の事情等の状況に応じた勤務シフトや短時間正規職員制度の導入、職員の希望に即した非正規職員か正規職員への転換の制度等の整備
F90: 有給休暇が取得しやすい環境の整備
F91: 業務や福利厚生制度、メンタルヘルス等の職員相談窓口の設置等相談体制の充実
F92: 障害を有する者でも働きやすい職場環境の構築や勤務シフトの配慮
A93: 腰痛を含む心身の健康管理 | F93: 福祉・介護職員の身体の負担軽減のための介護技術の修得支援、介護ロボットやリフト等の介護機器等の導入及び研修等による腰痛対策の実施
F94: 短時間勤務労働者等も受診可能な健康診断・ストレスチェックや、従業者のための休憩室の設置等健康管理対策の実施
F95: 雇用管理改善のための管理者に対する研修等の実施
F96: 事故・トラブルへの対応マニュアル等の作成等の体制の整備
A97: 生産性向上のための業務改善の取組 | F97: タブレット端末やインカム等のＩＣＴ活用や見守り機器等の介護ロボットやセンサー等の導入による業務量の縮減
F98: 高齢者の活躍（居室やフロア等の掃除、食事の配膳、下膳などのほか、経理や労務、広報なども含めた介護業務以外の業務の提供）等による役割分担の明確化
F99: ５Ｓ活動（業務管理の手法の１つ。整理・整頓・清掃・清潔・躾の頭文字をとったもの）等の実践による職場環境の整備
F100: 業務手順書の作成や、記録・報告様式の工夫等による情報共有や作業負担の軽減
A101: やりがい・働きがいの構成 | F101: ミーティング等による職場内コミュニケーションの円滑化による個々の福祉・介護職員の気づきを踏まえた勤務環境や支援内容の改善
F102: 地域包括ケアの一員としてのモチベーション向上に資する、地域の児童・生徒や住民との交流の実施
F103: 利用者本位の支援方針など障害福祉や法人の理念等を定期的に学ぶ機会の提供
F104: 支援の好事例や、利用者やその家族からの謝意等の情報を共有する機会の提供
A105: 合理的な理由により期間中に実施できなかった場合 ※ 上記のうち、前年度に取組実績がある項目にチェック（✔）すること。 | Q105: 理由：
A107: ※ | B107: 給与明細や勤務記録等、実績報告の根拠となる資料は、指定権者からの求めがあった場合に速やかに提出できるよう、適切に保管しておくこと。
A108: ※ | B108: 福祉・介護職員処遇改善加算及び福祉・介護職員等特定処遇改善加算に関して、虚偽や不正があった場合には、支払われた介護給付費等の返還や事業者の指定取消となる場合があるので留意すること。
B111: 実績報告書の記載内容に虚偽がないことを証明するとともに、記載内容を証明する資料を適切に保管していることを誓約します。
C113: 令和 | E113: 4 | G113: 年 | H113: 7 | J113: 月 | K113: 31 | M113: 日 | R113: （法人名） | W113: =IF(①【全員最初に作成】基本情報!M16="","",①【全員最初に作成】基本情報!M16) -> 社会福祉法人○○会
R114: （代表者名） | W114: =IF(①【全員最初に作成】基本情報!M21="","",①【全員最初に作成】基本情報!M21) -> 厚労 花子
B117: .

Sheet 基準額変更届出書
A1: 参考様式 | Y1: 提出先 | AC1: 東京都
T3: 基準額変更届出書（令和 | U3: 3 | W3: 年度）
A6: １ 基本情報
A8: フリガナ | G8: シャカイフクシホウジンマルマルカイ
A9: 法人名 | G9: 社会福祉法人○○会
A10: 法人所在地 | G10: 〒 | H10: 100－1234
G11: 千代田区霞が関１－２－２
G12: ○○ビル18Ｆ
A13: フリガナ | G13: 代表取締役
A14: 法人代表者 | G14: 厚労 花子
A15: フリガナ | G15: コウロウ タロウ
A16: 書類作成担当者 | G16: 厚労 太郎
A17: 連絡先 | G17: 電話番号 | K17: 03-3571-0000 | P17: FAX番号 | T17: 03-3571-9999 | Y17: E-mail | AC17: aaa@aaa.aa.jp
A19: ２ 変更内容
AH20: （単位：円）
K21: 変更前 | W21: 変更後
A22: 【基準額１】処遇改善加算 | K22: 230000000 | W22: 206126000
A23: 【基準額２】特定処遇改善加算 | K23: 250000000 | W23: 253550000
A24: 【基準額３】特定処遇改善加算 | K24: (A) | M24: 450000 | W24: 335000
K25: (B) | M25: 300000 | W25: 288000
K26: (C) | M26: 355000 | W26: 328000
A30: ３ 変更が必要な理由
B32: ※該当する理由にレ点を入れてください。（複数回答可）
B33: ※「その他」を選択した場合、具体的な理由を１番下の欄に記載してください。
C34: 職員数に増減が生じ、賃金額が変更となった。
C35: 職員の勤続年数や年齢構成の変化により、賃金額が変更となった。
C36: その他
C37: ↳その他の場合、具体的に記載
C38: 例）誤計算のため，按分漏れのため，処遇改善加算と特定処遇改善加算を入れて計算してしまったため 等

Sheet 【参考】サービス名一覧
A2: ＜サービス区分一覧>
A3: サービス区分
A4: 居宅介護
A5: 重度訪問介護
A6: 同行援護
A7: 行動援護
A8: 重度障害者等包括支援
A9: 生活介護
A10: 施設入所支援
A11: 短期入所
A12: 療養介護
A13: 自立訓練（機能訓練）
... A33: 障害者支援施設：就労継続支援Ｂ型
