Workbook
Name _new1: 【参考】サービス名一覧!$A$4:$A$26
Name erea: 【参考】サービス名一覧!$A$3:$A$26
Name erea: #REF!
Name erea: #REF!
Name erea: #REF!
Name new: 【参考】サービス名一覧!$A$4:$A$26
Name new: #REF!
Name new: #REF!
Name new: #REF!
Name www: #REF!
Name www: #REF!
Name www: #REF!
Name サービス: #REF!
Name サービス: #REF!
Name サービス: #REF!
Name サービス: #REF!
Name サービス２: #REF!
Name サービス２: #REF!
Name サービス種別: [1]サービス種類一覧!$B$4:$B$20
Name サービス種類: [2]サービス種類一覧!$C$4:$C$20
Name サービス名: #REF!
Name サービス名: 【参考】サービス名一覧!$A$3:$A$19
Name サービス名: #REF!
Name サービス名: #REF!
Name サービス名: #REF!
Name サービス名: #REF!
Name サービス名称: #REF!
Name サービス名称: #REF!
Name サービス名称: #REF!
Name 一覧: [3]加算率一覧!$A$4:$A$25
Name 種類: [4]サービス種類一覧!$A$4:$A$20
Name 特定: #REF!
Name 特定: #REF!
Name 特定: #REF!

Sheet 【最初に作成】基本情報入力シート
A1: 福祉・介護職員処遇改善臨時特例交付金 実績報告書 作成用 基本情報入力シート | AD1: ↓一部項目の他シートへの読み込み列
A2: 【注意】本シートは様式作成用のため、提出は不要です。
A4: ●次の情報を本シートの黄色セルに入力することで、各様式に自動的に転記されます。
A5: ・提出先に関する情報
A6: ・基本情報
A7: ・交付金対象事業所に関する情報
A9: １ 提出先に関する情報
B10: 福祉・介護職員処遇改善臨時特例交付金の算定届出に係る提出先の名称を入力してください。
B11: 提出先 | C11: 東京都
A13: ２ 基本情報
B14: ⇒下表に必要事項を入力してください。
B15: 法人名 | C15: フリガナ
C16: 名称 | AD16: 〒結合
B17: 法人住所 | C17: 〒 | P17: － | AD17: =CONCATENATE(M17,N17,O17,P17,Q17,R17,S17,T17) -> －
C18: 住所１（番地・住居番号まで）
C19: 住所２（建物名等）
B20: 法人代表者 | C20: 職名
C21: 氏名
B22: 書類作成 担当者 | C22: フリガナ
C23: 氏名
B24: 連絡先 | C24: 電話番号
C25: FAX番号
C26: e-mail
A28: ３ 交付金対象事業所に関する情報
B29: 下表に必要事項を入力してください。記入内容が様式3-1及び3-2に反映されます。
B31: 通し番号 | C31: 障害福祉サービス等 事業所番号 | M31: 指定権者名 | R31: 事業所の所在地 | X31: 事業所名 | Y31: サービス名
R32: 都道府県 | W32: 市区町村 | AD32: 事業所番号
B33: 1 | R33: 東京都 | AD33: =C33&D33&E33&F33&G33&H33&I33&J33&K33&L33
B34: =B33+1 -> 2 | R34: 東京都 | AD34: =C34&D34&E34&F34&G34&H34&I34&J34&K34&L34
B35: =B34+1 -> 3 | R35: 東京都 | AD35: =C35&D35&E35&F35&G35&H35&I35&J35&K35&L35
B36: =B35+1 -> 4 | R36: 東京都 | AD36: =C36&D36&E36&F36&G36&H36&I36&J36&K36&L36
B37: =B36+1 -> 5 | R37: 東京都 | AD37: =C37&D37&E37&F37&G37&H37&I37&J37&K37&L37
B38: =B37+1 -> 6 | R38: 東京都 | AD38: =C38&D38&E38&F38&G38&H38&I38&J38&K38&L38
B39: =B38+1 -> 7 | R39: 東京都 | AD39: =C39&D39&E39&F39&G39&H39&I39&J39&K39&L39
B40: =B39+1 -> 8 | R40: 東京都 | AD40: =C40&D40&E40&F40&G40&H40&I40&J40&K40&L40
B41: =B40+1 -> 9 | R41: 東京都 | AD41: =C41&D41&E41&F41&G41&H41&I41&J41&K41&L41
B42: =B41+1 -> 10 | R42: 東京都 | AD42: =C42&D42&E42&F42&G42&H42&I42&J42&K42&L42
B43: =B42+1 -> 11 | R43: 東京都 | AD43: =C43&D43&E43&F43&G43&H43&I43&J43&K43&L43
B44: =B43+1 -> 12 | R44: 東京都 | AD44: =C44&D44&E44&F44&G44&H44&I44&J44&K44&L44
B45: =B44+1 -> 13 | R45: 東京都 | AD45: =C45&D45&E45&F45&G45&H45&I45&J45&K45&L45
...

Sheet 別紙様式3-1
A1: 別紙様式３－１ | Y1: 提出先 | AC1: =IF(【最初に作成】基本情報入力シート!C11="","",【最初に作成】基本情報入力シート!C11) -> 東京都
Z3: 障害福祉サービス等処遇改善実績報告書（令和 | AA3: 3 | AC3: 年度）
A4: （福祉・介護職員処遇改善実績報告書、福祉・介護職員等特定処遇改善実績報告書）
A6: １ 基本情報
A8: フリガナ | G8: =IF(【最初に作成】基本情報入力シート!M15="","",【最初に作成】基本情報入力シート!M15)
A9: 法人名 | G9: =IF(【最初に作成】基本情報入力シート!M16="","",【最初に作成】基本情報入力シート!M16)
A10: 法人所在地 | G10: 〒 | H10: =IF(【最初に作成】基本情報入力シート!AD17="","",【最初に作成】基本情報入力シート!AD17) -> －
G11: =IF(【最初に作成】基本情報入力シート!M18="","",【最初に作成】基本情報入力シート!M18)
G12: =IF(【最初に作成】基本情報入力シート!M19="","",【最初に作成】基本情報入力シート!M19)
A13: フリガナ | G13: =IF(【最初に作成】基本情報入力シート!M22="","",【最初に作成】基本情報入力シート!M22)
A14: 書類作成担当者 | G14: =IF(【最初に作成】基本情報入力シート!M23="","",【最初に作成】基本情報入力シート!M23)
A15: 連絡先 | G15: 電話番号 | K15: =IF(【最初に作成】基本情報入力シート!M24="","",【最初に作成】基本情報入力シート!M24) | P15: FAX番号 | T15: =IF(【最初に作成】基本情報入力シート!M25="","",【最初に作成】基本情報入力シート!M25) | Y15: E-mail | AC15: =IF(【最初に作成】基本情報入力シート!M26="","",【最初に作成】基本情報入力シート!M26)
A18: 【本報告書で報告する加算】 加算名称にチェックを入れること。 | AL18: 処遇 | AM18: 特定
C19: 福祉・介護職員処遇改善加算（処遇改善加算） | T19: 福祉・介護職員等特定処遇改善加算（特定加算） | AL19: TRUE | AM19: TRUE
A23: ２ 実績報告＜共通＞ | J23: ※詳細は別紙様式３－２に記載
A25: （１）福祉・介護職員処遇改善加算のみの場合
AB26: 処遇改善加算
A27: ① | B27: 令和 | D27: =IF($AA$3="","",$AA$3) -> 3 | F27: 年度分の処遇改善加算の総額 | AB27: ='別紙様式3-2'!$Q$7 -> 24535200 | AI27: 円 | AK27: <- | AL27: =IFERROR(IF(AND(ISNUMBER(AB28),ISNUMBER(AB27),AB28>=AB27),"○","☓"),"") -> ○ | AM27: ！この欄が○でない場合、処遇改善加算による賃金改善所要額が要件を満たしていません。
A28: ② | B28: 賃金改善所要額（ⅰ－ⅱ） | AA28: (右欄の額は①欄の額以上となること) | AB28: =AB29-AB30 -> 236850000 | AI28: 円
B29: ⅰ）処遇改善加算の算定により賃金改善を行った福祉・介護職員の賃金の総額 | AB29: ='別紙様式3-2'!$U$7 -> 236850000 | AI29: 円
B30: ⅱ）前年度の福祉・介護職員の賃金の総額【基準額１】 | AI30: 円
B32: ※②ⅰ）には、賃金改善に伴う法定福利費等の事業主負担の増加分を含めることができる。
B33: ※②ⅱ）には、計画書の（１）④ⅱ）の額を記載すること
B34: ※処遇改善加算のみの場合、別紙様式３－２におけるグループ別の内訳は記載不要
A37: （２）福祉・介護職員等特定処遇改善加算を併せて報告する場合
S39: 処遇改善加算 | AB39: 特定加算
A40: ① | B40: 令和 | D40: =IF($AA$3="","",$AA$3) -> 3 | F40: 年度分の加算の総額 | S40: ='別紙様式3-2'!$Q$7 -> 24535200 | Z40: 円 | AB40: ='別紙様式3-2'!$Q$8 -> 6727560 | AI40: 円 | AL40: =IFERROR(IF(AND(ISNUMBER(S41),ISNUMBER(S40),S41>=S40),"○","☓"),"") -> ○ | AM40: ！この欄が○でない場合、処遇改善加算による賃金改善所要額が要件を満たしていません。
A41: ② | B41: 賃金改善所要額（ⅰ－ⅱ） | R41: ※右欄の額は①欄の額以上となること | S41: =S42-S46 -> 24572440 | Z41: 円 | AB41: =AB42-AB46 -> 6764800 | AI41: 円 | AK41: <- | AL41: =IFERROR(IF(AND(ISNUMBER(AB41),ISNUMBER(AB40),AB41>=AB40),"○","☓"),"") -> ○ | AM41: ！この欄が○でない場合、特定加算による賃金改善所要額が要件を満たしていません。
B42: ⅰ）加算の算定により賃金改善を行った賃金の総額 | S42: =S43-S45 -> 230698440 | Z42: 円 | AB42: =AB43-AB44 -> 260314800 | AI42: 円
C43: 本年度の賃金の総額(a) | S43: ='別紙様式3-2'!$U$7 -> 236850000 | Z43: 円 | AB43: ='別紙様式3-2'!$U$8 -> 284850000 | AI43: 円
C44: 処遇改善加算の総額(b) | AB44: ='別紙様式3-2'!$Q$7 -> 24535200 | AI44: 円
C45: 特定加算の総額(c) ※その他の職種への支給分を除く | S45: ='別紙様式3-2'!Q8-'別紙様式3-2'!$T$8 -> 6151560 | Z45: 円
B46: ⅱ）前年度の賃金の総額【基準額１】【基準額２】 | S46: 206126000 | Z46: 円 | AB46: 253550000 | AI46: 円
B48: ※②の「本年度の賃金の総額」には、賃金改善に伴う法定福利費等の事業主負担の増加分を含めることができる。
B49: ※「前年度の賃金の総額」には、計画書の（２）④ⅱ）及び（３）⑤ⅱ）の額を記載すること
A51: ③ | B51: 平均賃金改善額＜特定加算＞
K53: 賃金改善を実施した グループ | N53: 前年度の平均賃金額(月額)【基準額３】 | S53: 本年度の平均賃金額(月額) | X53: 平均賃金改善額 | AC53: (配分比率) | AF53: 改善後の賃金が 最も高額となった者の賃金(年額)
A54: （Ａ）経験・技能のある障害福祉人材 | L54: TRUE | N54: 3958042 | R54: 円 | S54: =IF(L54,('別紙様式3-2'!V8-'別紙様式3-2'!R7)/'別紙様式3-2'!Z8,"（対象外）") -> 4175160.8 | W54: =IF($L54,"円","") -> 円 | X54: =IF(L54,S54-N54,"（対象外）") -> 217118.84 | AB54: =IF($L54,"円","") -> 円 | AC54: =IF(AND(L54,L55),X54/X55,IF(AND(L54,L56),X54/X56,"-")) -> 1.6448456 | AL54: =IFERROR(IF(AND(L54,L55),IF(AC54>=1,"○","☓"),IF(AND(L54,L56),IF(AC54>=2,"○","☓"),"")),"") -> ○ | AM54: ！この欄が☓の場合、A:BまたはA:Cの配分比率が要件を満たしていません。
A55: （Ｂ）他の障害福祉人材 | L55: TRUE | N55: 3458824 | R55: 円 | S55: =IF(L55,('別紙様式3-2'!W8-'別紙様式3-2'!S7)/'別紙様式3-2'!AA8,"（対象外）") -> 3590823.5 | W55: =IF($L55,"円","") -> 円 | X55: =IF(L55,S55-N55,"（対象外）") -> 131999.53 | AB55: =IF($L55,"円","") -> 円 | AC55: =IF(AND(L55,OR(L54,L56)),1,"-") -> 1 | AL55: =IFERROR(IF(AND(L55,L56),IF(AC56<=0.5,"○","☓"),""),"") -> ○ | AM55: ！この欄が☓の場合、B:Cの配分比率が要件を満たしていません。
A56: （Ｃ）その他の職種 | L56: TRUE | N56: 3950000 | R56: 円 | S56: =IF(L56,'別紙様式3-2'!X8/'別紙様式3-2'!AB8,"（対象外）") -> 4000000 | W56: =IF($L56,"円","") -> 円 | X56: =IF(L56,S56-N56,"（対象外）") -> 50000 | AB56: =IF($L56,"円","") -> 円 | AC56: =IF(AND(L55,L56),X56/X55,IF(AND(L54,L56),1,"-")) -> 0.37878923 | AF56: 4300000 | AJ56: 円 | AL56: =IFERROR(IF(AF56<=4400000,"○","☓"),"") -> ○ | AM56: ！この欄が☓の場合、Cのうち改善後の賃金が最も高額となった者の賃金が440万円を超えています。
...

Sheet 別紙様式3-2
A1: 別紙様式３－２ | I1: 障害福祉サービス等処遇改善実績報告書（施設・事業所別個表）
A3: 法人名 | D3: =【最初に作成】基本情報入力シート!$M$16 -> 0
Q5: 本年度の加算の総額［円］ | R5: （グループ別内訳） | U5: 本年度の賃金の総額［円］ | V5: （グループ別内訳） | Z5: 本年度の常勤換算職員数［人］ | AC5: 経験・技能のある障害福祉人材のうち月平均8万円以上又は年額440万円以上［人］
R6: 経験・技能のある障害福祉人材(A) | S6: 他の 障害福祉人材(B) | T6: その他の職種(C) | V6: 経験・技能のある障害福祉人材(A) | W6: 他の 障害福祉人材(B) | X6: その他の職種(C) | Y6: 賃金改善前の賃金が年額440万円を上回る職員 | Z6: 経験・技能のある障害福祉人材(A) | AA6: 他の 障害福祉人材(B) | AB6: その他の職種(C) | AD6: 未設定の 事業所
B7: 福祉・介護職員処遇改善加算の合計 | Q7: =SUM(S20:S119) -> 24535200 | R7: =SUM(T20:T119) -> 6145200 | S7: =SUM(U20:U119) -> 18390000 | U7: =SUM(V20:V119) -> 236850000
B8: 福祉・介護職員等特定処遇改善加算の合計 | Q8: =SUM(X20:X119) -> 6727560 | R8: =SUM(Y20:Y119) -> 1561560 | S8: =SUM(Z20:Z119) -> 4590000 | T8: =SUM(AA20:AA119) -> 576000 | U8: =SUM(V8:X8) -> 284850000 | V8: =SUM(AB20:AB119) -> 65850000 | W8: =SUM(AC20:AC119) -> 171000000 | X8: =SUM(AD20:AD119) -> 48000000 | Y8: =SUM(AE20:AE119) -> 0 | Z8: =SUM(AF20:AF119) -> 14.3 | AA8: =SUM(AG20:AG119) -> 42.5 | AB8: =SUM(AH20:AH119) -> 12 | AC8: =SUM(AI20:AI119) -> 6 | AD8: =COUNTIFS(AI20:AI119,"",AG20:AG119,">０")+COUNTIFS(AI20:AI119,"",AF20:AF119,">０")-COUNTIFS(AF20:AF119,">0",AG20:AG119,">０",AI20:AI119,"") -> 0 | AF8: =IFERROR(IF(COUNTA(W20:W104)=0,"",IF(AND(Q8=SUM(R8:T8),U8=SUM(V8:X8)),"○","×")),"") -> ○ | AG8: =IF(AF8="×","【エラー】特定加算に係る加算額または賃金額が総額と内訳で異なっています。","")
B10: ※本表に記載する事業所は、計画書の別紙様式２－２に記載した事業所と一致しなければならない。
B11: ※事業所の数が多く、１枚に記載しきれない場合は、適宜、行を追加すること。
B12: ※福祉・介護職員処遇改善加算のみの場合は、グループ別内訳の入力は不要である。
B14: 障害福祉サービス 事業所番号 | M14: 指定権者 | N14: 事業所の所在地 | P14: 事業所名 | Q14: サービス名 | R14: 福祉・介護職員処遇改善加算 | W14: 福祉・介護職員等特定処遇改善加算
R15: 算定する障害福祉人材処遇改善加算の区分 | S15: 本年度の加算の総額［円］ | V15: 本年度の賃金の総額［円］ | W15: 算定する障害福祉人材等特定処遇改善加算の区分 | X15: 本年度の加算の総額［円］ | AB15: 本年度の賃金の総額(［円］ | AF15: 本年度の常勤換算職員数［人］ | AI15: 経験・技能のある障害福祉人材のうち月平均8万円以上又は年額440万円以上［人］
N16: 都道府県 | O16: 市区町村 | T16: グループ別内訳 | Y16: グループ別内訳
T17: 経験・技能のある障害福祉人材(A) | U17: 他の 障害福祉人材(B) | Y17: 経験・技能のある障害福祉人材(A) | Z17: 他の 障害福祉人材(B) | AA17: その他の職種(C) | AB17: 経験・技能のある障害福祉人材(A) | AC17: 他の 障害福祉人材(B) | AD17: その他の職種(C) | AE17: 賃金改善前の賃金が年額440万円を上回る職員 | AF17: 経験・技能のある障害福祉人材(A) | AG17: 他の 障害福祉人材(B) | AH17: その他の職種(C) | AK17: 総額と内訳等のエラーチェック
AK18: 処遇改善加算の加算額 | AL18: 特定加算の 加算額 | AM18: 処遇改善加算と特定加算を併せて申請する場合の賃金総額（A・B）
A20: 1 | B20: =IF(【最初に作成】基本情報入力シート!C33="","",【最初に作成】基本情報入力シート!C33) | C20: =IF(【最初に作成】基本情報入力シート!D33="","",【最初に作成】基本情報入力シート!D33) | D20: =IF(【最初に作成】基本情報入力シート!E33="","",【最初に作成】基本情報入力シート!E33) | E20: =IF(【最初に作成】基本情報入力シート!F33="","",【最初に作成】基本情報入力シート!F33) | F20: =IF(【最初に作成】基本情報入力シート!G33="","",【最初に作成】基本情報入力シート!G33) | G20: =IF(【最初に作成】基本情報入力シート!H33="","",【最初に作成】基本情報入力シート!H33) | H20: =IF(【最初に作成】基本情報入力シート!I33="","",【最初に作成】基本情報入力シート!I33) | I20: =IF(【最初に作成】基本情報入力シート!J33="","",【最初に作成】基本情報入力シート!J33) | ... K20: =IF(【最初に作成】基本情報入力シート!L33="","",【最初に作成】基本情報入力シート!L33) | L20: =B20&C20 | M20: =IF(【最初に作成】基本情報入力シート!M33="","",【最初に作成】基本情報入力シート!M33) | N20: =IF(【最初に作成】基本情報入力シート!R33="","",【最初に作成】基本情報入力シート!R33) -> 東京都 | O20: =IF(【最初に作成】基本情報入力シート!W33="","",【最初に作成】基本情報入力シート!W33) | P20: =IF(【最初に作成】基本情報入力シート!X33="","",【最初に作成】基本情報入力シート!X33) | Q20: =IF(【最初に作成】基本情報入力シート!Y33="","",【最初に作成】基本情報入力シート!Y33) | R20: 加算Ⅰ | S20: =SUM(T20:U20) -> 2042400 | T20: 710400 | U20: 1332000 | V20: 19200000 | W20: 特定加算Ⅱ | X20: =SUM(Y20:AA20) -> 546720 | Y20: 174720 | Z20: 324000 | AA20: 48000 | AB20: 7200000 | AC20: 12000000 | AD20: 4000000 | AF20: 1.6 | AG20: 3 | AH20: 1 | AI20: 1 | AK20: =IF(SUM(T20:U20)>0,IF(S20=SUM(T20:U20),"","×"),"") | AL20: =IF(X20=SUM(Y20:AA20),"","×") | AM20: =IF(SUM(AB20:AC20)>0,IF(V20=SUM(AB20:AC20),"","×"),"")
A21: =A20+1 -> 2 | B21: =IF(【最初に作成】基本情報入力シート!C34="","",【最初に作成】基本情報入力シート!C34) | C21: =IF(【最初に作成】基本情報入力シート!D34="","",【最初に作成】基本情報入力シート!D34) | D21: =IF(【最初に作成】基本情報入力シート!E34="","",【最初に作成】基本情報入力シート!E34) | E21: =IF(【最初に作成】基本情報入力シート!F34="","",【最初に作成】基本情報入力シート!F34) | F21: =IF(【最初に作成】基本情報入力シート!G34="","",【最初に作成】基本情報入力シート!G34) | G21: =IF(【最初に作成】基本情報入力シート!H34="","",【最初に作成】基本情報入力シート!H34) | H21: =IF(【最初に作成】基本情報入力シート!I34="","",【最初に作成】基本情報入力シート!I34) | I21: =IF(【最初に作成】基本情報入力シート!J34="","",【最初に作成】基本情報入力シート!J34) | ... K21: =IF(【最初に作成】基本情報入力シート!L34="","",【最初に作成】基本情報入力シート!L34) | L21: =B21&C21 | M21: =IF(【最初に作成】基本情報入力シート!M34="","",【最初に作成】基本情報入力シート!M34) | N21: =IF(【最初に作成】基本情報入力シート!R34="","",【最初に作成】基本情報入力シート!R34) -> 東京都 | O21: =IF(【最初に作成】基本情報入力シート!W34="","",【最初に作成】基本情報入力シート!W34) | P21: =IF(【最初に作成】基本情報入力シート!X34="","",【最初に作成】基本情報入力シート!X34) | Q21: =IF(【最初に作成】基本情報入力シート!Y34="","",【最初に作成】基本情報入力シート!Y34) | R21: 加算Ⅱ | S21: =SUM(T21:U21) -> 1846800 | T21: 550800 | U21: 1296000 | V21: 23650000 | W21: 特定加算Ⅰ | X21: =SUM(Y21:AA21) -> 665640 | Y21: 185640 | Z21: 432000 | AA21: 48000 | AB21: 7650000 | AC21: 16000000 | AD21: 4000000 | AF21: 1.7 | AG21: 4 | AH21: 1 | AI21: 1 | AK21: =IF(SUM(T21:U21)>0,IF(S21=SUM(T21:U21),"","×"),"") | AL21: =IF(X21=SUM(Y21:AA21),"","×") | AM21: =IF(SUM(AB21:AC21)>0,IF(V21=SUM(AB21:AC21),"","×"),"")
A22: =A21+1 -> 3 | B22: =IF(【最初に作成】基本情報入力シート!C35="","",【最初に作成】基本情報入力シート!C35) | C22: =IF(【最初に作成】基本情報入力シート!D35="","",【最初に作成】基本情報入力シート!D35) | D22: =IF(【最初に作成】基本情報入力シート!E35="","",【最初に作成】基本情報入力シート!E35) | E22: =IF(【最初に作成】基本情報入力シート!F35="","",【最初に作成】基本情報入力シート!F35) | F22: =IF(【最初に作成】基本情報入力シート!G35="","",【最初に作成】基本情報入力シート!G35) | G22: =IF(【最初に作成】基本情報入力シート!H35="","",【最初に作成】基本情報入力シート!H35) | H22: =IF(【最初に作成】基本情報入力シート!I35="","",【最初に作成】基本情報入力シート!I35) | I22: =IF(【最初に作成】基本情報入力シート!J35="","",【最初に作成】基本情報入力シート!J35) | ... K22: =IF(【最初に作成】基本情報入力シート!L35="","",【最初に作成】基本情報入力シート!L35) | L22: =B22&C22 | M22: =IF(【最初に作成】基本情報入力シート!M35="","",【最初に作成】基本情報入力シート!M35) | N22: =IF(【最初に作成】基本情報入力シート!R35="","",【最初に作成】基本情報入力シート!R35) -> 東京都 | O22: =IF(【最初に作成】基本情報入力シート!W35="","",【最初に作成】基本情報入力シート!W35) | P22: =IF(【最初に作成】基本情報入力シート!X35="","",【最初に作成】基本情報入力シート!X35) | Q22: =IF(【最初に作成】基本情報入力シート!Y35="","",【最初に作成】基本情報入力シート!Y35) | R22: 加算Ⅰ | S22: =SUM(T22:U22) -> 2486400 | T22: 710400 | U22: 1776000 | V22: 23200000 | W22: 特定加算Ⅰ | X22: =SUM(Y22:AA22) -> 702720 | Y22: 174720 | Z22: 432000 | AA22: 96000 | AB22: 7200000 | AC22: 16000000 | AD22: 8000000 | AF22: 1.6 | AG22: 4 | AH22: 2 | AI22: 1 | AK22: =IF(SUM(T22:U22)>0,IF(S22=SUM(T22:U22),"","×"),"") | AL22: =IF(X22=SUM(Y22:AA22),"","×") | AM22: =IF(SUM(AB22:AC22)>0,IF(V22=SUM(AB22:AC22),"","×"),"")
A23: =A22+1 -> 4 | B23: =IF(【最初に作成】基本情報入力シート!C36="","",【最初に作成】基本情報入力シート!C36) | C23: =IF(【最初に作成】基本情報入力シート!D36="","",【最初に作成】基本情報入力シート!D36) | D23: =IF(【最初に作成】基本情報入力シート!E36="","",【最初に作成】基本情報入力シート!E36) | E23: =IF(【最初に作成】基本情報入力シート!F36="","",【最初に作成】基本情報入力シート!F36) | F23: =IF(【最初に作成】基本情報入力シート!G36="","",【最初に作成】基本情報入力シート!G36) | G23: =IF(【最初に作成】基本情報入力シート!H36="","",【最初に作成】基本情報入力シート!H36) | H23: =IF(【最初に作成】基本情報入力シート!I36="","",【最初に作成】基本情報入力シート!I36) | I23: =IF(【最初に作成】基本情報入力シート!J36="","",【最初に作成】基本情報入力シート!J36) | ... K23: =IF(【最初に作成】基本情報入力シート!L36="","",【最初に作成】基本情報入力シート!L36) | L23: =B23&C23 | M23: =IF(【最初に作成】基本情報入力シート!M36="","",【最初に作成】基本情報入力シート!M36) | N23: =IF(【最初に作成】基本情報入力シート!R36="","",【最初に作成】基本情報入力シート!R36) -> 東京都 | O23: =IF(【最初に作成】基本情報入力シート!W36="","",【最初に作成】基本情報入力シート!W36) | P23: =IF(【最初に作成】基本情報入力シート!X36="","",【最初に作成】基本情報入力シート!X36) | Q23: =IF(【最初に作成】基本情報入力シート!Y36="","",【最初に作成】基本情報入力シート!Y36) | R23: 加算Ⅰ | S23: =SUM(T23:U23) -> 1554000 | T23: 444000 | U23: 1110000 | V23: 17000000 | W23: 特定加算Ⅰ | X23: =SUM(Y23:AA23) -> 475200 | Y23: 109200 | Z23: 270000 | AA23: 96000 | AB23: 6000000 | AC23: 11000000 | AD23: 8000000 | AF23: 1 | AG23: 2.5 | AH23: 2 | AI23: 1 | AK23: =IF(SUM(T23:U23)>0,IF(S23=SUM(T23:U23),"","×"),"") | AL23: =IF(X23=SUM(Y23:AA23),"","×") | AM23: =IF(SUM(AB23:AC23)>0,IF(V23=SUM(AB23:AC23),"","×"),"")
A24: =A23+1 -> 5 | B24: =IF(【最初に作成】基本情報入力シート!C37="","",【最初に作成】基本情報入力シート!C37) | C24: =IF(【最初に作成】基本情報入力シート!D37="","",【最初に作成】基本情報入力シート!D37) | D24: =IF(【最初に作成】基本情報入力シート!E37="","",【最初に作成】基本情報入力シート!E37) | E24: =IF(【最初に作成】基本情報入力シート!F37="","",【最初に作成】基本情報入力シート!F37) | F24: =IF(【最初に作成】基本情報入力シート!G37="","",【最初に作成】基本情報入力シート!G37) | G24: =IF(【最初に作成】基本情報入力シート!H37="","",【最初に作成】基本情報入力シート!H37) | H24: =IF(【最初に作成】基本情報入力シート!I37="","",【最初に作成】基本情報入力シート!I37) | I24: =IF(【最初に作成】基本情報入力シート!J37="","",【最初に作成】基本情報入力シート!J37) | ... K24: =IF(【最初に作成】基本情報入力シート!L37="","",【最初に作成】基本情報入力シート!L37) | L24: =B24&C24 | M24: =IF(【最初に作成】基本情報入力シート!M37="","",【最初に作成】基本情報入力シート!M37) | N24: =IF(【最初に作成】基本情報入力シート!R37="","",【最初に作成】基本情報入力シート!R37) -> 東京都 | O24: =IF(【最初に作成】基本情報入力シート!W37="","",【最初に作成】基本情報入力シート!W37) | P24: =IF(【最初に作成】基本情報入力シート!X37="","",【最初に作成】基本情報入力シート!X37) | Q24: =IF(【最初に作成】基本情報入力シート!Y37="","",【最初に作成】基本情報入力シート!Y37) | R24: 加算Ⅰ | S24: =SUM(T24:U24) -> 7326000 | T24: 1554000 | U24: 5772000 | V24: 67750000 | W24: 区分なし | X24: =SUM(Y24:AA24) -> 1930200 | Y24: 382200 | Z24: 1404000 | AA24: 144000 | AB24: 15750000 | AC24: 52000000 | AD24: 12000000 | AF24: 3.5 | AG24: 13 | AH24: 3 | AI24: 1 | AK24: =IF(SUM(T24:U24)>0,IF(S24=SUM(T24:U24),"","×"),"") | AL24: =IF(X24=SUM(Y24:AA24),"","×") | AM24: =IF(SUM(AB24:AC24)>0,IF(V24=SUM(AB24:AC24),"","×"),"")
A25: =A24+1 -> 6 | B25: =IF(【最初に作成】基本情報入力シート!C38="","",【最初に作成】基本情報入力シート!C38) | C25: =IF(【最初に作成】基本情報入力シート!D38="","",【最初に作成】基本情報入力シート!D38) | D25: =IF(【最初に作成】基本情報入力シート!E38="","",【最初に作成】基本情報入力シート!E38) | E25: =IF(【最初に作成】基本情報入力シート!F38="","",【最初に作成】基本情報入力シート!F38) | F25: =IF(【最初に作成】基本情報入力シート!G38="","",【最初に作成】基本情報入力シート!G38) | G25: =IF(【最初に作成】基本情報入力シート!H38="","",【最初に作成】基本情報入力シート!H38) | H25: =IF(【最初に作成】基本情報入力シート!I38="","",【最初に作成】基本情報入力シート!I38) | I25: =IF(【最初に作成】基本情報入力シート!J38="","",【最初に作成】基本情報入力シート!J38) | ... K25: =IF(【最初に作成】基本情報入力シート!L38="","",【最初に作成】基本情報入力シート!L38) | L25: =B25&C25 | M25: =IF(【最初に作成】基本情報入力シート!M38="","",【最初に作成】基本情報入力シート!M38) | N25: =IF(【最初に作成】基本情報入力シート!R38="","",【最初に作成】基本情報入力シート!R38) -> 東京都 | O25: =IF(【最初に作成】基本情報入力シート!W38="","",【最初に作成】基本情報入力シート!W38) | P25: =IF(【最初に作成】基本情報入力シート!X38="","",【最初に作成】基本情報入力シート!X38) | Q25: =IF(【最初に作成】基本情報入力シート!Y38="","",【最初に作成】基本情報入力シート!Y38) | R25: 加算Ⅰ | S25: =SUM(T25:U25) -> 9279600 | T25: 2175600 | U25: 7104000 | V25: 86050000 | W25: 区分なし | X25: =SUM(Y25:AA25) -> 2407080 | Y25: 535080 | Z25: 1728000 | AA25: 144000 | AB25: 22050000 | AC25: 64000000 | AD25: 12000000 | AF25: 4.9 | AG25: 16 | AH25: 3 | AI25: 1 | AK25: =IF(SUM(T25:U25)>0,IF(S25=SUM(T25:U25),"","×"),"") | AL25: =IF(X25=SUM(Y25:AA25),"","×") | AM25: =IF(SUM(AB25:AC25)>0,IF(V25=SUM(AB25:AC25),"","×"),"")
A26: =A25+1 -> 7 | B26: =IF(【最初に作成】基本情報入力シート!C39="","",【最初に作成】基本情報入力シート!C39) | C26: =IF(【最初に作成】基本情報入力シート!D39="","",【最初に作成】基本情報入力シート!D39) | D26: =IF(【最初に作成】基本情報入力シート!E39="","",【最初に作成】基本情報入力シート!E39) | E26: =IF(【最初に作成】基本情報入力シート!F39="","",【最初に作成】基本情報入力シート!F39) | F26: =IF(【最初に作成】基本情報入力シート!G39="","",【最初に作成】基本情報入力シート!G39) | G26: =IF(【最初に作成】基本情報入力シート!H39="","",【最初に作成】基本情報入力シート!H39) | H26: =IF(【最初に作成】基本情報入力シート!I39="","",【最初に作成】基本情報入力シート!I39) | I26: =IF(【最初に作成】基本情報入力シート!J39="","",【最初に作成】基本情報入力シート!J39) | ... K26: =IF(【最初に作成】基本情報入力シート!L39="","",【最初に作成】基本情報入力シート!L39) | L26: =B26&C26 | M26: =IF(【最初に作成】基本情報入力シート!M39="","",【最初に作成】基本情報入力シート!M39) | N26: =IF(【最初に作成】基本情報入力シート!R39="","",【最初に作成】基本情報入力シート!R39) -> 東京都 | O26: =IF(【最初に作成】基本情報入力シート!W39="","",【最初に作成】基本情報入力シート!W39) | P26: =IF(【最初に作成】基本情報入力シート!X39="","",【最初に作成】基本情報入力シート!X39) | Q26: =IF(【最初に作成】基本情報入力シート!Y39="","",【最初に作成】基本情報入力シート!Y39) | AK26: =IF(SUM(T26:U26)>0,IF(S26=SUM(T26:U26),"","×"),"") | AL26: =IF(X26=SUM(Y26:AA26),"","×") | AM26: =IF(SUM(AB26:AC26)>0,IF(V26=SUM(AB26:AC26),"","×"),"")
A27: =A26+1 -> 8 | B27: =IF(【最初に作成】基本情報入力シート!C40="","",【最初に作成】基本情報入力シート!C40) | C27: =IF(【最初に作成】基本情報入力シート!D40="","",【最初に作成】基本情報入力シート!D40) | D27: =IF(【最初に作成】基本情報入力シート!E40="","",【最初に作成】基本情報入力シート!E40) | E27: =IF(【最初に作成】基本情報入力シート!F40="","",【最初に作成】基本情報入力シート!F40) | F27: =IF(【最初に作成】基本情報入力シート!G40="","",【最初に作成】基本情報入力シート!G40) | G27: =IF(【最初に作成】基本情報入力シート!H40="","",【最初に作成】基本情報入力シート!H40) | H27: =IF(【最初に作成】基本情報入力シート!I40="","",【最初に作成】基本情報入力シート!I40) | I27: =IF(【最初に作成】基本情報入力シート!J40="","",【最初に作成】基本情報入力シート!J40) | ... K27: =IF(【最初に作成】基本情報入力シート!L40="","",【最初に作成】基本情報入力シート!L40) | L27: =B27&C27 | M27: =IF(【最初に作成】基本情報入力シート!M40="","",【最初に作成】基本情報入力シート!M40) | N27: =IF(【最初に作成】基本情報入力シート!R40="","",【最初に作成】基本情報入力シート!R40) -> 東京都 | O27: =IF(【最初に作成】基本情報入力シート!W40="","",【最初に作成】基本情報入力シート!W40) | P27: =IF(【最初に作成】基本情報入力シート!X40="","",【最初に作成】基本情報入力シート!X40) | Q27: =IF(【最初に作成】基本情報入力シート!Y40="","",【最初に作成】基本情報入力シート!Y40) | AK27: =IF(SUM(T27:U27)>0,IF(S27=SUM(T27:U27),"","×"),"") | AL27: =IF(X27=SUM(Y27:AA27),"","×") | AM27: =IF(SUM(AB27:AC27)>0,IF(V27=SUM(AB27:AC27),"","×"),"")
A28: =A27+1 -> 9 | B28: =IF(【最初に作成】基本情報入力シート!C41="","",【最初に作成】基本情報入力シート!C41) | C28: =IF(【最初に作成】基本情報入力シート!D41="","",【最初に作成】基本情報入力シート!D41) | D28: =IF(【最初に作成】基本情報入力シート!E41="","",【最初に作成】基本情報入力シート!E41) | E28: =IF(【最初に作成】基本情報入力シート!F41="","",【最初に作成】基本情報入力シート!F41) | F28: =IF(【最初に作成】基本情報入力シート!G41="","",【最初に作成】基本情報入力シート!G41) | G28: =IF(【最初に作成】基本情報入力シート!H41="","",【最初に作成】基本情報入力シート!H41) | H28: =IF(【最初に作成】基本情報入力シート!I41="","",【最初に作成】基本情報入力シート!I41) | I28: =IF(【最初に作成】基本情報入力シート!J41="","",【最初に作成】基本情報入力シート!J41) | ... K28: =IF(【最初に作成】基本情報入力シート!L41="","",【最初に作成】基本情報入力シート!L41) | L28: =B28&C28 | M28: =IF(【最初に作成】基本情報入力シート!M41="","",【最初に作成】基本情報入力シート!M41) | N28: =IF(【最初に作成】基本情報入力シート!R41="","",【最初に作成】基本情報入力シート!R41) -> 東京都 | O28: =IF(【最初に作成】基本情報入力シート!W41="","",【最初に作成】基本情報入力シート!W41) | P28: =IF(【最初に作成】基本情報入力シート!X41="","",【最初に作成】基本情報入力シート!X41) | Q28: =IF(【最初に作成】基本情報入力シート!Y41="","",【最初に作成】基本情報入力シート!Y41) | AK28: =IF(SUM(T28:U28)>0,IF(S28=SUM(T28:U28),"","×"),"") | AL28: =IF(X28=SUM(Y28:AA28),"","×") | AM28: =IF(SUM(AB28:AC28)>0,IF(V28=SUM(AB28:AC28),"","×"),"")
A29: =A28+1 -> 10 | B29: =IF(【最初に作成】基本情報入力シート!C42="","",【最初に作成】基本情報入力シート!C42) | C29: =IF(【最初に作成】基本情報入力シート!D42="","",【最初に作成】基本情報入力シート!D42) | D29: =IF(【最初に作成】基本情報入力シート!E42="","",【最初に作成】基本情報入力シート!E42) | E29: =IF(【最初に作成】基本情報入力シート!F42="","",【最初に作成】基本情報入力シート!F42) | F29: =IF(【最初に作成】基本情報入力シート!G42="","",【最初に作成】基本情報入力シート!G42) | G29: =IF(【最初に作成】基本情報入力シート!H42="","",【最初に作成】基本情報入力シート!H42) | H29: =IF(【最初に作成】基本情報入力シート!I42="","",【最初に作成】基本情報入力シート!I42) | I29: =IF(【最初に作成】基本情報入力シート!J42="","",【最初に作成】基本情報入力シート!J42) | ... K29: =IF(【最初に作成】基本情報入力シート!L42="","",【最初に作成】基本情報入力シート!L42) | L29: =B29&C29 | M29: =IF(【最初に作成】基本情報入力シート!M42="","",【最初に作成】基本情報入力シート!M42) | N29: =IF(【最初に作成】基本情報入力シート!R42="","",【最初に作成】基本情報入力シート!R42) -> 東京都 | O29: =IF(【最初に作成】基本情報入力シート!W42="","",【最初に作成】基本情報入力シート!W42) | P29: =IF(【最初に作成】基本情報入力シート!X42="","",【最初に作成】基本情報入力シート!X42) | Q29: =IF(【最初に作成】基本情報入力シート!Y42="","",【最初に作成】基本情報入力シート!Y42) | AK29: =IF(SUM(T29:U29)>0,IF(S29=SUM(T29:U29),"","×"),"") | AL29: =IF(X29=SUM(Y29:AA29),"","×") | AM29: =IF(SUM(AB29:AC29)>0,IF(V29=SUM(AB29:AC29),"","×"),"")
A30: =A29+1 -> 11 | B30: =IF(【最初に作成】基本情報入力シート!C43="","",【最初に作成】基本情報入力シート!C43) | C30: =IF(【最初に作成】基本情報入力シート!D43="","",【最初に作成】基本情報入力シート!D43) | D30: =IF(【最初に作成】基本情報入力シート!E43="","",【最初に作成】基本情報入力シート!E43) | E30: =IF(【最初に作成】基本情報入力シート!F43="","",【最初に作成】基本情報入力シート!F43) | F30: =IF(【最初に作成】基本情報入力シート!G43="","",【最初に作成】基本情報入力シート!G43) | G30: =IF(【最初に作成】基本情報入力シート!H43="","",【最初に作成】基本情報入力シート!H43) | H30: =IF(【最初に作成】基本情報入力シート!I43="","",【最初に作成】基本情報入力シート!I43) | I30: =IF(【最初に作成】基本情報入力シート!J43="","",【最初に作成】基本情報入力シート!J43) | ... K30: =IF(【最初に作成】基本情報入力シート!L43="","",【最初に作成】基本情報入力シート!L43) | L30: =B30&C30 | M30: =IF(【最初に作成】基本情報入力シート!M43="","",【最初に作成】基本情報入力シート!M43) | N30: =IF(【最初に作成】基本情報入力シート!R43="","",【最初に作成】基本情報入力シート!R43) -> 東京都 | O30: =IF(【最初に作成】基本情報入力シート!W43="","",【最初に作成】基本情報入力シート!W43) | P30: =IF(【最初に作成】基本情報入力シート!X43="","",【最初に作成】基本情報入力シート!X43) | Q30: =IF(【最初に作成】基本情報入力シート!Y43="","",【最初に作成】基本情報入力シート!Y43) | AK30: =IF(SUM(T30:U30)>0,IF(S30=SUM(T30:U30),"","×"),"") | AL30: =IF(X30=SUM(Y30:AA30),"","×") | AM30: =IF(SUM(AB30:AC30)>0,IF(V30=SUM(AB30:AC30),"","×"),"")
A31: =A30+1 -> 12 | B31: =IF(【最初に作成】基本情報入力シート!C44="","",【最初に作成】基本情報入力シート!C44) | C31: =IF(【最初に作成】基本情報入力シート!D44="","",【最初に作成】基本情報入力シート!D44) | D31: =IF(【最初に作成】基本情報入力シート!E44="","",【最初に作成】基本情報入力シート!E44) | E31: =IF(【最初に作成】基本情報入力シート!F44="","",【最初に作成】基本情報入力シート!F44) | F31: =IF(【最初に作成】基本情報入力シート!G44="","",【最初に作成】基本情報入力シート!G44) | G31: =IF(【最初に作成】基本情報入力シート!H44="","",【最初に作成】基本情報入力シート!H44) | H31: =IF(【最初に作成】基本情報入力シート!I44="","",【最初に作成】基本情報入力シート!I44) | I31: =IF(【最初に作成】基本情報入力シート!J44="","",【最初に作成】基本情報入力シート!J44) | ... K31: =IF(【最初に作成】基本情報入力シート!L44="","",【最初に作成】基本情報入力シート!L44) | L31: =B31&C31 | M31: =IF(【最初に作成】基本情報入力シート!M44="","",【最初に作成】基本情報入力シート!M44) | N31: =IF(【最初に作成】基本情報入力シート!R44="","",【最初に作成】基本情報入力シート!R44) -> 東京都 | O31: =IF(【最初に作成】基本情報入力シート!W44="","",【最初に作成】基本情報入力シート!W44) | P31: =IF(【最初に作成】基本情報入力シート!X44="","",【最初に作成】基本情報入力シート!X44) | Q31: =IF(【最初に作成】基本情報入力シート!Y44="","",【最初に作成】基本情報入力シート!Y44) | AK31: =IF(SUM(T31:U31)>0,IF(S31=SUM(T31:U31),"","×"),"") | AL31: =IF(X31=SUM(Y31:AA31),"","×") | AM31: =IF(SUM(AB31:AC31)>0,IF(V31=SUM(AB31:AC31),"","×"),"")
A32: =A31+1 -> 13 | B32: =IF(【最初に作成】基本情報入力シート!C45="","",【最初に作成】基本情報入力シート!C45) | C32: =IF(【最初に作成】基本情報入力シート!D45="","",【最初に作成】基本情報入力シート!D45) | D32: =IF(【最初に作成】基本情報入力シート!E45="","",【最初に作成】基本情報入力シート!E45) | E32: =IF(【最初に作成】基本情報入力シート!F45="","",【最初に作成】基本情報入力シート!F45) | F32: =IF(【最初に作成】基本情報入力シート!G45="","",【最初に作成】基本情報入力シート!G45) | G32: =IF(【最初に作成】基本情報入力シート!H45="","",【最初に作成】基本情報入力シート!H45) | H32: =IF(【最初に作成】基本情報入力シート!I45="","",【最初に作成】基本情報入力シート!I45) | I32: =IF(【最初に作成】基本情報入力シート!J45="","",【最初に作成】基本情報入力シート!J45) | ... K32: =IF(【最初に作成】基本情報入力シート!L45="","",【最初に作成】基本情報入力シート!L45) | L32: =B32&C32 | M32: =IF(【最初に作成】基本情報入力シート!M45="","",【最初に作成】基本情報入力シート!M45) | N32: =IF(【最初に作成】基本情報入力シート!R45="","",【最初に作成】基本情報入力シート!R45) -> 東京都 | O32: =IF(【最初に作成】基本情報入力シート!W45="","",【最初に作成】基本情報入力シート!W45) | P32: =IF(【最初に作成】基本情報入力シート!X45="","",【最初に作成】基本情報入力シート!X45) | Q32: =IF(【最初に作成】基本情報入力シート!Y45="","",【最初に作成】基本情報入力シート!Y45) | AK32: =IF(SUM(T32:U32)>0,IF(S32=SUM(T32:U32),"","×"),"") | AL32: =IF(X32=SUM(Y32:AA32),"","×") | AM32: =IF(SUM(AB32:AC32)>0,IF(V32=SUM(AB32:AC32),"","×"),"")
A33: =A32+1 -> 14 | B33: =IF(【最初に作成】基本情報入力シート!C46="","",【最初に作成】基本情報入力シート!C46) | C33: =IF(【最初に作成】基本情報入力シート!D46="","",【最初に作成】基本情報入力シート!D46) | D33: =IF(【最初に作成】基本情報入力シート!E46="","",【最初に作成】基本情報入力シート!E46) | E33: =IF(【最初に作成】基本情報入力シート!F46="","",【最初に作成】基本情報入力シート!F46) | F33: =IF(【最初に作成】基本情報入力シート!G46="","",【最初に作成】基本情報入力シート!G46) | G33: =IF(【最初に作成】基本情報入力シート!H46="","",【最初に作成】基本情報入力シート!H46) | H33: =IF(【最初に作成】基本情報入力シート!I46="","",【最初に作成】基本情報入力シート!I46) | I33: =IF(【最初に作成】基本情報入力シート!J46="","",【最初に作成】基本情報入力シート!J46) | ... K33: =IF(【最初に作成】基本情報入力シート!L46="","",【最初に作成】基本情報入力シート!L46) | L33: =B33&C33 | M33: =IF(【最初に作成】基本情報入力シート!M46="","",【最初に作成】基本情報入力シート!M46) | N33: =IF(【最初に作成】基本情報入力シート!R46="","",【最初に作成】基本情報入力シート!R46) -> 東京都 | O33: =IF(【最初に作成】基本情報入力シート!W46="","",【最初に作成】基本情報入力シート!W46) | P33: =IF(【最初に作成】基本情報入力シート!X46="","",【最初に作成】基本情報入力シート!X46) | Q33: =IF(【最初に作成】基本情報入力シート!Y46="","",【最初に作成】基本情報入力シート!Y46) | AK33: =IF(SUM(T33:U33)>0,IF(S33=SUM(T33:U33),"","×"),"") | AL33: =IF(X33=SUM(Y33:AA33),"","×") | AM33: =IF(SUM(AB33:AC33)>0,IF(V33=SUM(AB33:AC33),"","×"),"")
A34: =A33+1 -> 15 | B34: =IF(【最初に作成】基本情報入力シート!C47="","",【最初に作成】基本情報入力シート!C47) | C34: =IF(【最初に作成】基本情報入力シート!D47="","",【最初に作成】基本情報入力シート!D47) | D34: =IF(【最初に作成】基本情報入力シート!E47="","",【最初に作成】基本情報入力シート!E47) | E34: =IF(【最初に作成】基本情報入力シート!F47="","",【最初に作成】基本情報入力シート!F47) | F34: =IF(【最初に作成】基本情報入力シート!G47="","",【最初に作成】基本情報入力シート!G47) | G34: =IF(【最初に作成】基本情報入力シート!H47="","",【最初に作成】基本情報入力シート!H47) | H34: =IF(【最初に作成】基本情報入力シート!I47="","",【最初に作成】基本情報入力シート!I47) | I34: =IF(【最初に作成】基本情報入力シート!J47="","",【最初に作成】基本情報入力シート!J47) | ... K34: =IF(【最初に作成】基本情報入力シート!L47="","",【最初に作成】基本情報入力シート!L47) | L34: =B34&C34 | M34: =IF(【最初に作成】基本情報入力シート!M47="","",【最初に作成】基本情報入力シート!M47) | N34: =IF(【最初に作成】基本情報入力シート!R47="","",【最初に作成】基本情報入力シート!R47) -> 東京都 | O34: =IF(【最初に作成】基本情報入力シート!W47="","",【最初に作成】基本情報入力シート!W47) | P34: =IF(【最初に作成】基本情報入力シート!X47="","",【最初に作成】基本情報入力シート!X47) | Q34: =IF(【最初に作成】基本情報入力シート!Y47="","",【最初に作成】基本情報入力シート!Y47) | AK34: =IF(SUM(T34:U34)>0,IF(S34=SUM(T34:U34),"","×"),"") | AL34: =IF(X34=SUM(Y34:AA34),"","×") | AM34: =IF(SUM(AB34:AC34)>0,IF(V34=SUM(AB34:AC34),"","×"),"")
A35: =A34+1 -> 16 | B35: =IF(【最初に作成】基本情報入力シート!C48="","",【最初に作成】基本情報入力シート!C48) | C35: =IF(【最初に作成】基本情報入力シート!D48="","",【最初に作成】基本情報入力シート!D48) | D35: =IF(【最初に作成】基本情報入力シート!E48="","",【最初に作成】基本情報入力シート!E48) | E35: =IF(【最初に作成】基本情報入力シート!F48="","",【最初に作成】基本情報入力シート!F48) | F35: =IF(【最初に作成】基本情報入力シート!G48="","",【最初に作成】基本情報入力シート!G48) | G35: =IF(【最初に作成】基本情報入力シート!H48="","",【最初に作成】基本情報入力シート!H48) | H35: =IF(【最初に作成】基本情報入力シート!I48="","",【最初に作成】基本情報入力シート!I48) | I35: =IF(【最初に作成】基本情報入力シート!J48="","",【最初に作成】基本情報入力シート!J48) | ... K35: =IF(【最初に作成】基本情報入力シート!L48="","",【最初に作成】基本情報入力シート!L48) | L35: =B35&C35 | M35: =IF(【最初に作成】基本情報入力シート!M48="","",【最初に作成】基本情報入力シート!M48) | N35: =IF(【最初に作成】基本情報入力シート!R48="","",【最初に作成】基本情報入力シート!R48) -> 東京都 | O35: =IF(【最初に作成】基本情報入力シート!W48="","",【最初に作成】基本情報入力シート!W48) | P35: =IF(【最初に作成】基本情報入力シート!X48="","",【最初に作成】基本情報入力シート!X48) | Q35: =IF(【最初に作成】基本情報入力シート!Y48="","",【最初に作成】基本情報入力シート!Y48) | AK35: =IF(SUM(T35:U35)>0,IF(S35=SUM(T35:U35),"","×"),"") | AL35: =IF(X35=SUM(Y35:AA35),"","×") | AM35: =IF(SUM(AB35:AC35)>0,IF(V35=SUM(AB35:AC35),"","×"),"")
A36: =A35+1 -> 17 | B36: =IF(【最初に作成】基本情報入力シート!C49="","",【最初に作成】基本情報入力シート!C49) | C36: =IF(【最初に作成】基本情報入力シート!D49="","",【最初に作成】基本情報入力シート!D49) | D36: =IF(【最初に作成】基本情報入力シート!E49="","",【最初に作成】基本情報入力シート!E49) | E36: =IF(【最初に作成】基本情報入力シート!F49="","",【最初に作成】基本情報入力シート!F49) | F36: =IF(【最初に作成】基本情報入力シート!G49="","",【最初に作成】基本情報入力シート!G49) | G36: =IF(【最初に作成】基本情報入力シート!H49="","",【最初に作成】基本情報入力シート!H49) | H36: =IF(【最初に作成】基本情報入力シート!I49="","",【最初に作成】基本情報入力シート!I49) | I36: =IF(【最初に作成】基本情報入力シート!J49="","",【最初に作成】基本情報入力シート!J49) | ... K36: =IF(【最初に作成】基本情報入力シート!L49="","",【最初に作成】基本情報入力シート!L49) | L36: =B36&C36 | M36: =IF(【最初に作成】基本情報入力シート!M49="","",【最初に作成】基本情報入力シート!M49) | N36: =IF(【最初に作成】基本情報入力シート!R49="","",【最初に作成】基本情報入力シート!R49) -> 東京都 | O36: =IF(【最初に作成】基本情報入力シート!W49="","",【最初に作成】基本情報入力シート!W49) | P36: =IF(【最初に作成】基本情報入力シート!X49="","",【最初に作成】基本情報入力シート!X49) | Q36: =IF(【最初に作成】基本情報入力シート!Y49="","",【最初に作成】基本情報入力シート!Y49) | AK36: =IF(SUM(T36:U36)>0,IF(S36=SUM(T36:U36),"","×"),"") | AL36: =IF(X36=SUM(Y36:AA36),"","×") | AM36: =IF(SUM(AB36:AC36)>0,IF(V36=SUM(AB36:AC36),"","×"),"")
A37: =A36+1 -> 18 | B37: =IF(【最初に作成】基本情報入力シート!C50="","",【最初に作成】基本情報入力シート!C50) | C37: =IF(【最初に作成】基本情報入力シート!D50="","",【最初に作成】基本情報入力シート!D50) | D37: =IF(【最初に作成】基本情報入力シート!E50="","",【最初に作成】基本情報入力シート!E50) | E37: =IF(【最初に作成】基本情報入力シート!F50="","",【最初に作成】基本情報入力シート!F50) | F37: =IF(【最初に作成】基本情報入力シート!G50="","",【最初に作成】基本情報入力シート!G50) | G37: =IF(【最初に作成】基本情報入力シート!H50="","",【最初に作成】基本情報入力シート!H50) | H37: =IF(【最初に作成】基本情報入力シート!I50="","",【最初に作成】基本情報入力シート!I50) | I37: =IF(【最初に作成】基本情報入力シート!J50="","",【最初に作成】基本情報入力シート!J50) | ... K37: =IF(【最初に作成】基本情報入力シート!L50="","",【最初に作成】基本情報入力シート!L50) | L37: =B37&C37 | M37: =IF(【最初に作成】基本情報入力シート!M50="","",【最初に作成】基本情報入力シート!M50) | N37: =IF(【最初に作成】基本情報入力シート!R50="","",【最初に作成】基本情報入力シート!R50) -> 東京都 | O37: =IF(【最初に作成】基本情報入力シート!W50="","",【最初に作成】基本情報入力シート!W50) | P37: =IF(【最初に作成】基本情報入力シート!X50="","",【最初に作成】基本情報入力シート!X50) | Q37: =IF(【最初に作成】基本情報入力シート!Y50="","",【最初に作成】基本情報入力シート!Y50) | AK37: =IF(SUM(T37:U37)>0,IF(S37=SUM(T37:U37),"","×"),"") | AL37: =IF(X37=SUM(Y37:AA37),"","×") | AM37: =IF(SUM(AB37:AC37)>0,IF(V37=SUM(AB37:AC37),"","×"),"")
... A119: =A118+1 -> 100 | B119: =IF(【最初に作成】基本情報入力シート!C132="","",【最初に作成】基本情報入力シート!C132) | C119: =IF(【最初に作成】基本情報入力シート!D132="","",【最初に作成】基本情報入力シート!D132) | D119: =IF(【最初に作成】基本情報入力シート!E132="","",【最初に作成】基本情報入力シート!E132) | E119: =IF(【最初に作成】基本情報入力シート!F132="","",【最初に作成】基本情報入力シート!F132) | F119: =IF(【最初に作成】基本情報入力シート!G132="","",【最初に作成】基本情報入力シート!G132) | G119: =IF(【最初に作成】基本情報入力シート!H132="","",【最初に作成】基本情報入力シート!H132) | H119: =IF(【最初に作成】基本情報入力シート!I132="","",【最初に作成】基本情報入力シート!I132) | I119: =IF(【最初に作成】基本情報入力シート!J132="","",【最初に作成】基本情報入力シート!J132) | ... K119: =IF(【最初に作成】基本情報入力シート!L132="","",【最初に作成】基本情報入力シート!L132) | L119: =B119&C119 | M119: =IF(【最初に作成】基本情報入力シート!M132="","",【最初に作成】基本情報入力シート!M132) | N119: =IF(【最初に作成】基本情報入力シート!R132="","",【最初に作成】基本情報入力シート!R132) -> 東京都 | O119: =IF(【最初に作成】基本情報入力シート!W132="","",【最初に作成】基本情報入力シート!W132) | P119: =IF(【最初に作成】基本情報入力シート!X132="","",【最初に作成】基本情報入力シート!X132) | Q119: =IF(【最初に作成】基本情報入力シート!Y132="","",【最初に作成】基本情報入力シート!Y132) | AK119: =IF(SUM(T119:U119)>0,IF(S119=SUM(T119:U119),"","×"),"") | AL119: =IF(X119=SUM(Y119:AA119),"","×") | AM119: =IF(SUM(AB119:AC119)>0,IF(V119=SUM(AB119:AC119),"","×"),"")

Sheet ⇒交付金別紙様式3-2
A1: 交付金別紙様式３-２ | M1: 福祉・介護職員処遇改善臨時特例交付金実績報告書（施設・事業所別個表）
A3: 法人名 | D3: =【最初に作成】基本情報入力シート!M16 -> 0
Q5: ［円］
B6: ２① 福祉・介護職員処遇改善臨時特例交付金の総額］(k) | Q6: =IF(SUM(S22:S321)=0,"",SUM(S22:S321))
B7: ２②ⅰ） 賃金改善実施期間に交付金によりの福祉・介護職員等の賃金の総額 （（l）+（m）） | Q7: =IF((SUM(T22:T321)+SUM(U22:U321))=0,"",SUM(T22:T321)+SUM(U22:U321))
B10: ※本表に記載する事業所は、福祉・介護職員処遇改善臨時特例交付金計画書の別紙様式２－２に記載した事業所と一致しなければならない。
B11: ※事業所の数が多く、１枚に記載しきれない場合は、適宜、行を追加すること。
S12: ①合計 | V12: ③ⅰ）合計 | W12: （i-2）合計 | X12: ③ⅱ）合計 | Y12: （j-2）合計
S13: =SUM(S22:S321) -> 0 | V13: =SUM(V22:V321) -> 0 | W13: =SUM(W22:W321) -> 0 | X13: =SUM(X22:X321) -> 0 | Y13: =SUM(Y22:Y321) -> 0 | AA13: 要件Ⅰ | AB13: =IF((V13+X13)="","",IF(Q6="","",IF((V13+X13)>Q6,"○","×"))) | AC13: ！×の場合、【③ⅰ+③ⅱ＞①】となるように修正してください。
T14: ベースアップ等の割合→ | V14: 福祉・介護職員 | W14: =IFERROR($W$13/$V$13,0) -> 0 | X14: その他職員 | Y14: =IFERROR($Y$13/$X$13,0) -> 0 | AA14: 要件Ⅱ | AB14: =IF(AND($W$14=0,$Y$14=0),"×",IF(OR($W$14=0,$W$14>=(2/3)),"○","×")) -> × | AC14: ！×の場合、【福祉・介護職員のベースアップ等による賃金改善額が2/3(66.66…％)以上】となるように修正してください。
B15: 障害福祉サービス 事業所番号 | M15: 指定権者 | P15: 事業所名 | Q15: サービス名 | R15: 算定する福祉・介護職員処遇改善加算の区分 （Ⅰ～Ⅲを算定しない事業所は交付金を取得できません） | S15: 福祉・介護職員処遇改善臨時特例交付金 別紙様式３－１ ２実績報告について | AB15: =IF(AND($Y$14=0,$W$14=0),"×",IF(OR($Y$14=0,$Y$14>=(2/3)),"○","×")) -> × | AC15: ！×の場合、【その他の職員のベースアップ等による賃金改善額が2/3(66.66…％)以上】となるように修正してください。
N16: 事業所の所在地 | S16: ① 福祉・介護職員処遇改善臨時特例交付金の総額［円］］(k) | T16: ②ⅰ）賃金改善実施期間に交付金により賃金の改善を行った福祉・介護職員等の賃金の総額(［円］ | V16: （列ごとの合計が２③に転記）
V18: （i-1） ③ⅰ）福祉・介護職員の賃金改善額［円］ | W18: （i-2） 左記のうち、ベースアップ等による賃金改善額［円］ | X18: （j-1） ③ⅱ）その他職種の賃金改善額［円］ | Y18: （j-2） 左記のうち、ベースアップ等による賃金改善額［円］
N19: 都道府県 | O19: 市区町村 | T19: 福祉・介護職員(l) | U19: その他の職種(m)
A22: 1 | B22: =IF(【最初に作成】基本情報入力シート!C33="","",【最初に作成】基本情報入力シート!C33) | C22: =IF(【最初に作成】基本情報入力シート!D33="","",【最初に作成】基本情報入力シート!D33) | D22: =IF(【最初に作成】基本情報入力シート!E33="","",【最初に作成】基本情報入力シート!E33) | E22: =IF(【最初に作成】基本情報入力シート!F33="","",【最初に作成】基本情報入力シート!F33) | F22: =IF(【最初に作成】基本情報入力シート!G33="","",【最初に作成】基本情報入力シート!G33) | G22: =IF(【最初に作成】基本情報入力シート!H33="","",【最初に作成】基本情報入力シート!H33) | H22: =IF(【最初に作成】基本情報入力シート!I33="","",【最初に作成】基本情報入力シート!I33) | I22: =IF(【最初に作成】基本情報入力シート!J33="","",【最初に作成】基本情報入力シート!J33) | ... K22: =IF(【最初に作成】基本情報入力シート!L33="","",【最初に作成】基本情報入力シート!L33) | L22: =B22&C22 | M22: =IF(【最初に作成】基本情報入力シート!M33="","",【最初に作成】基本情報入力シート!M33) | N22: =IF(【最初に作成】基本情報入力シート!R33="","",【最初に作成】基本情報入力シート!R33) -> 東京都 | O22: =IF(【最初に作成】基本情報入力シート!W33="","",【最初に作成】基本情報入力シート!W33) | P22: =IF(【最初に作成】基本情報入力シート!X33="","",【最初に作成】基本情報入力シート!X33) | Q22: =IF(【最初に作成】基本情報入力シート!Y33="","",【最初に作成】基本情報入力シート!Y33)
A23: =A22+1 -> 2 | B23: =IF(【最初に作成】基本情報入力シート!C34="","",【最初に作成】基本情報入力シート!C34) | C23: =IF(【最初に作成】基本情報入力シート!D34="","",【最初に作成】基本情報入力シート!D34) | D23: =IF(【最初に作成】基本情報入力シート!E34="","",【最初に作成】基本情報入力シート!E34) | E23: =IF(【最初に作成】基本情報入力シート!F34="","",【最初に作成】基本情報入力シート!F34) | F23: =IF(【最初に作成】基本情報入力シート!G34="","",【最初に作成】基本情報入力シート!G34) | G23: =IF(【最初に作成】基本情報入力シート!H34="","",【最初に作成】基本情報入力シート!H34) | H23: =IF(【最初に作成】基本情報入力シート!I34="","",【最初に作成】基本情報入力シート!I34) | I23: =IF(【最初に作成】基本情報入力シート!J34="","",【最初に作成】基本情報入力シート!J34) | ... K23: =IF(【最初に作成】基本情報入力シート!L34="","",【最初に作成】基本情報入力シート!L34) | L23: =B23&C23 | M23: =IF(【最初に作成】基本情報入力シート!M34="","",【最初に作成】基本情報入力シート!M34) | N23: =IF(【最初に作成】基本情報入力シート!R34="","",【最初に作成】基本情報入力シート!R34) -> 東京都 | O23: =IF(【最初に作成】基本情報入力シート!W34="","",【最初に作成】基本情報入力シート!W34) | P23: =IF(【最初に作成】基本情報入力シート!X34="","",【最初に作成】基本情報入力シート!X34) | Q23: =IF(【最初に作成】基本情報入力シート!Y34="","",【最初に作成】基本情報入力シート!Y34)
A24: =A23+1 -> 3 | B24: =IF(【最初に作成】基本情報入力シート!C35="","",【最初に作成】基本情報入力シート!C35) | C24: =IF(【最初に作成】基本情報入力シート!D35="","",【最初に作成】基本情報入力シート!D35) | D24: =IF(【最初に作成】基本情報入力シート!E35="","",【最初に作成】基本情報入力シート!E35) | E24: =IF(【最初に作成】基本情報入力シート!F35="","",【最初に作成】基本情報入力シート!F35) | F24: =IF(【最初に作成】基本情報入力シート!G35="","",【最初に作成】基本情報入力シート!G35) | G24: =IF(【最初に作成】基本情報入力シート!H35="","",【最初に作成】基本情報入力シート!H35) | H24: =IF(【最初に作成】基本情報入力シート!I35="","",【最初に作成】基本情報入力シート!I35) | I24: =IF(【最初に作成】基本情報入力シート!J35="","",【最初に作成】基本情報入力シート!J35) | ... K24: =IF(【最初に作成】基本情報入力シート!L35="","",【最初に作成】基本情報入力シート!L35) | L24: =B24&C24 | M24: =IF(【最初に作成】基本情報入力シート!M35="","",【最初に作成】基本情報入力シート!M35) | N24: =IF(【最初に作成】基本情報入力シート!R35="","",【最初に作成】基本情報入力シート!R35) -> 東京都 | O24: =IF(【最初に作成】基本情報入力シート!W35="","",【最初に作成】基本情報入力シート!W35) | P24: =IF(【最初に作成】基本情報入力シート!X35="","",【最初に作成】基本情報入力シート!X35) | Q24: =IF(【最初に作成】基本情報入力シート!Y35="","",【最初に作成】基本情報入力シート!Y35)
A25: =A24+1 -> 4 | B25: =IF(【最初に作成】基本情報入力シート!C36="","",【最初に作成】基本情報入力シート!C36) | C25: =IF(【最初に作成】基本情報入力シート!D36="","",【最初に作成】基本情報入力シート!D36) | D25: =IF(【最初に作成】基本情報入力シート!E36="","",【最初に作成】基本情報入力シート!E36) | E25: =IF(【最初に作成】基本情報入力シート!F36="","",【最初に作成】基本情報入力シート!F36) | F25: =IF(【最初に作成】基本情報入力シート!G36="","",【最初に作成】基本情報入力シート!G36) | G25: =IF(【最初に作成】基本情報入力シート!H36="","",【最初に作成】基本情報入力シート!H36) | H25: =IF(【最初に作成】基本情報入力シート!I36="","",【最初に作成】基本情報入力シート!I36) | I25: =IF(【最初に作成】基本情報入力シート!J36="","",【最初に作成】基本情報入力シート!J36) | ... K25: =IF(【最初に作成】基本情報入力シート!L36="","",【最初に作成】基本情報入力シート!L36) | L25: =B25&C25 | M25: =IF(【最初に作成】基本情報入力シート!M36="","",【最初に作成】基本情報入力シート!M36) | N25: =IF(【最初に作成】基本情報入力シート!R36="","",【最初に作成】基本情報入力シート!R36) -> 東京都 | O25: =IF(【最初に作成】基本情報入力シート!W36="","",【最初に作成】基本情報入力シート!W36) | P25: =IF(【最初に作成】基本情報入力シート!X36="","",【最初に作成】基本情報入力シート!X36) | Q25: =IF(【最初に作成】基本情報入力シート!Y36="","",【最初に作成】基本情報入力シート!Y36)
A26: =A25+1 -> 5 | B26: =IF(【最初に作成】基本情報入力シート!C37="","",【最初に作成】基本情報入力シート!C37) | C26: =IF(【最初に作成】基本情報入力シート!D37="","",【最初に作成】基本情報入力シート!D37) | D26: =IF(【最初に作成】基本情報入力シート!E37="","",【最初に作成】基本情報入力シート!E37) | E26: =IF(【最初に作成】基本情報入力シート!F37="","",【最初に作成】基本情報入力シート!F37) | F26: =IF(【最初に作成】基本情報入力シート!G37="","",【最初に作成】基本情報入力シート!G37) | G26: =IF(【最初に作成】基本情報入力シート!H37="","",【最初に作成】基本情報入力シート!H37) | H26: =IF(【最初に作成】基本情報入力シート!I37="","",【最初に作成】基本情報入力シート!I37) | I26: =IF(【最初に作成】基本情報入力シート!J37="","",【最初に作成】基本情報入力シート!J37) | ... K26: =IF(【最初に作成】基本情報入力シート!L37="","",【最初に作成】基本情報入力シート!L37) | L26: =B26&C26 | M26: =IF(【最初に作成】基本情報入力シート!M37="","",【最初に作成】基本情報入力シート!M37) | N26: =IF(【最初に作成】基本情報入力シート!R37="","",【最初に作成】基本情報入力シート!R37) -> 東京都 | O26: =IF(【最初に作成】基本情報入力シート!W37="","",【最初に作成】基本情報入力シート!W37) | P26: =IF(【最初に作成】基本情報入力シート!X37="","",【最初に作成】基本情報入力シート!X37) | Q26: =IF(【最初に作成】基本情報入力シート!Y37="","",【最初に作成】基本情報入力シート!Y37)
A27: =A26+1 -> 6 | B27: =IF(【最初に作成】基本情報入力シート!C38="","",【最初に作成】基本情報入力シート!C38) | C27: =IF(【最初に作成】基本情報入力シート!D38="","",【最初に作成】基本情報入力シート!D38) | D27: =IF(【最初に作成】基本情報入力シート!E38="","",【最初に作成】基本情報入力シート!E38) | E27: =IF(【最初に作成】基本情報入力シート!F38="","",【最初に作成】基本情報入力シート!F38) | F27: =IF(【最初に作成】基本情報入力シート!G38="","",【最初に作成】基本情報入力シート!G38) | G27: =IF(【最初に作成】基本情報入力シート!H38="","",【最初に作成】基本情報入力シート!H38) | H27: =IF(【最初に作成】基本情報入力シート!I38="","",【最初に作成】基本情報入力シート!I38) | I27: =IF(【最初に作成】基本情報入力シート!J38="","",【最初に作成】基本情報入力シート!J38) | ... K27: =IF(【最初に作成】基本情報入力シート!L38="","",【最初に作成】基本情報入力シート!L38) | L27: =B27&C27 | M27: =IF(【最初に作成】基本情報入力シート!M38="","",【最初に作成】基本情報入力シート!M38) | N27: =IF(【最初に作成】基本情報入力シート!R38="","",【最初に作成】基本情報入力シート!R38) -> 東京都 | O27: =IF(【最初に作成】基本情報入力シート!W38="","",【最初に作成】基本情報入力シート!W38) | P27: =IF(【最初に作成】基本情報入力シート!X38="","",【最初に作成】基本情報入力シート!X38) | Q27: =IF(【最初に作成】基本情報入力シート!Y38="","",【最初に作成】基本情報入力シート!Y38)
A28: =A27+1 -> 7 | B28: =IF(【最初に作成】基本情報入力シート!C39="","",【最初に作成】基本情報入力シート!C39) | C28: =IF(【最初に作成】基本情報入力シート!D39="","",【最初に作成】基本情報入力シート!D39) | D28: =IF(【最初に作成】基本情報入力シート!E39="","",【最初に作成】基本情報入力シート!E39) | E28: =IF(【最初に作成】基本情報入力シート!F39="","",【最初に作成】基本情報入力シート!F39) | F28: =IF(【最初に作成】基本情報入力シート!G39="","",【最初に作成】基本情報入力シート!G39) | G28: =IF(【最初に作成】基本情報入力シート!H39="","",【最初に作成】基本情報入力シート!H39) | H28: =IF(【最初に作成】基本情報入力シート!I39="","",【最初に作成】基本情報入力シート!I39) | I28: =IF(【最初に作成】基本情報入力シート!J39="","",【最初に作成】基本情報入力シート!J39) | ... K28: =IF(【最初に作成】基本情報入力シート!L39="","",【最初に作成】基本情報入力シート!L39) | L28: =B28&C28 | M28: =IF(【最初に作成】基本情報入力シート!M39="","",【最初に作成】基本情報入力シート!M39) | N28: =IF(【最初に作成】基本情報入力シート!R39="","",【最初に作成】基本情報入力シート!R39) -> 東京都 | O28: =IF(【最初に作成】基本情報入力シート!W39="","",【最初に作成】基本情報入力シート!W39) | P28: =IF(【最初に作成】基本情報入力シート!X39="","",【最初に作成】基本情報入力シート!X39) | Q28: =IF(【最初に作成】基本情報入力シート!Y39="","",【最初に作成】基本情報入力シート!Y39)
A29: =A28+1 -> 8 | B29: =IF(【最初に作成】基本情報入力シート!C40="","",【最初に作成】基本情報入力シート!C40) | C29: =IF(【最初に作成】基本情報入力シート!D40="","",【最初に作成】基本情報入力シート!D40) | D29: =IF(【最初に作成】基本情報入力シート!E40="","",【最初に作成】基本情報入力シート!E40) | E29: =IF(【最初に作成】基本情報入力シート!F40="","",【最初に作成】基本情報入力シート!F40) | F29: =IF(【最初に作成】基本情報入力シート!G40="","",【最初に作成】基本情報入力シート!G40) | G29: =IF(【最初に作成】基本情報入力シート!H40="","",【最初に作成】基本情報入力シート!H40) | H29: =IF(【最初に作成】基本情報入力シート!I40="","",【最初に作成】基本情報入力シート!I40) | I29: =IF(【最初に作成】基本情報入力シート!J40="","",【最初に作成】基本情報入力シート!J40) | ... K29: =IF(【最初に作成】基本情報入力シート!L40="","",【最初に作成】基本情報入力シート!L40) | L29: =B29&C29 | M29: =IF(【最初に作成】基本情報入力シート!M40="","",【最初に作成】基本情報入力シート!M40) | N29: =IF(【最初に作成】基本情報入力シート!R40="","",【最初に作成】基本情報入力シート!R40) -> 東京都 | O29: =IF(【最初に作成】基本情報入力シート!W40="","",【最初に作成】基本情報入力シート!W40) | P29: =IF(【最初に作成】基本情報入力シート!X40="","",【最初に作成】基本情報入力シート!X40) | Q29: =IF(【最初に作成】基本情報入力シート!Y40="","",【最初に作成】基本情報入力シート!Y40)
A30: =A29+1 -> 9 | B30: =IF(【最初に作成】基本情報入力シート!C41="","",【最初に作成】基本情報入力シート!C41) | C30: =IF(【最初に作成】基本情報入力シート!D41="","",【最初に作成】基本情報入力シート!D41) | D30: =IF(【最初に作成】基本情報入力シート!E41="","",【最初に作成】基本情報入力シート!E41) | E30: =IF(【最初に作成】基本情報入力シート!F41="","",【最初に作成】基本情報入力シート!F41) | F30: =IF(【最初に作成】基本情報入力シート!G41="","",【最初に作成】基本情報入力シート!G41) | G30: =IF(【最初に作成】基本情報入力シート!H41="","",【最初に作成】基本情報入力シート!H41) | H30: =IF(【最初に作成】基本情報入力シート!I41="","",【最初に作成】基本情報入力シート!I41) | I30: =IF(【最初に作成】基本情報入力シート!J41="","",【最初に作成】基本情報入力シート!J41) | ... K30: =IF(【最初に作成】基本情報入力シート!L41="","",【最初に作成】基本情報入力シート!L41) | L30: =B30&C30 | M30: =IF(【最初に作成】基本情報入力シート!M41="","",【最初に作成】基本情報入力シート!M41) | N30: =IF(【最初に作成】基本情報入力シート!R41="","",【最初に作成】基本情報入力シート!R41) -> 東京都 | O30: =IF(【最初に作成】基本情報入力シート!W41="","",【最初に作成】基本情報入力シート!W41) | P30: =IF(【最初に作成】基本情報入力シート!X41="","",【最初に作成】基本情報入力シート!X41) | Q30: =IF(【最初に作成】基本情報入力シート!Y41="","",【最初に作成】基本情報入力シート!Y41)
A31: =A30+1 -> 10 | B31: =IF(【最初に作成】基本情報入力シート!C42="","",【最初に作成】基本情報入力シート!C42) | C31: =IF(【最初に作成】基本情報入力シート!D42="","",【最初に作成】基本情報入力シート!D42) | D31: =IF(【最初に作成】基本情報入力シート!E42="","",【最初に作成】基本情報入力シート!E42) | E31: =IF(【最初に作成】基本情報入力シート!F42="","",【最初に作成】基本情報入力シート!F42) | F31: =IF(【最初に作成】基本情報入力シート!G42="","",【最初に作成】基本情報入力シート!G42) | G31: =IF(【最初に作成】基本情報入力シート!H42="","",【最初に作成】基本情報入力シート!H42) | H31: =IF(【最初に作成】基本情報入力シート!I42="","",【最初に作成】基本情報入力シート!I42) | I31: =IF(【最初に作成】基本情報入力シート!J42="","",【最初に作成】基本情報入力シート!J42) | ... K31: =IF(【最初に作成】基本情報入力シート!L42="","",【最初に作成】基本情報入力シート!L42) | L31: =B31&C31 | M31: =IF(【最初に作成】基本情報入力シート!M42="","",【最初に作成】基本情報入力シート!M42) | N31: =IF(【最初に作成】基本情報入力シート!R42="","",【最初に作成】基本情報入力シート!R42) -> 東京都 | O31: =IF(【最初に作成】基本情報入力シート!W42="","",【最初に作成】基本情報入力シート!W42) | P31: =IF(【最初に作成】基本情報入力シート!X42="","",【最初に作成】基本情報入力シート!X42) | Q31: =IF(【最初に作成】基本情報入力シート!Y42="","",【最初に作成】基本情報入力シート!Y42)
A32: =A31+1 -> 11 | B32: =IF(【最初に作成】基本情報入力シート!C43="","",【最初に作成】基本情報入力シート!C43) | C32: =IF(【最初に作成】基本情報入力シート!D43="","",【最初に作成】基本情報入力シート!D43) | D32: =IF(【最初に作成】基本情報入力シート!E43="","",【最初に作成】基本情報入力シート!E43) | E32: =IF(【最初に作成】基本情報入力シート!F43="","",【最初に作成】基本情報入力シート!F43) | F32: =IF(【最初に作成】基本情報入力シート!G43="","",【最初に作成】基本情報入力シート!G43) | G32: =IF(【最初に作成】基本情報入力シート!H43="","",【最初に作成】基本情報入力シート!H43) | H32: =IF(【最初に作成】基本情報入力シート!I43="","",【最初に作成】基本情報入力シート!I43) | I32: =IF(【最初に作成】基本情報入力シート!J43="","",【最初に作成】基本情報入力シート!J43) | ... K32: =IF(【最初に作成】基本情報入力シート!L43="","",【最初に作成】基本情報入力シート!L43) | L32: =B32&C32 | M32: =IF(【最初に作成】基本情報入力シート!M43="","",【最初に作成】基本情報入力シート!M43) | N32: =IF(【最初に作成】基本情報入力シート!R43="","",【最初に作成】基本情報入力シート!R43) -> 東京都 | O32: =IF(【最初に作成】基本情報入力シート!W43="","",【最初に作成】基本情報入力シート!W43) | P32: =IF(【最初に作成】基本情報入力シート!X43="","",【最初に作成】基本情報入力シート!X43) | Q32: =IF(【最初に作成】基本情報入力シート!Y43="","",【最初に作成】基本情報入力シート!Y43)
A33: =A32+1 -> 12 | B33: =IF(【最初に作成】基本情報入力シート!C44="","",【最初に作成】基本情報入力シート!C44) | C33: =IF(【最初に作成】基本情報入力シート!D44="","",【最初に作成】基本情報入力シート!D44) | D33: =IF(【最初に作成】基本情報入力シート!E44="","",【最初に作成】基本情報入力シート!E44) | E33: =IF(【最初に作成】基本情報入力シート!F44="","",【最初に作成】基本情報入力シート!F44) | F33: =IF(【最初に作成】基本情報入力シート!G44="","",【最初に作成】基本情報入力シート!G44) | G33: =IF(【最初に作成】基本情報入力シート!H44="","",【最初に作成】基本情報入力シート!H44) | H33: =IF(【最初に作成】基本情報入力シート!I44="","",【最初に作成】基本情報入力シート!I44) | I33: =IF(【最初に作成】基本情報入力シート!J44="","",【最初に作成】基本情報入力シート!J44) | ... K33: =IF(【最初に作成】基本情報入力シート!L44="","",【最初に作成】基本情報入力シート!L44) | L33: =B33&C33 | M33: =IF(【最初に作成】基本情報入力シート!M44="","",【最初に作成】基本情報入力シート!M44) | N33: =IF(【最初に作成】基本情報入力シート!R44="","",【最初に作成】基本情報入力シート!R44) -> 東京都 | O33: =IF(【最初に作成】基本情報入力シート!W44="","",【最初に作成】基本情報入力シート!W44) | P33: =IF(【最初に作成】基本情報入力シート!X44="","",【最初に作成】基本情報入力シート!X44) | Q33: =IF(【最初に作成】基本情報入力シート!Y44="","",【最初に作成】基本情報入力シート!Y44)
A34: =A33+1 -> 13 | B34: =IF(【最初に作成】基本情報入力シート!C45="","",【最初に作成】基本情報入力シート!C45) | C34: =IF(【最初に作成】基本情報入力シート!D45="","",【最初に作成】基本情報入力シート!D45) | D34: =IF(【最初に作成】基本情報入力シート!E45="","",【最初に作成】基本情報入力シート!E45) | E34: =IF(【最初に作成】基本情報入力シート!F45="","",【最初に作成】基本情報入力シート!F45) | F34: =IF(【最初に作成】基本情報入力シート!G45="","",【最初に作成】基本情報入力シート!G45) | G34: =IF(【最初に作成】基本情報入力シート!H45="","",【最初に作成】基本情報入力シート!H45) | H34: =IF(【最初に作成】基本情報入力シート!I45="","",【最初に作成】基本情報入力シート!I45) | I34: =IF(【最初に作成】基本情報入力シート!J45="","",【最初に作成】基本情報入力シート!J45) | ... K34: =IF(【最初に作成】基本情報入力シート!L45="","",【最初に作成】基本情報入力シート!L45) | L34: =B34&C34 | M34: =IF(【最初に作成】基本情報入力シート!M45="","",【最初に作成】基本情報入力シート!M45) | N34: =IF(【最初に作成】基本情報入力シート!R45="","",【最初に作成】基本情報入力シート!R45) -> 東京都 | O34: =IF(【最初に作成】基本情報入力シート!W45="","",【最初に作成】基本情報入力シート!W45) | P34: =IF(【最初に作成】基本情報入力シート!X45="","",【最初に作成】基本情報入力シート!X45) | Q34: =IF(【最初に作成】基本情報入力シート!Y45="","",【最初に作成】基本情報入力シート!Y45)
... A321: =A320+1 -> 300 | B321: =IF(【最初に作成】基本情報入力シート!C332="","",【最初に作成】基本情報入力シート!C332) | C321: =IF(【最初に作成】基本情報入力シート!D332="","",【最初に作成】基本情報入力シート!D332) | D321: =IF(【最初に作成】基本情報入力シート!E332="","",【最初に作成】基本情報入力シート!E332) | E321: =IF(【最初に作成】基本情報入力シート!F332="","",【最初に作成】基本情報入力シート!F332) | F321: =IF(【最初に作成】基本情報入力シート!G332="","",【最初に作成】基本情報入力シート!G332) | G321: =IF(【最初に作成】基本情報入力シート!H332="","",【最初に作成】基本情報入力シート!H332) | H321: =IF(【最初に作成】基本情報入力シート!I332="","",【最初に作成】基本情報入力シート!I332) | I321: =IF(【最初に作成】基本情報入力シート!J332="","",【最初に作成】基本情報入力シート!J332) | ... K321: =IF(【最初に作成】基本情報入力シート!L332="","",【最初に作成】基本情報入力シート!L332) | L321: =B321&C321 | M321: =IF(【最初に作成】基本情報入力シート!M332="","",【最初に作成】基本情報入力シート!M332) | N321: =IF(【最初に作成】基本情報入力シート!R332="","",【最初に作成】基本情報入力シート!R332) -> 東京都 | O321: =IF(【最初に作成】基本情報入力シート!W332="","",【最初に作成】基本情報入力シート!W332) | P321: =IF(【最初に作成】基本情報入力シート!X332="","",【最初に作成】基本情報入力シート!X332) | Q321: =IF(【最初に作成】基本情報入力シート!Y332="","",【最初に作成】基本情報入力シート!Y332)

Sheet ⇒【最後に作成】交付金様式3-1
A1: 交付金別紙様式３－１ | W1: 提出先 | Z1: =IF(【最初に作成】基本情報入力シート!C11="","",【最初に作成】基本情報入力シート!C11) -> 東京都
A3: 福祉・介護職員処遇改善臨時特例交付金実績報告書
A6: １ 基本情報
A8: フリガナ | G8: =IF(【最初に作成】基本情報入力シート!M15="","",【最初に作成】基本情報入力シート!M15)
A9: 法人名 | G9: =IF(【最初に作成】基本情報入力シート!M16="","",【最初に作成】基本情報入力シート!M16)
A10: 法人所在地 | G10: 〒 | H10: =IF(【最初に作成】基本情報入力シート!AD17="","",【最初に作成】基本情報入力シート!AD17) -> －
G11: =IF(【最初に作成】基本情報入力シート!M18="","",【最初に作成】基本情報入力シート!M18)
G12: =IF(【最初に作成】基本情報入力シート!M19="","",【最初に作成】基本情報入力シート!M19)
A13: フリガナ | G13: =IF(【最初に作成】基本情報入力シート!M22="","",【最初に作成】基本情報入力シート!M22)
A14: 書類作成担当者 | G14: =IF(【最初に作成】基本情報入力シート!M23="","",【最初に作成】基本情報入力シート!M23)
A15: 連絡先 | G15: 電話番号 | K15: =IF(【最初に作成】基本情報入力シート!M24="","",【最初に作成】基本情報入力シート!M24) | P15: FAX番号 | T15: =IF(【最初に作成】基本情報入力シート!M25="","",【最初に作成】基本情報入力シート!M25) | Y15: E-mail | AC15: =IF(【最初に作成】基本情報入力シート!M26="","",【最初に作成】基本情報入力シート!M26)
A18: ２ 実績報告 | L18: ※詳細は別紙様式３－２に記載
B19: ※本様式では２つの要件を確認しており、オレンジセル３カ所が「○」でない場合、補助金支給のための要件を満たしていない。 Ⅰ交付金による賃金改善を行う総額が交付金による収入額以上であること Ⅱ賃金改善の合計額の３分の２以上は、基本給又は決まって毎月支払われる手当の引上げに充てること
AJ20: 要件Ⅰ
A21: ①福祉・介護職員処遇改善臨時特例交付金の総額(k) | Z21: =IF('⇒交付金別紙様式3-2'!$Q$6=0,"",'⇒交付金別紙様式3-2'!$Q$6) | AG21: 円
A22: ②賃金改善所要額(ⅰ-ⅱ）(右欄の額は①欄の額以上であること） | Z22: =IFERROR(Z23-Z24,"") | AG22: 円 | AI22: <- | AJ22: =IF(Z22="","",IF(Z21="","",IF(Z22>=Z21,"○","×"))) | AK22: ！×の場合、【②＞①】となるように修正してください。
B23: ⅰ）賃金改善実施期間（④）に交付金により賃金改善を行った福祉・介護職員等の賃金の総額 （（l）+（m）） | Z23: ='⇒交付金別紙様式3-2'!$Q$7 | AG23: 円 | AJ23: =IF(M26="","",IF(M29="","",IF((M26+M29)=Z22,"○","×"))) | AK23: ！×の場合、【③ⅰ＋③ⅱ＝②】となるように修正してください。
B24: ⅱ）前年度（賃金改善実施期間に相当する期間）の福祉・介護職員等の賃金の総額【基準額】 | AG24: 円
A25: ③ベースアップ等による賃金改善の総額
B26: ⅰ）福祉・介護職員の賃金改善額 | M26: =IF(SUM('⇒交付金別紙様式3-2'!$V$22:'⇒交付金別紙様式3-2'!$V$321)=0,"",SUM('⇒交付金別紙様式3-2'!$V$22:'⇒交付金別紙様式3-2'!$V$321)) | T26: 円 | Z26: <- | AA26: =IF(AND($V$27=0,$V$30=0),"×",IF(OR($V$27=0,$V$27>=(200/3)),"○","×")) -> × | AB26: 要件Ⅱ
F27: （うち、ベースアップ等による賃金改善の額） | M27: =SUM('⇒交付金別紙様式3-2'!W22:'⇒交付金別紙様式3-2'!W321) -> 0 | T27: 円 | U27: （ | V27: =IFERROR(M27/M26*100,0) -> 0 | X27: ） | Y27: ％
M28: （一月あたり | P28: =M27/(AE32-Z32+1) -> 0 | T28: 円） | AK28: ！×の場合、【ベースアップ等による賃金改善額が2/3(66.66…％)以上】となるように修正してください。
B29: ⅱ）その他の職員の賃金改善額 | M29: =IF(SUM('⇒交付金別紙様式3-2'!$X$22:'⇒交付金別紙様式3-2'!$X$321)=0,"",SUM('⇒交付金別紙様式3-2'!$X$22:'⇒交付金別紙様式3-2'!$X$321)) | T29: 円 | Z29: <- | AA29: =IF(AND($V$27=0,$V$30=0),"×",IF(OR($V$30=0,$V$30>=(200/3)),"○","×")) -> ×
F30: （うち、ベースアップ等による賃金改善の額） | M30: =SUM('⇒交付金別紙様式3-2'!Y22:'⇒交付金別紙様式3-2'!Y321) -> 0 | T30: 円 | U30: （ | V30: =IFERROR(M30/M29*100,0) -> 0 | X30: ） | Y30: ％
M31: （一月あたり | P31: =M30/(AE32-Z32+1) -> 0 | T31: 円）
A32: ④ | B32: 交付金による賃金改善実施期間 | M32: 令和４年 | Z32: 2 | AB32: 月 | AC32: ～ | AE32: 9 | AG32: 月
B34: ※②ⅰ）「賃金改善期間（④）に交付金により賃金改善を行った福祉・介護職員等の賃金の総額」には、交付金により賃金改善を行った場合の法定福利費等の事業主負担の増加分を含めることができる。
B36: ※②ⅱ）「前年度（賃金改善実施期間に相当する期間）の福祉・介護職員等の賃金の総額」【基準額】には、計画書別紙様式2-1の２②ⅱ)の額を記載すること。この【基準額】については、職員構成が変わった等の事由により修正することが可能である。
B38: ※②ⅰ)及び②ⅱ)には、処遇改善加算及び特定加算を取得し実施される賃金の改善額を含む額を記載すること。
B41: ※給与明細や勤務記録等、実績報告の根拠となる資料は、指定権者からの求めがあった場合に速やかに提出できるよう、適切に保管しておくこと。
B42: ※交付金の請求に関して虚偽や不正があった場合は、支払われた交付金を返還することとなる場合がある。
B44: 実績報告書の記載内容に虚偽がないことを証明するとともに、記載内容を証明する資料を適切に保管していることを誓約します。
C46: 令和 | G46: 年 | J46: 月 | M46: 日 | R46: （法人名） | W46: =【最初に作成】基本情報入力シート!M16 -> 0
R47: （代表者名） | W47: =【最初に作成】基本情報入力シート!M21 -> 0

Sheet 【編集・印刷不可】集計シート
B1: 法人名 | C1: 担当者名 | D1: 担当者電話番号 | E1: 担当者メール | F1: 事業所番号 | G1: 事業所名 | H1: サービス種別 | I1: 事業所所在地 （区市町村） | J1: 要件Ⅰ （②賃金改善所要額＞①交付金総額） | K1: 要件Ⅰ （②賃金改善所要額＝福祉・介護職員の賃金改善額+その他の職員の賃金改善額） | L1: 要件Ⅱ （福祉・介護職員ベア２/３以上） | M1: 要件Ⅱ （その他職員ベア２/３以上） | N1: 交付金総額
B2: =【最初に作成】基本情報入力シート!$M$16 -> 0 | C2: =【最初に作成】基本情報入力シート!$M$23 -> 0 | D2: =【最初に作成】基本情報入力シート!$M$24 -> 0 | E2: =【最初に作成】基本情報入力シート!$M$26 -> 0 | F2: =【最初に作成】基本情報入力シート!AD33 | G2: =【最初に作成】基本情報入力シート!X33 -> 0 | H2: =【最初に作成】基本情報入力シート!Y33 -> 0 | I2: =【最初に作成】基本情報入力シート!W33 -> 0 | J2: ='⇒【最後に作成】交付金様式3-1'!$AJ$22 | K2: ='⇒【最後に作成】交付金様式3-1'!$AJ$23 | L2: ='⇒【最後に作成】交付金様式3-1'!$AA$26 -> × | M2: ='⇒【最後に作成】交付金様式3-1'!$AA$29 -> × | N2: ='⇒交付金別紙様式3-2'!S22 -> 0
B3: =【最初に作成】基本情報入力シート!$M$16 -> 0 | C3: =【最初に作成】基本情報入力シート!$M$23 -> 0 | D3: =【最初に作成】基本情報入力シート!$M$24 -> 0 | E3: =【最初に作成】基本情報入力シート!$M$26 -> 0 | F3: =【最初に作成】基本情報入力シート!AD34 | G3: =【最初に作成】基本情報入力シート!X34 -> 0 | H3: =【最初に作成】基本情報入力シート!Y34 -> 0 | I3: =【最初に作成】基本情報入力シート!W34 -> 0 | J3: ='⇒【最後に作成】交付金様式3-1'!$AJ$22 | K3: ='⇒【最後に作成】交付金様式3-1'!$AJ$23 | L3: ='⇒【最後に作成】交付金様式3-1'!$AA$26 -> × | M3: ='⇒【最後に作成】交付金様式3-1'!$AA$29 -> × | N3: ='⇒交付金別紙様式3-2'!S23 -> 0
B4: =【最初に作成】基本情報入力シート!$M$16 -> 0 | C4: =【最初に作成】基本情報入力シート!$M$23 -> 0 | D4: =【最初に作成】基本情報入力シート!$M$24 -> 0 | E4: =【最初に作成】基本情報入力シート!$M$26 -> 0 | F4: =【最初に作成】基本情報入力シート!AD35 | G4: =【最初に作成】基本情報入力シート!X35 -> 0 | H4: =【最初に作成】基本情報入力シート!Y35 -> 0 | I4: =【最初に作成】基本情報入力シート!W35 -> 0 | J4: ='⇒【最後に作成】交付金様式3-1'!$AJ$22 | K4: ='⇒【最後に作成】交付金様式3-1'!$AJ$23 | L4: ='⇒【最後に作成】交付金様式3-1'!$AA$26 -> × | M4: ='⇒【最後に作成】交付金様式3-1'!$AA$29 -> × | N4: ='⇒交付金別紙様式3-2'!S24 -> 0
B5: =【最初に作成】基本情報入力シート!$M$16 -> 0 | C5: =【最初に作成】基本情報入力シート!$M$23 -> 0 | D5: =【最初に作成】基本情報入力シート!$M$24 -> 0 | E5: =【最初に作成】基本情報入力シート!$M$26 -> 0 | F5: =【最初に作成】基本情報入力シート!AD36 | G5: =【最初に作成】基本情報入力シート!X36 -> 0 | H5: =【最初に作成】基本情報入力シート!Y36 -> 0 | I5: =【最初に作成】基本情報入力シート!W36 -> 0 | J5: ='⇒【最後に作成】交付金様式3-1'!$AJ$22 | K5: ='⇒【最後に作成】交付金様式3-1'!$AJ$23 | L5: ='⇒【最後に作成】交付金様式3-1'!$AA$26 -> × | M5: ='⇒【最後に作成】交付金様式3-1'!$AA$29 -> × | N5: ='⇒交付金別紙様式3-2'!S25 -> 0
B6: =【最初に作成】基本情報入力シート!$M$16 -> 0 | C6: =【最初に作成】基本情報入力シート!$M$23 -> 0 | D6: =【最初に作成】基本情報入力シート!$M$24 -> 0 | E6: =【最初に作成】基本情報入力シート!$M$26 -> 0 | F6: =【最初に作成】基本情報入力シート!AD37 | G6: =【最初に作成】基本情報入力シート!X37 -> 0 | H6: =【最初に作成】基本情報入力シート!Y37 -> 0 | I6: =【最初に作成】基本情報入力シート!W37 -> 0 | J6: ='⇒【最後に作成】交付金様式3-1'!$AJ$22 | K6: ='⇒【最後に作成】交付金様式3-1'!$AJ$23 | L6: ='⇒【最後に作成】交付金様式3-1'!$AA$26 -> × | M6: ='⇒【最後に作成】交付金様式3-1'!$AA$29 -> × | N6: ='⇒交付金別紙様式3-2'!S26 -> 0
B7: =【最初に作成】基本情報入力シート!$M$16 -> 0 | C7: =【最初に作成】基本情報入力シート!$M$23 -> 0 | D7: =【最初に作成】基本情報入力シート!$M$24 -> 0 | E7: =【最初に作成】基本情報入力シート!$M$26 -> 0 | F7: =【最初に作成】基本情報入力シート!AD38 | G7: =【最初に作成】基本情報入力シート!X38 -> 0 | H7: =【最初に作成】基本情報入力シート!Y38 -> 0 | I7: =【最初に作成】基本情報入力シート!W38 -> 0 | J7: ='⇒【最後に作成】交付金様式3-1'!$AJ$22 | K7: ='⇒【最後に作成】交付金様式3-1'!$AJ$23 | L7: ='⇒【最後に作成】交付金様式3-1'!$AA$26 -> × | M7: ='⇒【最後に作成】交付金様式3-1'!$AA$29 -> × | N7: ='⇒交付金別紙様式3-2'!S27 -> 0
B8: =【最初に作成】基本情報入力シート!$M$16 -> 0 | C8: =【最初に作成】基本情報入力シート!$M$23 -> 0 | D8: =【最初に作成】基本情報入力シート!$M$24 -> 0 | E8: =【最初に作成】基本情報入力シート!$M$26 -> 0 | F8: =【最初に作成】基本情報入力シート!AD39 | G8: =【最初に作成】基本情報入力シート!X39 -> 0 | H8: =【最初に作成】基本情報入力シート!Y39 -> 0 | I8: =【最初に作成】基本情報入力シート!W39 -> 0 | J8: ='⇒【最後に作成】交付金様式3-1'!$AJ$22 | K8: ='⇒【最後に作成】交付金様式3-1'!$AJ$23 | L8: ='⇒【最後に作成】交付金様式3-1'!$AA$26 -> × | M8: ='⇒【最後に作成】交付金様式3-1'!$AA$29 -> × | N8: ='⇒交付金別紙様式3-2'!S28 -> 0
B9: =【最初に作成】基本情報入力シート!$M$16 -> 0 | C9: =【最初に作成】基本情報入力シート!$M$23 -> 0 | D9: =【最初に作成】基本情報入力シート!$M$24 -> 0 | E9: =【最初に作成】基本情報入力シート!$M$26 -> 0 | F9: =【最初に作成】基本情報入力シート!AD40 | G9: =【最初に作成】基本情報入力シート!X40 -> 0 | H9: =【最初に作成】基本情報入力シート!Y40 -> 0 | I9: =【最初に作成】基本情報入力シート!W40 -> 0 | J9: ='⇒【最後に作成】交付金様式3-1'!$AJ$22 | K9: ='⇒【最後に作成】交付金様式3-1'!$AJ$23 | L9: ='⇒【最後に作成】交付金様式3-1'!$AA$26 -> × | M9: ='⇒【最後に作成】交付金様式3-1'!$AA$29 -> × | N9: ='⇒交付金別紙様式3-2'!S29 -> 0
B10: =【最初に作成】基本情報入力シート!$M$16 -> 0 | C10: =【最初に作成】基本情報入力シート!$M$23 -> 0 | D10: =【最初に作成】基本情報入力シート!$M$24 -> 0 | E10: =【最初に作成】基本情報入力シート!$M$26 -> 0 | F10: =【最初に作成】基本情報入力シート!AD41 | G10: =【最初に作成】基本情報入力シート!X41 -> 0 | H10: =【最初に作成】基本情報入力シート!Y41 -> 0 | I10: =【最初に作成】基本情報入力シート!W41 -> 0 | J10: ='⇒【最後に作成】交付金様式3-1'!$AJ$22 | K10: ='⇒【最後に作成】交付金様式3-1'!$AJ$23 | L10: ='⇒【最後に作成】交付金様式3-1'!$AA$26 -> × | M10: ='⇒【最後に作成】交付金様式3-1'!$AA$29 -> × | N10: ='⇒交付金別紙様式3-2'!S30 -> 0
B11: =【最初に作成】基本情報入力シート!$M$16 -> 0 | C11: =【最初に作成】基本情報入力シート!$M$23 -> 0 | D11: =【最初に作成】基本情報入力シート!$M$24 -> 0 | E11: =【最初に作成】基本情報入力シート!$M$26 -> 0 | F11: =【最初に作成】基本情報入力シート!AD42 | G11: =【最初に作成】基本情報入力シート!X42 -> 0 | H11: =【最初に作成】基本情報入力シート!Y42 -> 0 | I11: =【最初に作成】基本情報入力シート!W42 -> 0 | J11: ='⇒【最後に作成】交付金様式3-1'!$AJ$22 | K11: ='⇒【最後に作成】交付金様式3-1'!$AJ$23 | L11: ='⇒【最後に作成】交付金様式3-1'!$AA$26 -> × | M11: ='⇒【最後に作成】交付金様式3-1'!$AA$29 -> × | N11: ='⇒交付金別紙様式3-2'!S31 -> 0
B12: =【最初に作成】基本情報入力シート!$M$16 -> 0 | C12: =【最初に作成】基本情報入力シート!$M$23 -> 0 | D12: =【最初に作成】基本情報入力シート!$M$24 -> 0 | E12: =【最初に作成】基本情報入力シート!$M$26 -> 0 | F12: =【最初に作成】基本情報入力シート!AD43 | G12: =【最初に作成】基本情報入力シート!X43 -> 0 | H12: =【最初に作成】基本情報入力シート!Y43 -> 0 | I12: =【最初に作成】基本情報入力シート!W43 -> 0 | J12: ='⇒【最後に作成】交付金様式3-1'!$AJ$22 | K12: ='⇒【最後に作成】交付金様式3-1'!$AJ$23 | L12: ='⇒【最後に作成】交付金様式3-1'!$AA$26 -> × | M12: ='⇒【最後に作成】交付金様式3-1'!$AA$29 -> × | N12: ='⇒交付金別紙様式3-2'!S32 -> 0
B13: =【最初に作成】基本情報入力シート!$M$16 -> 0 | C13: =【最初に作成】基本情報入力シート!$M$23 -> 0 | D13: =【最初に作成】基本情報入力シート!$M$24 -> 0 | E13: =【最初に作成】基本情報入力シート!$M$26 -> 0 | F13: =【最初に作成】基本情報入力シート!AD44 | G13: =【最初に作成】基本情報入力シート!X44 -> 0 | H13: =【最初に作成】基本情報入力シート!Y44 -> 0 | I13: =【最初に作成】基本情報入力シート!W44 -> 0 | J13: ='⇒【最後に作成】交付金様式3-1'!$AJ$22 | K13: ='⇒【最後に作成】交付金様式3-1'!$AJ$23 | L13: ='⇒【最後に作成】交付金様式3-1'!$AA$26 -> × | M13: ='⇒【最後に作成】交付金様式3-1'!$AA$29 -> × | N13: ='⇒交付金別紙様式3-2'!S33 -> 0
... B301: =【最初に作成】基本情報入力シート!$M$16 -> 0 | C301: =【最初に作成】基本情報入力シート!$M$23 -> 0 | D301: =【最初に作成】基本情報入力シート!$M$24 -> 0 | E301: =【最初に作成】基本情報入力シート!$M$26 -> 0 | F301: =【最初に作成】基本情報入力シート!AD332 | G301: =【最初に作成】基本情報入力シート!X332 -> 0 | H301: =【最初に作成】基本情報入力シート!Y332 -> 0 | I301: =【最初に作成】基本情報入力シート!W332 -> 0 | J301: ='⇒【最後に作成】交付金様式3-1'!$AJ$22 | K301: ='⇒【最後に作成】交付金様式3-1'!$AJ$23 | L301: ='⇒【最後に作成】交付金様式3-1'!$AA$26 -> × | M301: ='⇒【最後に作成】交付金様式3-1'!$AA$29 -> × | N301: ='⇒交付金別紙様式3-2'!S321 -> 0

Sheet 【参考】サービス名一覧
A2: ＜サービス区分一覧>
A3: サービス区分
A4: 居宅介護
A5: 重度訪問介護
A6: 同行援護
A7: 行動援護
A8: 重度障害者等包括支援
A9: 生活介護
A10: 施設入所支援
A11: 短期入所
A12: 療養介護
A13: 宿泊型自立訓練
... A32: 障害者支援施設：就労継続支援Ｂ型
