Workbook

Sheet 内示通知用シート（入力不要）
A2: 補助金 | B2: 法人名 | C2: 医療施設施設・設備整備費補助（外来） 4-1 | G2: 医療施設 施設整備費補助（入院） 4-2 | K2: 救急・周産期・小児医療体制確保支援 7 | O2: 重点医療機関等設備整備費補助 8
A3: 申請番号 | B3: 病院名 | C3: 事業費総額 | D3: 基準額 | E3: 選定額 | F3: 都補助所要額 | G3: 事業費総額 | H3: 基準額 | I3: 選定額 | J3: 都補助所要額 | K3: 事業費総額 | L3: 基準額 | M3: 選定額 | N3: 都補助所要額 | O3: 事業費総額 | P3: 基準額 | Q3: 選定額 | R3: 都補助所要額
A4: =入力シート!#REF! -> #REF! | B4: =入力シート!E5&" "&入力シート!E9 | C4: =+#REF! -> #REF! | D4: =#REF! -> #REF! | E4: =#REF! -> #REF! | F4: =#REF! -> #REF! | G4: =+#REF! -> #REF! | H4: =#REF! -> #REF! | I4: =#REF! -> #REF! | J4: =#REF! -> #REF! | K4: =+#REF! -> #REF! | L4: =+#REF! -> #REF! | M4: =+#REF! -> #REF! | N4: =+#REF! -> #REF! | O4: =#REF! -> #REF! | P4: =#REF! -> #REF! | Q4: =#REF! -> #REF! | R4: =#REF! -> #REF!

Sheet 入力シート
A1: ・クリーム色のセル：入力箇所 ・水色のセル：計算式が入っているため、入力不可
E3: 記入欄 | G3: 備考
B4: 事業者の概要
C5: 補助対象事業者 の概要 | D5: 法人等名称 | G5: 登記簿謄本の内容を記入すること
D6: 法人等所在地
D7: 役員の状況 | E7: 別シート「役員一覧」に入力
C8: 補助対象施設 | D8: 施設種別 | G8: 病院、診療所、介護老人保健施設、介護医療院
D9: 施設名称
D10: 施設所在地
D11: 開設年月日
D12: 事業概要 | E12: 主に以下の内容が記載されたパンフレットや事業概要資料を提出してください。 （法人概要・沿革、施設理念・特色、事業規模、外来診療科目、法定施設等の指定状況等）
C13: 施設情報 | D13: 短期入所提供形態 | G13: 空床利用型、併設型、単独型
D14: 利用定員 | G14: 併設型、単独型の場合のみご記入ください。
D15: 契約病床数 | G15: 病床確保事業の契約病床数をご記入ください。
E16: 法人 | F16: 施設
C17: 職員定数 | D17: 医師
D18: 看護師
D19: 准看護師
D20: 心理判定員
D21: 理学療法士
D22: 作業療法士
D23: 生活支援員
D24: 児童指導員
D25: 保育士
D26: その他従業者

Sheet （自動転記）事業者の概要
A1: ・クリーム色のセル：入力箇所 ・水色のセル：計算式が入っているため、入力不可
F2: 事業者名： | G2: =入力シート!E5&" "&入力シート!E6
A4: 事 業 者 の 概 要
A5: 補助対象事業者の概要 | B5: （名称） | D5: =入力シート!E5 -> 0
B6: （所在地） | D6: =入力シート!E6 -> 0
B7: （役員の状況）
B8: （役員の状況） 役職名 | D8: 生年月日 年齢 | E8: ふりがな 氏名 | F8: 現職業 | G8: 親族等特殊関係の有無 | I8: 備考
B9: 理事長等 | E9: 別添資料参照
B10: 理事
B11: 監事
B12: 社員（社団の場合）
A13: 補助対象施設 | B13: （施設種別） | D13: =入力シート!E8 -> 0
B14: （名称） | D14: =入力シート!E9 -> 0
B15: （所在地） | D15: =入力シート!E10 -> 0
B16: （開設年月日） | D16: =入力シート!E11 -> 0
A17: 施設情報 | B17: （短期入所 提供形態） | D17: =入力シート!E13 -> 0 | E17: （利用定員） | F17: =入力シート!E14 -> 0 | G17: （契約病床数） | I17: =入力シート!E15 -> 0
A18: 職員定数（施設） | D18: 法人 | E18: 施設
B19: 医師 | D19: =入力シート!E17 -> 0 | E19: =入力シート!F17 -> 0
B20: 看護師 | D20: =入力シート!E18 -> 0 | E20: =入力シート!F18 -> 0
B21: 准看護師 | D21: =入力シート!E19 -> 0 | E21: =入力シート!F19 -> 0
B22: 心理判定員 | D22: =入力シート!E20 -> 0 | E22: =入力シート!F20 -> 0
B23: 理学療法士 | D23: =入力シート!E21 -> 0 | E23: =入力シート!F21 -> 0
B24: 作業療法士 | D24: =入力シート!E22 -> 0 | E24: =入力シート!F22 -> 0
B25: 生活支援員 | D25: =入力シート!E23 -> 0 | E25: =入力シート!F23 -> 0
B26: 児童指導員 | D26: =入力シート!E24 -> 0 | E26: =入力シート!F24 -> 0
B27: 保育士 | D27: =入力シート!E25 -> 0 | E27: =入力シート!F25 -> 0
B28: その他従業者 | D28: =入力シート!E26 -> 0 | E28: =入力シート!F26 -> 0

Sheet （別添）役員一覧
A1: ・クリーム色のセル：入力箇所 ・水色のセル：計算式が入っているため、入力不可
B4: 役員一覧
A5: 役職名 | B5: 生年月日 | C5: 年齢 | D5: 氏名 | E5: ふりがな | F5: 現職業 | I5: 45017
C6: =IF(B6="","",DATEDIF(B6,$I$5,"Y"))
C7: =IF(B7="","",DATEDIF(B7,$I$5,"Y"))
C8: =IF(B8="","",DATEDIF(B8,$I$5,"Y"))
C9: =IF(B9="","",DATEDIF(B9,$I$5,"Y"))
C10: =IF(B10="","",DATEDIF(B10,$I$5,"Y"))
C11: =IF(B11="","",DATEDIF(B11,$I$5,"Y"))
C12: =IF(B12="","",DATEDIF(B12,$I$5,"Y"))
C13: =IF(B13="","",DATEDIF(B13,$I$5,"Y"))
C14: =IF(B14="","",DATEDIF(B14,$I$5,"Y"))
C15: =IF(B15="","",DATEDIF(B15,$I$5,"Y"))
C16: =IF(B16="","",DATEDIF(B16,$I$5,"Y"))
C17: =IF(B17="","",DATEDIF(B17,$I$5,"Y"))
... C23: =IF(B23="","",DATEDIF(B23,$I$5,"Y"))

Sheet リスト用
B4: 病院
B5: 診療所
B6: 介護老人保健施設
B7: 介護医療院
B9: 空床利用型
B10: 併設型
B11: 単独型
