Workbook

Sheet １号様式(交付申請)
B1: 別記第１号様式
X3: 令和 | AB3: 年 月 日
C6: 東京都知事 殿
N8: 主たる事務所の所在地
N10: 法人名
N11: 代表者職氏名 | AH11: 印
G14: 令和５年度障害者施設等物価高騰対策支援金交付申請書兼実績報告書
C17: 標記の支援金について、下記のとおり申請します。
S19: 記
C21: １ | E21: 申請額 金 | O21: =IFERROR(SUM('別紙1 実績調書'!91:91),"") -> 0 | X21: 円
C24: ２ | E24: 添付書類
E25: 別紙１ 実績調書
E26: 別紙２ 補助対象に使用した費用の総額表
E27: 別紙３ 他の補助金等の受給状況 | V27: 等
C35: 連絡先 | H35: 担当部署
H36: 担当者
H37: 電 話
H38: e-mail

Sheet 別紙1 実績調書
B1: 別紙1 | Q1: 別紙1-2 | AF1: 別紙1-3 | AU1: 別紙1-4 | BJ1: 別紙1-5 | BY1: 別紙1-6 | CN1: 別紙1-7 | DC1: 別紙1-8 | DR1: 別紙1-9 | EG1: 別紙1-10 | EV1: 別紙1-11 | FK1: 別紙1-12 | FZ1: 別紙1-13 | GO1: 別紙1-14 | HD1: 別紙1-15
L2: 法人名 | M2: =IFERROR('１号様式(交付申請)'!$R$10,"") -> 0 | AA2: 法人名 | AB2: =IFERROR('１号様式(交付申請)'!$R$10,"") -> 0 | AP2: 法人名 | AQ2: =IFERROR('１号様式(交付申請)'!$R$10,"") -> 0 | BE2: 法人名 | BF2: =IFERROR('１号様式(交付申請)'!$R$10,"") -> 0 | BT2: 法人名 | BU2: =IFERROR('１号様式(交付申請)'!$R$10,"") -> 0 | CI2: 法人名 | CJ2: =IFERROR('１号様式(交付申請)'!$R$10,"") -> 0 | CX2: 法人名 | CY2: =IFERROR('１号様式(交付申請)'!$R$10,"") -> 0 | DM2: 法人名 | DN2: =IFERROR('１号様式(交付申請)'!$R$10,"") -> 0 | EB2: 法人名 | EC2: =IFERROR('１号様式(交付申請)'!$R$10,"") -> 0 | EQ2: 法人名 | ER2: =IFERROR('１号様式(交付申請)'!$R$10,"") -> 0 | FF2: 法人名 | FG2: =IFERROR('１号様式(交付申請)'!$R$10,"") -> 0 | FU2: 法人名 | FV2: =IFERROR('１号様式(交付申請)'!$R$10,"") -> 0 | GJ2: 法人名 | GK2: =IFERROR('１号様式(交付申請)'!$R$10,"") -> 0 | GY2: 法人名 | GZ2: =IFERROR('１号様式(交付申請)'!$R$10,"") -> 0 | HN2: 法人名 | HO2: =IFERROR('１号様式(交付申請)'!$R$10,"") -> 0
K3: 施設等の名称 | Z3: 施設等の名称 | AO3: 施設等の名称 | BD3: 施設等の名称 | BS3: 施設等の名称 | CH3: 施設等の名称 | CW3: 施設等の名称 | DL3: 施設等の名称 | EA3: 施設等の名称 | EP3: 施設等の名称 | FE3: 施設等の名称 | FT3: 施設等の名称 | GI3: 施設等の名称 | GX3: 施設等の名称 | HM3: 施設等の名称
L4: 施設種別 | AA4: 施設種別 | AP4: 施設種別 | BE4: 施設種別 | BT4: 施設種別 | CI4: 施設種別 | CX4: 施設種別 | DM4: 施設種別 | EB4: 施設種別 | EQ4: 施設種別 | FF4: 施設種別 | FU4: 施設種別 | GJ4: 施設種別 | GY4: 施設種別 | HN4: 施設種別
L5: 事業者番号 | AA5: 事業者番号 | AP5: 事業者番号 | BE5: 事業者番号 | BT5: 事業者番号 | CI5: 事業者番号 | CX5: 事業者番号 | DM5: 事業者番号 | EB5: 事業者番号 | EQ5: 事業者番号 | FF5: 事業者番号 | FU5: 事業者番号 | GJ5: 事業者番号 | GY5: 事業者番号 | HN5: 事業者番号
F6: 実績調書 | U6: 実績調書 | AJ6: 実績調書 | AY6: 実績調書 | BN6: 実績調書 | CC6: 実績調書 | CR6: 実績調書 | DG6: 実績調書 | DV6: 実績調書 | EK6: 実績調書 | EZ6: 実績調書 | FO6: 実績調書 | GD6: 実績調書 | GS6: 実績調書 | HH6: 実績調書
N8: （円） | AC8: （円） | AR8: （円） | BG8: （円） | BV8: （円） | CK8: （円） | CZ8: （円） | DO8: （円） | ED8: （円） | ES8: （円） | FH8: （円） | FW8: （円） | GL8: （円） | HA8: （円） | HP8: （円）
C9: （A）基準額 | E9: （B）基準額 （別紙3における重複分相当額を減じた額） | G9: （C）補助対象に使用した費用 | I9: （D）補助対象に使用した費用 （別紙3における重複分相当額を減じた額） | K9: （E）補助率 | M9: （F）積算額 | R9: （A）基準額 | T9: （B）基準額 （別紙3における重複分相当額を減じた額） | V9: （C）補助対象に使用した費用 | X9: （D）補助対象に使用した費用 （別紙3における重複分相当額を減じた額） | Z9: （E）補助率 | AB9: （F）積算額 | AG9: （A）基準額 | AI9: （B）基準額 （別紙3における重複分相当額を減じた額） | AK9: （C）補助対象に使用した費用 | AM9: （D）補助対象に使用した費用 （別紙3における重複分相当額を減じた額） | AO9: （E）補助率 | AQ9: （F）積算額 | AV9: （A）基準額 | AX9: （B）基準額 （別紙3における重複分相当額を減じた額） | AZ9: （C）補助対象に使用した費用 | BB9: （D）補助対象に使用した費用 （別紙3における重複分相当額を減じた額） | BD9: （E）補助率 | BF9: （F）積算額 | BK9: （A）基準額 | BM9: （B）基準額 （別紙3における重複分相当額を減じた額） | BO9: （C）補助対象に使用した費用 | BQ9: （D）補助対象に使用した費用 （別紙3における重複分相当額を減じた額） | BS9: （E）補助率 | BU9: （F）積算額 | BZ9: （A）基準額 | CB9: （B）基準額 （別紙3における重複分相当額を減じた額） | CD9: （C）補助対象に使用した費用 | CF9: （D）補助対象に使用した費用 （別紙3における重複分相当額を減じた額） | CH9: （E）補助率 | CJ9: （F）積算額 | CO9: （A）基準額 | CQ9: （B）基準額 （別紙3における重複分相当額を減じた額） | CS9: （C）補助対象に使用した費用 | CU9: （D）補助対象に使用した費用 （別紙3における重複分相当額を減じた額） | CW9: （E）補助率 | CY9: （F）積算額 | DD9: （A）基準額 | DF9: （B）基準額 （別紙3における重複分相当額を減じた額） | DH9: （C）補助対象に使用した費用 | DJ9: （D）補助対象に使用した費用 （別紙3における重複分相当額を減じた額） | DL9: （E）補助率 | DN9: （F）積算額 | DS9: （A）基準額 | DU9: （B）基準額 （別紙3における重複分相当額を減じた額） | DW9: （C）補助対象に使用した費用 | DY9: （D）補助対象に使用した費用 （別紙3における重複分相当額を減じた額） | EA9: （E）補助率 | EC9: （F）積算額 | EH9: （A）基準額 | EJ9: （B）基準額 （別紙3における重複分相当額を減じた額） | EL9: （C）補助対象に使用した費用 | EN9: （D）補助対象に使用した費用 （別紙3における重複分相当額を減じた額） | EP9: （E）補助率 | ER9: （F）積算額 | EW9: （A）基準額 | EY9: （B）基準額 （別紙3における重複分相当額を減じた額） | FA9: （C）補助対象に使用した費用 | FC9: （D）補助対象に使用した費用 （別紙3における重複分相当額を減じた額） | FE9: （E）補助率 | FG9: （F）積算額 | FL9: （A）基準額 | FN9: （B）基準額 （別紙3における重複分相当額を減じた額） | FP9: （C）補助対象に使用した費用 | FR9: （D）補助対象に使用した費用 （別紙3における重複分相当額を減じた額） | FT9: （E）補助率 | FV9: （F）積算額 | GA9: （A）基準額 | GC9: （B）基準額 （別紙3における重複分相当額を減じた額） | GE9: （C）補助対象に使用した費用 | GG9: （D）補助対象に使用した費用 （別紙3における重複分相当額を減じた額） | GI9: （E）補助率 | GK9: （F）積算額 | GP9: （A）基準額 | GR9: （B）基準額 （別紙3における重複分相当額を減じた額） | GT9: （C）補助対象に使用した費用 | GV9: （D）補助対象に使用した費用 （別紙3における重複分相当額を減じた額） | GX9: （E）補助率 | GZ9: （F）積算額 | HE9: （A）基準額 | HG9: （B）基準額 （別紙3における重複分相当額を減じた額） | HI9: （C）補助対象に使用した費用 | HK9: （D）補助対象に使用した費用 （別紙3における重複分相当額を減じた額） | HM9: （E）補助率 | HO9: （F）積算額
C10: =IFERROR(VLOOKUP(I63,'別紙1 実績調書'!C$36:D$61,2,FALSE),"") | E10: =IFERROR(C10-'別紙3 受給状況'!G22,"") | G10: ='別紙2 使用経費'!B19 -> 0 | I10: =G10-'別紙3 受給状況'!G22 -> 0 | K10: 1 | M10: =MIN(E10,I10)*K10 -> 0 | R10: =IFERROR(VLOOKUP(X63,'別紙1 実績調書'!R$36:S$61,2,FALSE),"") | T10: =IFERROR(R10-'別紙3 受給状況'!V22,"") | V10: ='別紙2 使用経費'!Q19 -> 0 | X10: =V10-'別紙3 受給状況'!V22 -> 0 | Z10: 1 | AB10: =MIN(T10,X10)*Z10 -> 0 | AG10: =IFERROR(VLOOKUP(AM63,'別紙1 実績調書'!AG$36:AH$61,2,FALSE),"") | AI10: =IFERROR(AG10-'別紙3 受給状況'!AK22,"") | AK10: ='別紙2 使用経費'!AF19 -> 0 | AM10: =AK10-'別紙3 受給状況'!AK22 -> 0 | AO10: 1 | AQ10: =MIN(AI10,AM10)*AO10 -> 0 | AV10: =IFERROR(VLOOKUP(BB63,'別紙1 実績調書'!AV$36:AW$61,2,FALSE),"") | AX10: =IFERROR(AV10-'別紙3 受給状況'!AZ22,"") | AZ10: ='別紙2 使用経費'!AU19 -> 0 | BB10: =AZ10-'別紙3 受給状況'!AZ22 -> 0 | BD10: 1 | BF10: =MIN(AX10,BB10)*BD10 -> 0 | BK10: =IFERROR(VLOOKUP(BQ63,'別紙1 実績調書'!BK$36:BL$61,2,FALSE),"") | BM10: =IFERROR(BK10-'別紙3 受給状況'!BO22,"") | BO10: ='別紙2 使用経費'!BJ19 -> 0 | BQ10: =BO10-'別紙3 受給状況'!BO22 -> 0 | BS10: 1 | BU10: =MIN(BM10,BQ10)*BS10 -> 0 | BZ10: =IFERROR(VLOOKUP(CF63,'別紙1 実績調書'!BZ$36:CA$61,2,FALSE),"") | CB10: =IFERROR(BZ10-'別紙3 受給状況'!CD22,"") | CD10: ='別紙2 使用経費'!BY19 -> 0 | CF10: =CD10-'別紙3 受給状況'!CD22 -> 0 | CH10: 1 | CJ10: =MIN(CB10,CF10)*CH10 -> 0 | CO10: =IFERROR(VLOOKUP(CU63,'別紙1 実績調書'!CO$36:CP$61,2,FALSE),"") | CQ10: =IFERROR(CO10-'別紙3 受給状況'!CS22,"") | CS10: ='別紙2 使用経費'!CN19 -> 0 | CU10: =CS10-'別紙3 受給状況'!CS22 -> 0 | CW10: 1 | CY10: =MIN(CQ10,CU10)*CW10 -> 0 | DD10: =IFERROR(VLOOKUP(DJ63,'別紙1 実績調書'!DD$36:DE$61,2,FALSE),"") | DF10: =IFERROR(DD10-'別紙3 受給状況'!DH22,"") | DH10: ='別紙2 使用経費'!DC19 -> 0 | DJ10: =DH10-'別紙3 受給状況'!DH22 -> 0 | DL10: 1 | DN10: =MIN(DF10,DJ10)*DL10 -> 0 | DS10: =IFERROR(VLOOKUP(DY63,'別紙1 実績調書'!DS$36:DT$61,2,FALSE),"") | DU10: =IFERROR(DS10-'別紙3 受給状況'!DW22,"") | DW10: ='別紙2 使用経費'!DR19 -> 0 | DY10: =DW10-'別紙3 受給状況'!DW22 -> 0 | EA10: 1 | EC10: =MIN(DU10,DY10)*EA10 -> 0 | EH10: =IFERROR(VLOOKUP(EN63,'別紙1 実績調書'!EH$36:EI$61,2,FALSE),"") | EJ10: =IFERROR(EH10-'別紙3 受給状況'!EL22,"") | EL10: ='別紙2 使用経費'!EG19 -> 0 | EN10: =EL10-'別紙3 受給状況'!EL22 -> 0 | EP10: 1 | ER10: =MIN(EJ10,EN10)*EP10 -> 0 | EW10: =IFERROR(VLOOKUP(FC63,'別紙1 実績調書'!EW$36:EX$61,2,FALSE),"") | EY10: =IFERROR(EW10-'別紙3 受給状況'!FB22,"") | FA10: ='別紙2 使用経費'!EV19 -> 0 | FC10: =FA10-'別紙3 受給状況'!FB22 -> 0 | FE10: 1 | FG10: =MIN(EY10,FC10)*FE10 -> 0 | FL10: =IFERROR(VLOOKUP(FR63,'別紙1 実績調書'!FL$36:FM$61,2,FALSE),"") | FN10: =IFERROR(FL10-'別紙3 受給状況'!FP22,"") | FP10: ='別紙2 使用経費'!FK19 -> 0 | FR10: =FP10-'別紙3 受給状況'!FP22 -> 0 | FT10: 1 | FV10: =MIN(FN10,FR10)*FT10 -> 0 | GA10: =IFERROR(VLOOKUP(GG63,'別紙1 実績調書'!GA$36:GB$61,2,FALSE),"") | GC10: =IFERROR(GA10-'別紙3 受給状況'!GE22,"") | GE10: ='別紙2 使用経費'!FZ19 -> 0 | GG10: =GE10-'別紙3 受給状況'!GE22 -> 0 | GI10: 1 | GK10: =MIN(GC10,GG10)*GI10 -> 0 | GP10: =IFERROR(VLOOKUP(GV63,'別紙1 実績調書'!GP$36:GQ$61,2,FALSE),"") | GR10: =IFERROR(GP10-'別紙3 受給状況'!GT22,"") | GT10: ='別紙2 使用経費'!GO19 -> 0 | GV10: =GT10-'別紙3 受給状況'!GT22 -> 0 | GX10: 1 | GZ10: =MIN(GR10,GV10)*GX10 -> 0 | HE10: =IFERROR(VLOOKUP(HK63,'別紙1 実績調書'!HE$36:HF$61,2,FALSE),"") | HG10: =IFERROR(HE10-'別紙3 受給状況'!HI22,"") | HI10: ='別紙2 使用経費'!HD19 -> 0 | HK10: =HI10-'別紙3 受給状況'!HI22 -> 0 | HM10: 1 | HO10: =MIN(HG10,HK10)*HM10 -> 0
C11: =IFERROR(VLOOKUP(I63,'別紙1 実績調書'!$C$36:$E$61,3,FALSE),"①") -> ① | R11: =IFERROR(VLOOKUP(X63,'別紙1 実績調書'!$C$36:$E$61,3,FALSE),"①") -> ① | AG11: =IFERROR(VLOOKUP(AM63,'別紙1 実績調書'!$C$36:$E$61,3,FALSE),"①") -> ① | AV11: =IFERROR(VLOOKUP(BB63,'別紙1 実績調書'!$C$36:$E$61,3,FALSE),"①") -> ① | BK11: =IFERROR(VLOOKUP(BQ63,'別紙1 実績調書'!$C$36:$E$61,3,FALSE),"①") -> ① | BZ11: =IFERROR(VLOOKUP(CF63,'別紙1 実績調書'!$C$36:$E$61,3,FALSE),"①") -> ① | CO11: =IFERROR(VLOOKUP(CU63,'別紙1 実績調書'!$C$36:$E$61,3,FALSE),"①") -> ① | DD11: =IFERROR(VLOOKUP(DJ63,'別紙1 実績調書'!$C$36:$E$61,3,FALSE),"①") -> ① | DS11: =IFERROR(VLOOKUP(DY63,'別紙1 実績調書'!$C$36:$E$61,3,FALSE),"①") -> ① | EH11: =IFERROR(VLOOKUP(EN63,'別紙1 実績調書'!$C$36:$E$61,3,FALSE),"①") -> ① | EW11: =IFERROR(VLOOKUP(FC63,'別紙1 実績調書'!$C$36:$E$61,3,FALSE),"①") -> ① | FL11: =IFERROR(VLOOKUP(FR63,'別紙1 実績調書'!$C$36:$E$61,3,FALSE),"①") -> ① | GA11: =IFERROR(VLOOKUP(GG63,'別紙1 実績調書'!$C$36:$E$61,3,FALSE),"①") -> ① | GP11: =IFERROR(VLOOKUP(GV63,'別紙1 実績調書'!$C$36:$E$61,3,FALSE),"①") -> ① | HE11: =IFERROR(VLOOKUP(HK63,'別紙1 実績調書'!$C$36:$E$61,3,FALSE),"①") -> ①
C12: ②（Ａ）から別紙3における重複分相当額を減じた額を（B）とする。 | R12: ②（Ａ）から別紙3における重複分相当額を減じた額を（B）とする。 | AG12: ②（Ａ）から別紙3における重複分相当額を減じた額を（B）とする。 | AV12: ②（Ａ）から別紙3における重複分相当額を減じた額を（B）とする。 | BK12: ②（Ａ）から別紙3における重複分相当額を減じた額を（B）とする。 | BZ12: ②（Ａ）から別紙3における重複分相当額を減じた額を（B）とする。 | CO12: ②（Ａ）から別紙3における重複分相当額を減じた額を（B）とする。 | DD12: ②（Ａ）から別紙3における重複分相当額を減じた額を（B）とする。 | DS12: ②（Ａ）から別紙3における重複分相当額を減じた額を（B）とする。 | EH12: ②（Ａ）から別紙3における重複分相当額を減じた額を（B）とする。 | EW12: ②（Ａ）から別紙3における重複分相当額を減じた額を（B）とする。 | FL12: ②（Ａ）から別紙3における重複分相当額を減じた額を（B）とする。 | GA12: ②（Ａ）から別紙3における重複分相当額を減じた額を（B）とする。 | GP12: ②（Ａ）から別紙3における重複分相当額を減じた額を（B）とする。 | HE12: ②（Ａ）から別紙3における重複分相当額を減じた額を（B）とする。
C13: ③補助対象に使用した費用の総額を（C）とする。 | R13: ③補助対象に使用した費用の総額を（C）とする。 | AG13: ③補助対象に使用した費用の総額を（C）とする。 | AV13: ③補助対象に使用した費用の総額を（C）とする。 | BK13: ③補助対象に使用した費用の総額を（C）とする。 | BZ13: ③補助対象に使用した費用の総額を（C）とする。 | CO13: ③補助対象に使用した費用の総額を（C）とする。 | DD13: ③補助対象に使用した費用の総額を（C）とする。 | DS13: ③補助対象に使用した費用の総額を（C）とする。 | EH13: ③補助対象に使用した費用の総額を（C）とする。 | EW13: ③補助対象に使用した費用の総額を（C）とする。 | FL13: ③補助対象に使用した費用の総額を（C）とする。 | GA13: ③補助対象に使用した費用の総額を（C）とする。 | GP13: ③補助対象に使用した費用の総額を（C）とする。 | HE13: ③補助対象に使用した費用の総額を（C）とする。
C14: ④（C）から別紙3における重複分相当額を減じた額を（D）とする。 | R14: ④（C）から別紙3における重複分相当額を減じた額を（D）とする。 | AG14: ④（C）から別紙3における重複分相当額を減じた額を（D）とする。 | AV14: ④（C）から別紙3における重複分相当額を減じた額を（D）とする。 | BK14: ④（C）から別紙3における重複分相当額を減じた額を（D）とする。 | BZ14: ④（C）から別紙3における重複分相当額を減じた額を（D）とする。 | CO14: ④（C）から別紙3における重複分相当額を減じた額を（D）とする。 | DD14: ④（C）から別紙3における重複分相当額を減じた額を（D）とする。 | DS14: ④（C）から別紙3における重複分相当額を減じた額を（D）とする。 | EH14: ④（C）から別紙3における重複分相当額を減じた額を（D）とする。 | EW14: ④（C）から別紙3における重複分相当額を減じた額を（D）とする。 | FL14: ④（C）から別紙3における重複分相当額を減じた額を（D）とする。 | GA14: ④（C）から別紙3における重複分相当額を減じた額を（D）とする。 | GP14: ④（C）から別紙3における重複分相当額を減じた額を（D）とする。 | HE14: ④（C）から別紙3における重複分相当額を減じた額を（D）とする。
C15: ⑤（B）と（D）とを比較して少ない額に補助率（E）を乗じた金額を積算額（F）とする。 | R15: ⑤（B）と（D）とを比較して少ない額に補助率（E）を乗じた金額を積算額（F）とする。 | AG15: ⑤（B）と（D）とを比較して少ない額に補助率（E）を乗じた金額を積算額（F）とする。 | AV15: ⑤（B）と（D）とを比較して少ない額に補助率（E）を乗じた金額を積算額（F）とする。 | BK15: ⑤（B）と（D）とを比較して少ない額に補助率（E）を乗じた金額を積算額（F）とする。 | BZ15: ⑤（B）と（D）とを比較して少ない額に補助率（E）を乗じた金額を積算額（F）とする。 | CO15: ⑤（B）と（D）とを比較して少ない額に補助率（E）を乗じた金額を積算額（F）とする。 | DD15: ⑤（B）と（D）とを比較して少ない額に補助率（E）を乗じた金額を積算額（F）とする。 | DS15: ⑤（B）と（D）とを比較して少ない額に補助率（E）を乗じた金額を積算額（F）とする。 | EH15: ⑤（B）と（D）とを比較して少ない額に補助率（E）を乗じた金額を積算額（F）とする。 | EW15: ⑤（B）と（D）とを比較して少ない額に補助率（E）を乗じた金額を積算額（F）とする。 | FL15: ⑤（B）と（D）とを比較して少ない額に補助率（E）を乗じた金額を積算額（F）とする。 | GA15: ⑤（B）と（D）とを比較して少ない額に補助率（E）を乗じた金額を積算額（F）とする。 | GP15: ⑤（B）と（D）とを比較して少ない額に補助率（E）を乗じた金額を積算額（F）とする。 | HE15: ⑤（B）と（D）とを比較して少ない額に補助率（E）を乗じた金額を積算額（F）とする。
C17: =IFERROR(VLOOKUP(I63,'別紙1 実績調書'!$C$36:$G$61,5,FALSE),"error") -> error | R17: =IFERROR(VLOOKUP(X63,'別紙1 実績調書'!$C$36:$G$61,5,FALSE),"error") -> error | AG17: =IFERROR(VLOOKUP(AM63,'別紙1 実績調書'!$C$36:$G$61,5,FALSE),"error") -> error | AV17: =IFERROR(VLOOKUP(BB63,'別紙1 実績調書'!$C$36:$G$61,5,FALSE),"error") -> error | BK17: =IFERROR(VLOOKUP(BQ63,'別紙1 実績調書'!$C$36:$G$61,5,FALSE),"error") -> error | BZ17: =IFERROR(VLOOKUP(CF63,'別紙1 実績調書'!$C$36:$G$61,5,FALSE),"error") -> error | CO17: =IFERROR(VLOOKUP(CU63,'別紙1 実績調書'!$C$36:$G$61,5,FALSE),"error") -> error | DD17: =IFERROR(VLOOKUP(DJ63,'別紙1 実績調書'!$C$36:$G$61,5,FALSE),"error") -> error | DS17: =IFERROR(VLOOKUP(DY63,'別紙1 実績調書'!$C$36:$G$61,5,FALSE),"error") -> error | EH17: =IFERROR(VLOOKUP(EN63,'別紙1 実績調書'!$C$36:$G$61,5,FALSE),"error") -> error | EW17: =IFERROR(VLOOKUP(FC63,'別紙1 実績調書'!$C$36:$G$61,5,FALSE),"error") -> error | FL17: =IFERROR(VLOOKUP(FR63,'別紙1 実績調書'!$C$36:$G$61,5,FALSE),"error") -> error | GA17: =IFERROR(VLOOKUP(GG63,'別紙1 実績調書'!$C$36:$G$61,5,FALSE),"error") -> error | GP17: =IFERROR(VLOOKUP(GV63,'別紙1 実績調書'!$C$36:$G$61,5,FALSE),"error") -> error | HE17: =IFERROR(VLOOKUP(HK63,'別紙1 実績調書'!$C$36:$G$61,5,FALSE),"error") -> error
C18: =IFERROR(VLOOKUP(I63,'別紙1 実績調書'!$C$36:$F$61,4,FALSE),"error") -> error | R18: =IFERROR(VLOOKUP(X63,'別紙1 実績調書'!$C$36:$F$61,4,FALSE),"error") -> error | AG18: =IFERROR(VLOOKUP(AM63,'別紙1 実績調書'!$C$36:$F$61,4,FALSE),"error") -> error | AV18: =IFERROR(VLOOKUP(BB63,'別紙1 実績調書'!$C$36:$F$61,4,FALSE),"error") -> error | BK18: =IFERROR(VLOOKUP(BQ63,'別紙1 実績調書'!$C$36:$F$61,4,FALSE),"error") -> error | BZ18: =IFERROR(VLOOKUP(CF63,'別紙1 実績調書'!$C$36:$F$61,4,FALSE),"error") -> error | CO18: =IFERROR(VLOOKUP(CU63,'別紙1 実績調書'!$C$36:$F$61,4,FALSE),"error") -> error | DD18: =IFERROR(VLOOKUP(DJ63,'別紙1 実績調書'!$C$36:$F$61,4,FALSE),"error") -> error | DS18: =IFERROR(VLOOKUP(DY63,'別紙1 実績調書'!$C$36:$F$61,4,FALSE),"error") -> error | EH18: =IFERROR(VLOOKUP(EN63,'別紙1 実績調書'!$C$36:$F$61,4,FALSE),"error") -> error | EW18: =IFERROR(VLOOKUP(FC63,'別紙1 実績調書'!$C$36:$F$61,4,FALSE),"error") -> error | FL18: =IFERROR(VLOOKUP(FR63,'別紙1 実績調書'!$C$36:$F$61,4,FALSE),"error") -> error | GA18: =IFERROR(VLOOKUP(GG63,'別紙1 実績調書'!$C$36:$F$61,4,FALSE),"error") -> error | GP18: =IFERROR(VLOOKUP(GV63,'別紙1 実績調書'!$C$36:$F$61,4,FALSE),"error") -> error | HE18: =IFERROR(VLOOKUP(HK63,'別紙1 実績調書'!$C$36:$F$61,4,FALSE),"error") -> error
D19: ４月 | E19: ５月 | F19: ６月 | G19: ７月 | H19: ８月 | I19: ９月 | S19: ４月 | T19: ５月 | U19: ６月 | V19: ７月 | W19: ８月 | X19: ９月 | AH19: ４月 | AI19: ５月 | AJ19: ６月 | AK19: ７月 | AL19: ８月 | AM19: ９月 | AW19: ４月 | AX19: ５月 | AY19: ６月 | AZ19: ７月 | BA19: ８月 | BB19: ９月 | BL19: ４月 | BM19: ５月 | BN19: ６月 | BO19: ７月 | BP19: ８月 | BQ19: ９月 | CA19: ４月 | CB19: ５月 | CC19: ６月 | CD19: ７月 | CE19: ８月 | CF19: ９月 | CP19: ４月 | CQ19: ５月 | CR19: ６月 | CS19: ７月 | CT19: ８月 | CU19: ９月 | DE19: ４月 | DF19: ５月 | DG19: ６月 | DH19: ７月 | DI19: ８月 | DJ19: ９月 | DT19: ４月 | DU19: ５月 | DV19: ６月 | DW19: ７月 | DX19: ８月 | DY19: ９月 | EI19: ４月 | EJ19: ５月 | EK19: ６月 | EL19: ７月 | EM19: ８月 | EN19: ９月 | EX19: ４月 | EY19: ５月 | EZ19: ６月 | FA19: ７月 | FB19: ８月 | FC19: ９月 | FM19: ４月 | FN19: ５月 | FO19: ６月 | FP19: ７月 | FQ19: ８月 | FR19: ９月 | GB19: ４月 | GC19: ５月 | GD19: ６月 | GE19: ７月 | GF19: ８月 | GG19: ９月 | GQ19: ４月 | GR19: ５月 | GS19: ６月 | GT19: ７月 | GU19: ８月 | GV19: ９月 | HF19: ４月 | HG19: ５月 | HH19: ６月 | HI19: ７月 | HJ19: ８月 | HK19: ９月
C20: =IFERROR(VLOOKUP(I63,'別紙1 実績調書'!$C$36:$H$61,6,FALSE),"error") -> error | R20: =IFERROR(VLOOKUP(X63,'別紙1 実績調書'!$C$36:$H$61,6,FALSE),"error") -> error | AG20: =IFERROR(VLOOKUP(AM63,'別紙1 実績調書'!$C$36:$H$61,6,FALSE),"error") -> error | AV20: =IFERROR(VLOOKUP(BB63,'別紙1 実績調書'!$C$36:$H$61,6,FALSE),"error") -> error | BK20: =IFERROR(VLOOKUP(BQ63,'別紙1 実績調書'!$C$36:$H$61,6,FALSE),"error") -> error | BZ20: =IFERROR(VLOOKUP(CF63,'別紙1 実績調書'!$C$36:$H$61,6,FALSE),"error") -> error | CO20: =IFERROR(VLOOKUP(CU63,'別紙1 実績調書'!$C$36:$H$61,6,FALSE),"error") -> error | DD20: =IFERROR(VLOOKUP(DJ63,'別紙1 実績調書'!$C$36:$H$61,6,FALSE),"error") -> error | DS20: =IFERROR(VLOOKUP(DY63,'別紙1 実績調書'!$C$36:$H$61,6,FALSE),"error") -> error | EH20: =IFERROR(VLOOKUP(EN63,'別紙1 実績調書'!$C$36:$H$61,6,FALSE),"error") -> error | EW20: =IFERROR(VLOOKUP(FC63,'別紙1 実績調書'!$C$36:$H$61,6,FALSE),"error") -> error | FL20: =IFERROR(VLOOKUP(FR63,'別紙1 実績調書'!$C$36:$H$61,6,FALSE),"error") -> error | GA20: =IFERROR(VLOOKUP(GG63,'別紙1 実績調書'!$C$36:$H$61,6,FALSE),"error") -> error | GP20: =IFERROR(VLOOKUP(GV63,'別紙1 実績調書'!$C$36:$H$61,6,FALSE),"error") -> error | HE20: =IFERROR(VLOOKUP(HK63,'別紙1 実績調書'!$C$36:$H$61,6,FALSE),"error") -> error
B23: 別表1(入所系) | C23: 補助基準額 | D23: 4130 | Q23: 別表1(入所系) | R23: 補助基準額 | S23: 4130 | AF23: 別表1(入所系) | AG23: 補助基準額 | AH23: 4130 | AU23: 別表1(入所系) | AV23: 補助基準額 | AW23: 4130 | BJ23: 別表1(入所系) | BK23: 補助基準額 | BL23: 4130 | BY23: 別表1(入所系) | BZ23: 補助基準額 | CA23: 4130 | CN23: 別表1(入所系) | CO23: 補助基準額 | CP23: 4130 | DC23: 別表1(入所系) | DD23: 補助基準額 | DE23: 4130 | DR23: 別表1(入所系) | DS23: 補助基準額 | DT23: 4130 | EG23: 別表1(入所系) | EH23: 補助基準額 | EI23: 4130 | EV23: 別表1(入所系) | EW23: 補助基準額 | EX23: 4130 | FK23: 別表1(入所系) | FL23: 補助基準額 | FM23: 4130 | FZ23: 別表1(入所系) | GA23: 補助基準額 | GB23: 4130 | GO23: 別表1(入所系) | GP23: 補助基準額 | GQ23: 4130 | HD23: 別表1(入所系) | HE23: 補助基準額 | HF23: 4130
B24: 1～6 | C24: 基準額×定員数 | D24: =D20*$D$23 -> 0 | E24: =E20*$D$23 -> 0 | F24: =F20*$D$23 -> 0 | G24: =G20*$D$23 -> 0 | H24: =H20*$D$23 -> 0 | I24: =I20*$D$23 -> 0 | Q24: 1～6 | R24: 基準額×定員数 | S24: =S20*$D$23 -> 0 | T24: =T20*$D$23 -> 0 | U24: =U20*$D$23 -> 0 | V24: =V20*$D$23 -> 0 | W24: =W20*$D$23 -> 0 | X24: =X20*$D$23 -> 0 | AF24: 1～6 | AG24: 基準額×定員数 | AH24: =AH20*$D$23 -> 0 | AI24: =AI20*$D$23 -> 0 | AJ24: =AJ20*$D$23 -> 0 | AK24: =AK20*$D$23 -> 0 | AL24: =AL20*$D$23 -> 0 | AM24: =AM20*$D$23 -> 0 | AU24: 1～6 | AV24: 基準額×定員数 | AW24: =AW20*$D$23 -> 0 | AX24: =AX20*$D$23 -> 0 | AY24: =AY20*$D$23 -> 0 | AZ24: =AZ20*$D$23 -> 0 | BA24: =BA20*$D$23 -> 0 | BB24: =BB20*$D$23 -> 0 | BJ24: 1～6 | BK24: 基準額×定員数 | BL24: =BL20*$D$23 -> 0 | BM24: =BM20*$D$23 -> 0 | BN24: =BN20*$D$23 -> 0 | BO24: =BO20*$D$23 -> 0 | BP24: =BP20*$D$23 -> 0 | BQ24: =BQ20*$D$23 -> 0 | BY24: 1～6 | BZ24: 基準額×定員数 | CA24: =CA20*$D$23 -> 0 | CB24: =CB20*$D$23 -> 0 | CC24: =CC20*$D$23 -> 0 | CD24: =CD20*$D$23 -> 0 | CE24: =CE20*$D$23 -> 0 | CF24: =CF20*$D$23 -> 0 | CN24: 1～6 | CO24: 基準額×定員数 | CP24: =CP20*$D$23 -> 0 | CQ24: =CQ20*$D$23 -> 0 | CR24: =CR20*$D$23 -> 0 | CS24: =CS20*$D$23 -> 0 | CT24: =CT20*$D$23 -> 0 | CU24: =CU20*$D$23 -> 0 | DC24: 1～6 | DD24: 基準額×定員数 | DE24: =DE20*$D$23 -> 0 | DF24: =DF20*$D$23 -> 0 | DG24: =DG20*$D$23 -> 0 | DH24: =DH20*$D$23 -> 0 | DI24: =DI20*$D$23 -> 0 | DJ24: =DJ20*$D$23 -> 0 | DR24: 1～6 | DS24: 基準額×定員数 | DT24: =DT20*$D$23 -> 0 | DU24: =DU20*$D$23 -> 0 | DV24: =DV20*$D$23 -> 0 | DW24: =DW20*$D$23 -> 0 | DX24: =DX20*$D$23 -> 0 | DY24: =DY20*$D$23 -> 0 | EG24: 1～6 | EH24: 基準額×定員数 | EI24: =EI20*$D$23 -> 0 | EJ24: =EJ20*$D$23 -> 0 | EK24: =EK20*$D$23 -> 0 | EL24: =EL20*$D$23 -> 0 | EM24: =EM20*$D$23 -> 0 | EN24: =EN20*$D$23 -> 0 | EV24: 1～6 | EW24: 基準額×定員数 | EX24: =EX20*$D$23 -> 0 | EY24: =EY20*$D$23 -> 0 | EZ24: =EZ20*$D$23 -> 0 | FA24: =FA20*$D$23 -> 0 | FB24: =FB20*$D$23 -> 0 | FC24: =FC20*$D$23 -> 0 | FK24: 1～6 | FL24: 基準額×定員数 | FM24: =FM20*$D$23 -> 0 | FN24: =FN20*$D$23 -> 0 | FO24: =FO20*$D$23 -> 0 | FP24: =FP20*$D$23 -> 0 | FQ24: =FQ20*$D$23 -> 0 | FR24: =FR20*$D$23 -> 0 | FZ24: 1～6 | GA24: 基準額×定員数 | GB24: =GB20*$D$23 -> 0 | GC24: =GC20*$D$23 -> 0 | GD24: =GD20*$D$23 -> 0 | GE24: =GE20*$D$23 -> 0 | GF24: =GF20*$D$23 -> 0 | GG24: =GG20*$D$23 -> 0 | GO24: 1～6 | GP24: 基準額×定員数 | GQ24: =GQ20*$D$23 -> 0 | GR24: =GR20*$D$23 -> 0 | GS24: =GS20*$D$23 -> 0 | GT24: =GT20*$D$23 -> 0 | GU24: =GU20*$D$23 -> 0 | GV24: =GV20*$D$23 -> 0 | HD24: 1～6 | HE24: 基準額×定員数 | HF24: =HF20*$D$23 -> 0 | HG24: =HG20*$D$23 -> 0 | HH24: =HH20*$D$23 -> 0 | HI24: =HI20*$D$23 -> 0 | HJ24: =HJ20*$D$23 -> 0 | HK24: =HK20*$D$23 -> 0
C25: 計 | D25: =SUM(D24:I24) -> 0 | R25: 計 | S25: =SUM(S24:X24) -> 0 | AG25: 計 | AH25: =SUM(AH24:AM24) -> 0 | AV25: 計 | AW25: =SUM(AW24:BB24) -> 0 | BK25: 計 | BL25: =SUM(BL24:BQ24) -> 0 | BZ25: 計 | CA25: =SUM(CA24:CF24) -> 0 | CO25: 計 | CP25: =SUM(CP24:CU24) -> 0 | DD25: 計 | DE25: =SUM(DE24:DJ24) -> 0 | DS25: 計 | DT25: =SUM(DT24:DY24) -> 0 | EH25: 計 | EI25: =SUM(EI24:EN24) -> 0 | EW25: 計 | EX25: =SUM(EX24:FC24) -> 0 | FL25: 計 | FM25: =SUM(FM24:FR24) -> 0 | GA25: 計 | GB25: =SUM(GB24:GG24) -> 0 | GP25: 計 | GQ25: =SUM(GQ24:GV24) -> 0 | HE25: 計 | HF25: =SUM(HF24:HK24) -> 0
B26: 別表2(通所系) | C26: 補助基準額 | D26: 709 | Q26: 別表2(通所系) | R26: 補助基準額 | S26: 709 | AF26: 別表2(通所系) | AG26: 補助基準額 | AH26: 709 | AU26: 別表2(通所系) | AV26: 補助基準額 | AW26: 709 | BJ26: 別表2(通所系) | BK26: 補助基準額 | BL26: 709 | BY26: 別表2(通所系) | BZ26: 補助基準額 | CA26: 709 | CN26: 別表2(通所系) | CO26: 補助基準額 | CP26: 709 | DC26: 別表2(通所系) | DD26: 補助基準額 | DE26: 709 | DR26: 別表2(通所系) | DS26: 補助基準額 | DT26: 709 | EG26: 別表2(通所系) | EH26: 補助基準額 | EI26: 709 | EV26: 別表2(通所系) | EW26: 補助基準額 | EX26: 709 | FK26: 別表2(通所系) | FL26: 補助基準額 | FM26: 709 | FZ26: 別表2(通所系) | GA26: 補助基準額 | GB26: 709 | GO26: 別表2(通所系) | GP26: 補助基準額 | GQ26: 709 | HD26: 別表2(通所系) | HE26: 補助基準額 | HF26: 709
B27: 7～14 | C27: 基準額×定員数 | D27: =D20*$D$26 -> 0 | E27: =E20*$D$26 -> 0 | F27: =F20*$D$26 -> 0 | G27: =G20*$D$26 -> 0 | H27: =H20*$D$26 -> 0 | I27: =I20*$D$26 -> 0 | Q27: 7～14 | R27: 基準額×定員数 | S27: =S20*$D$26 -> 0 | T27: =T20*$D$26 -> 0 | U27: =U20*$D$26 -> 0 | V27: =V20*$D$26 -> 0 | W27: =W20*$D$26 -> 0 | X27: =X20*$D$26 -> 0 | AF27: 7～14 | AG27: 基準額×定員数 | AH27: =AH20*$D$26 -> 0 | AI27: =AI20*$D$26 -> 0 | AJ27: =AJ20*$D$26 -> 0 | AK27: =AK20*$D$26 -> 0 | AL27: =AL20*$D$26 -> 0 | AM27: =AM20*$D$26 -> 0 | AU27: 7～14 | AV27: 基準額×定員数 | AW27: =AW20*$D$26 -> 0 | AX27: =AX20*$D$26 -> 0 | AY27: =AY20*$D$26 -> 0 | AZ27: =AZ20*$D$26 -> 0 | BA27: =BA20*$D$26 -> 0 | BB27: =BB20*$D$26 -> 0 | BJ27: 7～14 | BK27: 基準額×定員数 | BL27: =BL20*$D$26 -> 0 | BM27: =BM20*$D$26 -> 0 | BN27: =BN20*$D$26 -> 0 | BO27: =BO20*$D$26 -> 0 | BP27: =BP20*$D$26 -> 0 | BQ27: =BQ20*$D$26 -> 0 | BY27: 7～14 | BZ27: 基準額×定員数 | CA27: =CA20*$D$26 -> 0 | CB27: =CB20*$D$26 -> 0 | CC27: =CC20*$D$26 -> 0 | CD27: =CD20*$D$26 -> 0 | CE27: =CE20*$D$26 -> 0 | CF27: =CF20*$D$26 -> 0 | CN27: 7～14 | CO27: 基準額×定員数 | CP27: =CP20*$D$26 -> 0 | CQ27: =CQ20*$D$26 -> 0 | CR27: =CR20*$D$26 -> 0 | CS27: =CS20*$D$26 -> 0 | CT27: =CT20*$D$26 -> 0 | CU27: =CU20*$D$26 -> 0 | DC27: 7～14 | DD27: 基準額×定員数 | DE27: =DE20*$D$26 -> 0 | DF27: =DF20*$D$26 -> 0 | DG27: =DG20*$D$26 -> 0 | DH27: =DH20*$D$26 -> 0 | DI27: =DI20*$D$26 -> 0 | DJ27: =DJ20*$D$26 -> 0 | DR27: 7～14 | DS27: 基準額×定員数 | DT27: =DT20*$D$26 -> 0 | DU27: =DU20*$D$26 -> 0 | DV27: =DV20*$D$26 -> 0 | DW27: =DW20*$D$26 -> 0 | DX27: =DX20*$D$26 -> 0 | DY27: =DY20*$D$26 -> 0 | EG27: 7～14 | EH27: 基準額×定員数 | EI27: =EI20*$D$26 -> 0 | EJ27: =EJ20*$D$26 -> 0 | EK27: =EK20*$D$26 -> 0 | EL27: =EL20*$D$26 -> 0 | EM27: =EM20*$D$26 -> 0 | EN27: =EN20*$D$26 -> 0 | EV27: 7～14 | EW27: 基準額×定員数 | EX27: =EX20*$D$26 -> 0 | EY27: =EY20*$D$26 -> 0 | EZ27: =EZ20*$D$26 -> 0 | FA27: =FA20*$D$26 -> 0 | FB27: =FB20*$D$26 -> 0 | FC27: =FC20*$D$26 -> 0 | FK27: 7～14 | FL27: 基準額×定員数 | FM27: =FM20*$D$26 -> 0 | FN27: =FN20*$D$26 -> 0 | FO27: =FO20*$D$26 -> 0 | FP27: =FP20*$D$26 -> 0 | FQ27: =FQ20*$D$26 -> 0 | FR27: =FR20*$D$26 -> 0 | FZ27: 7～14 | GA27: 基準額×定員数 | GB27: =GB20*$D$26 -> 0 | GC27: =GC20*$D$26 -> 0 | GD27: =GD20*$D$26 -> 0 | GE27: =GE20*$D$26 -> 0 | GF27: =GF20*$D$26 -> 0 | GG27: =GG20*$D$26 -> 0 | GO27: 7～14 | GP27: 基準額×定員数 | GQ27: =GQ20*$D$26 -> 0 | GR27: =GR20*$D$26 -> 0 | GS27: =GS20*$D$26 -> 0 | GT27: =GT20*$D$26 -> 0 | GU27: =GU20*$D$26 -> 0 | GV27: =GV20*$D$26 -> 0 | HD27: 7～14 | HE27: 基準額×定員数 | HF27: =HF20*$D$26 -> 0 | HG27: =HG20*$D$26 -> 0 | HH27: =HH20*$D$26 -> 0 | HI27: =HI20*$D$26 -> 0 | HJ27: =HJ20*$D$26 -> 0 | HK27: =HK20*$D$26 -> 0
C28: 計 | D28: =SUM(D27:I27) -> 0 | R28: 計 | S28: =SUM(S27:X27) -> 0 | AG28: 計 | AH28: =SUM(AH27:AM27) -> 0 | AV28: 計 | AW28: =SUM(AW27:BB27) -> 0 | BK28: 計 | BL28: =SUM(BL27:BQ27) -> 0 | BZ28: 計 | CA28: =SUM(CA27:CF27) -> 0 | CO28: 計 | CP28: =SUM(CP27:CU27) -> 0 | DD28: 計 | DE28: =SUM(DE27:DJ27) -> 0 | DS28: 計 | DT28: =SUM(DT27:DY27) -> 0 | EH28: 計 | EI28: =SUM(EI27:EN27) -> 0 | EW28: 計 | EX28: =SUM(EX27:FC27) -> 0 | FL28: 計 | FM28: =SUM(FM27:FR27) -> 0 | GA28: 計 | GB28: =SUM(GB27:GG27) -> 0 | GP28: 計 | GQ28: =SUM(GQ27:GV27) -> 0 | HE28: 計 | HF28: =SUM(HF27:HK27) -> 0
B29: 別表2(訪問系) | C29: 補助基準額 | D29: 21500 | E29: 17920 | F29: 14330 | G29: 10750 | H29: 7170 | I29: 3580 | Q29: 別表2(訪問系) | R29: 補助基準額 | S29: 21500 | T29: 17920 | U29: 14330 | V29: 10750 | W29: 7170 | X29: 3580 | AF29: 別表2(訪問系) | AG29: 補助基準額 | AH29: 21500 | AI29: 17920 | AJ29: 14330 | AK29: 10750 | AL29: 7170 | AM29: 3580 | AU29: 別表2(訪問系) | AV29: 補助基準額 | AW29: 21500 | AX29: 17920 | AY29: 14330 | AZ29: 10750 | BA29: 7170 | BB29: 3580 | BJ29: 別表2(訪問系) | BK29: 補助基準額 | BL29: 21500 | BM29: 17920 | BN29: 14330 | BO29: 10750 | BP29: 7170 | BQ29: 3580 | BY29: 別表2(訪問系) | BZ29: 補助基準額 | CA29: 21500 | CB29: 17920 | CC29: 14330 | CD29: 10750 | CE29: 7170 | CF29: 3580 | CN29: 別表2(訪問系) | CO29: 補助基準額 | CP29: 21500 | CQ29: 17920 | CR29: 14330 | CS29: 10750 | CT29: 7170 | CU29: 3580 | DC29: 別表2(訪問系) | DD29: 補助基準額 | DE29: 21500 | DF29: 17920 | DG29: 14330 | DH29: 10750 | DI29: 7170 | DJ29: 3580 | DR29: 別表2(訪問系) | DS29: 補助基準額 | DT29: 21500 | DU29: 17920 | DV29: 14330 | DW29: 10750 | DX29: 7170 | DY29: 3580 | EG29: 別表2(訪問系) | EH29: 補助基準額 | EI29: 21500 | EJ29: 17920 | EK29: 14330 | EL29: 10750 | EM29: 7170 | EN29: 3580 | EV29: 別表2(訪問系) | EW29: 補助基準額 | EX29: 21500 | EY29: 17920 | EZ29: 14330 | FA29: 10750 | FB29: 7170 | FC29: 3580 | FK29: 別表2(訪問系) | FL29: 補助基準額 | FM29: 21500 | FN29: 17920 | FO29: 14330 | FP29: 10750 | FQ29: 7170 | FR29: 3580 | FZ29: 別表2(訪問系) | GA29: 補助基準額 | GB29: 21500 | GC29: 17920 | GD29: 14330 | GE29: 10750 | GF29: 7170 | GG29: 3580 | GO29: 別表2(訪問系) | GP29: 補助基準額 | GQ29: 21500 | GR29: 17920 | GS29: 14330 | GT29: 10750 | GU29: 7170 | GV29: 3580 | HD29: 別表2(訪問系) | HE29: 補助基準額 | HF29: 21500 | HG29: 17920 | HH29: 14330 | HI29: 10750 | HJ29: 7170 | HK29: 3580
B30: 15～21 | C30: 補助額 | D30: =D29 -> 21500 | E30: =IF(ISBLANK(E$20),"",E$29) | F30: =IF(ISBLANK(F$20),"",F$29) | G30: =IF(ISBLANK(G$20),"",G$29) | H30: =IF(ISBLANK(H$20),"",H$29) | I30: =IF(ISBLANK(I$20),"",I$29) | Q30: 15～21 | R30: 補助額 | S30: =S29 -> 21500 | T30: =IF(ISBLANK(T$20),"",T$29) | U30: =IF(ISBLANK(U$20),"",U$29) | V30: =IF(ISBLANK(V$20),"",V$29) | W30: =IF(ISBLANK(W$20),"",W$29) | X30: =IF(ISBLANK(X$20),"",X$29) | AF30: 15～21 | AG30: 補助額 | AH30: =AH29 -> 21500 | AI30: =IF(ISBLANK(AI$20),"",AI$29) | AJ30: =IF(ISBLANK(AJ$20),"",AJ$29) | AK30: =IF(ISBLANK(AK$20),"",AK$29) | AL30: =IF(ISBLANK(AL$20),"",AL$29) | AM30: =IF(ISBLANK(AM$20),"",AM$29) | AU30: 15～21 | AV30: 補助額 | AW30: =AW29 -> 21500 | AX30: =IF(ISBLANK(AX$20),"",AX$29) | AY30: =IF(ISBLANK(AY$20),"",AY$29) | AZ30: =IF(ISBLANK(AZ$20),"",AZ$29) | BA30: =IF(ISBLANK(BA$20),"",BA$29) | BB30: =IF(ISBLANK(BB$20),"",BB$29) | BJ30: 15～21 | BK30: 補助額 | BL30: =BL29 -> 21500 | BM30: =IF(ISBLANK(BM$20),"",BM$29) | BN30: =IF(ISBLANK(BN$20),"",BN$29) | BO30: =IF(ISBLANK(BO$20),"",BO$29) | BP30: =IF(ISBLANK(BP$20),"",BP$29) | BQ30: =IF(ISBLANK(BQ$20),"",BQ$29) | BY30: 15～21 | BZ30: 補助額 | CA30: =CA29 -> 21500 | CB30: =IF(ISBLANK(CB$20),"",CB$29) | CC30: =IF(ISBLANK(CC$20),"",CC$29) | CD30: =IF(ISBLANK(CD$20),"",CD$29) | CE30: =IF(ISBLANK(CE$20),"",CE$29) | CF30: =IF(ISBLANK(CF$20),"",CF$29) | CN30: 15～21 | CO30: 補助額 | CP30: =CP29 -> 21500 | CQ30: =IF(ISBLANK(CQ$20),"",CQ$29) | CR30: =IF(ISBLANK(CR$20),"",CR$29) | CS30: =IF(ISBLANK(CS$20),"",CS$29) | CT30: =IF(ISBLANK(CT$20),"",CT$29) | CU30: =IF(ISBLANK(CU$20),"",CU$29) | DC30: 15～21 | DD30: 補助額 | DE30: =DE29 -> 21500 | DF30: =IF(ISBLANK(DF$20),"",DF$29) | DG30: =IF(ISBLANK(DG$20),"",DG$29) | DH30: =IF(ISBLANK(DH$20),"",DH$29) | DI30: =IF(ISBLANK(DI$20),"",DI$29) | DJ30: =IF(ISBLANK(DJ$20),"",DJ$29) | DR30: 15～21 | DS30: 補助額 | DT30: =DT29 -> 21500 | DU30: =IF(ISBLANK(DU$20),"",DU$29) | DV30: =IF(ISBLANK(DV$20),"",DV$29) | DW30: =IF(ISBLANK(DW$20),"",DW$29) | DX30: =IF(ISBLANK(DX$20),"",DX$29) | DY30: =IF(ISBLANK(DY$20),"",DY$29) | EG30: 15～21 | EH30: 補助額 | EI30: =EI29 -> 21500 | EJ30: =IF(ISBLANK(EJ$20),"",EJ$29) | EK30: =IF(ISBLANK(EK$20),"",EK$29) | EL30: =IF(ISBLANK(EL$20),"",EL$29) | EM30: =IF(ISBLANK(EM$20),"",EM$29) | EN30: =IF(ISBLANK(EN$20),"",EN$29) | EV30: 15～21 | EW30: 補助額 | EX30: =EX29 -> 21500 | EY30: =IF(ISBLANK(EY$20),"",EY$29) | EZ30: =IF(ISBLANK(EZ$20),"",EZ$29) | FA30: =IF(ISBLANK(FA$20),"",FA$29) | FB30: =IF(ISBLANK(FB$20),"",FB$29) | FC30: =IF(ISBLANK(FC$20),"",FC$29) | FK30: 15～21 | FL30: 補助額 | FM30: =FM29 -> 21500 | FN30: =IF(ISBLANK(FN$20),"",FN$29) | FO30: =IF(ISBLANK(FO$20),"",FO$29) | FP30: =IF(ISBLANK(FP$20),"",FP$29) | FQ30: =IF(ISBLANK(FQ$20),"",FQ$29) | FR30: =IF(ISBLANK(FR$20),"",FR$29) | FZ30: 15～21 | GA30: 補助額 | GB30: =GB29 -> 21500 | GC30: =IF(ISBLANK(GC$20),"",GC$29) | GD30: =IF(ISBLANK(GD$20),"",GD$29) | GE30: =IF(ISBLANK(GE$20),"",GE$29) | GF30: =IF(ISBLANK(GF$20),"",GF$29) | GG30: =IF(ISBLANK(GG$20),"",GG$29) | GO30: 15～21 | GP30: 補助額 | GQ30: =GQ29 -> 21500 | GR30: =IF(ISBLANK(GR$20),"",GR$29) | GS30: =IF(ISBLANK(GS$20),"",GS$29) | GT30: =IF(ISBLANK(GT$20),"",GT$29) | GU30: =IF(ISBLANK(GU$20),"",GU$29) | GV30: =IF(ISBLANK(GV$20),"",GV$29) | HD30: 15～21 | HE30: 補助額 | HF30: =HF29 -> 21500 | HG30: =IF(ISBLANK(HG$20),"",HG$29) | HH30: =IF(ISBLANK(HH$20),"",HH$29) | HI30: =IF(ISBLANK(HI$20),"",HI$29) | HJ30: =IF(ISBLANK(HJ$20),"",HJ$29) | HK30: =IF(ISBLANK(HK$20),"",HK$29)
C31: 計 | D31: =MIN(D30:I30) -> 21500 | R31: 計 | S31: =MIN(S30:X30) -> 21500 | AG31: 計 | AH31: =MIN(AH30:AM30) -> 21500 | AV31: 計 | AW31: =MIN(AW30:BB30) -> 21500 | BK31: 計 | BL31: =MIN(BL30:BQ30) -> 21500 | BZ31: 計 | CA31: =MIN(CA30:CF30) -> 21500 | CO31: 計 | CP31: =MIN(CP30:CU30) -> 21500 | DD31: 計 | DE31: =MIN(DE30:DJ30) -> 21500 | DS31: 計 | DT31: =MIN(DT30:DY30) -> 21500 | EH31: 計 | EI31: =MIN(EI30:EN30) -> 21500 | EW31: 計 | EX31: =MIN(EX30:FC30) -> 21500 | FL31: 計 | FM31: =MIN(FM30:FR30) -> 21500 | GA31: 計 | GB31: =MIN(GB30:GG30) -> 21500 | GP31: 計 | GQ31: =MIN(GQ30:GV30) -> 21500 | HE31: 計 | HF31: =MIN(HF30:HK30) -> 21500
B32: 別表2(相談系) | C32: 補助基準額 | D32: 8600 | E32: 7170 | F32: 5730 | G32: 4300 | H32: 2870 | I32: 1430 | Q32: 別表2(相談系) | R32: 補助基準額 | S32: 8600 | T32: 7170 | U32: 5730 | V32: 4300 | W32: 2870 | X32: 1430 | AF32: 別表2(相談系) | AG32: 補助基準額 | AH32: 8600 | AI32: 7170 | AJ32: 5730 | AK32: 4300 | AL32: 2870 | AM32: 1430 | AU32: 別表2(相談系) | AV32: 補助基準額 | AW32: 8600 | AX32: 7170 | AY32: 5730 | AZ32: 4300 | BA32: 2870 | BB32: 1430 | BJ32: 別表2(相談系) | BK32: 補助基準額 | BL32: 8600 | BM32: 7170 | BN32: 5730 | BO32: 4300 | BP32: 2870 | BQ32: 1430 | BY32: 別表2(相談系) | BZ32: 補助基準額 | CA32: 8600 | CB32: 7170 | CC32: 5730 | CD32: 4300 | CE32: 2870 | CF32: 1430 | CN32: 別表2(相談系) | CO32: 補助基準額 | CP32: 8600 | CQ32: 7170 | CR32: 5730 | CS32: 4300 | CT32: 2870 | CU32: 1430 | DC32: 別表2(相談系) | DD32: 補助基準額 | DE32: 8600 | DF32: 7170 | DG32: 5730 | DH32: 4300 | DI32: 2870 | DJ32: 1430 | DR32: 別表2(相談系) | DS32: 補助基準額 | DT32: 8600 | DU32: 7170 | DV32: 5730 | DW32: 4300 | DX32: 2870 | DY32: 1430 | EG32: 別表2(相談系) | EH32: 補助基準額 | EI32: 8600 | EJ32: 7170 | EK32: 5730 | EL32: 4300 | EM32: 2870 | EN32: 1430 | EV32: 別表2(相談系) | EW32: 補助基準額 | EX32: 8600 | EY32: 7170 | EZ32: 5730 | FA32: 4300 | FB32: 2870 | FC32: 1430 | FK32: 別表2(相談系) | FL32: 補助基準額 | FM32: 8600 | FN32: 7170 | FO32: 5730 | FP32: 4300 | FQ32: 2870 | FR32: 1430 | FZ32: 別表2(相談系) | GA32: 補助基準額 | GB32: 8600 | GC32: 7170 | GD32: 5730 | GE32: 4300 | GF32: 2870 | GG32: 1430 | GO32: 別表2(相談系) | GP32: 補助基準額 | GQ32: 8600 | GR32: 7170 | GS32: 5730 | GT32: 4300 | GU32: 2870 | GV32: 1430 | HD32: 別表2(相談系) | HE32: 補助基準額 | HF32: 8600 | HG32: 7170 | HH32: 5730 | HI32: 4300 | HJ32: 2870 | HK32: 1430
B33: 22～26 | C33: 補助額 | D33: =D32 -> 8600 | E33: =IF(ISBLANK(E$20),"",E$32) | F33: =IF(ISBLANK(F$20),"",F$32) | G33: =IF(ISBLANK(G$20),"",G$32) | H33: =IF(ISBLANK(H$20),"",H$32) | I33: =IF(ISBLANK(I$20),"",I$32) | Q33: 22～26 | R33: 補助額 | S33: =S32 -> 8600 | T33: =IF(ISBLANK(T$20),"",T$32) | U33: =IF(ISBLANK(U$20),"",U$32) | V33: =IF(ISBLANK(V$20),"",V$32) | W33: =IF(ISBLANK(W$20),"",W$32) | X33: =IF(ISBLANK(X$20),"",X$32) | AF33: 22～26 | AG33: 補助額 | AH33: =AH32 -> 8600 | AI33: =IF(ISBLANK(AI$20),"",AI$32) | AJ33: =IF(ISBLANK(AJ$20),"",AJ$32) | AK33: =IF(ISBLANK(AK$20),"",AK$32) | AL33: =IF(ISBLANK(AL$20),"",AL$32) | AM33: =IF(ISBLANK(AM$20),"",AM$32) | AU33: 22～26 | AV33: 補助額 | AW33: =AW32 -> 8600 | AX33: =IF(ISBLANK(AX$20),"",AX$32) | AY33: =IF(ISBLANK(AY$20),"",AY$32) | AZ33: =IF(ISBLANK(AZ$20),"",AZ$32) | BA33: =IF(ISBLANK(BA$20),"",BA$32) | BB33: =IF(ISBLANK(BB$20),"",BB$32) | BJ33: 22～26 | BK33: 補助額 | BL33: =BL32 -> 8600 | BM33: =IF(ISBLANK(BM$20),"",BM$32) | BN33: =IF(ISBLANK(BN$20),"",BN$32) | BO33: =IF(ISBLANK(BO$20),"",BO$32) | BP33: =IF(ISBLANK(BP$20),"",BP$32) | BQ33: =IF(ISBLANK(BQ$20),"",BQ$32) | BY33: 22～26 | BZ33: 補助額 | CA33: =CA32 -> 8600 | CB33: =IF(ISBLANK(CB$20),"",CB$32) | CC33: =IF(ISBLANK(CC$20),"",CC$32) | CD33: =IF(ISBLANK(CD$20),"",CD$32) | CE33: =IF(ISBLANK(CE$20),"",CE$32) | CF33: =IF(ISBLANK(CF$20),"",CF$32) | CN33: 22～26 | CO33: 補助額 | CP33: =CP32 -> 8600 | CQ33: =IF(ISBLANK(CQ$20),"",CQ$32) | CR33: =IF(ISBLANK(CR$20),"",CR$32) | CS33: =IF(ISBLANK(CS$20),"",CS$32) | CT33: =IF(ISBLANK(CT$20),"",CT$32) | CU33: =IF(ISBLANK(CU$20),"",CU$32) | DC33: 22～26 | DD33: 補助額 | DE33: =DE32 -> 8600 | DF33: =IF(ISBLANK(DF$20),"",DF$32) | DG33: =IF(ISBLANK(DG$20),"",DG$32) | DH33: =IF(ISBLANK(DH$20),"",DH$32) | DI33: =IF(ISBLANK(DI$20),"",DI$32) | DJ33: =IF(ISBLANK(DJ$20),"",DJ$32) | DR33: 22～26 | DS33: 補助額 | DT33: =DT32 -> 8600 | DU33: =IF(ISBLANK(DU$20),"",DU$32) | DV33: =IF(ISBLANK(DV$20),"",DV$32) | DW33: =IF(ISBLANK(DW$20),"",DW$32) | DX33: =IF(ISBLANK(DX$20),"",DX$32) | DY33: =IF(ISBLANK(DY$20),"",DY$32) | EG33: 22～26 | EH33: 補助額 | EI33: =EI32 -> 8600 | EJ33: =IF(ISBLANK(EJ$20),"",EJ$32) | EK33: =IF(ISBLANK(EK$20),"",EK$32) | EL33: =IF(ISBLANK(EL$20),"",EL$32) | EM33: =IF(ISBLANK(EM$20),"",EM$32) | EN33: =IF(ISBLANK(EN$20),"",EN$32) | EV33: 22～26 | EW33: 補助額 | EX33: =EX32 -> 8600 | EY33: =IF(ISBLANK(EY$20),"",EY$32) | EZ33: =IF(ISBLANK(EZ$20),"",EZ$32) | FA33: =IF(ISBLANK(FA$20),"",FA$32) | FB33: =IF(ISBLANK(FB$20),"",FB$32) | FC33: =IF(ISBLANK(FC$20),"",FC$32) | FK33: 22～26 | FL33: 補助額 | FM33: =FM32 -> 8600 | FN33: =IF(ISBLANK(FN$20),"",FN$32) | FO33: =IF(ISBLANK(FO$20),"",FO$32) | FP33: =IF(ISBLANK(FP$20),"",FP$32) | FQ33: =IF(ISBLANK(FQ$20),"",FQ$32) | FR33: =IF(ISBLANK(FR$20),"",FR$32) | FZ33: 22～26 | GA33: 補助額 | GB33: =GB32 -> 8600 | GC33: =IF(ISBLANK(GC$20),"",GC$32) | GD33: =IF(ISBLANK(GD$20),"",GD$32) | GE33: =IF(ISBLANK(GE$20),"",GE$32) | GF33: =IF(ISBLANK(GF$20),"",GF$32) | GG33: =IF(ISBLANK(GG$20),"",GG$32) | GO33: 22～26 | GP33: 補助額 | GQ33: =GQ32 -> 8600 | GR33: =IF(ISBLANK(GR$20),"",GR$32) | GS33: =IF(ISBLANK(GS$20),"",GS$32) | GT33: =IF(ISBLANK(GT$20),"",GT$32) | GU33: =IF(ISBLANK(GU$20),"",GU$32) | GV33: =IF(ISBLANK(GV$20),"",GV$32) | HD33: 22～26 | HE33: 補助額 | HF33: =HF32 -> 8600 | HG33: =IF(ISBLANK(HG$20),"",HG$32) | HH33: =IF(ISBLANK(HH$20),"",HH$32) | HI33: =IF(ISBLANK(HI$20),"",HI$32) | HJ33: =IF(ISBLANK(HJ$20),"",HJ$32) | HK33: =IF(ISBLANK(HK$20),"",HK$32)
C34: 計 | D34: =MIN(D33:I33) -> 8600 | R34: 計 | S34: =MIN(S33:X33) -> 8600 | AG34: 計 | AH34: =MIN(AH33:AM33) -> 8600 | AV34: 計 | AW34: =MIN(AW33:BB33) -> 8600 | BK34: 計 | BL34: =MIN(BL33:BQ33) -> 8600 | BZ34: 計 | CA34: =MIN(CA33:CF33) -> 8600 | CO34: 計 | CP34: =MIN(CP33:CU33) -> 8600 | DD34: 計 | DE34: =MIN(DE33:DJ33) -> 8600 | DS34: 計 | DT34: =MIN(DT33:DY33) -> 8600 | EH34: 計 | EI34: =MIN(EI33:EN33) -> 8600 | EW34: 計 | EX34: =MIN(EX33:FC33) -> 8600 | FL34: 計 | FM34: =MIN(FM33:FR33) -> 8600 | GA34: 計 | GB34: =MIN(GB33:GG33) -> 8600 | GP34: 計 | GQ34: =MIN(GQ33:GV33) -> 8600 | HE34: 計 | HF34: =MIN(HF33:HK33) -> 8600
C36: 1 | D36: =D$25 -> 0 | E36: ①令和５年４月から９月の各月１日時点における定員数に補助基準額（4,130円）を乗じて得た額の合計を基準額（Ａ）とする。 | F36: 令和５年度 各月１日時点の定員数（名） | H36: 定員数 | I36: 食材費 | R36: 1 | S36: =S$25 -> 0 | T36: ①令和５年４月から９月の各月１日時点における定員数に補助基準額（4,130円）を乗じて得た額の合計を基準額（Ａ）とする。 | U36: 令和５年度 各月１日時点の定員数（名） | W36: 定員数 | X36: 食材費 | AG36: 1 | AH36: =AH$25 -> 0 | AI36: ①令和５年４月から９月の各月１日時点における定員数に補助基準額（4,130円）を乗じて得た額の合計を基準額（Ａ）とする。 | AJ36: 令和５年度 各月１日時点の定員数（名） | AL36: 定員数 | AM36: 食材費 | AV36: 1 | AW36: =AW$25 -> 0 | AX36: ①令和５年４月から９月の各月１日時点における定員数に補助基準額（4,130円）を乗じて得た額の合計を基準額（Ａ）とする。 | AY36: 令和５年度 各月１日時点の定員数（名） | BA36: 定員数 | BB36: 食材費 | BK36: 1 | BL36: =BL$25 -> 0 | BM36: ①令和５年４月から９月の各月１日時点における定員数に補助基準額（4,130円）を乗じて得た額の合計を基準額（Ａ）とする。 | BN36: 令和５年度 各月１日時点の定員数（名） | BP36: 定員数 | BQ36: 食材費 | BZ36: 1 | CA36: =CA$25 -> 0 | CB36: ①令和５年４月から９月の各月１日時点における定員数に補助基準額（4,130円）を乗じて得た額の合計を基準額（Ａ）とする。 | CC36: 令和５年度 各月１日時点の定員数（名） | CE36: 定員数 | CF36: 食材費 | CO36: 1 | CP36: =CP$25 -> 0 | CQ36: ①令和５年４月から９月の各月１日時点における定員数に補助基準額（4,130円）を乗じて得た額の合計を基準額（Ａ）とする。 | CR36: 令和５年度 各月１日時点の定員数（名） | CT36: 定員数 | CU36: 食材費 | DD36: 1 | DE36: =DE$25 -> 0 | DF36: ①令和５年４月から９月の各月１日時点における定員数に補助基準額（4,130円）を乗じて得た額の合計を基準額（Ａ）とする。 | DG36: 令和５年度 各月１日時点の定員数（名） | DI36: 定員数 | DJ36: 食材費 | DS36: 1 | DT36: =DT$25 -> 0 | DU36: ①令和５年４月から９月の各月１日時点における定員数に補助基準額（4,130円）を乗じて得た額の合計を基準額（Ａ）とする。 | DV36: 令和５年度 各月１日時点の定員数（名） | DX36: 定員数 | DY36: 食材費 | EH36: 1 | EI36: =EI$25 -> 0 | EJ36: ①令和５年４月から９月の各月１日時点における定員数に補助基準額（4,130円）を乗じて得た額の合計を基準額（Ａ）とする。 | EK36: 令和５年度 各月１日時点の定員数（名） | EM36: 定員数 | EN36: 食材費 | EW36: 1 | EX36: =EX$25 -> 0 | EY36: ①令和５年４月から９月の各月１日時点における定員数に補助基準額（4,130円）を乗じて得た額の合計を基準額（Ａ）とする。 | EZ36: 令和５年度 各月１日時点の定員数（名） | FB36: 定員数 | FC36: 食材費 | FL36: 1 | FM36: =FM$25 -> 0 | FN36: ①令和５年４月から９月の各月１日時点における定員数に補助基準額（4,130円）を乗じて得た額の合計を基準額（Ａ）とする。 | FO36: 令和５年度 各月１日時点の定員数（名） | FQ36: 定員数 | FR36: 食材費 | GA36: 1 | GB36: =GB$25 -> 0 | GC36: ①令和５年４月から９月の各月１日時点における定員数に補助基準額（4,130円）を乗じて得た額の合計を基準額（Ａ）とする。 | GD36: 令和５年度 各月１日時点の定員数（名） | GF36: 定員数 | GG36: 食材費 | GP36: 1 | GQ36: =GQ$25 -> 0 | GR36: ①令和５年４月から９月の各月１日時点における定員数に補助基準額（4,130円）を乗じて得た額の合計を基準額（Ａ）とする。 | GS36: 令和５年度 各月１日時点の定員数（名） | GU36: 定員数 | GV36: 食材費 | HE36: 1 | HF36: =HF$25 -> 0 | HG36: ①令和５年４月から９月の各月１日時点における定員数に補助基準額（4,130円）を乗じて得た額の合計を基準額（Ａ）とする。 | HH36: 令和５年度 各月１日時点の定員数（名） | HJ36: 定員数 | HK36: 食材費
C37: 2 | D37: =D$25 -> 0 | E37: ①令和５年４月から９月の各月１日時点における定員数に補助基準額（4,130円）を乗じて得た額の合計を基準額（Ａ）とする。 | F37: 令和５年度 各月１日時点の定員数（名） | H37: 定員数 | I37: 食材費 | R37: 2 | S37: =S$25 -> 0 | T37: ①令和５年４月から９月の各月１日時点における定員数に補助基準額（4,130円）を乗じて得た額の合計を基準額（Ａ）とする。 | U37: 令和５年度 各月１日時点の定員数（名） | W37: 定員数 | X37: 食材費 | AG37: 2 | AH37: =AH$25 -> 0 | AI37: ①令和５年４月から９月の各月１日時点における定員数に補助基準額（4,130円）を乗じて得た額の合計を基準額（Ａ）とする。 | AJ37: 令和５年度 各月１日時点の定員数（名） | AL37: 定員数 | AM37: 食材費 | AV37: 2 | AW37: =AW$25 -> 0 | AX37: ①令和５年４月から９月の各月１日時点における定員数に補助基準額（4,130円）を乗じて得た額の合計を基準額（Ａ）とする。 | AY37: 令和５年度 各月１日時点の定員数（名） | BA37: 定員数 | BB37: 食材費 | BK37: 2 | BL37: =BL$25 -> 0 | BM37: ①令和５年４月から９月の各月１日時点における定員数に補助基準額（4,130円）を乗じて得た額の合計を基準額（Ａ）とする。 | BN37: 令和５年度 各月１日時点の定員数（名） | BP37: 定員数 | BQ37: 食材費 | BZ37: 2 | CA37: =CA$25 -> 0 | CB37: ①令和５年４月から９月の各月１日時点における定員数に補助基準額（4,130円）を乗じて得た額の合計を基準額（Ａ）とする。 | CC37: 令和５年度 各月１日時点の定員数（名） | CE37: 定員数 | CF37: 食材費 | CO37: 2 | CP37: =CP$25 -> 0 | CQ37: ①令和５年４月から９月の各月１日時点における定員数に補助基準額（4,130円）を乗じて得た額の合計を基準額（Ａ）とする。 | CR37: 令和５年度 各月１日時点の定員数（名） | CT37: 定員数 | CU37: 食材費 | DD37: 2 | DE37: =DE$25 -> 0 | DF37: ①令和５年４月から９月の各月１日時点における定員数に補助基準額（4,130円）を乗じて得た額の合計を基準額（Ａ）とする。 | DG37: 令和５年度 各月１日時点の定員数（名） | DI37: 定員数 | DJ37: 食材費 | DS37: 2 | DT37: =DT$25 -> 0 | DU37: ①令和５年４月から９月の各月１日時点における定員数に補助基準額（4,130円）を乗じて得た額の合計を基準額（Ａ）とする。 | DV37: 令和５年度 各月１日時点の定員数（名） | DX37: 定員数 | DY37: 食材費 | EH37: 2 | EI37: =EI$25 -> 0 | EJ37: ①令和５年４月から９月の各月１日時点における定員数に補助基準額（4,130円）を乗じて得た額の合計を基準額（Ａ）とする。 | EK37: 令和５年度 各月１日時点の定員数（名） | EM37: 定員数 | EN37: 食材費 | EW37: 2 | EX37: =EX$25 -> 0 | EY37: ①令和５年４月から９月の各月１日時点における定員数に補助基準額（4,130円）を乗じて得た額の合計を基準額（Ａ）とする。 | EZ37: 令和５年度 各月１日時点の定員数（名） | FB37: 定員数 | FC37: 食材費 | FL37: 2 | FM37: =FM$25 -> 0 | FN37: ①令和５年４月から９月の各月１日時点における定員数に補助基準額（4,130円）を乗じて得た額の合計を基準額（Ａ）とする。 | FO37: 令和５年度 各月１日時点の定員数（名） | FQ37: 定員数 | FR37: 食材費 | GA37: 2 | GB37: =GB$25 -> 0 | GC37: ①令和５年４月から９月の各月１日時点における定員数に補助基準額（4,130円）を乗じて得た額の合計を基準額（Ａ）とする。 | GD37: 令和５年度 各月１日時点の定員数（名） | GF37: 定員数 | GG37: 食材費 | GP37: 2 | GQ37: =GQ$25 -> 0 | GR37: ①令和５年４月から９月の各月１日時点における定員数に補助基準額（4,130円）を乗じて得た額の合計を基準額（Ａ）とする。 | GS37: 令和５年度 各月１日時点の定員数（名） | GU37: 定員数 | GV37: 食材費 | HE37: 2 | HF37: =HF$25 -> 0 | HG37: ①令和５年４月から９月の各月１日時点における定員数に補助基準額（4,130円）を乗じて得た額の合計を基準額（Ａ）とする。 | HH37: 令和５年度 各月１日時点の定員数（名） | HJ37: 定員数 | HK37: 食材費
C38: 3 | D38: =D$25 -> 0 | E38: ①令和５年４月から９月の各月１日時点における定員数に補助基準額（4,130円）を乗じて得た額の合計を基準額（Ａ）とする。 | F38: 令和５年度 各月１日時点の定員数（名） | H38: 定員数 | I38: 食材費 | R38: 3 | S38: =S$25 -> 0 | T38: ①令和５年４月から９月の各月１日時点における定員数に補助基準額（4,130円）を乗じて得た額の合計を基準額（Ａ）とする。 | U38: 令和５年度 各月１日時点の定員数（名） | W38: 定員数 | X38: 食材費 | AG38: 3 | AH38: =AH$25 -> 0 | AI38: ①令和５年４月から９月の各月１日時点における定員数に補助基準額（4,130円）を乗じて得た額の合計を基準額（Ａ）とする。 | AJ38: 令和５年度 各月１日時点の定員数（名） | AL38: 定員数 | AM38: 食材費 | AV38: 3 | AW38: =AW$25 -> 0 | AX38: ①令和５年４月から９月の各月１日時点における定員数に補助基準額（4,130円）を乗じて得た額の合計を基準額（Ａ）とする。 | AY38: 令和５年度 各月１日時点の定員数（名） | BA38: 定員数 | BB38: 食材費 | BK38: 3 | BL38: =BL$25 -> 0 | BM38: ①令和５年４月から９月の各月１日時点における定員数に補助基準額（4,130円）を乗じて得た額の合計を基準額（Ａ）とする。 | BN38: 令和５年度 各月１日時点の定員数（名） | BP38: 定員数 | BQ38: 食材費 | BZ38: 3 | CA38: =CA$25 -> 0 | CB38: ①令和５年４月から９月の各月１日時点における定員数に補助基準額（4,130円）を乗じて得た額の合計を基準額（Ａ）とする。 | CC38: 令和５年度 各月１日時点の定員数（名） | CE38: 定員数 | CF38: 食材費 | CO38: 3 | CP38: =CP$25 -> 0 | CQ38: ①令和５年４月から９月の各月１日時点における定員数に補助基準額（4,130円）を乗じて得た額の合計を基準額（Ａ）とする。 | CR38: 令和５年度 各月１日時点の定員数（名） | CT38: 定員数 | CU38: 食材費 | DD38: 3 | DE38: =DE$25 -> 0 | DF38: ①令和５年４月から９月の各月１日時点における定員数に補助基準額（4,130円）を乗じて得た額の合計を基準額（Ａ）とする。 | DG38: 令和５年度 各月１日時点の定員数（名） | DI38: 定員数 | DJ38: 食材費 | DS38: 3 | DT38: =DT$25 -> 0 | DU38: ①令和５年４月から９月の各月１日時点における定員数に補助基準額（4,130円）を乗じて得た額の合計を基準額（Ａ）とする。 | DV38: 令和５年度 各月１日時点の定員数（名） | DX38: 定員数 | DY38: 食材費 | EH38: 3 | EI38: =EI$25 -> 0 | EJ38: ①令和５年４月から９月の各月１日時点における定員数に補助基準額（4,130円）を乗じて得た額の合計を基準額（Ａ）とする。 | EK38: 令和５年度 各月１日時点の定員数（名） | EM38: 定員数 | EN38: 食材費 | EW38: 3 | EX38: =EX$25 -> 0 | EY38: ①令和５年４月から９月の各月１日時点における定員数に補助基準額（4,130円）を乗じて得た額の合計を基準額（Ａ）とする。 | EZ38: 令和５年度 各月１日時点の定員数（名） | FB38: 定員数 | FC38: 食材費 | FL38: 3 | FM38: =FM$25 -> 0 | FN38: ①令和５年４月から９月の各月１日時点における定員数に補助基準額（4,130円）を乗じて得た額の合計を基準額（Ａ）とする。 | FO38: 令和５年度 各月１日時点の定員数（名） | FQ38: 定員数 | FR38: 食材費 | GA38: 3 | GB38: =GB$25 -> 0 | GC38: ①令和５年４月から９月の各月１日時点における定員数に補助基準額（4,130円）を乗じて得た額の合計を基準額（Ａ）とする。 | GD38: 令和５年度 各月１日時点の定員数（名） | GF38: 定員数 | GG38: 食材費 | GP38: 3 | GQ38: =GQ$25 -> 0 | GR38: ①令和５年４月から９月の各月１日時点における定員数に補助基準額（4,130円）を乗じて得た額の合計を基準額（Ａ）とする。 | GS38: 令和５年度 各月１日時点の定員数（名） | GU38: 定員数 | GV38: 食材費 | HE38: 3 | HF38: =HF$25 -> 0 | HG38: ①令和５年４月から９月の各月１日時点における定員数に補助基準額（4,130円）を乗じて得た額の合計を基準額（Ａ）とする。 | HH38: 令和５年度 各月１日時点の定員数（名） | HJ38: 定員数 | HK38: 食材費
C39: 4 | D39: =D$25 -> 0 | E39: ①令和５年４月から９月の各月１日時点における定員数に補助基準額（4,130円）を乗じて得た額の合計を基準額（Ａ）とする。 | F39: 令和５年度 各月１日時点の定員数（名） | H39: 定員数 | I39: 食材費 | R39: 4 | S39: =S$25 -> 0 | T39: ①令和５年４月から９月の各月１日時点における定員数に補助基準額（4,130円）を乗じて得た額の合計を基準額（Ａ）とする。 | U39: 令和５年度 各月１日時点の定員数（名） | W39: 定員数 | X39: 食材費 | AG39: 4 | AH39: =AH$25 -> 0 | AI39: ①令和５年４月から９月の各月１日時点における定員数に補助基準額（4,130円）を乗じて得た額の合計を基準額（Ａ）とする。 | AJ39: 令和５年度 各月１日時点の定員数（名） | AL39: 定員数 | AM39: 食材費 | AV39: 4 | AW39: =AW$25 -> 0 | AX39: ①令和５年４月から９月の各月１日時点における定員数に補助基準額（4,130円）を乗じて得た額の合計を基準額（Ａ）とする。 | AY39: 令和５年度 各月１日時点の定員数（名） | BA39: 定員数 | BB39: 食材費 | BK39: 4 | BL39: =BL$25 -> 0 | BM39: ①令和５年４月から９月の各月１日時点における定員数に補助基準額（4,130円）を乗じて得た額の合計を基準額（Ａ）とする。 | BN39: 令和５年度 各月１日時点の定員数（名） | BP39: 定員数 | BQ39: 食材費 | BZ39: 4 | CA39: =CA$25 -> 0 | CB39: ①令和５年４月から９月の各月１日時点における定員数に補助基準額（4,130円）を乗じて得た額の合計を基準額（Ａ）とする。 | CC39: 令和５年度 各月１日時点の定員数（名） | CE39: 定員数 | CF39: 食材費 | CO39: 4 | CP39: =CP$25 -> 0 | CQ39: ①令和５年４月から９月の各月１日時点における定員数に補助基準額（4,130円）を乗じて得た額の合計を基準額（Ａ）とする。 | CR39: 令和５年度 各月１日時点の定員数（名） | CT39: 定員数 | CU39: 食材費 | DD39: 4 | DE39: =DE$25 -> 0 | DF39: ①令和５年４月から９月の各月１日時点における定員数に補助基準額（4,130円）を乗じて得た額の合計を基準額（Ａ）とする。 | DG39: 令和５年度 各月１日時点の定員数（名） | DI39: 定員数 | DJ39: 食材費 | DS39: 4 | DT39: =DT$25 -> 0 | DU39: ①令和５年４月から９月の各月１日時点における定員数に補助基準額（4,130円）を乗じて得た額の合計を基準額（Ａ）とする。 | DV39: 令和５年度 各月１日時点の定員数（名） | DX39: 定員数 | DY39: 食材費 | EH39: 4 | EI39: =EI$25 -> 0 | EJ39: ①令和５年４月から９月の各月１日時点における定員数に補助基準額（4,130円）を乗じて得た額の合計を基準額（Ａ）とする。 | EK39: 令和５年度 各月１日時点の定員数（名） | EM39: 定員数 | EN39: 食材費 | EW39: 4 | EX39: =EX$25 -> 0 | EY39: ①令和５年４月から９月の各月１日時点における定員数に補助基準額（4,130円）を乗じて得た額の合計を基準額（Ａ）とする。 | EZ39: 令和５年度 各月１日時点の定員数（名） | FB39: 定員数 | FC39: 食材費 | FL39: 4 | FM39: =FM$25 -> 0 | FN39: ①令和５年４月から９月の各月１日時点における定員数に補助基準額（4,130円）を乗じて得た額の合計を基準額（Ａ）とする。 | FO39: 令和５年度 各月１日時点の定員数（名） | FQ39: 定員数 | FR39: 食材費 | GA39: 4 | GB39: =GB$25 -> 0 | GC39: ①令和５年４月から９月の各月１日時点における定員数に補助基準額（4,130円）を乗じて得た額の合計を基準額（Ａ）とする。 | GD39: 令和５年度 各月１日時点の定員数（名） | GF39: 定員数 | GG39: 食材費 | GP39: 4 | GQ39: =GQ$25 -> 0 | GR39: ①令和５年４月から９月の各月１日時点における定員数に補助基準額（4,130円）を乗じて得た額の合計を基準額（Ａ）とする。 | GS39: 令和５年度 各月１日時点の定員数（名） | GU39: 定員数 | GV39: 食材費 | HE39: 4 | HF39: =HF$25 -> 0 | HG39: ①令和５年４月から９月の各月１日時点における定員数に補助基準額（4,130円）を乗じて得た額の合計を基準額（Ａ）とする。 | HH39: 令和５年度 各月１日時点の定員数（名） | HJ39: 定員数 | HK39: 食材費
C40: 5 | D40: =D$25 -> 0 | E40: ①令和５年４月から９月の各月１日時点における定員数に補助基準額（4,130円）を乗じて得た額の合計を基準額（Ａ）とする。 | F40: 令和５年度 各月１日時点の定員数（名） | H40: 定員数 | I40: 食材費 | R40: 5 | S40: =S$25 -> 0 | T40: ①令和５年４月から９月の各月１日時点における定員数に補助基準額（4,130円）を乗じて得た額の合計を基準額（Ａ）とする。 | U40: 令和５年度 各月１日時点の定員数（名） | W40: 定員数 | X40: 食材費 | AG40: 5 | AH40: =AH$25 -> 0 | AI40: ①令和５年４月から９月の各月１日時点における定員数に補助基準額（4,130円）を乗じて得た額の合計を基準額（Ａ）とする。 | AJ40: 令和５年度 各月１日時点の定員数（名） | AL40: 定員数 | AM40: 食材費 | AV40: 5 | AW40: =AW$25 -> 0 | AX40: ①令和５年４月から９月の各月１日時点における定員数に補助基準額（4,130円）を乗じて得た額の合計を基準額（Ａ）とする。 | AY40: 令和５年度 各月１日時点の定員数（名） | BA40: 定員数 | BB40: 食材費 | BK40: 5 | BL40: =BL$25 -> 0 | BM40: ①令和５年４月から９月の各月１日時点における定員数に補助基準額（4,130円）を乗じて得た額の合計を基準額（Ａ）とする。 | BN40: 令和５年度 各月１日時点の定員数（名） | BP40: 定員数 | BQ40: 食材費 | BZ40: 5 | CA40: =CA$25 -> 0 | CB40: ①令和５年４月から９月の各月１日時点における定員数に補助基準額（4,130円）を乗じて得た額の合計を基準額（Ａ）とする。 | CC40: 令和５年度 各月１日時点の定員数（名） | CE40: 定員数 | CF40: 食材費 | CO40: 5 | CP40: =CP$25 -> 0 | CQ40: ①令和５年４月から９月の各月１日時点における定員数に補助基準額（4,130円）を乗じて得た額の合計を基準額（Ａ）とする。 | CR40: 令和５年度 各月１日時点の定員数（名） | CT40: 定員数 | CU40: 食材費 | DD40: 5 | DE40: =DE$25 -> 0 | DF40: ①令和５年４月から９月の各月１日時点における定員数に補助基準額（4,130円）を乗じて得た額の合計を基準額（Ａ）とする。 | DG40: 令和５年度 各月１日時点の定員数（名） | DI40: 定員数 | DJ40: 食材費 | DS40: 5 | DT40: =DT$25 -> 0 | DU40: ①令和５年４月から９月の各月１日時点における定員数に補助基準額（4,130円）を乗じて得た額の合計を基準額（Ａ）とする。 | DV40: 令和５年度 各月１日時点の定員数（名） | DX40: 定員数 | DY40: 食材費 | EH40: 5 | EI40: =EI$25 -> 0 | EJ40: ①令和５年４月から９月の各月１日時点における定員数に補助基準額（4,130円）を乗じて得た額の合計を基準額（Ａ）とする。 | EK40: 令和５年度 各月１日時点の定員数（名） | EM40: 定員数 | EN40: 食材費 | EW40: 5 | EX40: =EX$25 -> 0 | EY40: ①令和５年４月から９月の各月１日時点における定員数に補助基準額（4,130円）を乗じて得た額の合計を基準額（Ａ）とする。 | EZ40: 令和５年度 各月１日時点の定員数（名） | FB40: 定員数 | FC40: 食材費 | FL40: 5 | FM40: =FM$25 -> 0 | FN40: ①令和５年４月から９月の各月１日時点における定員数に補助基準額（4,130円）を乗じて得た額の合計を基準額（Ａ）とする。 | FO40: 令和５年度 各月１日時点の定員数（名） | FQ40: 定員数 | FR40: 食材費 | GA40: 5 | GB40: =GB$25 -> 0 | GC40: ①令和５年４月から９月の各月１日時点における定員数に補助基準額（4,130円）を乗じて得た額の合計を基準額（Ａ）とする。 | GD40: 令和５年度 各月１日時点の定員数（名） | GF40: 定員数 | GG40: 食材費 | GP40: 5 | GQ40: =GQ$25 -> 0 | GR40: ①令和５年４月から９月の各月１日時点における定員数に補助基準額（4,130円）を乗じて得た額の合計を基準額（Ａ）とする。 | GS40: 令和５年度 各月１日時点の定員数（名） | GU40: 定員数 | GV40: 食材費 | HE40: 5 | HF40: =HF$25 -> 0 | HG40: ①令和５年４月から９月の各月１日時点における定員数に補助基準額（4,130円）を乗じて得た額の合計を基準額（Ａ）とする。 | HH40: 令和５年度 各月１日時点の定員数（名） | HJ40: 定員数 | HK40: 食材費
C41: 6 | D41: =D$25 -> 0 | E41: ①令和５年４月から９月の各月１日時点における定員数に補助基準額（4,130円）を乗じて得た額の合計を基準額（Ａ）とする。 | F41: 令和５年度 各月１日時点の定員数（名） | H41: 定員数 | I41: 食材費 | R41: 6 | S41: =S$25 -> 0 | T41: ①令和５年４月から９月の各月１日時点における定員数に補助基準額（4,130円）を乗じて得た額の合計を基準額（Ａ）とする。 | U41: 令和５年度 各月１日時点の定員数（名） | W41: 定員数 | X41: 食材費 | AG41: 6 | AH41: =AH$25 -> 0 | AI41: ①令和５年４月から９月の各月１日時点における定員数に補助基準額（4,130円）を乗じて得た額の合計を基準額（Ａ）とする。 | AJ41: 令和５年度 各月１日時点の定員数（名） | AL41: 定員数 | AM41: 食材費 | AV41: 6 | AW41: =AW$25 -> 0 | AX41: ①令和５年４月から９月の各月１日時点における定員数に補助基準額（4,130円）を乗じて得た額の合計を基準額（Ａ）とする。 | AY41: 令和５年度 各月１日時点の定員数（名） | BA41: 定員数 | BB41: 食材費 | BK41: 6 | BL41: =BL$25 -> 0 | BM41: ①令和５年４月から９月の各月１日時点における定員数に補助基準額（4,130円）を乗じて得た額の合計を基準額（Ａ）とする。 | BN41: 令和５年度 各月１日時点の定員数（名） | BP41: 定員数 | BQ41: 食材費 | BZ41: 6 | CA41: =CA$25 -> 0 | CB41: ①令和５年４月から９月の各月１日時点における定員数に補助基準額（4,130円）を乗じて得た額の合計を基準額（Ａ）とする。 | CC41: 令和５年度 各月１日時点の定員数（名） | CE41: 定員数 | CF41: 食材費 | CO41: 6 | CP41: =CP$25 -> 0 | CQ41: ①令和５年４月から９月の各月１日時点における定員数に補助基準額（4,130円）を乗じて得た額の合計を基準額（Ａ）とする。 | CR41: 令和５年度 各月１日時点の定員数（名） | CT41: 定員数 | CU41: 食材費 | DD41: 6 | DE41: =DE$25 -> 0 | DF41: ①令和５年４月から９月の各月１日時点における定員数に補助基準額（4,130円）を乗じて得た額の合計を基準額（Ａ）とする。 | DG41: 令和５年度 各月１日時点の定員数（名） | DI41: 定員数 | DJ41: 食材費 | DS41: 6 | DT41: =DT$25 -> 0 | DU41: ①令和５年４月から９月の各月１日時点における定員数に補助基準額（4,130円）を乗じて得た額の合計を基準額（Ａ）とする。 | DV41: 令和５年度 各月１日時点の定員数（名） | DX41: 定員数 | DY41: 食材費 | EH41: 6 | EI41: =EI$25 -> 0 | EJ41: ①令和５年４月から９月の各月１日時点における定員数に補助基準額（4,130円）を乗じて得た額の合計を基準額（Ａ）とする。 | EK41: 令和５年度 各月１日時点の定員数（名） | EM41: 定員数 | EN41: 食材費 | EW41: 6 | EX41: =EX$25 -> 0 | EY41: ①令和５年４月から９月の各月１日時点における定員数に補助基準額（4,130円）を乗じて得た額の合計を基準額（Ａ）とする。 | EZ41: 令和５年度 各月１日時点の定員数（名） | FB41: 定員数 | FC41: 食材費 | FL41: 6 | FM41: =FM$25 -> 0 | FN41: ①令和５年４月から９月の各月１日時点における定員数に補助基準額（4,130円）を乗じて得た額の合計を基準額（Ａ）とする。 | FO41: 令和５年度 各月１日時点の定員数（名） | FQ41: 定員数 | FR41: 食材費 | GA41: 6 | GB41: =GB$25 -> 0 | GC41: ①令和５年４月から９月の各月１日時点における定員数に補助基準額（4,130円）を乗じて得た額の合計を基準額（Ａ）とする。 | GD41: 令和５年度 各月１日時点の定員数（名） | GF41: 定員数 | GG41: 食材費 | GP41: 6 | GQ41: =GQ$25 -> 0 | GR41: ①令和５年４月から９月の各月１日時点における定員数に補助基準額（4,130円）を乗じて得た額の合計を基準額（Ａ）とする。 | GS41: 令和５年度 各月１日時点の定員数（名） | GU41: 定員数 | GV41: 食材費 | HE41: 6 | HF41: =HF$25 -> 0 | HG41: ①令和５年４月から９月の各月１日時点における定員数に補助基準額（4,130円）を乗じて得た額の合計を基準額（Ａ）とする。 | HH41: 令和５年度 各月１日時点の定員数（名） | HJ41: 定員数 | HK41: 食材費
C42: 7 | D42: =D$28 -> 0 | E42: ①令和５年４月から９月の各月１日時点における定員数に補助基準額（709円）を乗じて得た額の合計を基準額（Ａ）とする。 | F42: 令和５年度 各月１日時点の定員数（名） | H42: 定員数 | I42: 燃料費 | R42: 7 | S42: =S$28 -> 0 | T42: ①令和５年４月から９月の各月１日時点における定員数に補助基準額（709円）を乗じて得た額の合計を基準額（Ａ）とする。 | U42: 令和５年度 各月１日時点の定員数（名） | W42: 定員数 | X42: 燃料費 | AG42: 7 | AH42: =AH$28 -> 0 | AI42: ①令和５年４月から９月の各月１日時点における定員数に補助基準額（709円）を乗じて得た額の合計を基準額（Ａ）とする。 | AJ42: 令和５年度 各月１日時点の定員数（名） | AL42: 定員数 | AM42: 燃料費 | AV42: 7 | AW42: =AW$28 -> 0 | AX42: ①令和５年４月から９月の各月１日時点における定員数に補助基準額（709円）を乗じて得た額の合計を基準額（Ａ）とする。 | AY42: 令和５年度 各月１日時点の定員数（名） | BA42: 定員数 | BB42: 燃料費 | BK42: 7 | BL42: =BL$28 -> 0 | BM42: ①令和５年４月から９月の各月１日時点における定員数に補助基準額（709円）を乗じて得た額の合計を基準額（Ａ）とする。 | BN42: 令和５年度 各月１日時点の定員数（名） | BP42: 定員数 | BQ42: 燃料費 | BZ42: 7 | CA42: =CA$28 -> 0 | CB42: ①令和５年４月から９月の各月１日時点における定員数に補助基準額（709円）を乗じて得た額の合計を基準額（Ａ）とする。 | CC42: 令和５年度 各月１日時点の定員数（名） | CE42: 定員数 | CF42: 燃料費 | CO42: 7 | CP42: =CP$28 -> 0 | CQ42: ①令和５年４月から９月の各月１日時点における定員数に補助基準額（709円）を乗じて得た額の合計を基準額（Ａ）とする。 | CR42: 令和５年度 各月１日時点の定員数（名） | CT42: 定員数 | CU42: 燃料費 | DD42: 7 | DE42: =DE$28 -> 0 | DF42: ①令和５年４月から９月の各月１日時点における定員数に補助基準額（709円）を乗じて得た額の合計を基準額（Ａ）とする。 | DG42: 令和５年度 各月１日時点の定員数（名） | DI42: 定員数 | DJ42: 燃料費 | DS42: 7 | DT42: =DT$28 -> 0 | DU42: ①令和５年４月から９月の各月１日時点における定員数に補助基準額（709円）を乗じて得た額の合計を基準額（Ａ）とする。 | DV42: 令和５年度 各月１日時点の定員数（名） | DX42: 定員数 | DY42: 燃料費 | EH42: 7 | EI42: =EI$28 -> 0 | EJ42: ①令和５年４月から９月の各月１日時点における定員数に補助基準額（709円）を乗じて得た額の合計を基準額（Ａ）とする。 | EK42: 令和５年度 各月１日時点の定員数（名） | EM42: 定員数 | EN42: 燃料費 | EW42: 7 | EX42: =EX$28 -> 0 | EY42: ①令和５年４月から９月の各月１日時点における定員数に補助基準額（709円）を乗じて得た額の合計を基準額（Ａ）とする。 | EZ42: 令和５年度 各月１日時点の定員数（名） | FB42: 定員数 | FC42: 燃料費 | FL42: 7 | FM42: =FM$28 -> 0 | FN42: ①令和５年４月から９月の各月１日時点における定員数に補助基準額（709円）を乗じて得た額の合計を基準額（Ａ）とする。 | FO42: 令和５年度 各月１日時点の定員数（名） | FQ42: 定員数 | FR42: 燃料費 | GA42: 7 | GB42: =GB$28 -> 0 | GC42: ①令和５年４月から９月の各月１日時点における定員数に補助基準額（709円）を乗じて得た額の合計を基準額（Ａ）とする。 | GD42: 令和５年度 各月１日時点の定員数（名） | GF42: 定員数 | GG42: 燃料費 | GP42: 7 | GQ42: =GQ$28 -> 0 | GR42: ①令和５年４月から９月の各月１日時点における定員数に補助基準額（709円）を乗じて得た額の合計を基準額（Ａ）とする。 | GS42: 令和５年度 各月１日時点の定員数（名） | GU42: 定員数 | GV42: 燃料費 | HE42: 7 | HF42: =HF$28 -> 0 | HG42: ①令和５年４月から９月の各月１日時点における定員数に補助基準額（709円）を乗じて得た額の合計を基準額（Ａ）とする。 | HH42: 令和５年度 各月１日時点の定員数（名） | HJ42: 定員数 | HK42: 燃料費
C43: 8 | D43: =D$28 -> 0 | E43: ①令和５年４月から９月の各月１日時点における定員数に補助基準額（709円）を乗じて得た額の合計を基準額（Ａ）とする。 | F43: 令和５年度 各月１日時点の定員数（名） | H43: 定員数 | I43: 燃料費 | R43: 8 | S43: =S$28 -> 0 | T43: ①令和５年４月から９月の各月１日時点における定員数に補助基準額（709円）を乗じて得た額の合計を基準額（Ａ）とする。 | U43: 令和５年度 各月１日時点の定員数（名） | W43: 定員数 | X43: 燃料費 | AG43: 8 | AH43: =AH$28 -> 0 | AI43: ①令和５年４月から９月の各月１日時点における定員数に補助基準額（709円）を乗じて得た額の合計を基準額（Ａ）とする。 | AJ43: 令和５年度 各月１日時点の定員数（名） | AL43: 定員数 | AM43: 燃料費 | AV43: 8 | AW43: =AW$28 -> 0 | AX43: ①令和５年４月から９月の各月１日時点における定員数に補助基準額（709円）を乗じて得た額の合計を基準額（Ａ）とする。 | AY43: 令和５年度 各月１日時点の定員数（名） | BA43: 定員数 | BB43: 燃料費 | BK43: 8 | BL43: =BL$28 -> 0 | BM43: ①令和５年４月から９月の各月１日時点における定員数に補助基準額（709円）を乗じて得た額の合計を基準額（Ａ）とする。 | BN43: 令和５年度 各月１日時点の定員数（名） | BP43: 定員数 | BQ43: 燃料費 | BZ43: 8 | CA43: =CA$28 -> 0 | CB43: ①令和５年４月から９月の各月１日時点における定員数に補助基準額（709円）を乗じて得た額の合計を基準額（Ａ）とする。 | CC43: 令和５年度 各月１日時点の定員数（名） | CE43: 定員数 | CF43: 燃料費 | CO43: 8 | CP43: =CP$28 -> 0 | CQ43: ①令和５年４月から９月の各月１日時点における定員数に補助基準額（709円）を乗じて得た額の合計を基準額（Ａ）とする。 | CR43: 令和５年度 各月１日時点の定員数（名） | CT43: 定員数 | CU43: 燃料費 | DD43: 8 | DE43: =DE$28 -> 0 | DF43: ①令和５年４月から９月の各月１日時点における定員数に補助基準額（709円）を乗じて得た額の合計を基準額（Ａ）とする。 | DG43: 令和５年度 各月１日時点の定員数（名） | DI43: 定員数 | DJ43: 燃料費 | DS43: 8 | DT43: =DT$28 -> 0 | DU43: ①令和５年４月から９月の各月１日時点における定員数に補助基準額（709円）を乗じて得た額の合計を基準額（Ａ）とする。 | DV43: 令和５年度 各月１日時点の定員数（名） | DX43: 定員数 | DY43: 燃料費 | EH43: 8 | EI43: =EI$28 -> 0 | EJ43: ①令和５年４月から９月の各月１日時点における定員数に補助基準額（709円）を乗じて得た額の合計を基準額（Ａ）とする。 | EK43: 令和５年度 各月１日時点の定員数（名） | EM43: 定員数 | EN43: 燃料費 | EW43: 8 | EX43: =EX$28 -> 0 | EY43: ①令和５年４月から９月の各月１日時点における定員数に補助基準額（709円）を乗じて得た額の合計を基準額（Ａ）とする。 | EZ43: 令和５年度 各月１日時点の定員数（名） | FB43: 定員数 | FC43: 燃料費 | FL43: 8 | FM43: =FM$28 -> 0 | FN43: ①令和５年４月から９月の各月１日時点における定員数に補助基準額（709円）を乗じて得た額の合計を基準額（Ａ）とする。 | FO43: 令和５年度 各月１日時点の定員数（名） | FQ43: 定員数 | FR43: 燃料費 | GA43: 8 | GB43: =GB$28 -> 0 | GC43: ①令和５年４月から９月の各月１日時点における定員数に補助基準額（709円）を乗じて得た額の合計を基準額（Ａ）とする。 | GD43: 令和５年度 各月１日時点の定員数（名） | GF43: 定員数 | GG43: 燃料費 | GP43: 8 | GQ43: =GQ$28 -> 0 | GR43: ①令和５年４月から９月の各月１日時点における定員数に補助基準額（709円）を乗じて得た額の合計を基準額（Ａ）とする。 | GS43: 令和５年度 各月１日時点の定員数（名） | GU43: 定員数 | GV43: 燃料費 | HE43: 8 | HF43: =HF$28 -> 0 | HG43: ①令和５年４月から９月の各月１日時点における定員数に補助基準額（709円）を乗じて得た額の合計を基準額（Ａ）とする。 | HH43: 令和５年度 各月１日時点の定員数（名） | HJ43: 定員数 | HK43: 燃料費
C44: 9 | D44: =D$28 -> 0 | E44: ①令和５年４月から９月の各月１日時点における定員数に補助基準額（709円）を乗じて得た額の合計を基準額（Ａ）とする。 | F44: 令和５年度 各月１日時点の定員数（名） | H44: 定員数 | I44: 燃料費 | R44: 9 | S44: =S$28 -> 0 | T44: ①令和５年４月から９月の各月１日時点における定員数に補助基準額（709円）を乗じて得た額の合計を基準額（Ａ）とする。 | U44: 令和５年度 各月１日時点の定員数（名） | W44: 定員数 | X44: 燃料費 | AG44: 9 | AH44: =AH$28 -> 0 | AI44: ①令和５年４月から９月の各月１日時点における定員数に補助基準額（709円）を乗じて得た額の合計を基準額（Ａ）とする。 | AJ44: 令和５年度 各月１日時点の定員数（名） | AL44: 定員数 | AM44: 燃料費 | AV44: 9 | AW44: =AW$28 -> 0 | AX44: ①令和５年４月から９月の各月１日時点における定員数に補助基準額（709円）を乗じて得た額の合計を基準額（Ａ）とする。 | AY44: 令和５年度 各月１日時点の定員数（名） | BA44: 定員数 | BB44: 燃料費 | BK44: 9 | BL44: =BL$28 -> 0 | BM44: ①令和５年４月から９月の各月１日時点における定員数に補助基準額（709円）を乗じて得た額の合計を基準額（Ａ）とする。 | BN44: 令和５年度 各月１日時点の定員数（名） | BP44: 定員数 | BQ44: 燃料費 | BZ44: 9 | CA44: =CA$28 -> 0 | CB44: ①令和５年４月から９月の各月１日時点における定員数に補助基準額（709円）を乗じて得た額の合計を基準額（Ａ）とする。 | CC44: 令和５年度 各月１日時点の定員数（名） | CE44: 定員数 | CF44: 燃料費 | CO44: 9 | CP44: =CP$28 -> 0 | CQ44: ①令和５年４月から９月の各月１日時点における定員数に補助基準額（709円）を乗じて得た額の合計を基準額（Ａ）とする。 | CR44: 令和５年度 各月１日時点の定員数（名） | CT44: 定員数 | CU44: 燃料費 | DD44: 9 | DE44: =DE$28 -> 0 | DF44: ①令和５年４月から９月の各月１日時点における定員数に補助基準額（709円）を乗じて得た額の合計を基準額（Ａ）とする。 | DG44: 令和５年度 各月１日時点の定員数（名） | DI44: 定員数 | DJ44: 燃料費 | DS44: 9 | DT44: =DT$28 -> 0 | DU44: ①令和５年４月から９月の各月１日時点における定員数に補助基準額（709円）を乗じて得た額の合計を基準額（Ａ）とする。 | DV44: 令和５年度 各月１日時点の定員数（名） | DX44: 定員数 | DY44: 燃料費 | EH44: 9 | EI44: =EI$28 -> 0 | EJ44: ①令和５年４月から９月の各月１日時点における定員数に補助基準額（709円）を乗じて得た額の合計を基準額（Ａ）とする。 | EK44: 令和５年度 各月１日時点の定員数（名） | EM44: 定員数 | EN44: 燃料費 | EW44: 9 | EX44: =EX$28 -> 0 | EY44: ①令和５年４月から９月の各月１日時点における定員数に補助基準額（709円）を乗じて得た額の合計を基準額（Ａ）とする。 | EZ44: 令和５年度 各月１日時点の定員数（名） | FB44: 定員数 | FC44: 燃料費 | FL44: 9 | FM44: =FM$28 -> 0 | FN44: ①令和５年４月から９月の各月１日時点における定員数に補助基準額（709円）を乗じて得た額の合計を基準額（Ａ）とする。 | FO44: 令和５年度 各月１日時点の定員数（名） | FQ44: 定員数 | FR44: 燃料費 | GA44: 9 | GB44: =GB$28 -> 0 | GC44: ①令和５年４月から９月の各月１日時点における定員数に補助基準額（709円）を乗じて得た額の合計を基準額（Ａ）とする。 | GD44: 令和５年度 各月１日時点の定員数（名） | GF44: 定員数 | GG44: 燃料費 | GP44: 9 | GQ44: =GQ$28 -> 0 | GR44: ①令和５年４月から９月の各月１日時点における定員数に補助基準額（709円）を乗じて得た額の合計を基準額（Ａ）とする。 | GS44: 令和５年度 各月１日時点の定員数（名） | GU44: 定員数 | GV44: 燃料費 | HE44: 9 | HF44: =HF$28 -> 0 | HG44: ①令和５年４月から９月の各月１日時点における定員数に補助基準額（709円）を乗じて得た額の合計を基準額（Ａ）とする。 | HH44: 令和５年度 各月１日時点の定員数（名） | HJ44: 定員数 | HK44: 燃料費
C45: 10 | D45: =D$28 -> 0 | E45: ①令和５年４月から９月の各月１日時点における定員数に補助基準額（709円）を乗じて得た額の合計を基準額（Ａ）とする。 | F45: 令和５年度 各月１日時点の定員数（名） | H45: 定員数 | I45: 燃料費 | R45: 10 | S45: =S$28 -> 0 | T45: ①令和５年４月から９月の各月１日時点における定員数に補助基準額（709円）を乗じて得た額の合計を基準額（Ａ）とする。 | U45: 令和５年度 各月１日時点の定員数（名） | W45: 定員数 | X45: 燃料費 | AG45: 10 | AH45: =AH$28 -> 0 | AI45: ①令和５年４月から９月の各月１日時点における定員数に補助基準額（709円）を乗じて得た額の合計を基準額（Ａ）とする。 | AJ45: 令和５年度 各月１日時点の定員数（名） | AL45: 定員数 | AM45: 燃料費 | AV45: 10 | AW45: =AW$28 -> 0 | AX45: ①令和５年４月から９月の各月１日時点における定員数に補助基準額（709円）を乗じて得た額の合計を基準額（Ａ）とする。 | AY45: 令和５年度 各月１日時点の定員数（名） | BA45: 定員数 | BB45: 燃料費 | BK45: 10 | BL45: =BL$28 -> 0 | BM45: ①令和５年４月から９月の各月１日時点における定員数に補助基準額（709円）を乗じて得た額の合計を基準額（Ａ）とする。 | BN45: 令和５年度 各月１日時点の定員数（名） | BP45: 定員数 | BQ45: 燃料費 | BZ45: 10 | CA45: =CA$28 -> 0 | CB45: ①令和５年４月から９月の各月１日時点における定員数に補助基準額（709円）を乗じて得た額の合計を基準額（Ａ）とする。 | CC45: 令和５年度 各月１日時点の定員数（名） | CE45: 定員数 | CF45: 燃料費 | CO45: 10 | CP45: =CP$28 -> 0 | CQ45: ①令和５年４月から９月の各月１日時点における定員数に補助基準額（709円）を乗じて得た額の合計を基準額（Ａ）とする。 | CR45: 令和５年度 各月１日時点の定員数（名） | CT45: 定員数 | CU45: 燃料費 | DD45: 10 | DE45: =DE$28 -> 0 | DF45: ①令和５年４月から９月の各月１日時点における定員数に補助基準額（709円）を乗じて得た額の合計を基準額（Ａ）とする。 | DG45: 令和５年度 各月１日時点の定員数（名） | DI45: 定員数 | DJ45: 燃料費 | DS45: 10 | DT45: =DT$28 -> 0 | DU45: ①令和５年４月から９月の各月１日時点における定員数に補助基準額（709円）を乗じて得た額の合計を基準額（Ａ）とする。 | DV45: 令和５年度 各月１日時点の定員数（名） | DX45: 定員数 | DY45: 燃料費 | EH45: 10 | EI45: =EI$28 -> 0 | EJ45: ①令和５年４月から９月の各月１日時点における定員数に補助基準額（709円）を乗じて得た額の合計を基準額（Ａ）とする。 | EK45: 令和５年度 各月１日時点の定員数（名） | EM45: 定員数 | EN45: 燃料費 | EW45: 10 | EX45: =EX$28 -> 0 | EY45: ①令和５年４月から９月の各月１日時点における定員数に補助基準額（709円）を乗じて得た額の合計を基準額（Ａ）とする。 | EZ45: 令和５年度 各月１日時点の定員数（名） | FB45: 定員数 | FC45: 燃料費 | FL45: 10 | FM45: =FM$28 -> 0 | FN45: ①令和５年４月から９月の各月１日時点における定員数に補助基準額（709円）を乗じて得た額の合計を基準額（Ａ）とする。 | FO45: 令和５年度 各月１日時点の定員数（名） | FQ45: 定員数 | FR45: 燃料費 | GA45: 10 | GB45: =GB$28 -> 0 | GC45: ①令和５年４月から９月の各月１日時点における定員数に補助基準額（709円）を乗じて得た額の合計を基準額（Ａ）とする。 | GD45: 令和５年度 各月１日時点の定員数（名） | GF45: 定員数 | GG45: 燃料費 | GP45: 10 | GQ45: =GQ$28 -> 0 | GR45: ①令和５年４月から９月の各月１日時点における定員数に補助基準額（709円）を乗じて得た額の合計を基準額（Ａ）とする。 | GS45: 令和５年度 各月１日時点の定員数（名） | GU45: 定員数 | GV45: 燃料費 | HE45: 10 | HF45: =HF$28 -> 0 | HG45: ①令和５年４月から９月の各月１日時点における定員数に補助基準額（709円）を乗じて得た額の合計を基準額（Ａ）とする。 | HH45: 令和５年度 各月１日時点の定員数（名） | HJ45: 定員数 | HK45: 燃料費
...

Sheet 別紙2 使用経費
A1: 別紙2 | B1: 法人名 | C1: ='別紙1 実績調書'!M2 -> 0 | P1: 別紙2-2 | Q1: 法人名 | R1: ='別紙1 実績調書'!AB2 -> 0 | AE1: 別紙2-3 | AF1: 法人名 | AG1: ='別紙1 実績調書'!AQ2 -> 0 | AT1: 別紙2-4 | AU1: 法人名 | AV1: ='別紙1 実績調書'!BF2 -> 0 | BI1: 別紙2-5 | BJ1: 法人名 | BK1: ='別紙1 実績調書'!BU2 -> 0 | BX1: 別紙2-6 | BY1: 法人名 | BZ1: ='別紙1 実績調書'!CJ2 -> 0 | CM1: 別紙2-7 | CN1: 法人名 | CO1: ='別紙1 実績調書'!CY2 -> 0 | DB1: 別紙2-8 | DC1: 法人名 | DD1: ='別紙1 実績調書'!DN2 -> 0 | DQ1: 別紙2-9 | DR1: 法人名 | DS1: ='別紙1 実績調書'!EC2 -> 0 | EF1: 別紙2-10 | EG1: 法人名 | EH1: ='別紙1 実績調書'!ER2 -> 0 | EU1: 別紙2-11 | EV1: 法人名 | EW1: ='別紙1 実績調書'!FG2 -> 0 | FJ1: 別紙2-12 | FK1: 法人名 | FL1: ='別紙1 実績調書'!FV2 -> 0 | FY1: 別紙2-13 | FZ1: 法人名 | GA1: ='別紙1 実績調書'!GK2 -> 0 | GN1: 別紙2-14 | GO1: 法人名 | GP1: ='別紙1 実績調書'!GZ2 -> 0 | HC1: 別紙2-15 | HD1: 法人名 | HE1: ='別紙1 実績調書'!HO2 -> 0
B2: 施設等の名称 | C2: ='別紙1 実績調書'!M3 -> 0 | Q2: 施設等の名称 | R2: ='別紙1 実績調書'!AB3 -> 0 | AF2: 施設等の名称 | AG2: ='別紙1 実績調書'!AQ3 -> 0 | AU2: 施設等の名称 | AV2: ='別紙1 実績調書'!BF3 -> 0 | BJ2: 施設等の名称 | BK2: ='別紙1 実績調書'!BU3 -> 0 | BY2: 施設等の名称 | BZ2: ='別紙1 実績調書'!CJ3 -> 0 | CN2: 施設等の名称 | CO2: ='別紙1 実績調書'!CY3 -> 0 | DC2: 施設等の名称 | DD2: ='別紙1 実績調書'!DN3 -> 0 | DR2: 施設等の名称 | DS2: ='別紙1 実績調書'!EC3 -> 0 | EG2: 施設等の名称 | EH2: ='別紙1 実績調書'!ER3 -> 0 | EV2: 施設等の名称 | EW2: ='別紙1 実績調書'!FG3 -> 0 | FK2: 施設等の名称 | FL2: ='別紙1 実績調書'!FV3 -> 0 | FZ2: 施設等の名称 | GA2: ='別紙1 実績調書'!GK3 -> 0 | GO2: 施設等の名称 | GP2: ='別紙1 実績調書'!GZ3 -> 0 | HD2: 施設等の名称 | HE2: ='別紙1 実績調書'!HO3 -> 0
B3: 施設種別 | C3: ='別紙1 実績調書'!M4 -> 0 | Q3: 施設種別 | R3: ='別紙1 実績調書'!AB4 -> 0 | AF3: 施設種別 | AG3: ='別紙1 実績調書'!AQ4 -> 0 | AU3: 施設種別 | AV3: ='別紙1 実績調書'!BF4 -> 0 | BJ3: 施設種別 | BK3: ='別紙1 実績調書'!BU4 -> 0 | BY3: 施設種別 | BZ3: ='別紙1 実績調書'!CJ4 -> 0 | CN3: 施設種別 | CO3: ='別紙1 実績調書'!CY4 -> 0 | DC3: 施設種別 | DD3: ='別紙1 実績調書'!DN4 -> 0 | DR3: 施設種別 | DS3: ='別紙1 実績調書'!EC4 -> 0 | EG3: 施設種別 | EH3: ='別紙1 実績調書'!ER4 -> 0 | EV3: 施設種別 | EW3: ='別紙1 実績調書'!FG4 -> 0 | FK3: 施設種別 | FL3: ='別紙1 実績調書'!FV4 -> 0 | FZ3: 施設種別 | GA3: ='別紙1 実績調書'!GK4 -> 0 | GO3: 施設種別 | GP3: ='別紙1 実績調書'!GZ4 -> 0 | HD3: 施設種別 | HE3: ='別紙1 実績調書'!HO4 -> 0
B4: 事業者番号 | C4: ='別紙1 実績調書'!M5 -> 0 | Q4: 事業者番号 | R4: ='別紙1 実績調書'!AB5 -> 0 | AF4: 事業者番号 | AG4: ='別紙1 実績調書'!AQ5 -> 0 | AU4: 事業者番号 | AV4: ='別紙1 実績調書'!BF5 -> 0 | BJ4: 事業者番号 | BK4: ='別紙1 実績調書'!BU5 -> 0 | BY4: 事業者番号 | BZ4: ='別紙1 実績調書'!CJ5 -> 0 | CN4: 事業者番号 | CO4: ='別紙1 実績調書'!CY5 -> 0 | DC4: 事業者番号 | DD4: ='別紙1 実績調書'!DN5 -> 0 | DR4: 事業者番号 | DS4: ='別紙1 実績調書'!EC5 -> 0 | EG4: 事業者番号 | EH4: ='別紙1 実績調書'!ER5 -> 0 | EV4: 事業者番号 | EW4: ='別紙1 実績調書'!FG5 -> 0 | FK4: 事業者番号 | FL4: ='別紙1 実績調書'!FV5 -> 0 | FZ4: 事業者番号 | GA4: ='別紙1 実績調書'!GK5 -> 0 | GO4: 事業者番号 | GP4: ='別紙1 実績調書'!GZ5 -> 0 | HD4: 事業者番号 | HE4: ='別紙1 実績調書'!HO5 -> 0
