Workbook
Name BANK1: 口座集計用!#REF!
Name NEW: 口座集計用!#REF!
Name NEW_1: 口座集計用!#REF!
Name SYUGCNV1: 口座集計用!#REF!

Sheet 提出書類一覧
A2: 令和５年度障害福祉サービス事業所送迎バス等安全対策支援事業補助金 提出書類一覧（実績報告時）
A5: 実績報告の提出にあたり、こちらで提出書類をチェックの上、一緒にご提出ください。
A6: 番号 | B6: 項目 | C6: 提 出 書 類 名 | G6: 提出時チェック欄 （郵送） | H6: 提出時チェック欄 （フォーム） | I6: 注意点
A8: 1 | B8: 実績報告書 | C8: 令和５年度障害福祉サービス事業所送迎バス等安全対策支援事業補助金（実績報告時）（本票） | I8: ◆提出時チェック欄にチェックし、提出漏れがないか確認の上、以下書類と一緒に提出すること
A9: 2 | C9: 実績報告書（別記第３号様式） | I9: ◆法人名、法人住所、代表者名、代表者印は印鑑証明書と同一のものか。 （例）×３－１－１６ → ○三丁目１番１６号 ◆日付は提出日を記入すること。
A10: 3 | C10: 第３号様式（１）－１ 実績調書 | I10: ◆記入ミス、転記ミスはないか。
A11: 4 | C11: 第３号様式（１）－２ 実績額積算内訳書 | I11: ◆記入ミス、転記ミスはないか。
A12: 5 | C12: 第３号様式（２） 事業報告書 | I12: ◆記入ミス、転記ミスはないか。
A13: 6 | C13: 第３号様式（３） 各事業の詳細 | I13: ◆記入ミス、転記ミスはないか。
A14: 7 | C14: 歳入歳出決算（見込）書抄本（参考様式） | I14: ◆記入ミス、転記ミスはないか。 ◆法人名、代表者名、代表者印は印鑑証明書と同一のものか。
A15: 8 | B15: 請求書等 | C15: 第４号様式 請求書 | I15: ◆記入ミス、転記ミスはないか。 ◆法人名、代表者名、代表者印は印鑑証明書と同一のものか。 ◆日付は空欄とすること。
A16: 9 | C16: 支払金口座振替依頼書 | I16: ◆記入ミス、転記ミスはないか。 ◆法人名、法人住所、代表者名、代表者印は印鑑証明書と同一のものか。（委任状を提出した場合は、受任者の住所及び氏名を記載し、受任者印を押印） ◆口座名義人に法人名（委任状を提出している場合は、施設名等）が含まれているか。
A17: 10 | B17: 根拠資料 | C17: 設置する車両の車検証の写し ※交付申請時から車両の変更があった場合のみ | I17: ※申請時と車両が変わらない場合は提出不要
A18: 11 | C18: 取り付けた安全装置の写真 | I18: ◆ブザー式：ブザー停止ボタン又はＳＯＳボタンの写真 ◆人感センサー式：センサー又はＳＯＳボタンの写真）
A19: 12 | C19: 研修の内容がわかる書類（研修時に配布した研修資料など） | I19: ※研修の実施に係る経費を申請した場合のみ提出
A20: 13 | C20: 車両内に機器や物品を取り付けた場合は、その写真 安全点検を行った場合は、点検結果がわかる書類 | I20: ※その他送迎バス等の安全点検や改修等に係る経費を申請した場合のみ提出
A21: 14 | C21: 納品書及び領収書等の写し | I21: ◆令和６年３月３１日までに納品及び支払を完了していること。 ◆交付申請時に提出した場合も提出 ◆経費の積算根拠となる資料は全て添付
A22: 15 | B22: 印鑑証明書等 | C22: 印鑑証明書 ※交付申請時から変更が生じた場合のみ | I22: ※申請時から法人名、法人住所、代表者名、代表者印が変更になった場合のみ提出
A23: 16 | C23: 全部事項証明書（登記簿謄本） ※交付申請時から変更が生じた場合のみ

Sheet 【印】3号様式(実績報告)
B1: 別記第３号様式
Y2: 令和６年 月 日
C5: 東京都知事 殿
N7: 主たる事務所の所在地
N9: 法人名
N10: 代表者職・氏名 | AJ10: 印
I13: 令和５年度障害福祉サービス事業所送迎バス等
I14: 安全対策支援事業補助金実績報告書
B17: このことについて、下記のとおり提出します。
A19: 記
C21: １ | E21: 事業所名 | L21: =IF('(2)事業報告書'!E7="","(2)事業報告書の「１ 事業所名」を入力してください。",'(2)事業報告書'!E7) -> (2)事業報告書の「１ 事業所名」を入力してください。
C23: ２ | E23: 実績額 | L23: 金 | M23: =+'(1)-1実績調書'!J13 -> 0
E25: （添付書類）
F27: 第３号様式（１）－１ 実績調書
F28: 第３号様式（１）－２ 実績額積算内訳書
F29: 第３号様式（２） 事業報告書
F30: 第３号様式（３） 各事業の詳細
F31: 歳入歳出決算（見込）書抄本
F32: その他各事業の実施内容が確認できる書類
C34: 連絡先 | H34: 担当部署
H35: 担当者名
H36: 電 話
H37: e-mail
H38: 書類送付先

Sheet (1)-1実績調書
B1: 第３号様式（１）－１ | G1: 事業所名 | H1: =IF('(2)事業報告書'!E7="","(2)事業報告書の「１ 事業所名」を入力してください。",'(2)事業報告書'!E7) -> (2)事業報告書の「１ 事業所名」を入力してください。
B6: 令和５年度障害福祉サービス事業所送迎バス等安全対策支援事業補助金
B7: 実績調書
J9: （単位：円）
B10: A | C10: B | D10: C | E10: D | F10: E | G10: F | H10: G | I10: H | J10: I
B11: 対象経費 実支出額 | C11: 寄付金その他 の収入額 | D11: 差引後実支出 額 | E11: 補助基準額 | F11: 車両台数 | G11: 都補助 上限額 | H11: 選定額 | I11: 補助率 | J11: 申請額
D12: A-B | G12: D×E | H12: CとFを比較して少ない額 | J12: G×H （1,000円未満切り捨て）
B13: ='(1)-2積算内訳'!F44 -> 0 | D13: =+B13-C13 -> 0 | E13: 1000000 | G13: =+E13*F13 -> 0 | H13: =IF(G13>D13,D13,G13) -> 0 | I13: 10分の10 | J13: =ROUNDDOWN(H13,-3) -> 0
I15: （単位：円）

Sheet (1)-2積算内訳
B1: 第３号様式（１）－２ | C1: 事業所名 | D1: =IF('(2)事業報告書'!E7="","(2)事業報告書の「１ 事業所名」を入力してください。",'(2)事業報告書'!E7) -> (2)事業報告書の「１ 事業所名」を入力してください。
B3: 実績額積算内訳書
B6: 補助金を交付した事項について、必ず下記内訳書に記入するとともに納品書や契約書等の写し、機器の写真等を添付し、補助対象経費の内容について具体的にわかるようにすること。
B8: （１）送迎バス等への安全装置の設置
B9: 内容 | C9: 支出年月日 | D9: 単価（円） | E9: 数量 | F9: 実支出額（円）
F10: =D10*E10 -> 0
F11: =D11*E11 -> 0
F12: =D12*E12 -> 0
F13: =D13*E13 -> 0
F14: =D14*E14 -> 0
F15: =D15*E15 -> 0
F16: =D16*E16 -> 0
F17: =D17*E17 -> 0
E18: 小計（A） | F18: =SUM(F10:F17) -> 0
B20: （２）研修の実施
B21: 内容 | C21: 支出年月日 | D21: 単価（円） | E21: 数量 | F21: 実支出額（円）
F22: =D22*E22 -> 0
F23: =D23*E23 -> 0
F24: =D24*E24 -> 0
F25: =D25*E25 -> 0
F26: =D26*E26 -> 0
F27: =D27*E27 -> 0
F28: =D28*E28 -> 0
F29: =D29*E29 -> 0
E30: 小計（B） | F30: =SUM(F22:F29) -> 0
B32: （３）その他送迎バス等の安全点検や改修等
B33: 内容 | C33: 支出年月日 | D33: 単価（円） | E33: 数量 | F33: 実支出額（円）
F34: =D34*E34 -> 0
F35: =D35*E35 -> 0
F36: =D36*E36 -> 0
F37: =D37*E37 -> 0
F38: =D38*E38 -> 0
F39: =D39*E39 -> 0
F40: =D40*E40 -> 0
F41: =D41*E41 -> 0
E42: 小計（C） | F42: =SUM(F34:F41) -> 0
B44: 合計（Ａ+Ｂ+Ｃ）（対象経費実支出額） | F44: =F18+F30+F42 -> 0
B46: （注）見積書や契約書等の写しを添付し、補助対象経費の内容について具体的にわかるようにすること。

Sheet (2)事業報告書
B1: 第３号様式（２）
B3: 事業報告書
B5: ◆事業所の基本情報
B7: 1 | C7: 事業所名
B9: 2 | C9: 事業所番号
B11: 3 | C11: 実施事業
E15: 送迎の実施
B17: ◆事業内容
B20: （１） | C20: 送迎バス等への安全装置の設置
C21: 安全装置の設置車両台数（令和5年4月1日以降設置） | M21: 台
C22: 設置する安全装置等の詳細は第１号様式（３）－１のとおり
B24: （２） | C24: 研修の実施
C25: 研修の内容は第１号様式（３）－２のとおり
B27: （３） | C27: その他送迎バス等の安全点検や改修等
C28: 内容は第１号様式（３）－３のとおり

Sheet (3)-1安全装置
B1: 第３号様式（３）－１ | H1: 事業所名 | J1: =IF('(2)事業報告書'!E7="","(2)事業報告書の「１ 事業所名」を入力してください。",'(2)事業報告書'!E7) -> (2)事業報告書の「１ 事業所名」を入力してください。
B3: （１）送迎車両への安全装置の設置（詳細）
B7: ① 装置の詳細（１種類目）
B9: 購入年月日
B10: こども家庭庁が作成、公開する「送迎用バスの置き去り防止を支援する安全装置のリスト」の掲載有無
D11: → | E11: 国リスト認定番号 | K11: （例：A-001）
B12: ↓なしの場合は、機能等を記入してください。
B14: 送迎用バスの置き去り防止を支援する安全装置のリスト
B15: https://www.cfa.go.jp/policies/child-safety/list/
B17: ①の安全装置を設置する車両の台数 | J17: 台
B19: 車両の用途を選択
B21: 車両を使用している事業
B23: 機器購入、リース、委託（送迎委託業者）の別
B25: ※送迎車両の確認のため、当該安全装置を設置する車両の車検証の写しを添付してください。
B27: 他の種類の装置の設置有無
B28: =IF(H27="あり","以下に続けて記載",IF(H27="なし","安全装置の詳細についての記載は以上です",""))
B30: ② 装置の詳細（２種類目）
B32: 購入年月日
B33: こども家庭庁が作成、公開する「送迎用バスの置き去り防止を支援する安全装置のリスト」の掲載有無
D34: → | E34: 国リスト認定番号 | K34: （例：A-001）
B35: ↓なしの場合は、機能等を記入してください。
B37: 送迎用バスの置き去り防止を支援する安全装置のリスト
B38: https://www.cfa.go.jp/policies/child-safety/list/
B40: ②の安全装置を設置する車両の台数 | J40: 台
B42: 車両の用途を選択
B44: 車両を使用している事業
B46: 機器購入、リース、委託（送迎委託業者）の別
B48: ※送迎車両の確認のため、当該安全装置を設置する車両の車検証の写しを添付してください。
B50: 他の種類の装置の設置有無
B51: =IF(H50="あり","以下に続けて記載",IF(H50="なし","安全装置の詳細についての記載は以上です",""))
B53: ③ 装置の詳細（３種類目）
B55: 購入年月日
B56: こども家庭庁が作成、公開する「送迎用バスの置き去り防止を支援する安全装置のリスト」の掲載有無
D57: → | E57: 国リスト認定番号 | K57: （例：A-001）
B58: ↓なしの場合は、機能等を記入してください。
B60: 送迎用バスの置き去り防止を支援する安全装置のリスト
B61: https://www.cfa.go.jp/policies/child-safety/list/
B63: ③の安全装置を設置する車両の台数 | J63: 台
B65: 車両の用途を選択
B67: 車両を使用している事業
...

Sheet (3)-2研修
B1: 第３号様式（３）－２ | G1: 事業所名 | I1: =IF('(2)事業報告書'!E7="","(2)事業報告書の「１ 事業所名」を入力してください。",'(2)事業報告書'!E7) -> (2)事業報告書の「１ 事業所名」を入力してください。
B3: （２）研修の実施（詳細）
B7: 研修名
B8: 研修対象者
B9: 実施場所
B10: 実施年月日
B11: 講師
B12: 研修内容
B13: ※研修の内容が確認できる資料があれば添付すること。
B15: 他の研修の実施有無
B16: =IF(H15="あり","以下に続けて記載",IF(H15="なし","研修実施の詳細についての記載は以上です",""))
B17: 研修名
B18: 研修対象者
B19: 実施場所
B20: 実施年月日
B21: 講師
B22: 研修内容
B23: ※研修の内容が確認できる資料があれば添付すること。
B25: 他の研修の実施有無
B26: =IF(H25="あり","以下に続けて記載",IF(H25="なし","研修実施の詳細についての記載は以上です",""))
B27: 研修名
B28: 研修対象者
B29: 実施場所
B30: 実施年月日
B31: 講師
B32: 研修内容
B33: ※研修の内容が確認できる資料があれば添付すること。

Sheet (3)-3点検・改修
B1: 第３号様式（３）－３ | H1: 事業所名 | J1: =IF('(2)事業報告書'!E7="","(2)事業報告書の「１ 事業所名」を入力してください。",'(2)事業報告書'!E7) -> (2)事業報告書の「１ 事業所名」を入力してください。
B3: （３）その他送迎バス等の安全点検や改修等（詳細）
B6: 事項
B7: 実施年月日
B8: 具体的取組内容
B10: 他の安全点検や改修等の実施有無
B11: =IF(H10="あり","以下に続けて記載",IF(H10="なし","研修実施の詳細についての記載は以上です",""))
B12: 事項
B13: 実施年月日
B14: 具体的取組内容
B16: 他の安全点検や改修等の実施有無
B17: =IF(H16="あり","以下に続けて記載",IF(H16="なし","研修実施の詳細についての記載は以上です",""))
B18: 事項
B19: 実施年月日
B20: 具体的取組内容

Sheet 【印】【入力不要】歳入歳出決算書抄本
B1: 参考様式 | Y1: 事業所名 | AF1: =IF('(2)事業報告書'!E7="","(2)事業報告書の「１ 事業所名」を入力してください。",'(2)事業報告書'!E7) -> (2)事業報告書の「１ 事業所名」を入力してください。
BG2: 障害者支援施設（都内）
BG3: 福祉型障害児入所施設
A4: 歳入歳出決算（見込）書抄本 | BG4: 医療型障害児入所施設
BG5: 共同生活援助
B6: １ 歳入の部
AZ7: （単位：円）
D8: 区 分 | S8: 決算（見込）額 | AJ8: 備 考
D10: 東京都補助金 | S10: ='(1)-1実績調書'!J13 -> 0
D13: 自己資本 | S13: =S18-S10-S16 -> 0
D16: 寄付金その他の収入額 | S16: ='(1)-1実績調書'!C13 -> 0
D18: 合 計 | S18: =S32 -> 0
B20: ２ 歳出の部
D22: 区 分 | S22: 決算（見込）額 | AJ22: 備 考
D24: 障害福祉サービス事業者送迎バス等安全対策 | S24: ='(1)-2積算内訳'!F44 -> 0
D32: 合 計 | S32: =S24 -> 0
C35: 本書は、原本と相違ないことを証明します。
C37: ='【印】3号様式(実績報告)'!Y2 -> 令和６年 月 日
C39: 法人名 | L39: =IF('【印】3号様式(実績報告)'!R9="","3号様式(実績報告)の「法人名」を入力してください。",'【印】3号様式(実績報告)'!R9) -> 3号様式(実績報告)の「法人名」を入力してください。
C41: 代表者職・氏名 | L41: =IF('【印】3号様式(実績報告)'!U10="","3号様式(実績報告)の「代表者職・氏名」を入力してください。",'【印】3号様式(実績報告)'!U10) -> 3号様式(実績報告)の「代表者職・氏名」を入力してください。 | AQ41: 印

Sheet 【印】【入力不要】4請求書
A1: 別記第４号様式
T2: 令和 年 月 日
B4: 東京都知事 殿
M5: 提出者
N6: 所在地 | P6: =IF('【印】3号様式(実績報告)'!N8="","3号様式(実績報告)の「主たる事務所の所在地」を入力してください。",'【印】3号様式(実績報告)'!N8) -> 3号様式(実績報告)の「主たる事務所の所在地」を入力してください。
N7: 法人名 | P7: =IF('【印】3号様式(実績報告)'!R9="","3号様式(実績報告)の「法人名」を入力してください。",'【印】3号様式(実績報告)'!R9) -> 3号様式(実績報告)の「法人名」を入力してください。
N8: 代表者職氏名 | R8: =IF('【印】3号様式(実績報告)'!U10="","3号様式(実績報告)の「代表者職・氏名」を入力してください。",'【印】3号様式(実績報告)'!U10) -> 3号様式(実績報告)の「代表者職・氏名」を入力してください。 | Z8: 印
A11: 令和５年度障害福祉サービス事業者送迎バス等安全対策支援事業補助金請求書
A14: 令和５年度障害福祉サービス事業者送迎バス等安全対策支援事業補助金交付要綱第１４条に基づき、下記のとおり請求します。
A18: 記
B20: １ 施設の名称 | H20: ='【印】3号様式(実績報告)'!L21 -> (2)事業報告書の「１ 事業所名」を入力してください。
B22: ２ 請求額 | H22: 金 | I22: =+'【印】3号様式(実績報告)'!M23 -> 0
B24: ３ 添付資料
B25: 支払金口座振替依頼書（口座情報払用）
M34: 担 当 者
M35: 所属 | Q35: =IF('【印】3号様式(実績報告)'!O34="","3号様式(実績報告)の「担当部署」を入力してください。",'【印】3号様式(実績報告)'!O34) -> 3号様式(実績報告)の「担当部署」を入力してください。
M37: 氏名 | Q37: =IF('【印】3号様式(実績報告)'!O35="","3号様式(実績報告)の「担当者名」を入力してください。",'【印】3号様式(実績報告)'!O35) -> 3号様式(実績報告)の「担当者名」を入力してください。
M38: TEL | Q38: =IF('【印】3号様式(実績報告)'!O36="","3号様式(実績報告)の「電話」を入力してください。",'【印】3号様式(実績報告)'!O36) -> 3号様式(実績報告)の「電話」を入力してください。

Sheet 【印】口座振替依頼書
A2: 支払金口座振替依頼書
A3: （新規・変更用）
X5: 令和 年 月 日
A7: 東京都知事 殿
A10: 東京都から私に支払われる令和５年度障害福祉サービス事業所送迎バス等安全対策支援事業補助金は口座振替により受領することを希望します。 ついては、今後下記の口座に口座振替の方法をもって振り込んでください。
A13: 住 所 | H13: =IF('【印】3号様式(実績報告)'!N8="","3号様式(実績報告)の「主たる事務所の所在地」を入力してください。委任状を提出する場合は、受任者の住所を上書きしてください。",'【印】3号様式(実績報告)'!N8) -> 3号様式(実績報告)の「主たる事務所の所在地」を入力してください。委任状を提出する場合は、受任者の住所を上書きしてください。
H15: （連絡先電話番号 | N15: =IF('【印】3号様式(実績報告)'!O36="","3号様式(実績報告)の「電話」を入力してください。委任状を提出する場合は、受任者の電話番号を上書きしてください。",'【印】3号様式(実績報告)'!O36) -> 3号様式(実績報告)の「電話」を入力してください。委任状を提出する場合は、受任者の電話番号を上書きしてください。 | AD15: ）
A16: 依頼人
A18: 氏 名 印 | H18: =IF('【印】3号様式(実績報告)'!R9& " " &'【印】3号様式(実績報告)'!U10="","3号様式(実績報告)の「法人名及び代表者職・氏名」を入力してください。委任状を提出する場合は、受任者の法人名、施設名及び管理者氏名を上書きしてください。",'【印】3号様式(実績報告)'!R9&" "&'【印】3号様式(実績報告)'!U10)
A20: (法人の場合は、法人名及び代表者職・氏名)
A23: 振込先金融機関名 | J23: 本・支店名 | N23: 金融機関・支店コード | U23: 種目 | W23: 口座番号（右詰めで記入）
A26: 口座名義人（カタカナ） ３０文字まで
A32: ご注意
A34: １ 新規・変更の該当する部分を○で囲んでください。
A35: ２ 振込先の口座は依頼人ご本人の口座に限ります。(法人の場合は当該法人の口座に限ります。)
A36: ３ 変更の場合は変更箇所のみご記入ください。
A38: 金融機関コード | G38: =N24&O24&P24&Q24
A39: 支店コード | G39: =R24&S24&T24
A40: 口座番号 | G40: =W24&X24&Y24&Z24&AA24&AB24&AC24
A41: 口座名義人 | G41: =A27&B27&C27&D27&E27&F27&G27&H27&I27&J27&K27&L27&M27&N27&O27&P27&Q27&R27&S27&T27&U27&V27&W27&X27&Y27&Z27&AA27&AB27&AC27&AD27

Sheet 委任状
A1: 委 任 状
A4: 令和 年 月 日
A6: 東京都知事 殿
A10: 委任者
A12: 住所 | G12: =IF('【印】3号様式(実績報告)'!N8="","3号様式(実績報告)の「主たる事務所の所在地」を入力してください。",'【印】3号様式(実績報告)'!N8) -> 3号様式(実績報告)の「主たる事務所の所在地」を入力してください。
G13: =IF('【印】3号様式(実績報告)'!R9="","3号様式(実績報告)の「法人名」を入力してください。",'【印】3号様式(実績報告)'!R9) -> 3号様式(実績報告)の「法人名」を入力してください。
A15: 氏名 | G15: =IF('【印】3号様式(実績報告)'!U10="","3号様式(実績報告)の「代表者職・氏名」を入力してください。",'【印】3号様式(実績報告)'!U10) -> 3号様式(実績報告)の「代表者職・氏名」を入力してください。
I16: 印
A19: 私は、 | B19: ='【印】3号様式(実績報告)'!L21 -> (2)事業報告書の「１ 事業所名」を入力してください。 | D19: について、下記の者を代理人と定め、令和５年度障害福祉サ
A21: ービス事業所送迎バス等安全対策支援事業補助金についての受領に関する権限を委任
A23: します。
A25: 委任期間： 申請日から令和６年３月３１日まで。
B27: 但し、年度に属する出納整理期間を含む。
A32: 受任者
A34: 住所
A37: 氏名
F38: 印
A41: 受任者使用印鑑（代理人印）

Sheet 【記入例】委任状
A2: 委 任 状
A5: 令和 ６年 ●月 ●日
A7: 東京都知事 殿
A11: 委任者
A13: 住所 東京都新宿区西新宿二丁目８番1号
A14: 社会福祉法人 あいうえお会
A16: 氏名 理事長 山田 太郎 印
A20: 私は、 かきくけこ学園 について、下記の者を代理人と定め、令和５年度障害福祉サ
A22: ービス事業所送迎バス等安全対策支援事業補助金についての受領に関する権限を委任
A24: します。
A26: 委任期間： 申請日から令和６年３月３１日まで。
B28: 但し、年度に属する出納整理期間を含む。
A33: 受任者
A35: 住所 | C35: 東京都港区二丁目５番１号
C36: 社会福祉法人 あいうえお会
A38: 氏名 | C38: かきくけこ福祉園
C39: 施設長 東京 花子 印
A42: 受任者使用印鑑（代理人印）

Sheet 集計用
A1: 申請No | B1: 事業所番号 | C1: 交付申請日 | D1: 補助金申請者 | N1: 送迎実施 | O1: 事業報告 | AA1: 額の確定
D2: 主たる事務所の所在地 | E2: 法人名 | F2: 代表者職・氏名 | G2: 担当部署 | H2: 担当者 | I2: 担当者の電話番号 | J2: 担当者のメールアドレス | K2: 書類送付先 | L2: 事業所（施設）名 | M2: 実施事業 | AA2: 確定額 | AB2: 内訳
O3: 送迎バス等への安全装置の設置 | P3: 支出（予定）額 | W3: 研修の実施 | X3: 支出（予定）額 | Y3: その他送迎バス等の安全点検や改修等 | Z3: 支出（予定）額 | AB3: A | AC3: B | AD3: C | AE3: D | AF3: E | AG3: F | AH3: G | AI3: H | AJ3: I
Q4: 認定番号1 | R4: 認定番号2 | S4: 認定番号3 | T4: 購入予定日1 | U4: 購入予定日2 | V4: 購入予定日3 | AB4: 対象経費 実支出（予定）額 | AC4: 寄付金その他 の収入額 | AD4: 差引後実支出 額 | AE4: 補助基準額 | AF4: 車両台数 | AG4: 都補助 上限額 | AH4: 選定額 | AI4: 補助率 | AJ4: 申請額
AD5: A-B | AG5: D×E | AH5: CとFを比較して少ない額 | AJ5: G×H （1,000円未満切り捨て）
B6: ='(2)事業報告書'!E9 -> 0 | C6: ='【印】3号様式(実績報告)'!Y2 -> 令和６年 月 日 | D6: ='【印】3号様式(実績報告)'!N8 -> 0 | E6: ='【印】3号様式(実績報告)'!R9 -> 0 | F6: ='【印】3号様式(実績報告)'!U10 -> 0 | G6: ='【印】3号様式(実績報告)'!O34 -> 0 | H6: ='【印】3号様式(実績報告)'!O35 -> 0 | I6: ='【印】3号様式(実績報告)'!O36 -> 0 | J6: ='【印】3号様式(実績報告)'!O37 -> 0 | K6: ='【印】3号様式(実績報告)'!O38 -> 0 | L6: ='(2)事業報告書'!E7 -> 0 | M6: ='(2)事業報告書'!E11 -> 0 | N6: ='(2)事業報告書'!L15 -> 0 | O6: ='(2)事業報告書'!K21 -> 0 | P6: ='(1)-2積算内訳'!$F$18 -> 0 | Q6: ='(3)-1安全装置'!H11 -> 0 | R6: ='(3)-1安全装置'!H34 -> 0 | S6: ='(3)-1安全装置'!H57 -> 0 | T6: ='(3)-1安全装置'!E32 -> 0 | U6: ='(3)-1安全装置'!E32 -> 0 | V6: ='(3)-1安全装置'!E55 -> 0 | W6: ='(2)事業報告書'!K24 -> 0 | X6: ='(1)-2積算内訳'!$F$30 -> 0 | Y6: ='(2)事業報告書'!K27 -> 0 | Z6: ='(1)-2積算内訳'!$F$42 -> 0 | AA6: ='(1)-1実績調書'!J13 -> 0 | AB6: ='(1)-1実績調書'!B13 -> 0 | AC6: ='(1)-1実績調書'!C13 -> 0 | AD6: ='(1)-1実績調書'!D13 -> 0 | AE6: ='(1)-1実績調書'!E13 -> 1000000 | AF6: ='(1)-1実績調書'!F13 -> 0 | AG6: ='(1)-1実績調書'!G13 -> 0 | AH6: ='(1)-1実績調書'!H13 -> 0 | AI6: ='(1)-1実績調書'!I13 -> 10分の10 | AJ6: ='(1)-1実績調書'!J13 -> 0

Sheet 口座集計用
A1: 銀行コード | B1: 銀行名 | C1: 支店コード | D1: 支店名 | E1: 預金種目 | F1: 口座番号 | G1: 口座名義人 | H1: 氏名（漢字） | I1: 金額 | J1: 登録コード1 | K1: 登録コード2 | L1: 合計金額
A2: =【印】口座振替依頼書!G38 | B2: =【印】口座振替依頼書!A24 -> 0 | C2: =【印】口座振替依頼書!G39 | D2: =【印】口座振替依頼書!J24 -> 0 | E2: =【印】口座振替依頼書!U24 -> 0 | F2: =【印】口座振替依頼書!G40 | G2: =【印】口座振替依頼書!G41 | H2: =【印】口座振替依頼書!H18 | I2: =【印】【入力不要】4請求書!I22 -> 0
