Workbook

Sheet ※作成及び提出方法※
A1: 交付申請書類作成及び提出方法
A3: ◆提出までの流れ◆
A4: 1．各シートのブルーで網掛けされているすべてのセルに入力してください。※「（入力不要）」と記載のシートへの入力は不要です。
A5: ２．必要な添付書類を御準備ください。
A6: ３．このExcelファイルを、他の必要書類と併せて、以下のメールアドレスに御提出ください。
A7: 送付先：S1140704@section.metro.tokyo.jp
A8: 件名は「性被害防止対策支援事業補助金の交付申請（事業所番号、事業所名記入）」と記載してください。
A9: ４．赤く色付けされているシートは、捺印（印鑑証明印）が必要な書類です。
A10: 印鑑証明書と同一の印影を押印し、必要な書類一式と併せて以下の宛先へ郵送してください。
A11: 郵送先： | B11: 〒163-8001 東京都新宿区西新宿二丁目８番１号 都庁第一本庁舎31階
B12: 東京都福祉局 障害者施策推進部 施設サービス支援課 児童福祉施設担当宛
B13: 「令和７年度性被害防止対策支援事業補助金申請書類 在中」 と御記載願います。
L14: =SUM(L15:L96,#REF!) -> #REF!
A15: ◆交付申請に必要な書類◆
A16: 書類名 | B16: 記入上の注意 | H16: 捺印 | I16: 備考
A17: 別記第１号様式 交付申請書 | B17: 申請額は、所要額調書の交付申請額と一致させてください。 | H17: 必要（印鑑証明印） | I17: 郵送してください。
A18: 予算書抄本 | B18: 参考様式もしくは任意の書式にて作成してください。 | H18: 必要（印鑑証明印） | I18: 郵送してください。 | L18: =IF(B18=#REF!,1,0) -> #REF!
A19: 第１号様式（１） 所要額調書_施設個票 | I19: 郵送してください。 | L19: =IF(B19=#REF!,1,0) -> #REF!
A20: 第１号様式（２） 事業計画書 | I20: 郵送してください。 | L20: =IF(B20=#REF!,1,0) -> #REF!
A21: 第１号様式(３) 誓約書 | I21: 郵送してください。 | L21: =IF(B21=#REF!,1,0) -> #REF!
A22: 印鑑証明書 | B22: ３か月以内の原本（同一法人の複数事業所で申請する場合は、原本１部、他の事業所はコピーで可） | I22: 郵送してください。 | L22: =IF(B22=#REF!,1,0) -> #REF!
A23: 見積書等 | B23: データ（PDF等）をメールにて提出してください。 ※送信時の容量が10MBを超える場合は、２通以上に分けて送付してください。 | L23: =IF(B23=#REF!,1,0) -> #REF!
A24: （所要額調書_総括表） | B24: 同一法人が複数施設についてまとめて交付申請する場合は作成してください。 | L24: =IF(B24=#REF!,1,0) -> #REF!
CY29: 事項 | DB29: 事項 | DC29: 実施年月日 | DD29: 具体的取組内容
CY30: 実施年月日
CY31: 具体的取組内容
N38: 実績報告日 | O38: 補助金申請者 | AC38: 送迎実施 | AD38: 事業計画 | BB38: 実績報告 | BZ38: 口座情報 | CH38: 実施内容
O39: 法人名 | P39: 主たる事務所の所在地 | Q39: 代表者職・氏名 | R39: 担当部署 | S39: 担当者 | T39: 担当者の電話番号 | U39: 担当者のメールアドレス | V39: 書類送付先 | W39: 事業所（施設）名 | X39: 事業所番号 | Y39: 公立、私立の別 | Z39: 実施事業 | AD39: 1 送迎バス等の子供の置き去り防止 | AT39: ２ 送迎バス等以外の置き去り等の事故防止 | BB39: 確定額 （請求額） | BC39: 交付決定済額 | BD39: 合計補助精算額 | BE39: 内訳 | BX39: 内訳２ | BZ39: 銀行コード | CA39: 銀行名 | CB39: 支店コード | CC39: 支店名 | CD39: 預金種目 | CE39: 口座番号 | CF39: 口座名義人 | CG39: 氏名（漢字） | CH39: 1 送迎バス等の子供の置き去り防止 | DI39: ２ 送迎バス等以外の置き去り等の事故防止
Z40: 児発 | AA40: 児発センター | AB40: 放デイ | AD40: （１）送迎バス等への安全装置の設置 | AP40: （２）研修の実施 | AR40: （３）その他送迎バス等の安全点検や改修等 | AT40: （１）施設外及び施設内活動時の置き去り、見失い、飛び出し等の事故防止の対策 | AZ40: （２）睡眠中の事故防止対策に必要な機器の購入等 | BE40: １送迎バス等の子供の置き去り防止 | BO40: ２送迎バス等以外の置き去り等の事故防止 | BX40: 安全装置設置のみ | BY40: 安全装置設置以外 | CH40: （２）研修の実施 | CZ40: （３）その他送迎バス等の安全点検や改修等 | DI40: （１）施設外及び施設内活動時の置き去り、見失い、飛び出し等の事故防止の対策 | EJ40: （２）睡眠中の事故防止対策に必要な機器の購入等
AE41: 支出額 | AF41: 車両の乗車定員数 | AG41: 車両の座席の列数 | AH41: 自動車登録番号 | AI41: 装置 | AM41: 設置日1 | AN41: 設置日2 | AO41: 設置日3 | AQ41: 支出額 | AS41: 支出額 | AT41: ①ICTを活用した子供見守りサービス（GPSやBluetoothを活用したシステム等）の導入 | AV41: ②登降園管理システムの導入 | AX41: ③置き去り、見失い、飛び出し防止に係る経費その他安全対策費用で都が認めるもの | BA41: 支出額 | BE41: A | BF41: B | BG41: C | BH41: D | BI41: E | BJ41: F | BK41: G | BL41: H | BM41: I | BN41: J | BO41: K | BP41: M | BQ41: N | BR41: O | BS41: P | BT41: Q | BU41: R | BV41: S | BW41: T | CH41: 1つ目 | CN41: ２つ目 | CT41: 3つ目 | CZ41: 1つ目 | DC41: 2つ目 | DF41: 3つ目 | DI41: ①ICTを活用した子供見守りサービス（GPSやBluetoothを活用したシステム等）の導入 | DR41: ②登降園管理システムの導入 | EA41: ③置き去り、見失い、飛び出し防止に係る経費その他安全対策費用で都が認めるもの | EJ41: 1つ目 | EN41: 2つ目 | ER41: 3つ目
AI42: 装置の種類 | AJ42: 認定番号1 | AK42: 認定番号2 | AL42: 認定番号3 | AU42: 支出額 | AW42: 支出額 | AY42: 支出額 | BE42: 対象経費 実支出額 | BF42: 寄付金その他 の収入額 | BG42: 差引後実支出 額 | BH42: 補助基準額 | BI42: 車両台数 | BJ42: 令和４年度 交付額 | BK42: 都補助 上限額 | BL42: 選定額 | BM42: 補助率 | BN42: 精算額 | BO42: 対象経費 実支出額 | BP42: 寄付金その他 の収入額 | BQ42: 差引後実支出 額 | BR42: 補助基準額 | BS42: 令和４年度 交付額 | BT42: 差引後 補助基準額 | BU42: 選定額 | BV42: 補助率 | BW42: 精算額 | CH42: 研修名 | CI42: 研修対象者 | CJ42: 実施場所 | CK42: 実施年月日 | CL42: 講師 | CM42: 研修内容 | CN42: 研修名 | CO42: 研修対象者 | CP42: 実施場所 | CQ42: 実施年月日 | CR42: 講師 | CS42: 研修内容 | CT42: 研修名 | CU42: 研修対象者 | CV42: 実施場所 | CW42: 実施年月日 | CX42: 講師 | CY42: 研修内容 | CZ42: 事項 | DA42: 実施年月日 | DB42: 具体的取組内容 | DC42: 事項 | DD42: 実施年月日 | DE42: 具体的取組内容 | DF42: 事項 | DG42: 実施年月日 | DH42: 具体的取組内容 | DI42: 1つ目 | DL42: 2つ目 | DO42: 3つ目 | DR42: 1つ目 | DU42: 2つ目 | DX42: 3つ目 | EA42: 1つ目 | ED42: 2つ目 | EG42: 3つ目 | EJ42: 機器等の名称 | EK42: メーカー | EL42: 機器の数量 | EM42: 機器等の機能・活用方法等 | EN42: 機器等の名称 | EO42: メーカー | EP42: 機器の数量 | EQ42: 機器等の機能・活用方法等 | ER42: 機器等の名称 | ES42: メーカー | ET42: 機器の数量 | EU42: 機器等の機能・活用方法等
BG43: A-B | BK43: D×E-F | BL43: CとGを比較して少ない額 | BN43: H×I （1,000円未満切り捨て） | BQ43: K-M | BT43: O-P | BU43: NとQを比較して少ない額 | BW43: R×S （1,000円未満切り捨て） | DI43: システム等の名称 | DJ43: メーカー | DK43: システムの機能・活用方法等 | DL43: システム等の名称 | DM43: メーカー | DN43: システムの機能・活用方法等 | DO43: システム等の名称 | DP43: メーカー | DQ43: システムの機能・活用方法等 | DR43: システム等の名称 | DS43: メーカー | DT43: システムの機能・活用方法等 | DU43: システム等の名称 | DV43: メーカー | DW43: システムの機能・活用方法等 | DX43: システム等の名称 | DY43: メーカー | DZ43: システムの機能・活用方法等 | EA43: 事項 | EB43: 実施年月日 | EC43: 具体的取組内容 | ED43: 事項 | EE43: 実施年月日 | EF43: 具体的取組内容 | EG43: 事項 | EH43: 実施年月日 | EI43: 具体的取組内容
O44: =#REF! -> #REF! | P44: =#REF! -> #REF! | Q44: =#REF! -> #REF! | R44: =#REF! -> #REF! | S44: =#REF! -> #REF! | T44: =#REF! -> #REF! | U44: =#REF! -> #REF! | V44: =#REF! -> #REF! | ... X44: =#REF! -> #REF! | Y44: =IF(#REF!="","",IF(#REF!="公立：自治体（東京都、○区、○市等）による設置","公立","私立")) -> #REF! | Z44: =IF(OR(#REF!="",#REF!="実施なし"),"",IF(#REF!="実施あり：児童発達支援センター","","○")) -> #REF! | AA44: =IF(OR(#REF!="",#REF!="実施なし"),"",IF(#REF!="実施あり：児童発達支援事業所","","○")) -> #REF! | AB44: =IF(#REF!="実施あり","○","") -> #REF! | AC44: =IF(#REF!="実施あり","○","") -> #REF! | AD44: =IF(#REF!="実施あり（今後実施も含む）","○","×") -> #REF! | AE44: 0 | AF44: =IF(OR(#REF!="",#REF!=0),"",VLOOKUP(#REF!,AE47:AF56,2,FALSE)) -> #REF! | AG44: =IF(OR(#REF!="",#REF!=0),"",VLOOKUP(#REF!,AE58:AF67,2,FALSE)) -> #REF! | AH44: =IF(OR(#REF!="",#REF!=0),"",VLOOKUP(#REF!,AE69:AF78,2,FALSE)) -> #REF! | AI44: #REF! | AP44: =IF(#REF!="実施あり（今後実施も含む）","○","×") -> #REF! | AQ44: 0 | AR44: =IF(#REF!="実施あり（今後実施も含む）","○","×") -> #REF! | AS44: 0 | AT44: =IF(#REF!="実施あり（今後実施も含む）","○","×") -> #REF! | AU44: =IF(#REF!=0,0,#REF!) -> #REF! | AV44: =IF(#REF!="実施あり（今後実施も含む）","○","×") -> #REF! | AW44: 0 | AX44: =IF(#REF!="実施あり（今後実施も含む）","○","×") -> #REF! | AY44: 0 | AZ44: =IF(#REF!="実施あり（今後実施も含む）","○","×") -> #REF! | BA44: 0 | BB44: 0 | BC44: 0 | BD44: 0 | BE44: 0 | BF44: 0 | BG44: 0 | BH44: 0 | BI44: 0 | BJ44: 0 | BK44: 0 | BL44: 0 | BM44: 0 | BN44: 0 | BO44: 0 | BP44: 0 | BQ44: 0 | BR44: 0 | BS44: 0 | BT44: 0 | BU44: 0 | BV44: 0 | BW44: 0 | BX44: 0 | BY44: =BD44-BX44 -> 0 | CA44: 0 | CC44: 0 | CD44: 0 | CE44: 0 | CF44: 0 | CG44: =#REF! -> #REF!
AE47: 1 | AF47: ="車両a："&#REF! -> #REF!
AE48: 2 | AF48: ="車両a："&#REF!&CHAR(10)&"車両b："&#REF! -> #REF!
AE49: 3 | AF49: ="車両a："&#REF!&CHAR(10)&"車両b："&#REF!&CHAR(10)&"車両c："&#REF! -> #REF!
AE50: 4 | AF50: ="車両a："&#REF!&CHAR(10)&"車両b："&#REF!&CHAR(10)&"車両c："&#REF!&CHAR(10)&"車両d："&#REF! -> #REF!
AE51: 5 | AF51: ="車両a："&#REF!&CHAR(10)&"車両b："&#REF!&CHAR(10)&"車両c："&#REF!&CHAR(10)&"車両d："&#REF!&CHAR(10)&"車両e："&#REF! -> #REF!
AE52: 6 | AF52: ="車両a："&#REF!&CHAR(10)&"車両b："&#REF!&CHAR(10)&"車両c："&#REF!&CHAR(10)&"車両d："&#REF!&CHAR(10)&"車両e："&#REF!&CHAR(10)&"車両f："&#REF! -> #REF!
AE53: 7 | AF53: ="車両a："&#REF!&CHAR(10)&"車両b："&#REF!&CHAR(10)&"車両c："&#REF!&CHAR(10)&"車両d："&#REF!&CHAR(10)&"車両e："&#REF!&CHAR(10)&"車両f："&#REF!&CHAR(10)&"車両g："&#REF! -> #REF!
AE54: 8 | AF54: ="車両a："&#REF!&CHAR(10)&"車両b："&#REF!&CHAR(10)&"車両c："&#REF!&CHAR(10)&"車両d："&#REF!&CHAR(10)&"車両e："&#REF!&CHAR(10)&"車両f："&#REF!&CHAR(10)&"車両g："&#REF!&CHAR(10)&"車両h："&#REF! -> #REF!
AE55: 9 | AF55: ="車両a："&#REF!&CHAR(10)&"車両b："&#REF!&CHAR(10)&"車両c："&#REF!&CHAR(10)&"車両d："&#REF!&CHAR(10)&"車両e："&#REF!&CHAR(10)&"車両f："&#REF!&CHAR(10)&"車両g："&#REF!&CHAR(10)&"車両h："&#REF!&CHAR(10)&"車両i："&#REF! -> #REF!
AE56: 10 | AF56: ="車両a："&#REF!&CHAR(10)&"車両b："&#REF!&CHAR(10)&"車両c："&#REF!&CHAR(10)&"車両d："&#REF!&CHAR(10)&"車両e："&#REF!&CHAR(10)&"車両f："&#REF!&CHAR(10)&"車両g："&#REF!&CHAR(10)&"車両h："&#REF!&CHAR(10)&"車両i："&#REF!&CHAR(10)&"車両j："&#REF! -> #REF!
AE58: 1 | AF58: ="車両a："&#REF! -> #REF!
AE59: 2 | AF59: ="車両a："&#REF!&CHAR(10)&"車両b："&#REF! -> #REF!
AE60: 3 | AF60: ="車両a："&#REF!&CHAR(10)&"車両b："&#REF!&CHAR(10)&"車両c："&#REF! -> #REF!
AE61: 4 | AF61: ="車両a："&#REF!&CHAR(10)&"車両b："&#REF!&CHAR(10)&"車両c："&#REF!&CHAR(10)&"車両d："&#REF! -> #REF!
AE62: 5 | AF62: ="車両a："&#REF!&CHAR(10)&"車両b："&#REF!&CHAR(10)&"車両c："&#REF!&CHAR(10)&"車両d："&#REF!&CHAR(10)&"車両e："&#REF! -> #REF!
AE63: 6 | AF63: ="車両a："&#REF!&CHAR(10)&"車両b："&#REF!&CHAR(10)&"車両c："&#REF!&CHAR(10)&"車両d："&#REF!&CHAR(10)&"車両e："&#REF!&CHAR(10)&"車両f："&#REF! -> #REF!
AE64: 7 | AF64: ="車両a："&#REF!&CHAR(10)&"車両b："&#REF!&CHAR(10)&"車両c："&#REF!&CHAR(10)&"車両d："&#REF!&CHAR(10)&"車両e："&#REF!&CHAR(10)&"車両f："&#REF!&CHAR(10)&"車両g："&#REF! -> #REF!
AE65: 8 | AF65: ="車両a："&#REF!&CHAR(10)&"車両b："&#REF!&CHAR(10)&"車両c："&#REF!&CHAR(10)&"車両d："&#REF!&CHAR(10)&"車両e："&#REF!&CHAR(10)&"車両f："&#REF!&CHAR(10)&"車両g："&#REF!&CHAR(10)&"車両h："&#REF! -> #REF!
AE66: 9 | AF66: ="車両a："&#REF!&CHAR(10)&"車両b："&#REF!&CHAR(10)&"車両c："&#REF!&CHAR(10)&"車両d："&#REF!&CHAR(10)&"車両e："&#REF!&CHAR(10)&"車両f："&#REF!&CHAR(10)&"車両g："&#REF!&CHAR(10)&"車両h："&#REF!&CHAR(10)&"車両i："&#REF! -> #REF!
AE67: 10 | AF67: ="車両a："&#REF!&CHAR(10)&"車両b："&#REF!&CHAR(10)&"車両c："&#REF!&CHAR(10)&"車両d："&#REF!&CHAR(10)&"車両e："&#REF!&CHAR(10)&"車両f："&#REF!&CHAR(10)&"車両g："&#REF!&CHAR(10)&"車両h："&#REF!&CHAR(10)&"車両i："&#REF!&CHAR(10)&"車両j："&#REF! -> #REF!
AE69: 1 | AF69: ="車両a："&#REF! -> #REF!
AE70: 2 | AF70: ="車両a："&#REF!&CHAR(10)&"車両b："&#REF! -> #REF!
AE71: 3 | AF71: ="車両a："&#REF!&CHAR(10)&"車両b："&#REF!&CHAR(10)&"車両c："&#REF! -> #REF!
AE72: 4 | AF72: ="車両a："&#REF!&CHAR(10)&"車両b："&#REF!&CHAR(10)&"車両c："&#REF!&CHAR(10)&"車両d："&#REF! -> #REF!
AE73: 5 | AF73: ="車両a："&#REF!&CHAR(10)&"車両b："&#REF!&CHAR(10)&"車両c："&#REF!&CHAR(10)&"車両d："&#REF!&CHAR(10)&"車両e："&#REF! -> #REF!
AE74: 6 | AF74: ="車両a："&#REF!&CHAR(10)&"車両b："&#REF!&CHAR(10)&"車両c："&#REF!&CHAR(10)&"車両d："&#REF!&CHAR(10)&"車両e："&#REF!&CHAR(10)&"車両f："&#REF! -> #REF!
AE75: 7 | AF75: ="車両a："&#REF!&CHAR(10)&"車両b："&#REF!&CHAR(10)&"車両c："&#REF!&CHAR(10)&"車両d："&#REF!&CHAR(10)&"車両e："&#REF!&CHAR(10)&"車両f："&#REF!&CHAR(10)&"車両g："&#REF! -> #REF!
AE76: 8 | AF76: ="車両a："&#REF!&CHAR(10)&"車両b："&#REF!&CHAR(10)&"車両c："&#REF!&CHAR(10)&"車両d："&#REF!&CHAR(10)&"車両e："&#REF!&CHAR(10)&"車両f："&#REF!&CHAR(10)&"車両g："&#REF!&CHAR(10)&"車両h："&#REF! -> #REF!
AE77: 9 | AF77: ="車両a："&#REF!&CHAR(10)&"車両b："&#REF!&CHAR(10)&"車両c："&#REF!&CHAR(10)&"車両d："&#REF!&CHAR(10)&"車両e："&#REF!&CHAR(10)&"車両f："&#REF!&CHAR(10)&"車両g："&#REF!&CHAR(10)&"車両h："&#REF!&CHAR(10)&"車両i："&#REF! -> #REF!
AE78: 10 | AF78: ="車両a："&#REF!&CHAR(10)&"車両b："&#REF!&CHAR(10)&"車両c："&#REF!&CHAR(10)&"車両d："&#REF!&CHAR(10)&"車両e："&#REF!&CHAR(10)&"車両f："&#REF!&CHAR(10)&"車両g："&#REF!&CHAR(10)&"車両h："&#REF!&CHAR(10)&"車両i："&#REF!&CHAR(10)&"車両j："&#REF! -> #REF!

Sheet 基本情報
B3: 基本情報
B4: 主たる事務所の所在地 | E4: 法人所在地を印鑑証明書に記載のとおり御記入ください。
B5: 法人名 | E5: 法人名を印鑑証明書に記載のとおり御記入ください。
B6: 代表者職・氏名 | E6: 代表者職・氏名を印鑑証明書に記載のとおり御記入ください。
B7: 事業所名
B8: 事業所の所在地 | E8: 児童相談所設置区及び八王子市に所在する事業所は本補助金の対象外となります。それぞれの自治体へ御連絡ください。
B9: 事業所番号
B10: 設置主体 | E10: 私立（社会福祉法人・株式会社・特定非営利活動法人・学校法人等）
B11: 施設種別
B12: 担当部署 | E12: 特に担当部署がない場合は、「補助金担当」と御記入ください。
B13: 担当者名
B14: 担当者連絡先（電話番号） | E14: ハイフンを入れて入力してください。 例：03-5321-1111
B15: 担当者連絡先（E-mail） | E15: すべて半角で入力してください。
B16: 書類送付先 郵便番号 | E16: ハイフンを入れて入力してください。 例：163-8001
B17: 書類送付先 住所
B18: 寄付金その他の収入額 | D18: 円 | E18: この事業を実施するにあたって、寄付金、その他の収入予定額がある場合に、その金額を記載すること。特にない場合は「0」と入力してください。

Sheet 【第１号様式（２）】事業計画書
B1: 第１号様式（２）
B2: 事業計画書
B4: ◆事業所の基本情報
B6: 1 | C6: 事業所名 | E6: =基本情報!C7 -> 0
B8: 2 | C8: 事業所番号 | E8: =基本情報!C9 -> 0
B10: 3 | C10: 実施事業 | E10: =基本情報!C11 -> 0
B13: ◆事業概要
B14: 事業区分 | E14: 障害児通所支援事業所等における性被害防止対策に係る設備等支援事業
B15: 実施（予定）年月日 | E15: 令和 | G15: 年 | I15: 月 | K15: 日頃
B16: 完了（予定）年月日 | E16: 令和 | G16: 年 | I16: 月 | K16: 日頃
B17: 具体的取組内容
B19: ◆支出（予定）の内訳
B20: 事業を実施するために予定している購入品や設備整備事業の内訳 | M20: 支出予定金額
J30: 事業費合計 | M30: =SUM(M21:N29) -> 0
B31: （添付書類等）
B32: ・工事にあっては、図面・写真等参考資料を添付のこと。
B33: ・設備整備（備品）にあっては、カタログ等参考資料を添付のこと。
B34: ・いずれの場合にあっても、見積書等金額がわかるものを添付のこと。
B35: ・購入予定の消耗品等については、予定品目と数量、金額の概略を記入すること。

Sheet 【要押印】別記第１号様式　交付申請書（入力不要）
B1: 別記第１号様式
S2: 印 | Y2: 令和 | AC2: 年 | AF2: 月 | AI2: 日
C5: 東京都知事 殿
N7: 主たる事務所の所在地
N8: =基本情報!C4 -> 0
N9: 法人名 | R9: =基本情報!C5 -> 0
N10: 代表者職・氏名 | U10: =基本情報!C6 -> 0 | AJ10: 印
E13: 令和７年度 障害児通所支援事業所等における
E14: 性被害防止対策に係る設備等支援事業補助金の交付申請について
B17: 標記の補助金について、下記のとおり申請します。
A19: 記
D21: １ | F21: 申請額 | L21: 金 | M21: =IF('【第１号様式（１）】申請額調書_施設個票（入力不要）'!K6=0,"",'【第１号様式（１）】申請額調書_施設個票（入力不要）'!K6) | X21: 円
D23: ２ | F23: 添付書類
F25: 第１号様式（１） 所要額調書
F26: 第１号様式（２） 事業計画書
F27: 第１号様式（３） 誓約書
F28: 歳入歳出予算書抄本
F30: その他各事業の実施内容が確認できる書類
C33: 連絡先 | H33: 担当部署 | O33: =基本情報!C12 -> 0
H34: 担当者名 | O34: =基本情報!C13 -> 0
H35: 電 話 | O35: =基本情報!C14 -> 0
H36: E-mail | O36: =基本情報!C15 -> 0
H37: 書類送付先 | O37: 郵便番号 | T37: （ | U37: =基本情報!C16 -> 0 | AB37: ）
O38: =基本情報!C17 -> 0

Sheet 【要押印】予算書抄本
B1: 参考様式 | Y1: 事業所名 | AF1: ='【第１号様式（１）】申請額調書_施設個票（入力不要）'!A6 -> 0
BG2: 障害者支援施設（都内）
AY3: 印 | BG3: 福祉型障害児入所施設
A4: 歳入歳出予算書抄本 | BG4: 医療型障害児入所施設
BG5: 共同生活援助
B6: １ 歳入の部
AZ7: （単位：円）
D8: 区 分 | S8: 予 算 額 | AJ8: 備 考
D10: 東京都補助金 | S10: ='【第１号様式（１）】申請額調書_施設個票（入力不要）'!K6 -> 0
D13: 自己資本 | S13: =S18-S16-S10 -> 0
D16: 寄付金その他の収入額 | S16: ='【第１号様式（１）】申請額調書_施設個票（入力不要）'!E6 -> 0
D18: 合 計 | S18: =S32 -> 0
B20: ２ 歳出の部
D22: 区 分 | S22: 予 算 額 | AJ22: 備 考
D24: 児童の性被害防止対策 | S24: ='【第１号様式（１）】申請額調書_施設個票（入力不要）'!G6 -> 0
D32: 合 計 | S32: =S24 -> 0
C35: 本書は、原本と相違ないことを証明します。
C37: 令和 年 月 日
C39: 法人名 | L39: ='【要押印】別記第１号様式 交付申請書（入力不要）'!R9 -> 0
C41: 代表者職・氏名 | L41: ='【要押印】別記第１号様式 交付申請書（入力不要）'!U10 -> 0 | AQ41: 印

Sheet 【第１号様式（１）】申請額調書_施設個票（入力不要）
A1: 第１号様式（１） | AB1: =IF('【第１号様式（１）】申請額調書_施設個票（入力不要）'!A6="","","")
A2: 令和７年度 障害児通所支援事業所等における性被害防止対策に係る設備等支援事業 申請額調書（施設個票）
K3: (単位：円）
A4: 対象事業所名 | B4: 設置主体 （公立、私立の別） | C4: 施設種別 | D4: 総事業費 | E4: 寄付金その他の収入予定額 | F4: 差引額 （④-⑤） | G4: 対象経費の 実支出予定額 | H4: 基準額 | I4: 選定額 （⑥⑦⑧のいずれか少ない額） | J4: ⑨×3/4 | K4: 交付申請額
A5: ① | B5: ② | C5: ③ | D5: ④ | E5: ⑤ | F5: ⑥（④-⑤） | G5: ⑦ | H5: ⑧ | I5: ⑨ | J5: ⑩（⑨×3/4） 千円未満切捨 | K5: ⑪
A6: ='【第１号様式（２）】事業計画書'!E6 -> 0 | B6: =基本情報!C10 -> 0 | C6: =基本情報!C11 -> 0 | D6: ='【第１号様式（２）】事業計画書'!M30 -> 0 | E6: =基本情報!C18 -> 0 | F6: =N7 -> 0 | G6: =F6 -> 0 | H6: 100000 | I6: =N8 -> 0 | J6: =N9 -> 0 | K6: =N10 -> 0
M7: 差引額 | N7: =D6-E6 -> 0
M8: 選定額 | N8: =MIN(F6,G6,H6) -> 0
A9: １．②欄には公立（自治体による設置）又は私立（社会福祉法人、株式会社、特定非営利活動法人等による設置）を記載すること。 | M9: 選定額*3/4 | N9: =ROUNDDOWN(3/4*I6,-3) -> 0
A10: ２．③欄には実施要綱記載の施設種別を記載すること。 | M10: 交付申請額 | N10: =MIN(I6:J6) -> 0
A11: ３．⑤欄は、この事業を実施するにあたって、寄付金、その他の収入予定額がある場合に、その金額を記載すること。特にない場合は0を記載すること。
A12: ３．⑨欄は、⑥欄、⑦欄及び⑧欄を比較し、最も少ない額を記載すること。 | M12: 国庫補助基本額 | N12: =I6*1/2 -> 0
A13: ４．⑩欄は、⑨の欄の額に3/4を乗じた額を記載すること。 | M13: 国庫補助所要額 | N13: =K6*2/3 -> 0
A14: ５．⑪欄は、⑨欄と⑩欄を比較して、いずれか少ない方の額を記載すること。

Sheet 1号様式（1）-2積算内訳書
A1: 第１号様式（１）－２
A3: 令和5年度 障害児通所支援事業所等における性被害防止対策に係る設備等支援事業 積算内訳書
B4: 施設種別：
B5: 施設等名：
A7: 事 業 区 分 | B7: 障害児通所支援事業所等における性被害防止対策に係る 設備等支援事業
A8: 実 施 予 定 年 月 日 | B8: 年 月頃
A9: 完 了 予 定 年 月 日 | B9: 年 月頃 | H9: 放課後等デイサービス
A10: 障害児通所支援事業所等における性被害防止対策に係る設備等支援事業を実施するために必要な事業の具体的な内訳等を記入すること。導入した備品の台数を記入すること。 | H10: 児童発達支援
A11: （需用費（燃料費、印刷製本費、光熱水費及び修繕料）、役務費（通信運搬費、手数料）、委託料、備品購入費、補助金及び交付金） | H11: 児童発達支援・放課後等デイサービス
A12: 事業を実施するために必要な事業の具体的な内訳等 | E12: 支出予定金額 | H12: 児童発達支援センター
H13: 福祉型入所施設
H14: 医療型入所施設
E20: =SUM(E13:F19) -> 0
D30: 事業費合計 | E30: =SUM(E13:F29) -> 0

Sheet 【第1号様式（３）】誓約書（入力不要）
A1: 第１号様式（３） | P1: 事業所名 | Q1: ='【第１号様式（２）】事業計画書'!E6 -> 0
A4: 誓 約 書
A7: 東 京 都 知 事 殿
A10: 令和７年度障害児通所支援事業所等における性被害防止対策に係る設備支援事業補助要綱（令和７年８月４日付７福祉障施第1310号）第５条の規定に基づく補助金交付申請を行うに当たり、当該申請により補助金等の交付を受けようとする者（法人その他の団体にあっては、代表者、役員又は使用人その他の従業員若しくは構成員を含む。）が東京都暴力団排除条例第２条第２号に規定する暴力団、同条第３号に規定する暴力団員又は同条第４号に規定する暴力団関係者（以下「暴力団員等」という。）に該当せず、かつ将来にわたっても該当しないことをここに誓約いたします。 また、この誓約に違反又は相違があり、同要綱別記２補助条件７（１）オの規定により補助金等の交付の決定の取消しを受けた場合において、同要綱別記２補助条件８の規定に基づき返還を命じられたときは、これに異議なく応じることを誓約いたします。 あわせて、知事が必要と認めた場合には、暴力団員等であるか否かの確認のため、警視庁へ照会がなされることに同意いたします。
A13: 令和 | C13: 年 | E13: 月 | G13: 日
L16: 所在地 | O16: ='【要押印】別記第１号様式 交付申請書（入力不要）'!N8 -> 0
L19: 法人名 | O19: ='【要押印】別記第１号様式 交付申請書（入力不要）'!R9 -> 0
L22: 代表者職・氏名
M23: ='【要押印】別記第１号様式 交付申請書（入力不要）'!U10 -> 0
A28: ＊ 法人その他の団体にあっては、主たる事務所の所在地、名称及び代表者の氏名を記入すること。 ＊ この誓約書における「暴力団関係者」とは、以下の者をいう。 ・ 暴力団又は暴力団員が実質的に経営を支配する法人等に所属する者 ・ 暴力団員を雇用している者 ・ 暴力団又は暴力団員を不当に利用していると認められる者 ・ 暴力団の維持、運営に協力し、又は関与していると認められる者 ・ 暴力団又は暴力団員と社会的に非難されるべき関係を有していると認められる者

Sheet 集計
A1: 申請日 | B1: 法人名 | C1: 主たる事務所の所在地 | D1: 代表者名 | E1: 交付申請額 | F1: 書類送付先 | J1: 所要額調書 | S1: 事業計画書 | Z1: 誓約書
F2: 郵便番号 | G2: 住所 | H2: 担当者 | I2: 電話番号 | J2: 施設種別 | K2: 総事業費 | L2: 寄付金収入 | M2: 差引額 | N2: 実支出予定額 | O2: 基準額 | P2: 選定額 | Q2: 選定額*3/4 | R2: 交付申請額 | S2: 事業所名 | T2: 事業所番号 | U2: 実施事業 | V2: 実施年月日 | W2: 完了年月日 | X2: 取り組み内容 | Y2: 事業費計 | Z2: 誓約年月日 | AA2: 法人名 | AB2: 代表者
A3: ='【要押印】別記第１号様式 交付申請書（入力不要）'!Y2&'【要押印】別記第１号様式 交付申請書（入力不要）'!AA2&"年"&'【要押印】別記第１号様式 交付申請書（入力不要）'!AD2&"月"&'【要押印】別記第１号様式 交付申請書（入力不要）'!AG2&"日" -> 令和 年月日 | B3: =IF('【要押印】別記第１号様式 交付申請書（入力不要）'!R9="","",'【要押印】別記第１号様式 交付申請書（入力不要）'!R9) -> 0 | C3: =IF('【要押印】別記第１号様式 交付申請書（入力不要）'!N8="","",'【要押印】別記第１号様式 交付申請書（入力不要）'!N8) -> 0 | E3: ='【要押印】別記第１号様式 交付申請書（入力不要）'!M21 | F3: =IF('【要押印】別記第１号様式 交付申請書（入力不要）'!U37="","",'【要押印】別記第１号様式 交付申請書（入力不要）'!U37) -> 0 | G3: =IF('【要押印】別記第１号様式 交付申請書（入力不要）'!O38="","",'【要押印】別記第１号様式 交付申請書（入力不要）'!O38) -> 0 | H3: =IF('【要押印】別記第１号様式 交付申請書（入力不要）'!O34="","",'【要押印】別記第１号様式 交付申請書（入力不要）'!O34) -> 0 | I3: =IF('【要押印】別記第１号様式 交付申請書（入力不要）'!O35="","",'【要押印】別記第１号様式 交付申請書（入力不要）'!O35) -> 0 | J3: =IF('【第１号様式（１）】申請額調書_施設個票（入力不要）'!C6="","",'【第１号様式（１）】申請額調書_施設個票（入力不要）'!C6) -> 0 | K3: =IF('【第１号様式（１）】申請額調書_施設個票（入力不要）'!D6="","",'【第１号様式（１）】申請額調書_施設個票（入力不要）'!D6) -> 0 | L3: =IF('【第１号様式（１）】申請額調書_施設個票（入力不要）'!E6="","",'【第１号様式（１）】申請額調書_施設個票（入力不要）'!E6) -> 0 | M3: =IF('【第１号様式（１）】申請額調書_施設個票（入力不要）'!F6=0,"",'【第１号様式（１）】申請額調書_施設個票（入力不要）'!F6) | N3: =IF('【第１号様式（１）】申請額調書_施設個票（入力不要）'!G6="","",'【第１号様式（１）】申請額調書_施設個票（入力不要）'!G6) -> 0 | O3: ='【第１号様式（１）】申請額調書_施設個票（入力不要）'!H6 -> 100000 | P3: =IF('【第１号様式（１）】申請額調書_施設個票（入力不要）'!I6=0,"",'【第１号様式（１）】申請額調書_施設個票（入力不要）'!I6) | Q3: =IF('【第１号様式（１）】申請額調書_施設個票（入力不要）'!J6=0,"",'【第１号様式（１）】申請額調書_施設個票（入力不要）'!J6) | R3: =IF('【第１号様式（１）】申請額調書_施設個票（入力不要）'!K6=0,"",'【第１号様式（１）】申請額調書_施設個票（入力不要）'!K6) | S3: =IF('【第１号様式（２）】事業計画書'!E6="","",'【第１号様式（２）】事業計画書'!E6) -> 0 | T3: =IF('【第１号様式（２）】事業計画書'!E8="","",'【第１号様式（２）】事業計画書'!E8) -> 0 | U3: =IF('【第１号様式（２）】事業計画書'!E10="","",'【第１号様式（２）】事業計画書'!E10) -> 0 | V3: ='【第１号様式（２）】事業計画書'!E15&'【第１号様式（２）】事業計画書'!F15&'【第１号様式（２）】事業計画書'!G15&'【第１号様式（２）】事業計画書'!H15&'【第１号様式（２）】事業計画書'!I15&'【第１号様式（２）】事業計画書'!J15&"日" -> 令和年月日 | W3: ='【第１号様式（２）】事業計画書'!E16&'【第１号様式（２）】事業計画書'!F16&'【第１号様式（２）】事業計画書'!F16&'【第１号様式（２）】事業計画書'!G16&'【第１号様式（２）】事業計画書'!H16&'【第１号様式（２）】事業計画書'!I16&'【第１号様式（２）】事業計画書'!J16&"日" -> 令和年月日 | X3: =IF('【第１号様式（２）】事業計画書'!E17="","",'【第１号様式（２）】事業計画書'!E17) | Y3: =IF('【第１号様式（２）】事業計画書'!M30=0,"",'【第１号様式（２）】事業計画書'!M30) | Z3: ='【第1号様式（３）】誓約書（入力不要）'!A13&'【第1号様式（３）】誓約書（入力不要）'!B13&'【第1号様式（３）】誓約書（入力不要）'!C13&'【第1号様式（３）】誓約書（入力不要）'!D13&'【第1号様式（３）】誓約書（入力不要）'!E13&'【第1号様式（３）】誓約書（入力不要）'!F13&'【第1号様式（３）】誓約書（入力不要）'!G13 -> 令和年月日 | AA3: =IF('【第1号様式（３）】誓約書（入力不要）'!O19="","",'【第1号様式（３）】誓約書（入力不要）'!O19) -> 0 | AB3: =IF('【第1号様式（３）】誓約書（入力不要）'!M23="","",'【第1号様式（３）】誓約書（入力不要）'!M23) -> 0
