Workbook

Sheet 別記第1号様式(交付申請)
B1: 別記第１号様式
X3: 令和 | AB3: 年 月 日
C6: 東京都知事 殿
N8: 主たる事務所の所在地
N10: 法人名
M11: 代表者職氏名 | AH11: 印
G14: 令和６年度障害者施設等物価高騰対策支援金交付申請書
C17: 標記の支援金について、下記のとおり申請します。
S19: 記
C21: １ | E21: 申請額 金 | O21: =IFERROR(SUM('別紙1 事業計画書'!92:92),"") -> 0 | X21: 円
C24: ２ | E24: 添付書類
C35: 連絡先 | H35: 担当部署
H36: 担当者
H37: 電 話
H38: e-mail

Sheet 別紙1 事業計画書
B1: 別紙1 | Q1: 別紙1-2 | AF1: 別紙1-3 | AU1: 別紙1-4 | BJ1: 別紙1-5 | BY1: 別紙1-6 | CN1: 別紙1-7 | DC1: 別紙1-8 | DR1: 別紙1-9 | EG1: 別紙1-10 | EV1: 別紙1-11 | FK1: 別紙1-12 | FZ1: 別紙1-13 | GO1: 別紙1-14 | HD1: 別紙1-15 | HS1: 別紙1-16 | IH1: 別紙1-17 | IW1: 別紙1-18 | JL1: 別紙1-19 | KA1: 別紙1-20 | KP1: 別紙1-21 | LE1: 別紙1-22 | LT1: 別紙1-23 | MI1: 別紙1-24 | MX1: 別紙1-25 | NM1: 別紙1-26 | OB1: 別紙1-27 | OQ1: 別紙1-28 | PF1: 別紙1-29 | PU1: 別紙1-30
L2: 法人名 | M2: =IFERROR('別記第1号様式(交付申請)'!$R$10,"") -> 0 | AA2: 法人名 | AB2: =IFERROR('別記第1号様式(交付申請)'!$R$10,"") -> 0 | AP2: 法人名 | AQ2: =IFERROR('別記第1号様式(交付申請)'!$R$10,"") -> 0 | BE2: 法人名 | BF2: =IFERROR('別記第1号様式(交付申請)'!$R$10,"") -> 0 | BT2: 法人名 | BU2: =IFERROR('別記第1号様式(交付申請)'!$R$10,"") -> 0 | CI2: 法人名 | CJ2: =IFERROR('別記第1号様式(交付申請)'!$R$10,"") -> 0 | CX2: 法人名 | CY2: =IFERROR('別記第1号様式(交付申請)'!$R$10,"") -> 0 | DM2: 法人名 | DN2: =IFERROR('別記第1号様式(交付申請)'!$R$10,"") -> 0 | EB2: 法人名 | EC2: =IFERROR('別記第1号様式(交付申請)'!$R$10,"") -> 0 | EQ2: 法人名 | ER2: =IFERROR('別記第1号様式(交付申請)'!$R$10,"") -> 0 | FF2: 法人名 | FG2: =IFERROR('別記第1号様式(交付申請)'!$R$10,"") -> 0 | FU2: 法人名 | FV2: =IFERROR('別記第1号様式(交付申請)'!$R$10,"") -> 0 | GJ2: 法人名 | GK2: =IFERROR('別記第1号様式(交付申請)'!$R$10,"") -> 0 | GY2: 法人名 | GZ2: =IFERROR('別記第1号様式(交付申請)'!$R$10,"") -> 0 | HN2: 法人名 | HO2: =IFERROR('別記第1号様式(交付申請)'!$R$10,"") -> 0 | IC2: 法人名 | ID2: =IFERROR('別記第1号様式(交付申請)'!$R$10,"") -> 0 | IR2: 法人名 | IS2: =IFERROR('別記第1号様式(交付申請)'!$R$10,"") -> 0 | JG2: 法人名 | JH2: =IFERROR('別記第1号様式(交付申請)'!$R$10,"") -> 0 | JV2: 法人名 | JW2: =IFERROR('別記第1号様式(交付申請)'!$R$10,"") -> 0 | KK2: 法人名 | KL2: =IFERROR('別記第1号様式(交付申請)'!$R$10,"") -> 0 | KZ2: 法人名 | LA2: =IFERROR('別記第1号様式(交付申請)'!$R$10,"") -> 0 | LO2: 法人名 | LP2: =IFERROR('別記第1号様式(交付申請)'!$R$10,"") -> 0 | MD2: 法人名 | ME2: =IFERROR('別記第1号様式(交付申請)'!$R$10,"") -> 0 | MS2: 法人名 | MT2: =IFERROR('別記第1号様式(交付申請)'!$R$10,"") -> 0 | NH2: 法人名 | NI2: =IFERROR('別記第1号様式(交付申請)'!$R$10,"") -> 0 | NW2: 法人名 | NX2: =IFERROR('別記第1号様式(交付申請)'!$R$10,"") -> 0 | OL2: 法人名 | OM2: =IFERROR('別記第1号様式(交付申請)'!$R$10,"") -> 0 | PA2: 法人名 | PB2: =IFERROR('別記第1号様式(交付申請)'!$R$10,"") -> 0 | PP2: 法人名 | PQ2: =IFERROR('別記第1号様式(交付申請)'!$R$10,"") -> 0 | QE2: 法人名 | QF2: =IFERROR('別記第1号様式(交付申請)'!$R$10,"") -> 0
L3: 法人番号 | AA3: 法人番号 | AB3: =$M$3 -> 0 | AP3: 法人番号 | AQ3: =$M$3 -> 0 | BE3: 法人番号 | BF3: =$M$3 -> 0 | BT3: 法人番号 | BU3: =$M$3 -> 0 | CI3: 法人番号 | CJ3: =$M$3 -> 0 | CX3: 法人番号 | CY3: =$M$3 -> 0 | DM3: 法人番号 | DN3: =$M$3 -> 0 | EB3: 法人番号 | EC3: =$M$3 -> 0 | EQ3: 法人番号 | ER3: =$M$3 -> 0 | FF3: 法人番号 | FG3: =$M$3 -> 0 | FU3: 法人番号 | FV3: =$M$3 -> 0 | GJ3: 法人番号 | GK3: =$M$3 -> 0 | GY3: 法人番号 | GZ3: =$M$3 -> 0 | HN3: 法人番号 | HO3: =$M$3 -> 0 | IC3: 法人番号 | ID3: =$M$3 -> 0 | IR3: 法人番号 | IS3: =$M$3 -> 0 | JG3: 法人番号 | JH3: =$M$3 -> 0 | JV3: 法人番号 | JW3: =$M$3 -> 0 | KK3: 法人番号 | KL3: =$M$3 -> 0 | KZ3: 法人番号 | LA3: =$M$3 -> 0 | LO3: 法人番号 | LP3: =$M$3 -> 0 | MD3: 法人番号 | ME3: =$M$3 -> 0 | MS3: 法人番号 | MT3: =$M$3 -> 0 | NH3: 法人番号 | NI3: =$M$3 -> 0 | NW3: 法人番号 | NX3: =$M$3 -> 0 | OL3: 法人番号 | OM3: =$M$3 -> 0 | PA3: 法人番号 | PB3: =$M$3 -> 0 | PP3: 法人番号 | PQ3: =$M$3 -> 0 | QE3: 法人番号 | QF3: =$M$3 -> 0
K4: 施設等の名称 | Z4: 施設等の名称 | AO4: 施設等の名称 | BD4: 施設等の名称 | BS4: 施設等の名称 | CH4: 施設等の名称 | CW4: 施設等の名称 | DL4: 施設等の名称 | EA4: 施設等の名称 | EP4: 施設等の名称 | FE4: 施設等の名称 | FT4: 施設等の名称 | GI4: 施設等の名称 | GX4: 施設等の名称 | HM4: 施設等の名称 | IB4: 施設等の名称 | IQ4: 施設等の名称 | JF4: 施設等の名称 | JU4: 施設等の名称 | KJ4: 施設等の名称 | KY4: 施設等の名称 | LN4: 施設等の名称 | MC4: 施設等の名称 | MR4: 施設等の名称 | NG4: 施設等の名称 | NV4: 施設等の名称 | OK4: 施設等の名称 | OZ4: 施設等の名称 | PO4: 施設等の名称 | QD4: 施設等の名称
L5: 施設種別 | AA5: 施設種別 | AP5: 施設種別 | BE5: 施設種別 | BT5: 施設種別 | CI5: 施設種別 | CX5: 施設種別 | DM5: 施設種別 | EB5: 施設種別 | EQ5: 施設種別 | FF5: 施設種別 | FU5: 施設種別 | GJ5: 施設種別 | GY5: 施設種別 | HN5: 施設種別 | IC5: 施設種別 | IR5: 施設種別 | JG5: 施設種別 | JV5: 施設種別 | KK5: 施設種別 | KZ5: 施設種別 | LO5: 施設種別 | MD5: 施設種別 | MS5: 施設種別 | NH5: 施設種別 | NW5: 施設種別 | OL5: 施設種別 | PA5: 施設種別 | PP5: 施設種別 | QE5: 施設種別
L6: 事業所番号 | AA6: 事業所番号 | AP6: 事業所番号 | BE6: 事業所番号 | BT6: 事業所番号 | CI6: 事業所番号 | CX6: 事業所番号 | DM6: 事業所番号 | EB6: 事業所番号 | EQ6: 事業所番号 | FF6: 事業所番号 | FU6: 事業所番号 | GJ6: 事業所番号 | GY6: 事業所番号 | HN6: 事業所番号 | IC6: 事業所番号 | IR6: 事業所番号 | JG6: 事業所番号 | JV6: 事業所番号 | KK6: 事業所番号 | KZ6: 事業所番号 | LO6: 事業所番号 | MD6: 事業所番号 | MS6: 事業所番号 | NH6: 事業所番号 | NW6: 事業所番号 | OL6: 事業所番号 | PA6: 事業所番号 | PP6: 事業所番号 | QE6: 事業所番号
F7: 事業計画書（所要額調書） | U7: 事業計画書（所要額調書） | AJ7: 事業計画書（所要額調書） | AY7: 事業計画書（所要額調書） | BN7: 事業計画書（所要額調書） | CC7: 事業計画書（所要額調書） | CR7: 事業計画書（所要額調書） | DG7: 事業計画書（所要額調書） | DV7: 事業計画書（所要額調書） | EK7: 事業計画書（所要額調書） | EZ7: 事業計画書（所要額調書） | FO7: 事業計画書（所要額調書） | GD7: 事業計画書（所要額調書） | GS7: 事業計画書（所要額調書） | HH7: 事業計画書（所要額調書） | HW7: 事業計画書（所要額調書） | IL7: 事業計画書（所要額調書） | JA7: 事業計画書（所要額調書） | JP7: 事業計画書（所要額調書） | KE7: 事業計画書（所要額調書） | KT7: 事業計画書（所要額調書） | LI7: 事業計画書（所要額調書） | LX7: 事業計画書（所要額調書） | MM7: 事業計画書（所要額調書） | NB7: 事業計画書（所要額調書） | NQ7: 事業計画書（所要額調書） | OF7: 事業計画書（所要額調書） | OU7: 事業計画書（所要額調書） | PJ7: 事業計画書（所要額調書） | PY7: 事業計画書（所要額調書）
N9: （円） | AC9: （円） | AR9: （円） | BG9: （円） | BV9: （円） | CK9: （円） | CZ9: （円） | DO9: （円） | ED9: （円） | ES9: （円） | FH9: （円） | FW9: （円） | GL9: （円） | HA9: （円） | HP9: （円） | IE9: （円） | IT9: （円） | JI9: （円） | JX9: （円） | KM9: （円） | LB9: （円） | LQ9: （円） | MF9: （円） | MU9: （円） | NJ9: （円） | NY9: （円） | ON9: （円） | PC9: （円） | PR9: （円） | QG9: （円）
C10: （A）基準額 | G10: （B）補助率 | K10: （C）積算額 | R10: （A）基準額 | V10: （B）補助率 | Z10: （C）積算額 | AG10: （A）基準額 | AK10: （B）補助率 | AO10: （C）積算額 | AV10: （A）基準額 | AZ10: （B）補助率 | BD10: （C）積算額 | BK10: （A）基準額 | BO10: （B）補助率 | BS10: （C）積算額 | BZ10: （A）基準額 | CD10: （B）補助率 | CH10: （C）積算額 | CO10: （A）基準額 | CS10: （B）補助率 | CW10: （C）積算額 | DD10: （A）基準額 | DH10: （B）補助率 | DL10: （C）積算額 | DS10: （A）基準額 | DW10: （B）補助率 | EA10: （C）積算額 | EH10: （A）基準額 | EL10: （B）補助率 | EP10: （C）積算額 | EW10: （A）基準額 | FA10: （B）補助率 | FE10: （C）積算額 | FL10: （A）基準額 | FP10: （B）補助率 | FT10: （C）積算額 | GA10: （A）基準額 | GE10: （B）補助率 | GI10: （C）積算額 | GP10: （A）基準額 | GT10: （B）補助率 | GX10: （C）積算額 | HE10: （A）基準額 | HI10: （B）補助率 | HM10: （C）積算額 | HT10: （A）基準額 | HX10: （B）補助率 | IB10: （C）積算額 | II10: （A）基準額 | IM10: （B）補助率 | IQ10: （C）積算額 | IX10: （A）基準額 | JB10: （B）補助率 | JF10: （C）積算額 | JM10: （A）基準額 | JQ10: （B）補助率 | JU10: （C）積算額 | KB10: （A）基準額 | KF10: （B）補助率 | KJ10: （C）積算額 | KQ10: （A）基準額 | KU10: （B）補助率 | KY10: （C）積算額 | LF10: （A）基準額 | LJ10: （B）補助率 | LN10: （C）積算額 | LU10: （A）基準額 | LY10: （B）補助率 | MC10: （C）積算額 | MJ10: （A）基準額 | MN10: （B）補助率 | MR10: （C）積算額 | MY10: （A）基準額 | NC10: （B）補助率 | NG10: （C）積算額 | NN10: （A）基準額 | NR10: （B）補助率 | NV10: （C）積算額 | OC10: （A）基準額 | OG10: （B）補助率 | OK10: （C）積算額 | OR10: （A）基準額 | OV10: （B）補助率 | OZ10: （C）積算額 | PG10: （A）基準額 | PK10: （B）補助率 | PO10: （C）積算額 | PV10: （A）基準額 | PZ10: （B）補助率 | QD10: （C）積算額
C11: =IFERROR(VLOOKUP(I64,'別紙1 事業計画書'!C$37:D$62,2,FALSE),"") | G11: 1 | K11: =IFERROR(C11*G11,"") | R11: =IFERROR(VLOOKUP(X64,'別紙1 事業計画書'!R$37:S$62,2,FALSE),"") | V11: 1 | Z11: =IFERROR(R11*V11,"") | AG11: =IFERROR(VLOOKUP(AM64,'別紙1 事業計画書'!AG$37:AH$62,2,FALSE),"") | AK11: 1 | AO11: =IFERROR(AG11*AK11,"") | AV11: =IFERROR(VLOOKUP(BB64,'別紙1 事業計画書'!AV$37:AW$62,2,FALSE),"") | AZ11: 1 | BD11: =IFERROR(AV11*AZ11,"") | BK11: =IFERROR(VLOOKUP(BQ64,'別紙1 事業計画書'!BK$37:BL$62,2,FALSE),"") | BO11: 1 | BS11: =IFERROR(BK11*BO11,"") | BZ11: =IFERROR(VLOOKUP(CF64,'別紙1 事業計画書'!BZ$37:CA$62,2,FALSE),"") | CD11: 1 | CH11: =IFERROR(BZ11*CD11,"") | CO11: =IFERROR(VLOOKUP(CU64,'別紙1 事業計画書'!CO$37:CP$62,2,FALSE),"") | CS11: 1 | CW11: =IFERROR(CO11*CS11,"") | DD11: =IFERROR(VLOOKUP(DJ64,'別紙1 事業計画書'!DD$37:DE$62,2,FALSE),"") | DH11: 1 | DL11: =IFERROR(DD11*DH11,"") | DS11: =IFERROR(VLOOKUP(DY64,'別紙1 事業計画書'!DS$37:DT$62,2,FALSE),"") | DW11: 1 | EA11: =IFERROR(DS11*DW11,"") | EH11: =IFERROR(VLOOKUP(EN64,'別紙1 事業計画書'!EH$37:EI$62,2,FALSE),"") | EL11: 1 | EP11: =IFERROR(EH11*EL11,"") | EW11: =IFERROR(VLOOKUP(FC64,'別紙1 事業計画書'!EW$37:EX$62,2,FALSE),"") | FA11: 1 | FE11: =IFERROR(EW11*FA11,"") | FL11: =IFERROR(VLOOKUP(FR64,'別紙1 事業計画書'!FL$37:FM$62,2,FALSE),"") | FP11: 1 | FT11: =IFERROR(FL11*FP11,"") | GA11: =IFERROR(VLOOKUP(GG64,'別紙1 事業計画書'!GA$37:GB$62,2,FALSE),"") | GE11: 1 | GI11: =IFERROR(GA11*GE11,"") | GP11: =IFERROR(VLOOKUP(GV64,'別紙1 事業計画書'!GP$37:GQ$62,2,FALSE),"") | GT11: 1 | GX11: =IFERROR(GP11*GT11,"") | HE11: =IFERROR(VLOOKUP(HK64,'別紙1 事業計画書'!HE$37:HF$62,2,FALSE),"") | HI11: 1 | HM11: =IFERROR(HE11*HI11,"") | HT11: =IFERROR(VLOOKUP(HZ64,'別紙1 事業計画書'!HT$37:HU$62,2,FALSE),"") | HX11: 1 | IB11: =IFERROR(HT11*HX11,"") | II11: =IFERROR(VLOOKUP(IO64,'別紙1 事業計画書'!II$37:IJ$62,2,FALSE),"") | IM11: 1 | IQ11: =IFERROR(II11*IM11,"") | IX11: =IFERROR(VLOOKUP(JD64,'別紙1 事業計画書'!IX$37:IY$62,2,FALSE),"") | JB11: 1 | JF11: =IFERROR(IX11*JB11,"") | JM11: =IFERROR(VLOOKUP(JS64,'別紙1 事業計画書'!JM$37:JN$62,2,FALSE),"") | JQ11: 1 | JU11: =IFERROR(JM11*JQ11,"") | KB11: =IFERROR(VLOOKUP(KH64,'別紙1 事業計画書'!KB$37:KC$62,2,FALSE),"") | KF11: 1 | KJ11: =IFERROR(KB11*KF11,"") | KQ11: =IFERROR(VLOOKUP(KW64,'別紙1 事業計画書'!KQ$37:KR$62,2,FALSE),"") | KU11: 1 | KY11: =IFERROR(KQ11*KU11,"") | LF11: =IFERROR(VLOOKUP(LL64,'別紙1 事業計画書'!LF$37:LG$62,2,FALSE),"") | LJ11: 1 | LN11: =IFERROR(LF11*LJ11,"") | LU11: =IFERROR(VLOOKUP(MA64,'別紙1 事業計画書'!LU$37:LV$62,2,FALSE),"") | LY11: 1 | MC11: =IFERROR(LU11*LY11,"") | MJ11: =IFERROR(VLOOKUP(MP64,'別紙1 事業計画書'!MJ$37:MK$62,2,FALSE),"") | MN11: 1 | MR11: =IFERROR(MJ11*MN11,"") | MY11: =IFERROR(VLOOKUP(NE64,'別紙1 事業計画書'!MY$37:MZ$62,2,FALSE),"") | NC11: 1 | NG11: =IFERROR(MY11*NC11,"") | NN11: =IFERROR(VLOOKUP(NT64,'別紙1 事業計画書'!NN$37:NO$62,2,FALSE),"") | NR11: 1 | NV11: =IFERROR(NN11*NR11,"") | OC11: =IFERROR(VLOOKUP(OI64,'別紙1 事業計画書'!OC$37:OD$62,2,FALSE),"") | OG11: 1 | OK11: =IFERROR(OC11*OG11,"") | OR11: =IFERROR(VLOOKUP(OX64,'別紙1 事業計画書'!OR$37:OS$62,2,FALSE),"") | OV11: 1 | OZ11: =IFERROR(OR11*OV11,"") | PG11: =IFERROR(VLOOKUP(PM64,'別紙1 事業計画書'!PG$37:PH$62,2,FALSE),"") | PK11: 1 | PO11: =IFERROR(PG11*PK11,"") | PV11: =IFERROR(VLOOKUP(QB64,'別紙1 事業計画書'!PV$37:PW$62,2,FALSE),"") | PZ11: 1 | QD11: =IFERROR(PV11*PZ11,"")
C13: =IFERROR(VLOOKUP(I64,'別紙1 事業計画書'!$C$37:$E$62,3,FALSE),"①") -> ① | R13: =IFERROR(VLOOKUP(X64,'別紙1 事業計画書'!$C$37:$E$62,3,FALSE),"①") -> ① | AG13: =IFERROR(VLOOKUP(AM64,'別紙1 事業計画書'!$C$37:$E$62,3,FALSE),"①") -> ① | AV13: =IFERROR(VLOOKUP(BB64,'別紙1 事業計画書'!$C$37:$E$62,3,FALSE),"①") -> ① | BK13: =IFERROR(VLOOKUP(BQ64,'別紙1 事業計画書'!$C$37:$E$62,3,FALSE),"①") -> ① | BZ13: =IFERROR(VLOOKUP(CF64,'別紙1 事業計画書'!$C$37:$E$62,3,FALSE),"①") -> ① | CO13: =IFERROR(VLOOKUP(CU64,'別紙1 事業計画書'!$C$37:$E$62,3,FALSE),"①") -> ① | DD13: =IFERROR(VLOOKUP(DJ64,'別紙1 事業計画書'!$C$37:$E$62,3,FALSE),"①") -> ① | DS13: =IFERROR(VLOOKUP(DY64,'別紙1 事業計画書'!$C$37:$E$62,3,FALSE),"①") -> ① | EH13: =IFERROR(VLOOKUP(EN64,'別紙1 事業計画書'!$C$37:$E$62,3,FALSE),"①") -> ① | EW13: =IFERROR(VLOOKUP(FC64,'別紙1 事業計画書'!$C$37:$E$62,3,FALSE),"①") -> ① | FL13: =IFERROR(VLOOKUP(FR64,'別紙1 事業計画書'!$C$37:$E$62,3,FALSE),"①") -> ① | GA13: =IFERROR(VLOOKUP(GG64,'別紙1 事業計画書'!$C$37:$E$62,3,FALSE),"①") -> ① | GP13: =IFERROR(VLOOKUP(GV64,'別紙1 事業計画書'!$C$37:$E$62,3,FALSE),"①") -> ① | HE13: =IFERROR(VLOOKUP(HK64,'別紙1 事業計画書'!$C$37:$E$62,3,FALSE),"①") -> ① | HT13: =IFERROR(VLOOKUP(HZ64,'別紙1 事業計画書'!$C$37:$E$62,3,FALSE),"①") -> ① | II13: =IFERROR(VLOOKUP(IO64,'別紙1 事業計画書'!$C$37:$E$62,3,FALSE),"①") -> ① | IX13: =IFERROR(VLOOKUP(JD64,'別紙1 事業計画書'!$C$37:$E$62,3,FALSE),"①") -> ① | JM13: =IFERROR(VLOOKUP(JS64,'別紙1 事業計画書'!$C$37:$E$62,3,FALSE),"①") -> ① | KB13: =IFERROR(VLOOKUP(KH64,'別紙1 事業計画書'!$C$37:$E$62,3,FALSE),"①") -> ① | KQ13: =IFERROR(VLOOKUP(KW64,'別紙1 事業計画書'!$C$37:$E$62,3,FALSE),"①") -> ① | LF13: =IFERROR(VLOOKUP(LL64,'別紙1 事業計画書'!$C$37:$E$62,3,FALSE),"①") -> ① | LU13: =IFERROR(VLOOKUP(MA64,'別紙1 事業計画書'!$C$37:$E$62,3,FALSE),"①") -> ① | MJ13: =IFERROR(VLOOKUP(MP64,'別紙1 事業計画書'!$C$37:$E$62,3,FALSE),"①") -> ① | MY13: =IFERROR(VLOOKUP(NE64,'別紙1 事業計画書'!$C$37:$E$62,3,FALSE),"①") -> ① | NN13: =IFERROR(VLOOKUP(NT64,'別紙1 事業計画書'!$C$37:$E$62,3,FALSE),"①") -> ① | OC13: =IFERROR(VLOOKUP(OI64,'別紙1 事業計画書'!$C$37:$E$62,3,FALSE),"①") -> ① | OR13: =IFERROR(VLOOKUP(OX64,'別紙1 事業計画書'!$C$37:$E$62,3,FALSE),"①") -> ① | PG13: =IFERROR(VLOOKUP(PM64,'別紙1 事業計画書'!$C$37:$E$62,3,FALSE),"①") -> ① | PV13: =IFERROR(VLOOKUP(QB64,'別紙1 事業計画書'!$C$37:$E$62,3,FALSE),"①") -> ①
C18: =IFERROR(VLOOKUP(I64,'別紙1 事業計画書'!$C$37:$G$62,5,FALSE),"error") -> error | R18: =IFERROR(VLOOKUP(X64,'別紙1 事業計画書'!$C$37:$G$62,5,FALSE),"error") -> error | AG18: =IFERROR(VLOOKUP(AM64,'別紙1 事業計画書'!$C$37:$G$62,5,FALSE),"error") -> error | AV18: =IFERROR(VLOOKUP(BB64,'別紙1 事業計画書'!$C$37:$G$62,5,FALSE),"error") -> error | BK18: =IFERROR(VLOOKUP(BQ64,'別紙1 事業計画書'!$C$37:$G$62,5,FALSE),"error") -> error | BZ18: =IFERROR(VLOOKUP(CF64,'別紙1 事業計画書'!$C$37:$G$62,5,FALSE),"error") -> error | CO18: =IFERROR(VLOOKUP(CU64,'別紙1 事業計画書'!$C$37:$G$62,5,FALSE),"error") -> error | DD18: =IFERROR(VLOOKUP(DJ64,'別紙1 事業計画書'!$C$37:$G$62,5,FALSE),"error") -> error | DS18: =IFERROR(VLOOKUP(DY64,'別紙1 事業計画書'!$C$37:$G$62,5,FALSE),"error") -> error | EH18: =IFERROR(VLOOKUP(EN64,'別紙1 事業計画書'!$C$37:$G$62,5,FALSE),"error") -> error | EW18: =IFERROR(VLOOKUP(FC64,'別紙1 事業計画書'!$C$37:$G$62,5,FALSE),"error") -> error | FL18: =IFERROR(VLOOKUP(FR64,'別紙1 事業計画書'!$C$37:$G$62,5,FALSE),"error") -> error | GA18: =IFERROR(VLOOKUP(GG64,'別紙1 事業計画書'!$C$37:$G$62,5,FALSE),"error") -> error | GP18: =IFERROR(VLOOKUP(GV64,'別紙1 事業計画書'!$C$37:$G$62,5,FALSE),"error") -> error | HE18: =IFERROR(VLOOKUP(HK64,'別紙1 事業計画書'!$C$37:$G$62,5,FALSE),"error") -> error | HT18: =IFERROR(VLOOKUP(HZ64,'別紙1 事業計画書'!$C$37:$G$62,5,FALSE),"error") -> error | II18: =IFERROR(VLOOKUP(IO64,'別紙1 事業計画書'!$C$37:$G$62,5,FALSE),"error") -> error | IX18: =IFERROR(VLOOKUP(JD64,'別紙1 事業計画書'!$C$37:$G$62,5,FALSE),"error") -> error | JM18: =IFERROR(VLOOKUP(JS64,'別紙1 事業計画書'!$C$37:$G$62,5,FALSE),"error") -> error | KB18: =IFERROR(VLOOKUP(KH64,'別紙1 事業計画書'!$C$37:$G$62,5,FALSE),"error") -> error | KQ18: =IFERROR(VLOOKUP(KW64,'別紙1 事業計画書'!$C$37:$G$62,5,FALSE),"error") -> error | LF18: =IFERROR(VLOOKUP(LL64,'別紙1 事業計画書'!$C$37:$G$62,5,FALSE),"error") -> error | LU18: =IFERROR(VLOOKUP(MA64,'別紙1 事業計画書'!$C$37:$G$62,5,FALSE),"error") -> error | MJ18: =IFERROR(VLOOKUP(MP64,'別紙1 事業計画書'!$C$37:$G$62,5,FALSE),"error") -> error | MY18: =IFERROR(VLOOKUP(NE64,'別紙1 事業計画書'!$C$37:$G$62,5,FALSE),"error") -> error | NN18: =IFERROR(VLOOKUP(NT64,'別紙1 事業計画書'!$C$37:$G$62,5,FALSE),"error") -> error | OC18: =IFERROR(VLOOKUP(OI64,'別紙1 事業計画書'!$C$37:$G$62,5,FALSE),"error") -> error | OR18: =IFERROR(VLOOKUP(OX64,'別紙1 事業計画書'!$C$37:$G$62,5,FALSE),"error") -> error | PG18: =IFERROR(VLOOKUP(PM64,'別紙1 事業計画書'!$C$37:$G$62,5,FALSE),"error") -> error | PV18: =IFERROR(VLOOKUP(QB64,'別紙1 事業計画書'!$C$37:$G$62,5,FALSE),"error") -> error
C19: =IFERROR(VLOOKUP(I64,'別紙1 事業計画書'!$C$37:$F$62,4,FALSE),"error") -> error | R19: =IFERROR(VLOOKUP(X64,'別紙1 事業計画書'!$C$37:$F$62,4,FALSE),"error") -> error | AG19: =IFERROR(VLOOKUP(AM64,'別紙1 事業計画書'!$C$37:$F$62,4,FALSE),"error") -> error | AV19: =IFERROR(VLOOKUP(BB64,'別紙1 事業計画書'!$C$37:$F$62,4,FALSE),"error") -> error | BK19: =IFERROR(VLOOKUP(BQ64,'別紙1 事業計画書'!$C$37:$F$62,4,FALSE),"error") -> error | BZ19: =IFERROR(VLOOKUP(CF64,'別紙1 事業計画書'!$C$37:$F$62,4,FALSE),"error") -> error | CO19: =IFERROR(VLOOKUP(CU64,'別紙1 事業計画書'!$C$37:$F$62,4,FALSE),"error") -> error | DD19: =IFERROR(VLOOKUP(DJ64,'別紙1 事業計画書'!$C$37:$F$62,4,FALSE),"error") -> error | DS19: =IFERROR(VLOOKUP(DY64,'別紙1 事業計画書'!$C$37:$F$62,4,FALSE),"error") -> error | EH19: =IFERROR(VLOOKUP(EN64,'別紙1 事業計画書'!$C$37:$F$62,4,FALSE),"error") -> error | EW19: =IFERROR(VLOOKUP(FC64,'別紙1 事業計画書'!$C$37:$F$62,4,FALSE),"error") -> error | FL19: =IFERROR(VLOOKUP(FR64,'別紙1 事業計画書'!$C$37:$F$62,4,FALSE),"error") -> error | GA19: =IFERROR(VLOOKUP(GG64,'別紙1 事業計画書'!$C$37:$F$62,4,FALSE),"error") -> error | GP19: =IFERROR(VLOOKUP(GV64,'別紙1 事業計画書'!$C$37:$F$62,4,FALSE),"error") -> error | HE19: =IFERROR(VLOOKUP(HK64,'別紙1 事業計画書'!$C$37:$F$62,4,FALSE),"error") -> error | HT19: =IFERROR(VLOOKUP(HZ64,'別紙1 事業計画書'!$C$37:$F$62,4,FALSE),"error") -> error | II19: =IFERROR(VLOOKUP(IO64,'別紙1 事業計画書'!$C$37:$F$62,4,FALSE),"error") -> error | IX19: =IFERROR(VLOOKUP(JD64,'別紙1 事業計画書'!$C$37:$F$62,4,FALSE),"error") -> error | JM19: =IFERROR(VLOOKUP(JS64,'別紙1 事業計画書'!$C$37:$F$62,4,FALSE),"error") -> error | KB19: =IFERROR(VLOOKUP(KH64,'別紙1 事業計画書'!$C$37:$F$62,4,FALSE),"error") -> error | KQ19: =IFERROR(VLOOKUP(KW64,'別紙1 事業計画書'!$C$37:$F$62,4,FALSE),"error") -> error | LF19: =IFERROR(VLOOKUP(LL64,'別紙1 事業計画書'!$C$37:$F$62,4,FALSE),"error") -> error | LU19: =IFERROR(VLOOKUP(MA64,'別紙1 事業計画書'!$C$37:$F$62,4,FALSE),"error") -> error | MJ19: =IFERROR(VLOOKUP(MP64,'別紙1 事業計画書'!$C$37:$F$62,4,FALSE),"error") -> error | MY19: =IFERROR(VLOOKUP(NE64,'別紙1 事業計画書'!$C$37:$F$62,4,FALSE),"error") -> error | NN19: =IFERROR(VLOOKUP(NT64,'別紙1 事業計画書'!$C$37:$F$62,4,FALSE),"error") -> error | OC19: =IFERROR(VLOOKUP(OI64,'別紙1 事業計画書'!$C$37:$F$62,4,FALSE),"error") -> error | OR19: =IFERROR(VLOOKUP(OX64,'別紙1 事業計画書'!$C$37:$F$62,4,FALSE),"error") -> error | PG19: =IFERROR(VLOOKUP(PM64,'別紙1 事業計画書'!$C$37:$F$62,4,FALSE),"error") -> error | PV19: =IFERROR(VLOOKUP(QB64,'別紙1 事業計画書'!$C$37:$F$62,4,FALSE),"error") -> error
D20: 10月 | E20: 11月 | F20: 12月 | G20: １月 | H20: ２月 | I20: ３月 | S20: 10月 | T20: 11月 | U20: 12月 | V20: １月 | W20: ２月 | X20: ３月 | AH20: 10月 | AI20: 11月 | AJ20: 12月 | AK20: １月 | AL20: ２月 | AM20: ３月 | AW20: 10月 | AX20: 11月 | AY20: 12月 | AZ20: １月 | BA20: ２月 | BB20: ３月 | BL20: 10月 | BM20: 11月 | BN20: 12月 | BO20: １月 | BP20: ２月 | BQ20: ３月 | CA20: 10月 | CB20: 11月 | CC20: 12月 | CD20: １月 | CE20: ２月 | CF20: ３月 | CP20: 10月 | CQ20: 11月 | CR20: 12月 | CS20: １月 | CT20: ２月 | CU20: ３月 | DE20: 10月 | DF20: 11月 | DG20: 12月 | DH20: １月 | DI20: ２月 | DJ20: ３月 | DT20: 10月 | DU20: 11月 | DV20: 12月 | DW20: １月 | DX20: ２月 | DY20: ３月 | EI20: 10月 | EJ20: 11月 | EK20: 12月 | EL20: １月 | EM20: ２月 | EN20: ３月 | EX20: 10月 | EY20: 11月 | EZ20: 12月 | FA20: １月 | FB20: ２月 | FC20: ３月 | FM20: 10月 | FN20: 11月 | FO20: 12月 | FP20: １月 | FQ20: ２月 | FR20: ３月 | GB20: 10月 | GC20: 11月 | GD20: 12月 | GE20: １月 | GF20: ２月 | GG20: ３月 | GQ20: 10月 | GR20: 11月 | GS20: 12月 | GT20: １月 | GU20: ２月 | GV20: ３月 | HF20: 10月 | HG20: 11月 | HH20: 12月 | HI20: １月 | HJ20: ２月 | HK20: ３月 | HU20: 10月 | HV20: 11月 | HW20: 12月 | HX20: １月 | HY20: ２月 | HZ20: ３月 | IJ20: 10月 | IK20: 11月 | IL20: 12月 | IM20: １月 | IN20: ２月 | IO20: ３月 | IY20: 10月 | IZ20: 11月 | JA20: 12月 | JB20: １月 | JC20: ２月 | JD20: ３月 | JN20: 10月 | JO20: 11月 | JP20: 12月 | JQ20: １月 | JR20: ２月 | JS20: ３月 | KC20: 10月 | KD20: 11月 | KE20: 12月 | KF20: １月 | KG20: ２月 | KH20: ３月 | KR20: 10月 | KS20: 11月 | KT20: 12月 | KU20: １月 | KV20: ２月 | KW20: ３月 | LG20: 10月 | LH20: 11月 | LI20: 12月 | LJ20: １月 | LK20: ２月 | LL20: ３月 | LV20: 10月 | LW20: 11月 | LX20: 12月 | LY20: １月 | LZ20: ２月 | MA20: ３月 | MK20: 10月 | ML20: 11月 | MM20: 12月 | MN20: １月 | MO20: ２月 | MP20: ３月 | MZ20: 10月 | NA20: 11月 | NB20: 12月 | NC20: １月 | ND20: ２月 | NE20: ３月 | NO20: 10月 | NP20: 11月 | NQ20: 12月 | NR20: １月 | NS20: ２月 | NT20: ３月 | OD20: 10月 | OE20: 11月 | OF20: 12月 | OG20: １月 | OH20: ２月 | OI20: ３月 | OS20: 10月 | OT20: 11月 | OU20: 12月 | OV20: １月 | OW20: ２月 | OX20: ３月 | PH20: 10月 | PI20: 11月 | PJ20: 12月 | PK20: １月 | PL20: ２月 | PM20: ３月 | PW20: 10月 | PX20: 11月 | PY20: 12月 | PZ20: １月 | QA20: ２月 | QB20: ３月
C21: =IFERROR(VLOOKUP(I64,'別紙1 事業計画書'!$C$37:$H$62,6,FALSE),"error") -> error | R21: =IFERROR(VLOOKUP(X64,'別紙1 事業計画書'!$C$37:$H$62,6,FALSE),"error") -> error | AG21: =IFERROR(VLOOKUP(AM64,'別紙1 事業計画書'!$C$37:$H$62,6,FALSE),"error") -> error | AV21: =IFERROR(VLOOKUP(BB64,'別紙1 事業計画書'!$C$37:$H$62,6,FALSE),"error") -> error | BK21: =IFERROR(VLOOKUP(BQ64,'別紙1 事業計画書'!$C$37:$H$62,6,FALSE),"error") -> error | BZ21: =IFERROR(VLOOKUP(CF64,'別紙1 事業計画書'!$C$37:$H$62,6,FALSE),"error") -> error | CO21: =IFERROR(VLOOKUP(CU64,'別紙1 事業計画書'!$C$37:$H$62,6,FALSE),"error") -> error | DD21: =IFERROR(VLOOKUP(DJ64,'別紙1 事業計画書'!$C$37:$H$62,6,FALSE),"error") -> error | DS21: =IFERROR(VLOOKUP(DY64,'別紙1 事業計画書'!$C$37:$H$62,6,FALSE),"error") -> error | EH21: =IFERROR(VLOOKUP(EN64,'別紙1 事業計画書'!$C$37:$H$62,6,FALSE),"error") -> error | EW21: =IFERROR(VLOOKUP(FC64,'別紙1 事業計画書'!$C$37:$H$62,6,FALSE),"error") -> error | FL21: =IFERROR(VLOOKUP(FR64,'別紙1 事業計画書'!$C$37:$H$62,6,FALSE),"error") -> error | GA21: =IFERROR(VLOOKUP(GG64,'別紙1 事業計画書'!$C$37:$H$62,6,FALSE),"error") -> error | GP21: =IFERROR(VLOOKUP(GV64,'別紙1 事業計画書'!$C$37:$H$62,6,FALSE),"error") -> error | HE21: =IFERROR(VLOOKUP(HK64,'別紙1 事業計画書'!$C$37:$H$62,6,FALSE),"error") -> error | HT21: =IFERROR(VLOOKUP(HZ64,'別紙1 事業計画書'!$C$37:$H$62,6,FALSE),"error") -> error | II21: =IFERROR(VLOOKUP(IO64,'別紙1 事業計画書'!$C$37:$H$62,6,FALSE),"error") -> error | IX21: =IFERROR(VLOOKUP(JD64,'別紙1 事業計画書'!$C$37:$H$62,6,FALSE),"error") -> error | JM21: =IFERROR(VLOOKUP(JS64,'別紙1 事業計画書'!$C$37:$H$62,6,FALSE),"error") -> error | KB21: =IFERROR(VLOOKUP(KH64,'別紙1 事業計画書'!$C$37:$H$62,6,FALSE),"error") -> error | KQ21: =IFERROR(VLOOKUP(KW64,'別紙1 事業計画書'!$C$37:$H$62,6,FALSE),"error") -> error | LF21: =IFERROR(VLOOKUP(LL64,'別紙1 事業計画書'!$C$37:$H$62,6,FALSE),"error") -> error | LU21: =IFERROR(VLOOKUP(MA64,'別紙1 事業計画書'!$C$37:$H$62,6,FALSE),"error") -> error | MJ21: =IFERROR(VLOOKUP(MP64,'別紙1 事業計画書'!$C$37:$H$62,6,FALSE),"error") -> error | MY21: =IFERROR(VLOOKUP(NE64,'別紙1 事業計画書'!$C$37:$H$62,6,FALSE),"error") -> error | NN21: =IFERROR(VLOOKUP(NT64,'別紙1 事業計画書'!$C$37:$H$62,6,FALSE),"error") -> error | OC21: =IFERROR(VLOOKUP(OI64,'別紙1 事業計画書'!$C$37:$H$62,6,FALSE),"error") -> error | OR21: =IFERROR(VLOOKUP(OX64,'別紙1 事業計画書'!$C$37:$H$62,6,FALSE),"error") -> error | PG21: =IFERROR(VLOOKUP(PM64,'別紙1 事業計画書'!$C$37:$H$62,6,FALSE),"error") -> error | PV21: =IFERROR(VLOOKUP(QB64,'別紙1 事業計画書'!$C$37:$H$62,6,FALSE),"error") -> error
B24: 別表1(入所系) | C24: 補助基準額 | D24: 2962 | Q24: 別表1(入所系) | R24: 補助基準額 | S24: 2962 | AF24: 別表1(入所系) | AG24: 補助基準額 | AH24: 2962 | AU24: 別表1(入所系) | AV24: 補助基準額 | AW24: 2962 | BJ24: 別表1(入所系) | BK24: 補助基準額 | BL24: 2962 | BY24: 別表1(入所系) | BZ24: 補助基準額 | CA24: 2962 | CN24: 別表1(入所系) | CO24: 補助基準額 | CP24: 2962 | DC24: 別表1(入所系) | DD24: 補助基準額 | DE24: 2962 | DR24: 別表1(入所系) | DS24: 補助基準額 | DT24: 2962 | EG24: 別表1(入所系) | EH24: 補助基準額 | EI24: 2962 | EV24: 別表1(入所系) | EW24: 補助基準額 | EX24: 2962 | FK24: 別表1(入所系) | FL24: 補助基準額 | FM24: 2962 | FZ24: 別表1(入所系) | GA24: 補助基準額 | GB24: 2962 | GO24: 別表1(入所系) | GP24: 補助基準額 | GQ24: 2962 | HD24: 別表1(入所系) | HE24: 補助基準額 | HF24: 2962 | HS24: 別表1(入所系) | HT24: 補助基準額 | HU24: 2962 | IH24: 別表1(入所系) | II24: 補助基準額 | IJ24: 2962 | IW24: 別表1(入所系) | IX24: 補助基準額 | IY24: 2962 | JL24: 別表1(入所系) | JM24: 補助基準額 | JN24: 2962 | KA24: 別表1(入所系) | KB24: 補助基準額 | KC24: 2962 | KP24: 別表1(入所系) | KQ24: 補助基準額 | KR24: 2962 | LE24: 別表1(入所系) | LF24: 補助基準額 | LG24: 2962 | LT24: 別表1(入所系) | LU24: 補助基準額 | LV24: 2962 | MI24: 別表1(入所系) | MJ24: 補助基準額 | MK24: 2962 | MX24: 別表1(入所系) | MY24: 補助基準額 | MZ24: 2962 | NM24: 別表1(入所系) | NN24: 補助基準額 | NO24: 2962 | OB24: 別表1(入所系) | OC24: 補助基準額 | OD24: 2962 | OQ24: 別表1(入所系) | OR24: 補助基準額 | OS24: 2962 | PF24: 別表1(入所系) | PG24: 補助基準額 | PH24: 2962 | PU24: 別表1(入所系) | PV24: 補助基準額 | PW24: 2962
B25: 1～6 | C25: 基準額×定員数 | D25: =D21*$D$24 -> 0 | E25: =E21*$D$24 -> 0 | F25: =F21*$D$24 -> 0 | G25: =G21*$D$24 -> 0 | H25: =H21*$D$24 -> 0 | I25: =I21*$D$24 -> 0 | Q25: 1～6 | R25: 基準額×定員数 | S25: =S21*$D$24 -> 0 | T25: =T21*$D$24 -> 0 | U25: =U21*$D$24 -> 0 | V25: =V21*$D$24 -> 0 | W25: =W21*$D$24 -> 0 | X25: =X21*$D$24 -> 0 | AF25: 1～6 | AG25: 基準額×定員数 | AH25: =AH21*$D$24 -> 0 | AI25: =AI21*$D$24 -> 0 | AJ25: =AJ21*$D$24 -> 0 | AK25: =AK21*$D$24 -> 0 | AL25: =AL21*$D$24 -> 0 | AM25: =AM21*$D$24 -> 0 | AU25: 1～6 | AV25: 基準額×定員数 | AW25: =AW21*$D$24 -> 0 | AX25: =AX21*$D$24 -> 0 | AY25: =AY21*$D$24 -> 0 | AZ25: =AZ21*$D$24 -> 0 | BA25: =BA21*$D$24 -> 0 | BB25: =BB21*$D$24 -> 0 | BJ25: 1～6 | BK25: 基準額×定員数 | BL25: =BL21*$D$24 -> 0 | BM25: =BM21*$D$24 -> 0 | BN25: =BN21*$D$24 -> 0 | BO25: =BO21*$D$24 -> 0 | BP25: =BP21*$D$24 -> 0 | BQ25: =BQ21*$D$24 -> 0 | BY25: 1～6 | BZ25: 基準額×定員数 | CA25: =CA21*$D$24 -> 0 | CB25: =CB21*$D$24 -> 0 | CC25: =CC21*$D$24 -> 0 | CD25: =CD21*$D$24 -> 0 | CE25: =CE21*$D$24 -> 0 | CF25: =CF21*$D$24 -> 0 | CN25: 1～6 | CO25: 基準額×定員数 | CP25: =CP21*$D$24 -> 0 | CQ25: =CQ21*$D$24 -> 0 | CR25: =CR21*$D$24 -> 0 | CS25: =CS21*$D$24 -> 0 | CT25: =CT21*$D$24 -> 0 | CU25: =CU21*$D$24 -> 0 | DC25: 1～6 | DD25: 基準額×定員数 | DE25: =DE21*$D$24 -> 0 | DF25: =DF21*$D$24 -> 0 | DG25: =DG21*$D$24 -> 0 | DH25: =DH21*$D$24 -> 0 | DI25: =DI21*$D$24 -> 0 | DJ25: =DJ21*$D$24 -> 0 | DR25: 1～6 | DS25: 基準額×定員数 | DT25: =DT21*$D$24 -> 0 | DU25: =DU21*$D$24 -> 0 | DV25: =DV21*$D$24 -> 0 | DW25: =DW21*$D$24 -> 0 | DX25: =DX21*$D$24 -> 0 | DY25: =DY21*$D$24 -> 0 | EG25: 1～6 | EH25: 基準額×定員数 | EI25: =EI21*$D$24 -> 0 | EJ25: =EJ21*$D$24 -> 0 | EK25: =EK21*$D$24 -> 0 | EL25: =EL21*$D$24 -> 0 | EM25: =EM21*$D$24 -> 0 | EN25: =EN21*$D$24 -> 0 | EV25: 1～6 | EW25: 基準額×定員数 | EX25: =EX21*$D$24 -> 0 | EY25: =EY21*$D$24 -> 0 | EZ25: =EZ21*$D$24 -> 0 | FA25: =FA21*$D$24 -> 0 | FB25: =FB21*$D$24 -> 0 | FC25: =FC21*$D$24 -> 0 | FK25: 1～6 | FL25: 基準額×定員数 | FM25: =FM21*$D$24 -> 0 | FN25: =FN21*$D$24 -> 0 | FO25: =FO21*$D$24 -> 0 | FP25: =FP21*$D$24 -> 0 | FQ25: =FQ21*$D$24 -> 0 | FR25: =FR21*$D$24 -> 0 | FZ25: 1～6 | GA25: 基準額×定員数 | GB25: =GB21*$D$24 -> 0 | GC25: =GC21*$D$24 -> 0 | GD25: =GD21*$D$24 -> 0 | GE25: =GE21*$D$24 -> 0 | GF25: =GF21*$D$24 -> 0 | GG25: =GG21*$D$24 -> 0 | GO25: 1～6 | GP25: 基準額×定員数 | GQ25: =GQ21*$D$24 -> 0 | GR25: =GR21*$D$24 -> 0 | GS25: =GS21*$D$24 -> 0 | GT25: =GT21*$D$24 -> 0 | GU25: =GU21*$D$24 -> 0 | GV25: =GV21*$D$24 -> 0 | HD25: 1～6 | HE25: 基準額×定員数 | HF25: =HF21*$D$24 -> 0 | HG25: =HG21*$D$24 -> 0 | HH25: =HH21*$D$24 -> 0 | HI25: =HI21*$D$24 -> 0 | HJ25: =HJ21*$D$24 -> 0 | HK25: =HK21*$D$24 -> 0 | HS25: 1～6 | HT25: 基準額×定員数 | HU25: =HU21*$D$24 -> 0 | HV25: =HV21*$D$24 -> 0 | HW25: =HW21*$D$24 -> 0 | HX25: =HX21*$D$24 -> 0 | HY25: =HY21*$D$24 -> 0 | HZ25: =HZ21*$D$24 -> 0 | IH25: 1～6 | II25: 基準額×定員数 | IJ25: =IJ21*$D$24 -> 0 | IK25: =IK21*$D$24 -> 0 | IL25: =IL21*$D$24 -> 0 | IM25: =IM21*$D$24 -> 0 | IN25: =IN21*$D$24 -> 0 | IO25: =IO21*$D$24 -> 0 | IW25: 1～6 | IX25: 基準額×定員数 | IY25: =IY21*$D$24 -> 0 | IZ25: =IZ21*$D$24 -> 0 | JA25: =JA21*$D$24 -> 0 | JB25: =JB21*$D$24 -> 0 | JC25: =JC21*$D$24 -> 0 | JD25: =JD21*$D$24 -> 0 | JL25: 1～6 | JM25: 基準額×定員数 | JN25: =JN21*$D$24 -> 0 | JO25: =JO21*$D$24 -> 0 | JP25: =JP21*$D$24 -> 0 | JQ25: =JQ21*$D$24 -> 0 | JR25: =JR21*$D$24 -> 0 | JS25: =JS21*$D$24 -> 0 | KA25: 1～6 | KB25: 基準額×定員数 | KC25: =KC21*$D$24 -> 0 | KD25: =KD21*$D$24 -> 0 | KE25: =KE21*$D$24 -> 0 | KF25: =KF21*$D$24 -> 0 | KG25: =KG21*$D$24 -> 0 | KH25: =KH21*$D$24 -> 0 | KP25: 1～6 | KQ25: 基準額×定員数 | KR25: =KR21*$D$24 -> 0 | KS25: =KS21*$D$24 -> 0 | KT25: =KT21*$D$24 -> 0 | KU25: =KU21*$D$24 -> 0 | KV25: =KV21*$D$24 -> 0 | KW25: =KW21*$D$24 -> 0 | LE25: 1～6 | LF25: 基準額×定員数 | LG25: =LG21*$D$24 -> 0 | LH25: =LH21*$D$24 -> 0 | LI25: =LI21*$D$24 -> 0 | LJ25: =LJ21*$D$24 -> 0 | LK25: =LK21*$D$24 -> 0 | LL25: =LL21*$D$24 -> 0 | LT25: 1～6 | LU25: 基準額×定員数 | LV25: =LV21*$D$24 -> 0 | LW25: =LW21*$D$24 -> 0 | LX25: =LX21*$D$24 -> 0 | LY25: =LY21*$D$24 -> 0 | LZ25: =LZ21*$D$24 -> 0 | MA25: =MA21*$D$24 -> 0 | MI25: 1～6 | MJ25: 基準額×定員数 | MK25: =MK21*$D$24 -> 0 | ML25: =ML21*$D$24 -> 0 | MM25: =MM21*$D$24 -> 0 | MN25: =MN21*$D$24 -> 0 | MO25: =MO21*$D$24 -> 0 | MP25: =MP21*$D$24 -> 0 | MX25: 1～6 | MY25: 基準額×定員数 | MZ25: =MZ21*$D$24 -> 0 | NA25: =NA21*$D$24 -> 0 | NB25: =NB21*$D$24 -> 0 | NC25: =NC21*$D$24 -> 0 | ND25: =ND21*$D$24 -> 0 | NE25: =NE21*$D$24 -> 0 | NM25: 1～6 | NN25: 基準額×定員数 | NO25: =NO21*$D$24 -> 0 | NP25: =NP21*$D$24 -> 0 | NQ25: =NQ21*$D$24 -> 0 | NR25: =NR21*$D$24 -> 0 | NS25: =NS21*$D$24 -> 0 | NT25: =NT21*$D$24 -> 0 | OB25: 1～6 | OC25: 基準額×定員数 | OD25: =OD21*$D$24 -> 0 | OE25: =OE21*$D$24 -> 0 | OF25: =OF21*$D$24 -> 0 | OG25: =OG21*$D$24 -> 0 | OH25: =OH21*$D$24 -> 0 | OI25: =OI21*$D$24 -> 0 | OQ25: 1～6 | OR25: 基準額×定員数 | OS25: =OS21*$D$24 -> 0 | OT25: =OT21*$D$24 -> 0 | OU25: =OU21*$D$24 -> 0 | OV25: =OV21*$D$24 -> 0 | OW25: =OW21*$D$24 -> 0 | OX25: =OX21*$D$24 -> 0 | PF25: 1～6 | PG25: 基準額×定員数 | PH25: =PH21*$D$24 -> 0 | PI25: =PI21*$D$24 -> 0 | PJ25: =PJ21*$D$24 -> 0 | PK25: =PK21*$D$24 -> 0 | PL25: =PL21*$D$24 -> 0 | PM25: =PM21*$D$24 -> 0 | PU25: 1～6 | PV25: 基準額×定員数 | PW25: =PW21*$D$24 -> 0 | PX25: =PX21*$D$24 -> 0 | PY25: =PY21*$D$24 -> 0 | PZ25: =PZ21*$D$24 -> 0 | QA25: =QA21*$D$24 -> 0 | QB25: =QB21*$D$24 -> 0
C26: 計 | D26: =SUM(D25:I25) -> 0 | R26: 計 | S26: =SUM(S25:X25) -> 0 | AG26: 計 | AH26: =SUM(AH25:AM25) -> 0 | AV26: 計 | AW26: =SUM(AW25:BB25) -> 0 | BK26: 計 | BL26: =SUM(BL25:BQ25) -> 0 | BZ26: 計 | CA26: =SUM(CA25:CF25) -> 0 | CO26: 計 | CP26: =SUM(CP25:CU25) -> 0 | DD26: 計 | DE26: =SUM(DE25:DJ25) -> 0 | DS26: 計 | DT26: =SUM(DT25:DY25) -> 0 | EH26: 計 | EI26: =SUM(EI25:EN25) -> 0 | EW26: 計 | EX26: =SUM(EX25:FC25) -> 0 | FL26: 計 | FM26: =SUM(FM25:FR25) -> 0 | GA26: 計 | GB26: =SUM(GB25:GG25) -> 0 | GP26: 計 | GQ26: =SUM(GQ25:GV25) -> 0 | HE26: 計 | HF26: =SUM(HF25:HK25) -> 0 | HT26: 計 | HU26: =SUM(HU25:HZ25) -> 0 | II26: 計 | IJ26: =SUM(IJ25:IO25) -> 0 | IX26: 計 | IY26: =SUM(IY25:JD25) -> 0 | JM26: 計 | JN26: =SUM(JN25:JS25) -> 0 | KB26: 計 | KC26: =SUM(KC25:KH25) -> 0 | KQ26: 計 | KR26: =SUM(KR25:KW25) -> 0 | LF26: 計 | LG26: =SUM(LG25:LL25) -> 0 | LU26: 計 | LV26: =SUM(LV25:MA25) -> 0 | MJ26: 計 | MK26: =SUM(MK25:MP25) -> 0 | MY26: 計 | MZ26: =SUM(MZ25:NE25) -> 0 | NN26: 計 | NO26: =SUM(NO25:NT25) -> 0 | OC26: 計 | OD26: =SUM(OD25:OI25) -> 0 | OR26: 計 | OS26: =SUM(OS25:OX25) -> 0 | PG26: 計 | PH26: =SUM(PH25:PM25) -> 0 | PV26: 計 | PW26: =SUM(PW25:QB25) -> 0
B27: 別表2(通所系) | C27: 補助基準額 | D27: 1312 | Q27: 別表2(通所系) | R27: 補助基準額 | S27: 1312 | AF27: 別表2(通所系) | AG27: 補助基準額 | AH27: 1312 | AU27: 別表2(通所系) | AV27: 補助基準額 | AW27: 1312 | BJ27: 別表2(通所系) | BK27: 補助基準額 | BL27: 1312 | BY27: 別表2(通所系) | BZ27: 補助基準額 | CA27: 1312 | CN27: 別表2(通所系) | CO27: 補助基準額 | CP27: 1312 | DC27: 別表2(通所系) | DD27: 補助基準額 | DE27: 1312 | DR27: 別表2(通所系) | DS27: 補助基準額 | DT27: 1312 | EG27: 別表2(通所系) | EH27: 補助基準額 | EI27: 1312 | EV27: 別表2(通所系) | EW27: 補助基準額 | EX27: 1312 | FK27: 別表2(通所系) | FL27: 補助基準額 | FM27: 1312 | FZ27: 別表2(通所系) | GA27: 補助基準額 | GB27: 1312 | GO27: 別表2(通所系) | GP27: 補助基準額 | GQ27: 1312 | HD27: 別表2(通所系) | HE27: 補助基準額 | HF27: 1312 | HS27: 別表2(通所系) | HT27: 補助基準額 | HU27: 1312 | IH27: 別表2(通所系) | II27: 補助基準額 | IJ27: 1312 | IW27: 別表2(通所系) | IX27: 補助基準額 | IY27: 1312 | JL27: 別表2(通所系) | JM27: 補助基準額 | JN27: 1312 | KA27: 別表2(通所系) | KB27: 補助基準額 | KC27: 1312 | KP27: 別表2(通所系) | KQ27: 補助基準額 | KR27: 1312 | LE27: 別表2(通所系) | LF27: 補助基準額 | LG27: 1312 | LT27: 別表2(通所系) | LU27: 補助基準額 | LV27: 1312 | MI27: 別表2(通所系) | MJ27: 補助基準額 | MK27: 1312 | MX27: 別表2(通所系) | MY27: 補助基準額 | MZ27: 1312 | NM27: 別表2(通所系) | NN27: 補助基準額 | NO27: 1312 | OB27: 別表2(通所系) | OC27: 補助基準額 | OD27: 1312 | OQ27: 別表2(通所系) | OR27: 補助基準額 | OS27: 1312 | PF27: 別表2(通所系) | PG27: 補助基準額 | PH27: 1312 | PU27: 別表2(通所系) | PV27: 補助基準額 | PW27: 1312
B28: 7～14 | C28: 基準額×定員数 | D28: =D21*$D$27 -> 0 | E28: =E21*$D$27 -> 0 | F28: =F21*$D$27 -> 0 | G28: =G21*$D$27 -> 0 | H28: =H21*$D$27 -> 0 | I28: =I21*$D$27 -> 0 | Q28: 7～14 | R28: 基準額×定員数 | S28: =S21*$D$27 -> 0 | T28: =T21*$D$27 -> 0 | U28: =U21*$D$27 -> 0 | V28: =V21*$D$27 -> 0 | W28: =W21*$D$27 -> 0 | X28: =X21*$D$27 -> 0 | AF28: 7～14 | AG28: 基準額×定員数 | AH28: =AH21*$D$27 -> 0 | AI28: =AI21*$D$27 -> 0 | AJ28: =AJ21*$D$27 -> 0 | AK28: =AK21*$D$27 -> 0 | AL28: =AL21*$D$27 -> 0 | AM28: =AM21*$D$27 -> 0 | AU28: 7～14 | AV28: 基準額×定員数 | AW28: =AW21*$D$27 -> 0 | AX28: =AX21*$D$27 -> 0 | AY28: =AY21*$D$27 -> 0 | AZ28: =AZ21*$D$27 -> 0 | BA28: =BA21*$D$27 -> 0 | BB28: =BB21*$D$27 -> 0 | BJ28: 7～14 | BK28: 基準額×定員数 | BL28: =BL21*$D$27 -> 0 | BM28: =BM21*$D$27 -> 0 | BN28: =BN21*$D$27 -> 0 | BO28: =BO21*$D$27 -> 0 | BP28: =BP21*$D$27 -> 0 | BQ28: =BQ21*$D$27 -> 0 | BY28: 7～14 | BZ28: 基準額×定員数 | CA28: =CA21*$D$27 -> 0 | CB28: =CB21*$D$27 -> 0 | CC28: =CC21*$D$27 -> 0 | CD28: =CD21*$D$27 -> 0 | CE28: =CE21*$D$27 -> 0 | CF28: =CF21*$D$27 -> 0 | CN28: 7～14 | CO28: 基準額×定員数 | CP28: =CP21*$D$27 -> 0 | CQ28: =CQ21*$D$27 -> 0 | CR28: =CR21*$D$27 -> 0 | CS28: =CS21*$D$27 -> 0 | CT28: =CT21*$D$27 -> 0 | CU28: =CU21*$D$27 -> 0 | DC28: 7～14 | DD28: 基準額×定員数 | DE28: =DE21*$D$27 -> 0 | DF28: =DF21*$D$27 -> 0 | DG28: =DG21*$D$27 -> 0 | DH28: =DH21*$D$27 -> 0 | DI28: =DI21*$D$27 -> 0 | DJ28: =DJ21*$D$27 -> 0 | DR28: 7～14 | DS28: 基準額×定員数 | DT28: =DT21*$D$27 -> 0 | DU28: =DU21*$D$27 -> 0 | DV28: =DV21*$D$27 -> 0 | DW28: =DW21*$D$27 -> 0 | DX28: =DX21*$D$27 -> 0 | DY28: =DY21*$D$27 -> 0 | EG28: 7～14 | EH28: 基準額×定員数 | EI28: =EI21*$D$27 -> 0 | EJ28: =EJ21*$D$27 -> 0 | EK28: =EK21*$D$27 -> 0 | EL28: =EL21*$D$27 -> 0 | EM28: =EM21*$D$27 -> 0 | EN28: =EN21*$D$27 -> 0 | EV28: 7～14 | EW28: 基準額×定員数 | EX28: =EX21*$D$27 -> 0 | EY28: =EY21*$D$27 -> 0 | EZ28: =EZ21*$D$27 -> 0 | FA28: =FA21*$D$27 -> 0 | FB28: =FB21*$D$27 -> 0 | FC28: =FC21*$D$27 -> 0 | FK28: 7～14 | FL28: 基準額×定員数 | FM28: =FM21*$D$27 -> 0 | FN28: =FN21*$D$27 -> 0 | FO28: =FO21*$D$27 -> 0 | FP28: =FP21*$D$27 -> 0 | FQ28: =FQ21*$D$27 -> 0 | FR28: =FR21*$D$27 -> 0 | FZ28: 7～14 | GA28: 基準額×定員数 | GB28: =GB21*$D$27 -> 0 | GC28: =GC21*$D$27 -> 0 | GD28: =GD21*$D$27 -> 0 | GE28: =GE21*$D$27 -> 0 | GF28: =GF21*$D$27 -> 0 | GG28: =GG21*$D$27 -> 0 | GO28: 7～14 | GP28: 基準額×定員数 | GQ28: =GQ21*$D$27 -> 0 | GR28: =GR21*$D$27 -> 0 | GS28: =GS21*$D$27 -> 0 | GT28: =GT21*$D$27 -> 0 | GU28: =GU21*$D$27 -> 0 | GV28: =GV21*$D$27 -> 0 | HD28: 7～14 | HE28: 基準額×定員数 | HF28: =HF21*$D$27 -> 0 | HG28: =HG21*$D$27 -> 0 | HH28: =HH21*$D$27 -> 0 | HI28: =HI21*$D$27 -> 0 | HJ28: =HJ21*$D$27 -> 0 | HK28: =HK21*$D$27 -> 0 | HS28: 7～14 | HT28: 基準額×定員数 | HU28: =HU21*$D$27 -> 0 | HV28: =HV21*$D$27 -> 0 | HW28: =HW21*$D$27 -> 0 | HX28: =HX21*$D$27 -> 0 | HY28: =HY21*$D$27 -> 0 | HZ28: =HZ21*$D$27 -> 0 | IH28: 7～14 | II28: 基準額×定員数 | IJ28: =IJ21*$D$27 -> 0 | IK28: =IK21*$D$27 -> 0 | IL28: =IL21*$D$27 -> 0 | IM28: =IM21*$D$27 -> 0 | IN28: =IN21*$D$27 -> 0 | IO28: =IO21*$D$27 -> 0 | IW28: 7～14 | IX28: 基準額×定員数 | IY28: =IY21*$D$27 -> 0 | IZ28: =IZ21*$D$27 -> 0 | JA28: =JA21*$D$27 -> 0 | JB28: =JB21*$D$27 -> 0 | JC28: =JC21*$D$27 -> 0 | JD28: =JD21*$D$27 -> 0 | JL28: 7～14 | JM28: 基準額×定員数 | JN28: =JN21*$D$27 -> 0 | JO28: =JO21*$D$27 -> 0 | JP28: =JP21*$D$27 -> 0 | JQ28: =JQ21*$D$27 -> 0 | JR28: =JR21*$D$27 -> 0 | JS28: =JS21*$D$27 -> 0 | KA28: 7～14 | KB28: 基準額×定員数 | KC28: =KC21*$D$27 -> 0 | KD28: =KD21*$D$27 -> 0 | KE28: =KE21*$D$27 -> 0 | KF28: =KF21*$D$27 -> 0 | KG28: =KG21*$D$27 -> 0 | KH28: =KH21*$D$27 -> 0 | KP28: 7～14 | KQ28: 基準額×定員数 | KR28: =KR21*$D$27 -> 0 | KS28: =KS21*$D$27 -> 0 | KT28: =KT21*$D$27 -> 0 | KU28: =KU21*$D$27 -> 0 | KV28: =KV21*$D$27 -> 0 | KW28: =KW21*$D$27 -> 0 | LE28: 7～14 | LF28: 基準額×定員数 | LG28: =LG21*$D$27 -> 0 | LH28: =LH21*$D$27 -> 0 | LI28: =LI21*$D$27 -> 0 | LJ28: =LJ21*$D$27 -> 0 | LK28: =LK21*$D$27 -> 0 | LL28: =LL21*$D$27 -> 0 | LT28: 7～14 | LU28: 基準額×定員数 | LV28: =LV21*$D$27 -> 0 | LW28: =LW21*$D$27 -> 0 | LX28: =LX21*$D$27 -> 0 | LY28: =LY21*$D$27 -> 0 | LZ28: =LZ21*$D$27 -> 0 | MA28: =MA21*$D$27 -> 0 | MI28: 7～14 | MJ28: 基準額×定員数 | MK28: =MK21*$D$27 -> 0 | ML28: =ML21*$D$27 -> 0 | MM28: =MM21*$D$27 -> 0 | MN28: =MN21*$D$27 -> 0 | MO28: =MO21*$D$27 -> 0 | MP28: =MP21*$D$27 -> 0 | MX28: 7～14 | MY28: 基準額×定員数 | MZ28: =MZ21*$D$27 -> 0 | NA28: =NA21*$D$27 -> 0 | NB28: =NB21*$D$27 -> 0 | NC28: =NC21*$D$27 -> 0 | ND28: =ND21*$D$27 -> 0 | NE28: =NE21*$D$27 -> 0 | NM28: 7～14 | NN28: 基準額×定員数 | NO28: =NO21*$D$27 -> 0 | NP28: =NP21*$D$27 -> 0 | NQ28: =NQ21*$D$27 -> 0 | NR28: =NR21*$D$27 -> 0 | NS28: =NS21*$D$27 -> 0 | NT28: =NT21*$D$27 -> 0 | OB28: 7～14 | OC28: 基準額×定員数 | OD28: =OD21*$D$27 -> 0 | OE28: =OE21*$D$27 -> 0 | OF28: =OF21*$D$27 -> 0 | OG28: =OG21*$D$27 -> 0 | OH28: =OH21*$D$27 -> 0 | OI28: =OI21*$D$27 -> 0 | OQ28: 7～14 | OR28: 基準額×定員数 | OS28: =OS21*$D$27 -> 0 | OT28: =OT21*$D$27 -> 0 | OU28: =OU21*$D$27 -> 0 | OV28: =OV21*$D$27 -> 0 | OW28: =OW21*$D$27 -> 0 | OX28: =OX21*$D$27 -> 0 | PF28: 7～14 | PG28: 基準額×定員数 | PH28: =PH21*$D$27 -> 0 | PI28: =PI21*$D$27 -> 0 | PJ28: =PJ21*$D$27 -> 0 | PK28: =PK21*$D$27 -> 0 | PL28: =PL21*$D$27 -> 0 | PM28: =PM21*$D$27 -> 0 | PU28: 7～14 | PV28: 基準額×定員数 | PW28: =PW21*$D$27 -> 0 | PX28: =PX21*$D$27 -> 0 | PY28: =PY21*$D$27 -> 0 | PZ28: =PZ21*$D$27 -> 0 | QA28: =QA21*$D$27 -> 0 | QB28: =QB21*$D$27 -> 0
C29: 計 | D29: =SUM(D28:I28) -> 0 | R29: 計 | S29: =SUM(S28:X28) -> 0 | AG29: 計 | AH29: =SUM(AH28:AM28) -> 0 | AV29: 計 | AW29: =SUM(AW28:BB28) -> 0 | BK29: 計 | BL29: =SUM(BL28:BQ28) -> 0 | BZ29: 計 | CA29: =SUM(CA28:CF28) -> 0 | CO29: 計 | CP29: =SUM(CP28:CU28) -> 0 | DD29: 計 | DE29: =SUM(DE28:DJ28) -> 0 | DS29: 計 | DT29: =SUM(DT28:DY28) -> 0 | EH29: 計 | EI29: =SUM(EI28:EN28) -> 0 | EW29: 計 | EX29: =SUM(EX28:FC28) -> 0 | FL29: 計 | FM29: =SUM(FM28:FR28) -> 0 | GA29: 計 | GB29: =SUM(GB28:GG28) -> 0 | GP29: 計 | GQ29: =SUM(GQ28:GV28) -> 0 | HE29: 計 | HF29: =SUM(HF28:HK28) -> 0 | HT29: 計 | HU29: =SUM(HU28:HZ28) -> 0 | II29: 計 | IJ29: =SUM(IJ28:IO28) -> 0 | IX29: 計 | IY29: =SUM(IY28:JD28) -> 0 | JM29: 計 | JN29: =SUM(JN28:JS28) -> 0 | KB29: 計 | KC29: =SUM(KC28:KH28) -> 0 | KQ29: 計 | KR29: =SUM(KR28:KW28) -> 0 | LF29: 計 | LG29: =SUM(LG28:LL28) -> 0 | LU29: 計 | LV29: =SUM(LV28:MA28) -> 0 | MJ29: 計 | MK29: =SUM(MK28:MP28) -> 0 | MY29: 計 | MZ29: =SUM(MZ28:NE28) -> 0 | NN29: 計 | NO29: =SUM(NO28:NT28) -> 0 | OC29: 計 | OD29: =SUM(OD28:OI28) -> 0 | OR29: 計 | OS29: =SUM(OS28:OX28) -> 0 | PG29: 計 | PH29: =SUM(PH28:PM28) -> 0 | PV29: 計 | PW29: =SUM(PW28:QB28) -> 0
B30: 別表2(訪問系) | C30: 補助基準額 | D30: 39500 | E30: 32920 | F30: 26330 | G30: 19750 | H30: 13170 | I30: 6580 | Q30: 別表2(訪問系) | R30: 補助基準額 | S30: 39500 | T30: 32920 | U30: 26330 | V30: 19750 | W30: 13170 | X30: 6580 | AF30: 別表2(訪問系) | AG30: 補助基準額 | AH30: 39500 | AI30: 32920 | AJ30: 26330 | AK30: 19750 | AL30: 13170 | AM30: 6580 | AU30: 別表2(訪問系) | AV30: 補助基準額 | AW30: 39500 | AX30: 32920 | AY30: 26330 | AZ30: 19750 | BA30: 13170 | BB30: 6580 | BJ30: 別表2(訪問系) | BK30: 補助基準額 | BL30: 39500 | BM30: 32920 | BN30: 26330 | BO30: 19750 | BP30: 13170 | BQ30: 6580 | BY30: 別表2(訪問系) | BZ30: 補助基準額 | CA30: 39500 | CB30: 32920 | CC30: 26330 | CD30: 19750 | CE30: 13170 | CF30: 6580 | CN30: 別表2(訪問系) | CO30: 補助基準額 | CP30: 39500 | CQ30: 32920 | CR30: 26330 | CS30: 19750 | CT30: 13170 | CU30: 6580 | DC30: 別表2(訪問系) | DD30: 補助基準額 | DE30: 39500 | DF30: 32920 | DG30: 26330 | DH30: 19750 | DI30: 13170 | DJ30: 6580 | DR30: 別表2(訪問系) | DS30: 補助基準額 | DT30: 39500 | DU30: 32920 | DV30: 26330 | DW30: 19750 | DX30: 13170 | DY30: 6580 | EG30: 別表2(訪問系) | EH30: 補助基準額 | EI30: 39500 | EJ30: 32920 | EK30: 26330 | EL30: 19750 | EM30: 13170 | EN30: 6580 | EV30: 別表2(訪問系) | EW30: 補助基準額 | EX30: 39500 | EY30: 32920 | EZ30: 26330 | FA30: 19750 | FB30: 13170 | FC30: 6580 | FK30: 別表2(訪問系) | FL30: 補助基準額 | FM30: 39500 | FN30: 32920 | FO30: 26330 | FP30: 19750 | FQ30: 13170 | FR30: 6580 | FZ30: 別表2(訪問系) | GA30: 補助基準額 | GB30: 39500 | GC30: 32920 | GD30: 26330 | GE30: 19750 | GF30: 13170 | GG30: 6580 | GO30: 別表2(訪問系) | GP30: 補助基準額 | GQ30: 39500 | GR30: 32920 | GS30: 26330 | GT30: 19750 | GU30: 13170 | GV30: 6580 | HD30: 別表2(訪問系) | HE30: 補助基準額 | HF30: 39500 | HG30: 32920 | HH30: 26330 | HI30: 19750 | HJ30: 13170 | HK30: 6580 | HS30: 別表2(訪問系) | HT30: 補助基準額 | HU30: 39500 | HV30: 32920 | HW30: 26330 | HX30: 19750 | HY30: 13170 | HZ30: 6580 | IH30: 別表2(訪問系) | II30: 補助基準額 | IJ30: 39500 | IK30: 32920 | IL30: 26330 | IM30: 19750 | IN30: 13170 | IO30: 6580 | IW30: 別表2(訪問系) | IX30: 補助基準額 | IY30: 39500 | IZ30: 32920 | JA30: 26330 | JB30: 19750 | JC30: 13170 | JD30: 6580 | JL30: 別表2(訪問系) | JM30: 補助基準額 | JN30: 39500 | JO30: 32920 | JP30: 26330 | JQ30: 19750 | JR30: 13170 | JS30: 6580 | KA30: 別表2(訪問系) | KB30: 補助基準額 | KC30: 39500 | KD30: 32920 | KE30: 26330 | KF30: 19750 | KG30: 13170 | KH30: 6580 | KP30: 別表2(訪問系) | KQ30: 補助基準額 | KR30: 39500 | KS30: 32920 | KT30: 26330 | KU30: 19750 | KV30: 13170 | KW30: 6580 | LE30: 別表2(訪問系) | LF30: 補助基準額 | LG30: 39500 | LH30: 32920 | LI30: 26330 | LJ30: 19750 | LK30: 13170 | LL30: 6580 | LT30: 別表2(訪問系) | LU30: 補助基準額 | LV30: 39500 | LW30: 32920 | LX30: 26330 | LY30: 19750 | LZ30: 13170 | MA30: 6580 | MI30: 別表2(訪問系) | MJ30: 補助基準額 | MK30: 39500 | ML30: 32920 | MM30: 26330 | MN30: 19750 | MO30: 13170 | MP30: 6580 | MX30: 別表2(訪問系) | MY30: 補助基準額 | MZ30: 39500 | NA30: 32920 | NB30: 26330 | NC30: 19750 | ND30: 13170 | NE30: 6580 | NM30: 別表2(訪問系) | NN30: 補助基準額 | NO30: 39500 | NP30: 32920 | NQ30: 26330 | NR30: 19750 | NS30: 13170 | NT30: 6580 | OB30: 別表2(訪問系) | OC30: 補助基準額 | OD30: 39500 | OE30: 32920 | OF30: 26330 | OG30: 19750 | OH30: 13170 | OI30: 6580 | OQ30: 別表2(訪問系) | OR30: 補助基準額 | OS30: 39500 | OT30: 32920 | OU30: 26330 | OV30: 19750 | OW30: 13170 | OX30: 6580 | PF30: 別表2(訪問系) | PG30: 補助基準額 | PH30: 39500 | PI30: 32920 | PJ30: 26330 | PK30: 19750 | PL30: 13170 | PM30: 6580 | PU30: 別表2(訪問系) | PV30: 補助基準額 | PW30: 39500 | PX30: 32920 | PY30: 26330 | PZ30: 19750 | QA30: 13170 | QB30: 6580
B31: 15～21 | C31: 補助額 | D31: =D30 -> 39500 | E31: =IF(ISBLANK(E$21),"",E$30) | F31: =IF(ISBLANK(F$21),"",F$30) | G31: =IF(ISBLANK(G$21),"",G$30) | H31: =IF(ISBLANK(H$21),"",H$30) | I31: =IF(ISBLANK(I$21),"",I$30) | Q31: 15～21 | R31: 補助額 | S31: =S30 -> 39500 | T31: =IF(ISBLANK(T$21),"",T$30) | U31: =IF(ISBLANK(U$21),"",U$30) | V31: =IF(ISBLANK(V$21),"",V$30) | W31: =IF(ISBLANK(W$21),"",W$30) | X31: =IF(ISBLANK(X$21),"",X$30) | AF31: 15～21 | AG31: 補助額 | AH31: =AH30 -> 39500 | AI31: =IF(ISBLANK(AI$21),"",AI$30) | AJ31: =IF(ISBLANK(AJ$21),"",AJ$30) | AK31: =IF(ISBLANK(AK$21),"",AK$30) | AL31: =IF(ISBLANK(AL$21),"",AL$30) | AM31: =IF(ISBLANK(AM$21),"",AM$30) | AU31: 15～21 | AV31: 補助額 | AW31: =AW30 -> 39500 | AX31: =IF(ISBLANK(AX$21),"",AX$30) | AY31: =IF(ISBLANK(AY$21),"",AY$30) | AZ31: =IF(ISBLANK(AZ$21),"",AZ$30) | BA31: =IF(ISBLANK(BA$21),"",BA$30) | BB31: =IF(ISBLANK(BB$21),"",BB$30) | BJ31: 15～21 | BK31: 補助額 | BL31: =BL30 -> 39500 | BM31: =IF(ISBLANK(BM$21),"",BM$30) | BN31: =IF(ISBLANK(BN$21),"",BN$30) | BO31: =IF(ISBLANK(BO$21),"",BO$30) | BP31: =IF(ISBLANK(BP$21),"",BP$30) | BQ31: =IF(ISBLANK(BQ$21),"",BQ$30) | BY31: 15～21 | BZ31: 補助額 | CA31: =CA30 -> 39500 | CB31: =IF(ISBLANK(CB$21),"",CB$30) | CC31: =IF(ISBLANK(CC$21),"",CC$30) | CD31: =IF(ISBLANK(CD$21),"",CD$30) | CE31: =IF(ISBLANK(CE$21),"",CE$30) | CF31: =IF(ISBLANK(CF$21),"",CF$30) | CN31: 15～21 | CO31: 補助額 | CP31: =CP30 -> 39500 | CQ31: =IF(ISBLANK(CQ$21),"",CQ$30) | CR31: =IF(ISBLANK(CR$21),"",CR$30) | CS31: =IF(ISBLANK(CS$21),"",CS$30) | CT31: =IF(ISBLANK(CT$21),"",CT$30) | CU31: =IF(ISBLANK(CU$21),"",CU$30) | DC31: 15～21 | DD31: 補助額 | DE31: =DE30 -> 39500 | DF31: =IF(ISBLANK(DF$21),"",DF$30) | DG31: =IF(ISBLANK(DG$21),"",DG$30) | DH31: =IF(ISBLANK(DH$21),"",DH$30) | DI31: =IF(ISBLANK(DI$21),"",DI$30) | DJ31: =IF(ISBLANK(DJ$21),"",DJ$30) | DR31: 15～21 | DS31: 補助額 | DT31: =DT30 -> 39500 | DU31: =IF(ISBLANK(DU$21),"",DU$30) | DV31: =IF(ISBLANK(DV$21),"",DV$30) | DW31: =IF(ISBLANK(DW$21),"",DW$30) | DX31: =IF(ISBLANK(DX$21),"",DX$30) | DY31: =IF(ISBLANK(DY$21),"",DY$30) | EG31: 15～21 | EH31: 補助額 | EI31: =EI30 -> 39500 | EJ31: =IF(ISBLANK(EJ$21),"",EJ$30) | EK31: =IF(ISBLANK(EK$21),"",EK$30) | EL31: =IF(ISBLANK(EL$21),"",EL$30) | EM31: =IF(ISBLANK(EM$21),"",EM$30) | EN31: =IF(ISBLANK(EN$21),"",EN$30) | EV31: 15～21 | EW31: 補助額 | EX31: =EX30 -> 39500 | EY31: =IF(ISBLANK(EY$21),"",EY$30) | EZ31: =IF(ISBLANK(EZ$21),"",EZ$30) | FA31: =IF(ISBLANK(FA$21),"",FA$30) | FB31: =IF(ISBLANK(FB$21),"",FB$30) | FC31: =IF(ISBLANK(FC$21),"",FC$30) | FK31: 15～21 | FL31: 補助額 | FM31: =FM30 -> 39500 | FN31: =IF(ISBLANK(FN$21),"",FN$30) | FO31: =IF(ISBLANK(FO$21),"",FO$30) | FP31: =IF(ISBLANK(FP$21),"",FP$30) | FQ31: =IF(ISBLANK(FQ$21),"",FQ$30) | FR31: =IF(ISBLANK(FR$21),"",FR$30) | FZ31: 15～21 | GA31: 補助額 | GB31: =GB30 -> 39500 | GC31: =IF(ISBLANK(GC$21),"",GC$30) | GD31: =IF(ISBLANK(GD$21),"",GD$30) | GE31: =IF(ISBLANK(GE$21),"",GE$30) | GF31: =IF(ISBLANK(GF$21),"",GF$30) | GG31: =IF(ISBLANK(GG$21),"",GG$30) | GO31: 15～21 | GP31: 補助額 | GQ31: =GQ30 -> 39500 | GR31: =IF(ISBLANK(GR$21),"",GR$30) | GS31: =IF(ISBLANK(GS$21),"",GS$30) | GT31: =IF(ISBLANK(GT$21),"",GT$30) | GU31: =IF(ISBLANK(GU$21),"",GU$30) | GV31: =IF(ISBLANK(GV$21),"",GV$30) | HD31: 15～21 | HE31: 補助額 | HF31: =HF30 -> 39500 | HG31: =IF(ISBLANK(HG$21),"",HG$30) | HH31: =IF(ISBLANK(HH$21),"",HH$30) | HI31: =IF(ISBLANK(HI$21),"",HI$30) | HJ31: =IF(ISBLANK(HJ$21),"",HJ$30) | HK31: =IF(ISBLANK(HK$21),"",HK$30) | HS31: 15～21 | HT31: 補助額 | HU31: =HU30 -> 39500 | HV31: =IF(ISBLANK(HV$21),"",HV$30) | HW31: =IF(ISBLANK(HW$21),"",HW$30) | HX31: =IF(ISBLANK(HX$21),"",HX$30) | HY31: =IF(ISBLANK(HY$21),"",HY$30) | HZ31: =IF(ISBLANK(HZ$21),"",HZ$30) | IH31: 15～21 | II31: 補助額 | IJ31: =IJ30 -> 39500 | IK31: =IF(ISBLANK(IK$21),"",IK$30) | IL31: =IF(ISBLANK(IL$21),"",IL$30) | IM31: =IF(ISBLANK(IM$21),"",IM$30) | IN31: =IF(ISBLANK(IN$21),"",IN$30) | IO31: =IF(ISBLANK(IO$21),"",IO$30) | IW31: 15～21 | IX31: 補助額 | IY31: =IY30 -> 39500 | IZ31: =IF(ISBLANK(IZ$21),"",IZ$30) | JA31: =IF(ISBLANK(JA$21),"",JA$30) | JB31: =IF(ISBLANK(JB$21),"",JB$30) | JC31: =IF(ISBLANK(JC$21),"",JC$30) | JD31: =IF(ISBLANK(JD$21),"",JD$30) | JL31: 15～21 | JM31: 補助額 | JN31: =JN30 -> 39500 | JO31: =IF(ISBLANK(JO$21),"",JO$30) | JP31: =IF(ISBLANK(JP$21),"",JP$30) | JQ31: =IF(ISBLANK(JQ$21),"",JQ$30) | JR31: =IF(ISBLANK(JR$21),"",JR$30) | JS31: =IF(ISBLANK(JS$21),"",JS$30) | KA31: 15～21 | KB31: 補助額 | KC31: =KC30 -> 39500 | KD31: =IF(ISBLANK(KD$21),"",KD$30) | KE31: =IF(ISBLANK(KE$21),"",KE$30) | KF31: =IF(ISBLANK(KF$21),"",KF$30) | KG31: =IF(ISBLANK(KG$21),"",KG$30) | KH31: =IF(ISBLANK(KH$21),"",KH$30) | KP31: 15～21 | KQ31: 補助額 | KR31: =KR30 -> 39500 | KS31: =IF(ISBLANK(KS$21),"",KS$30) | KT31: =IF(ISBLANK(KT$21),"",KT$30) | KU31: =IF(ISBLANK(KU$21),"",KU$30) | KV31: =IF(ISBLANK(KV$21),"",KV$30) | KW31: =IF(ISBLANK(KW$21),"",KW$30) | LE31: 15～21 | LF31: 補助額 | LG31: =LG30 -> 39500 | LH31: =IF(ISBLANK(LH$21),"",LH$30) | LI31: =IF(ISBLANK(LI$21),"",LI$30) | LJ31: =IF(ISBLANK(LJ$21),"",LJ$30) | LK31: =IF(ISBLANK(LK$21),"",LK$30) | LL31: =IF(ISBLANK(LL$21),"",LL$30) | LT31: 15～21 | LU31: 補助額 | LV31: =LV30 -> 39500 | LW31: =IF(ISBLANK(LW$21),"",LW$30) | LX31: =IF(ISBLANK(LX$21),"",LX$30) | LY31: =IF(ISBLANK(LY$21),"",LY$30) | LZ31: =IF(ISBLANK(LZ$21),"",LZ$30) | MA31: =IF(ISBLANK(MA$21),"",MA$30) | MI31: 15～21 | MJ31: 補助額 | MK31: =MK30 -> 39500 | ML31: =IF(ISBLANK(ML$21),"",ML$30) | MM31: =IF(ISBLANK(MM$21),"",MM$30) | MN31: =IF(ISBLANK(MN$21),"",MN$30) | MO31: =IF(ISBLANK(MO$21),"",MO$30) | MP31: =IF(ISBLANK(MP$21),"",MP$30) | MX31: 15～21 | MY31: 補助額 | MZ31: =MZ30 -> 39500 | NA31: =IF(ISBLANK(NA$21),"",NA$30) | NB31: =IF(ISBLANK(NB$21),"",NB$30) | NC31: =IF(ISBLANK(NC$21),"",NC$30) | ND31: =IF(ISBLANK(ND$21),"",ND$30) | NE31: =IF(ISBLANK(NE$21),"",NE$30) | NM31: 15～21 | NN31: 補助額 | NO31: =NO30 -> 39500 | NP31: =IF(ISBLANK(NP$21),"",NP$30) | NQ31: =IF(ISBLANK(NQ$21),"",NQ$30) | NR31: =IF(ISBLANK(NR$21),"",NR$30) | NS31: =IF(ISBLANK(NS$21),"",NS$30) | NT31: =IF(ISBLANK(NT$21),"",NT$30) | OB31: 15～21 | OC31: 補助額 | OD31: =OD30 -> 39500 | OE31: =IF(ISBLANK(OE$21),"",OE$30) | OF31: =IF(ISBLANK(OF$21),"",OF$30) | OG31: =IF(ISBLANK(OG$21),"",OG$30) | OH31: =IF(ISBLANK(OH$21),"",OH$30) | OI31: =IF(ISBLANK(OI$21),"",OI$30) | OQ31: 15～21 | OR31: 補助額 | OS31: =OS30 -> 39500 | OT31: =IF(ISBLANK(OT$21),"",OT$30) | OU31: =IF(ISBLANK(OU$21),"",OU$30) | OV31: =IF(ISBLANK(OV$21),"",OV$30) | OW31: =IF(ISBLANK(OW$21),"",OW$30) | OX31: =IF(ISBLANK(OX$21),"",OX$30) | PF31: 15～21 | PG31: 補助額 | PH31: =PH30 -> 39500 | PI31: =IF(ISBLANK(PI$21),"",PI$30) | PJ31: =IF(ISBLANK(PJ$21),"",PJ$30) | PK31: =IF(ISBLANK(PK$21),"",PK$30) | PL31: =IF(ISBLANK(PL$21),"",PL$30) | PM31: =IF(ISBLANK(PM$21),"",PM$30) | PU31: 15～21 | PV31: 補助額 | PW31: =PW30 -> 39500 | PX31: =IF(ISBLANK(PX$21),"",PX$30) | PY31: =IF(ISBLANK(PY$21),"",PY$30) | PZ31: =IF(ISBLANK(PZ$21),"",PZ$30) | QA31: =IF(ISBLANK(QA$21),"",QA$30) | QB31: =IF(ISBLANK(QB$21),"",QB$30)
C32: 計 | D32: =MIN(D31:I31) -> 39500 | R32: 計 | S32: =MIN(S31:X31) -> 39500 | AG32: 計 | AH32: =MIN(AH31:AM31) -> 39500 | AV32: 計 | AW32: =MIN(AW31:BB31) -> 39500 | BK32: 計 | BL32: =MIN(BL31:BQ31) -> 39500 | BZ32: 計 | CA32: =MIN(CA31:CF31) -> 39500 | CO32: 計 | CP32: =MIN(CP31:CU31) -> 39500 | DD32: 計 | DE32: =MIN(DE31:DJ31) -> 39500 | DS32: 計 | DT32: =MIN(DT31:DY31) -> 39500 | EH32: 計 | EI32: =MIN(EI31:EN31) -> 39500 | EW32: 計 | EX32: =MIN(EX31:FC31) -> 39500 | FL32: 計 | FM32: =MIN(FM31:FR31) -> 39500 | GA32: 計 | GB32: =MIN(GB31:GG31) -> 39500 | GP32: 計 | GQ32: =MIN(GQ31:GV31) -> 39500 | HE32: 計 | HF32: =MIN(HF31:HK31) -> 39500 | HT32: 計 | HU32: =MIN(HU31:HZ31) -> 39500 | II32: 計 | IJ32: =MIN(IJ31:IO31) -> 39500 | IX32: 計 | IY32: =MIN(IY31:JD31) -> 39500 | JM32: 計 | JN32: =MIN(JN31:JS31) -> 39500 | KB32: 計 | KC32: =MIN(KC31:KH31) -> 39500 | KQ32: 計 | KR32: =MIN(KR31:KW31) -> 39500 | LF32: 計 | LG32: =MIN(LG31:LL31) -> 39500 | LU32: 計 | LV32: =MIN(LV31:MA31) -> 39500 | MJ32: 計 | MK32: =MIN(MK31:MP31) -> 39500 | MY32: 計 | MZ32: =MIN(MZ31:NE31) -> 39500 | NN32: 計 | NO32: =MIN(NO31:NT31) -> 39500 | OC32: 計 | OD32: =MIN(OD31:OI31) -> 39500 | OR32: 計 | OS32: =MIN(OS31:OX31) -> 39500 | PG32: 計 | PH32: =MIN(PH31:PM31) -> 39500 | PV32: 計 | PW32: =MIN(PW31:QB31) -> 39500
B33: 別表2(相談系) | C33: 補助基準額 | D33: 15800 | E33: 13170 | F33: 10530 | G33: 7900 | H33: 5270 | I33: 2630 | Q33: 別表2(相談系) | R33: 補助基準額 | S33: 15800 | T33: 13170 | U33: 10530 | V33: 7900 | W33: 5270 | X33: 2630 | AF33: 別表2(相談系) | AG33: 補助基準額 | AH33: 15800 | AI33: 13170 | AJ33: 10530 | AK33: 7900 | AL33: 5270 | AM33: 2630 | AU33: 別表2(相談系) | AV33: 補助基準額 | AW33: 15800 | AX33: 13170 | AY33: 10530 | AZ33: 7900 | BA33: 5270 | BB33: 2630 | BJ33: 別表2(相談系) | BK33: 補助基準額 | BL33: 15800 | BM33: 13170 | BN33: 10530 | BO33: 7900 | BP33: 5270 | BQ33: 2630 | BY33: 別表2(相談系) | BZ33: 補助基準額 | CA33: 15800 | CB33: 13170 | CC33: 10530 | CD33: 7900 | CE33: 5270 | CF33: 2630 | CN33: 別表2(相談系) | CO33: 補助基準額 | CP33: 15800 | CQ33: 13170 | CR33: 10530 | CS33: 7900 | CT33: 5270 | CU33: 2630 | DC33: 別表2(相談系) | DD33: 補助基準額 | DE33: 15800 | DF33: 13170 | DG33: 10530 | DH33: 7900 | DI33: 5270 | DJ33: 2630 | DR33: 別表2(相談系) | DS33: 補助基準額 | DT33: 15800 | DU33: 13170 | DV33: 10530 | DW33: 7900 | DX33: 5270 | DY33: 2630 | EG33: 別表2(相談系) | EH33: 補助基準額 | EI33: 15800 | EJ33: 13170 | EK33: 10530 | EL33: 7900 | EM33: 5270 | EN33: 2630 | EV33: 別表2(相談系) | EW33: 補助基準額 | EX33: 15800 | EY33: 13170 | EZ33: 10530 | FA33: 7900 | FB33: 5270 | FC33: 2630 | FK33: 別表2(相談系) | FL33: 補助基準額 | FM33: 15800 | FN33: 13170 | FO33: 10530 | FP33: 7900 | FQ33: 5270 | FR33: 2630 | FZ33: 別表2(相談系) | GA33: 補助基準額 | GB33: 15800 | GC33: 13170 | GD33: 10530 | GE33: 7900 | GF33: 5270 | GG33: 2630 | GO33: 別表2(相談系) | GP33: 補助基準額 | GQ33: 15800 | GR33: 13170 | GS33: 10530 | GT33: 7900 | GU33: 5270 | GV33: 2630 | HD33: 別表2(相談系) | HE33: 補助基準額 | HF33: 15800 | HG33: 13170 | HH33: 10530 | HI33: 7900 | HJ33: 5270 | HK33: 2630 | HS33: 別表2(相談系) | HT33: 補助基準額 | HU33: 15800 | HV33: 13170 | HW33: 10530 | HX33: 7900 | HY33: 5270 | HZ33: 2630 | IH33: 別表2(相談系) | II33: 補助基準額 | IJ33: 15800 | IK33: 13170 | IL33: 10530 | IM33: 7900 | IN33: 5270 | IO33: 2630 | IW33: 別表2(相談系) | IX33: 補助基準額 | IY33: 15800 | IZ33: 13170 | JA33: 10530 | JB33: 7900 | JC33: 5270 | JD33: 2630 | JL33: 別表2(相談系) | JM33: 補助基準額 | JN33: 15800 | JO33: 13170 | JP33: 10530 | JQ33: 7900 | JR33: 5270 | JS33: 2630 | KA33: 別表2(相談系) | KB33: 補助基準額 | KC33: 15800 | KD33: 13170 | KE33: 10530 | KF33: 7900 | KG33: 5270 | KH33: 2630 | KP33: 別表2(相談系) | KQ33: 補助基準額 | KR33: 15800 | KS33: 13170 | KT33: 10530 | KU33: 7900 | KV33: 5270 | KW33: 2630 | LE33: 別表2(相談系) | LF33: 補助基準額 | LG33: 15800 | LH33: 13170 | LI33: 10530 | LJ33: 7900 | LK33: 5270 | LL33: 2630 | LT33: 別表2(相談系) | LU33: 補助基準額 | LV33: 15800 | LW33: 13170 | LX33: 10530 | LY33: 7900 | LZ33: 5270 | MA33: 2630 | MI33: 別表2(相談系) | MJ33: 補助基準額 | MK33: 15800 | ML33: 13170 | MM33: 10530 | MN33: 7900 | MO33: 5270 | MP33: 2630 | MX33: 別表2(相談系) | MY33: 補助基準額 | MZ33: 15800 | NA33: 13170 | NB33: 10530 | NC33: 7900 | ND33: 5270 | NE33: 2630 | NM33: 別表2(相談系) | NN33: 補助基準額 | NO33: 15800 | NP33: 13170 | NQ33: 10530 | NR33: 7900 | NS33: 5270 | NT33: 2630 | OB33: 別表2(相談系) | OC33: 補助基準額 | OD33: 15800 | OE33: 13170 | OF33: 10530 | OG33: 7900 | OH33: 5270 | OI33: 2630 | OQ33: 別表2(相談系) | OR33: 補助基準額 | OS33: 15800 | OT33: 13170 | OU33: 10530 | OV33: 7900 | OW33: 5270 | OX33: 2630 | PF33: 別表2(相談系) | PG33: 補助基準額 | PH33: 15800 | PI33: 13170 | PJ33: 10530 | PK33: 7900 | PL33: 5270 | PM33: 2630 | PU33: 別表2(相談系) | PV33: 補助基準額 | PW33: 15800 | PX33: 13170 | PY33: 10530 | PZ33: 7900 | QA33: 5270 | QB33: 2630
B34: 22～26 | C34: 補助額 | D34: =D33 -> 15800 | E34: =IF(ISBLANK(E$21),"",E$33) | F34: =IF(ISBLANK(F$21),"",F$33) | G34: =IF(ISBLANK(G$21),"",G$33) | H34: =IF(ISBLANK(H$21),"",H$33) | I34: =IF(ISBLANK(I$21),"",I$33) | Q34: 22～26 | R34: 補助額 | S34: =S33 -> 15800 | T34: =IF(ISBLANK(T$21),"",T$33) | U34: =IF(ISBLANK(U$21),"",U$33) | V34: =IF(ISBLANK(V$21),"",V$33) | W34: =IF(ISBLANK(W$21),"",W$33) | X34: =IF(ISBLANK(X$21),"",X$33) | AF34: 22～26 | AG34: 補助額 | AH34: =AH33 -> 15800 | AI34: =IF(ISBLANK(AI$21),"",AI$33) | AJ34: =IF(ISBLANK(AJ$21),"",AJ$33) | AK34: =IF(ISBLANK(AK$21),"",AK$33) | AL34: =IF(ISBLANK(AL$21),"",AL$33) | AM34: =IF(ISBLANK(AM$21),"",AM$33) | AU34: 22～26 | AV34: 補助額 | AW34: =AW33 -> 15800 | AX34: =IF(ISBLANK(AX$21),"",AX$33) | AY34: =IF(ISBLANK(AY$21),"",AY$33) | AZ34: =IF(ISBLANK(AZ$21),"",AZ$33) | BA34: =IF(ISBLANK(BA$21),"",BA$33) | BB34: =IF(ISBLANK(BB$21),"",BB$33) | BJ34: 22～26 | BK34: 補助額 | BL34: =BL33 -> 15800 | BM34: =IF(ISBLANK(BM$21),"",BM$33) | BN34: =IF(ISBLANK(BN$21),"",BN$33) | BO34: =IF(ISBLANK(BO$21),"",BO$33) | BP34: =IF(ISBLANK(BP$21),"",BP$33) | BQ34: =IF(ISBLANK(BQ$21),"",BQ$33) | BY34: 22～26 | BZ34: 補助額 | CA34: =CA33 -> 15800 | CB34: =IF(ISBLANK(CB$21),"",CB$33) | CC34: =IF(ISBLANK(CC$21),"",CC$33) | CD34: =IF(ISBLANK(CD$21),"",CD$33) | CE34: =IF(ISBLANK(CE$21),"",CE$33) | CF34: =IF(ISBLANK(CF$21),"",CF$33) | CN34: 22～26 | CO34: 補助額 | CP34: =CP33 -> 15800 | CQ34: =IF(ISBLANK(CQ$21),"",CQ$33) | CR34: =IF(ISBLANK(CR$21),"",CR$33) | CS34: =IF(ISBLANK(CS$21),"",CS$33) | CT34: =IF(ISBLANK(CT$21),"",CT$33) | CU34: =IF(ISBLANK(CU$21),"",CU$33) | DC34: 22～26 | DD34: 補助額 | DE34: =DE33 -> 15800 | DF34: =IF(ISBLANK(DF$21),"",DF$33) | DG34: =IF(ISBLANK(DG$21),"",DG$33) | DH34: =IF(ISBLANK(DH$21),"",DH$33) | DI34: =IF(ISBLANK(DI$21),"",DI$33) | DJ34: =IF(ISBLANK(DJ$21),"",DJ$33) | DR34: 22～26 | DS34: 補助額 | DT34: =DT33 -> 15800 | DU34: =IF(ISBLANK(DU$21),"",DU$33) | DV34: =IF(ISBLANK(DV$21),"",DV$33) | DW34: =IF(ISBLANK(DW$21),"",DW$33) | DX34: =IF(ISBLANK(DX$21),"",DX$33) | DY34: =IF(ISBLANK(DY$21),"",DY$33) | EG34: 22～26 | EH34: 補助額 | EI34: =EI33 -> 15800 | EJ34: =IF(ISBLANK(EJ$21),"",EJ$33) | EK34: =IF(ISBLANK(EK$21),"",EK$33) | EL34: =IF(ISBLANK(EL$21),"",EL$33) | EM34: =IF(ISBLANK(EM$21),"",EM$33) | EN34: =IF(ISBLANK(EN$21),"",EN$33) | EV34: 22～26 | EW34: 補助額 | EX34: =EX33 -> 15800 | EY34: =IF(ISBLANK(EY$21),"",EY$33) | EZ34: =IF(ISBLANK(EZ$21),"",EZ$33) | FA34: =IF(ISBLANK(FA$21),"",FA$33) | FB34: =IF(ISBLANK(FB$21),"",FB$33) | FC34: =IF(ISBLANK(FC$21),"",FC$33) | FK34: 22～26 | FL34: 補助額 | FM34: =FM33 -> 15800 | FN34: =IF(ISBLANK(FN$21),"",FN$33) | FO34: =IF(ISBLANK(FO$21),"",FO$33) | FP34: =IF(ISBLANK(FP$21),"",FP$33) | FQ34: =IF(ISBLANK(FQ$21),"",FQ$33) | FR34: =IF(ISBLANK(FR$21),"",FR$33) | FZ34: 22～26 | GA34: 補助額 | GB34: =GB33 -> 15800 | GC34: =IF(ISBLANK(GC$21),"",GC$33) | GD34: =IF(ISBLANK(GD$21),"",GD$33) | GE34: =IF(ISBLANK(GE$21),"",GE$33) | GF34: =IF(ISBLANK(GF$21),"",GF$33) | GG34: =IF(ISBLANK(GG$21),"",GG$33) | GO34: 22～26 | GP34: 補助額 | GQ34: =GQ33 -> 15800 | GR34: =IF(ISBLANK(GR$21),"",GR$33) | GS34: =IF(ISBLANK(GS$21),"",GS$33) | GT34: =IF(ISBLANK(GT$21),"",GT$33) | GU34: =IF(ISBLANK(GU$21),"",GU$33) | GV34: =IF(ISBLANK(GV$21),"",GV$33) | HD34: 22～26 | HE34: 補助額 | HF34: =HF33 -> 15800 | HG34: =IF(ISBLANK(HG$21),"",HG$33) | HH34: =IF(ISBLANK(HH$21),"",HH$33) | HI34: =IF(ISBLANK(HI$21),"",HI$33) | HJ34: =IF(ISBLANK(HJ$21),"",HJ$33) | HK34: =IF(ISBLANK(HK$21),"",HK$33) | HS34: 22～26 | HT34: 補助額 | HU34: =HU33 -> 15800 | HV34: =IF(ISBLANK(HV$21),"",HV$33) | HW34: =IF(ISBLANK(HW$21),"",HW$33) | HX34: =IF(ISBLANK(HX$21),"",HX$33) | HY34: =IF(ISBLANK(HY$21),"",HY$33) | HZ34: =IF(ISBLANK(HZ$21),"",HZ$33) | IH34: 22～26 | II34: 補助額 | IJ34: =IJ33 -> 15800 | IK34: =IF(ISBLANK(IK$21),"",IK$33) | IL34: =IF(ISBLANK(IL$21),"",IL$33) | IM34: =IF(ISBLANK(IM$21),"",IM$33) | IN34: =IF(ISBLANK(IN$21),"",IN$33) | IO34: =IF(ISBLANK(IO$21),"",IO$33) | IW34: 22～26 | IX34: 補助額 | IY34: =IY33 -> 15800 | IZ34: =IF(ISBLANK(IZ$21),"",IZ$33) | JA34: =IF(ISBLANK(JA$21),"",JA$33) | JB34: =IF(ISBLANK(JB$21),"",JB$33) | JC34: =IF(ISBLANK(JC$21),"",JC$33) | JD34: =IF(ISBLANK(JD$21),"",JD$33) | JL34: 22～26 | JM34: 補助額 | JN34: =JN33 -> 15800 | JO34: =IF(ISBLANK(JO$21),"",JO$33) | JP34: =IF(ISBLANK(JP$21),"",JP$33) | JQ34: =IF(ISBLANK(JQ$21),"",JQ$33) | JR34: =IF(ISBLANK(JR$21),"",JR$33) | JS34: =IF(ISBLANK(JS$21),"",JS$33) | KA34: 22～26 | KB34: 補助額 | KC34: =KC33 -> 15800 | KD34: =IF(ISBLANK(KD$21),"",KD$33) | KE34: =IF(ISBLANK(KE$21),"",KE$33) | KF34: =IF(ISBLANK(KF$21),"",KF$33) | KG34: =IF(ISBLANK(KG$21),"",KG$33) | KH34: =IF(ISBLANK(KH$21),"",KH$33) | KP34: 22～26 | KQ34: 補助額 | KR34: =KR33 -> 15800 | KS34: =IF(ISBLANK(KS$21),"",KS$33) | KT34: =IF(ISBLANK(KT$21),"",KT$33) | KU34: =IF(ISBLANK(KU$21),"",KU$33) | KV34: =IF(ISBLANK(KV$21),"",KV$33) | KW34: =IF(ISBLANK(KW$21),"",KW$33) | LE34: 22～26 | LF34: 補助額 | LG34: =LG33 -> 15800 | LH34: =IF(ISBLANK(LH$21),"",LH$33) | LI34: =IF(ISBLANK(LI$21),"",LI$33) | LJ34: =IF(ISBLANK(LJ$21),"",LJ$33) | LK34: =IF(ISBLANK(LK$21),"",LK$33) | LL34: =IF(ISBLANK(LL$21),"",LL$33) | LT34: 22～26 | LU34: 補助額 | LV34: =LV33 -> 15800 | LW34: =IF(ISBLANK(LW$21),"",LW$33) | LX34: =IF(ISBLANK(LX$21),"",LX$33) | LY34: =IF(ISBLANK(LY$21),"",LY$33) | LZ34: =IF(ISBLANK(LZ$21),"",LZ$33) | MA34: =IF(ISBLANK(MA$21),"",MA$33) | MI34: 22～26 | MJ34: 補助額 | MK34: =MK33 -> 15800 | ML34: =IF(ISBLANK(ML$21),"",ML$33) | MM34: =IF(ISBLANK(MM$21),"",MM$33) | MN34: =IF(ISBLANK(MN$21),"",MN$33) | MO34: =IF(ISBLANK(MO$21),"",MO$33) | MP34: =IF(ISBLANK(MP$21),"",MP$33) | MX34: 22～26 | MY34: 補助額 | MZ34: =MZ33 -> 15800 | NA34: =IF(ISBLANK(NA$21),"",NA$33) | NB34: =IF(ISBLANK(NB$21),"",NB$33) | NC34: =IF(ISBLANK(NC$21),"",NC$33) | ND34: =IF(ISBLANK(ND$21),"",ND$33) | NE34: =IF(ISBLANK(NE$21),"",NE$33) | NM34: 22～26 | NN34: 補助額 | NO34: =NO33 -> 15800 | NP34: =IF(ISBLANK(NP$21),"",NP$33) | NQ34: =IF(ISBLANK(NQ$21),"",NQ$33) | NR34: =IF(ISBLANK(NR$21),"",NR$33) | NS34: =IF(ISBLANK(NS$21),"",NS$33) | NT34: =IF(ISBLANK(NT$21),"",NT$33) | OB34: 22～26 | OC34: 補助額 | OD34: =OD33 -> 15800 | OE34: =IF(ISBLANK(OE$21),"",OE$33) | OF34: =IF(ISBLANK(OF$21),"",OF$33) | OG34: =IF(ISBLANK(OG$21),"",OG$33) | OH34: =IF(ISBLANK(OH$21),"",OH$33) | OI34: =IF(ISBLANK(OI$21),"",OI$33) | OQ34: 22～26 | OR34: 補助額 | OS34: =OS33 -> 15800 | OT34: =IF(ISBLANK(OT$21),"",OT$33) | OU34: =IF(ISBLANK(OU$21),"",OU$33) | OV34: =IF(ISBLANK(OV$21),"",OV$33) | OW34: =IF(ISBLANK(OW$21),"",OW$33) | OX34: =IF(ISBLANK(OX$21),"",OX$33) | PF34: 22～26 | PG34: 補助額 | PH34: =PH33 -> 15800 | PI34: =IF(ISBLANK(PI$21),"",PI$33) | PJ34: =IF(ISBLANK(PJ$21),"",PJ$33) | PK34: =IF(ISBLANK(PK$21),"",PK$33) | PL34: =IF(ISBLANK(PL$21),"",PL$33) | PM34: =IF(ISBLANK(PM$21),"",PM$33) | PU34: 22～26 | PV34: 補助額 | PW34: =PW33 -> 15800 | PX34: =IF(ISBLANK(PX$21),"",PX$33) | PY34: =IF(ISBLANK(PY$21),"",PY$33) | PZ34: =IF(ISBLANK(PZ$21),"",PZ$33) | QA34: =IF(ISBLANK(QA$21),"",QA$33) | QB34: =IF(ISBLANK(QB$21),"",QB$33)
