Workbook
Name _____________________________________________________________________kk29: #REF!
Name _____________________________________________________________________kk29: #REF!
Name _____________________________________________________________________kk29: #REF!
Name _____________________________________________________________________kk29: #REF!
Name _____________________________________________________________________kk29: #REF!
Name _____________________________________________________________________kk29: #REF!
Name ____________________________________________________________________kk29: #REF!
Name ____________________________________________________________________kk29: #REF!
Name ____________________________________________________________________kk29: #REF!
Name ____________________________________________________________________kk29: #REF!
Name ____________________________________________________________________kk29: #REF!
Name ____________________________________________________________________kk29: #REF!
Name ____________________________________________________________________kk29: #REF!
Name ____________________________________________________________________kk29: #REF!
Name ___________________________________________________________________kk29: #REF!
Name ___________________________________________________________________kk29: #REF!
Name ___________________________________________________________________kk29: #REF!
Name ___________________________________________________________________kk29: #REF!
Name ___________________________________________________________________kk29: #REF!
Name ___________________________________________________________________kk29: #REF!
Name ___________________________________________________________________kk29: #REF!
Name ___________________________________________________________________kk29: #REF!
Name __________________________________________________________________kk06: #REF!
Name __________________________________________________________________kk06: #REF!
Name __________________________________________________________________kk06: #REF!
Name __________________________________________________________________kk06: #REF!
Name __________________________________________________________________kk06: #REF!
Name __________________________________________________________________kk06: #REF!
Name __________________________________________________________________kk29: #REF!
Name __________________________________________________________________kk29: #REF!
Name __________________________________________________________________kk29: #REF!
Name __________________________________________________________________kk29: #REF!
Name __________________________________________________________________kk29: #REF!
Name __________________________________________________________________kk29: #REF!
Name __________________________________________________________________kk29: #REF!
Name _________________________________________________________________kk06: #REF!
Name _________________________________________________________________kk06: #REF!
Name _________________________________________________________________kk06: #REF!
Name _________________________________________________________________kk06: #REF!
Name _________________________________________________________________kk06: #REF!
Name _________________________________________________________________kk06: #REF!
Name _________________________________________________________________kk06: #REF!
Name _________________________________________________________________kk29: #REF!
Name _________________________________________________________________kk29: #REF!
Name _________________________________________________________________kk29: #REF!
Name _________________________________________________________________kk29: #REF!
Name _________________________________________________________________kk29: #REF!
Name _________________________________________________________________kk29: #REF!
Name _________________________________________________________________kk29: #REF!
Name ________________________________________________________________kk06: #REF!
Name ________________________________________________________________kk06: #REF!
Name ________________________________________________________________kk06: #REF!
Name ________________________________________________________________kk06: #REF!
Name ________________________________________________________________kk06: #REF!
Name ________________________________________________________________kk06: #REF!
Name ________________________________________________________________kk06: #REF!
Name ________________________________________________________________kk29: #REF!
Name ________________________________________________________________kk29: #REF!
Name ________________________________________________________________kk29: #REF!
Name ________________________________________________________________kk29: #REF!

Sheet 基本情報入力シート
A1: R8.４- | C1: 基本情報入力シート | Z1: --選択下さい--
Z2: 指定（更新）を受けようとする（受けている）事業所・施設が、主たる事業所の所在地と同じである。
Z3: 指定（更新）を受けようとする（受けている）事業所・施設が、主たる事業所の所在地と異なる。
B4: ●はじめに | Z4: 単独
B5: 本シートに入力を実施することで、関係様式に必要な情報が自動で入力されます。 一部、個別のセルに入力を行う必要もございます。各シートを確認の上、個別に入力が必要な箇所につき ましても、忘れずにご入力ください。
B10: ●基本情報
B11: Ｎｏ | D11: 入力項目 | L11: 入力箇所
B12: 申請者・設置者情報
B13: 1 | D13: 変更届出年月日
B14: 例 | D14: 令和５年４月１日 ※和暦で入力してください。
B15: 2 | D15: 主たる事務所の所在地郵便番号 | Q15: -
B16: 例 | D16: 163-0081
B17: 3-1 | D17: 主たる事務所の所在地（建物名等除く）
B18: 例 | D18: 東京都新宿区西新宿２ー８－１
B19: 3-2 | D19: 主たる事務所の所在地（建物名等）
B20: 例 | D20: 都庁第一本庁舎 ３１階 ※建物名等なければ入力不要です。
B21: 4 | D21: 申請者（設置者）名称
B22: 例 | D22: 社会福祉法人 ○○○○
B23: 5 | D23: 申請者（設置者）名称フリガナ
B24: 例 | D24: シャカイフクシホウジン ○○○○
B25: 6 | D25: 法人種別
B26: 例 | D26: 地方公共団体 ※法人の種別を選択してください。
B27: 7 | D27: 法人所轄庁
B28: 例 | D28: 東京都 ※株式会社等の営利法人については入力不要です。
B29: 8 | D29: 法人電話番号
B30: 例 | D30: 03-5320-4158
B31: 9 | D31: 法人電話番号内線
B32: 例 | D32: ３３－２９３
B33: 10 | D33: 法人ＦＡＸ番号
B34: 例 | D34: 03-5388-1408
B35: 11 | D35: 法人mailアドレス
B36: 例 | D36: S1140702@section.metro.tokyo.jp ※法人のメールアドレスを記載ください。
B37: 12 | D37: 代表者の職名 | S37: 例 | T37: 代表取締役
B38: 13 | D38: 代表者の氏名（フリガナ） | S38: 例 | T38: トウキョウ タロウ
B39: 14 | D39: 代表者の氏名 | S39: 例 | T39: 東京 太郎
B40: 15 | D40: 代表者の生年月日 | S40: 例 | T40: 46023
B41: 16 | D41: 代表者の住所 郵便番号 | Q41: -
B42: 17-1 | D42: 代表者の住所（建物を除く）
B43: 17-2 | D43: 代表者の住所（建物名等）
B44: 指定（更新）を受けようとする（受けている）事業所・施設の情報
...

Sheet 【Ｂ型新規】添付書類一覧
A1: 障害者の日常生活及び社会生活を総合的に支援するための法律に基づく事業者指定の申請に係る書類一覧
A2: （就労継続支援B型）
A3: 事業所の名称 | C3: =IF(基本情報入力シート!L49="","",基本情報入力シート!L49) | E3: 所在地 （区市町村名）
A5: ※「申請者確認欄」の該当欄に「○」を付し、添付書類等に漏れがないよう確認してください。
A6: 申請書及び添付書類等 | E6: 申請者確認欄 | F6: 備考 | H6: インデックス
A7: 申請書 | B7: 指定申請書 | F7: 別紙様式第一号 | H7: 1
B8: 指定等に係る記載事項 | F8: 付表９ | H8: 2
A9: 加算届出 | B9: 介護給付費等算定に係る体制等状況一覧表 | F9: 別紙１－１体制一覧 | H9: 3
B10: 勤務形態一覧表及び指定日から勤務することが証明できる書類（雇用契約書、内定承諾書等） | F10: 標準様式４ | H10: 4
B11: 福祉専門職員配置等加算に関する届出書 | F11: 別紙３－１ | H11: 5
B12: 食事提供体制加算に係る体制 | F12: 別紙１０に記載 | H12: 6
B13: 視覚・聴覚言語障害者支援体制加算 | F13: 別紙６－１・６－２ | H13: 7
B14: 目標工賃達成指導員等配置加算に関する届出書 | F14: 別紙３２ | H14: 8
B15: 送迎加算に関する届出書 | F15: 別紙４８ | H15: 9
A16: 届出 | B16: 目標工賃報告書 | F16: 目標工賃報告書 | H16: 10
B17: 工賃向上計画 | F17: 参考様式 | H17: 11
B18: 利用日数に係る特例の適用を受ける通所施設に係る（変更）届出書 （利用日数の特例を届け出た場合に利用日数を管理する時に管理票を使用して適切な管理を行う） | F18: 利用日数特例届出書 利用日数管理票等 | H18: 12
A19: 添付書類 | B19: 寄付行為等及び登記事項証明書（原本又は原本証明）又は条例等 | H19: 13
B20: 平面図（用途と面積を反映させたもの） | H20: 14
B21: 設備の概要 | F21: 参考様式２ | H21: 15
B22: 土地・建物登記簿又は賃貸借契約書（写） | H22: 16
B23: 管理者の経歴書 | F23: 参考様式３ | H23: 17
B24: 管理者の実務経験証明書または資格等の証明書（写） | H24: 18
B25: サービス管理責任者の経歴書 | F25: 参考様式３ | H25: 19
B26: サービス管理責任者の実務経験証明書及び資格等の証明書（写） | F26: 参考様式４ | H26: 20
B27: サービス管理責任者研修修了証書（写） ※サービス管理責任者実践研修又は更新研修の修了日付が新しいどちらか一方の修了証書を提出してください。 | H27: 21
B28: 運営規程 | F28: 記載例（書式ライブラリ―に掲載あり） | H28: 22
B29: 利用者からの苦情を解決するために講ずる措置の概要 | F29: 標準様式２ | H29: 23
B30: 主たる対象者を特定する理由書 | F30: 標準様式１ | H30: 24
B31: 当該協力医療機関との契約内容が分かる書類（協定書等の写し） | H31: 25
B32: 当該申請に係る事業に係る資産の状況(貸借対照表、財産目録等、口座残高証明書） | H32: 26
B33: 就業規則（従業者用） | H33: 27
B34: 法３６条第３項各号非該当誓約書 | F34: 標準様式３ | H34: 28
B35: 事業開始届 | F35: 参考様式 | H35: 29
B36: 事業計画書 | H36: 30
B37: 資金収支予算書（少なくとも１２か月分） | F37: 参考様式（書式ライブラリ―に掲載あり） | H37: 31
B38: 利用者名簿 | F38: 参考様式 | H38: 32
B39: 工賃規程 | H39: 33
B40: 書類差替確約書 | F40: 参考様式 | H40: 34
B42: 耐震化調査票 | F42: 別紙 | H42: 35
...

Sheet 【変更届】添付書類一覧 
A1: 変更届の提出書類一覧（生活介護、施設入所支援、自立訓練、療養介護、就労選択支援、就労移行支援、就労継続支援、就労定着支援事業者用）
A2: ※変更後、１０日以内に届出てください。 ただし、「１７ （定員の変更）」又は「２４ 介護給付費の請求に関する事項」 の場合には、変更月の前月の１５日前までに提出してください（４月の取扱いは通知参照）。 | G2: ●必要書類／この他参考になる書類がありましたら添付してください。各届出様式等は報酬改定等により変更となる場合があるため、提出の際は最新の様式をお使いください。 ※収受印を押印した変更届の写しの返送を希望する場合は、切手を貼付した返信用封筒を同封してください。
A4: ※「２ 事業所（施設）の所在地」、 「１０ 事業所（施設）の平面図・設備の概要」「１４ 管理者の氏名、生年月日、住所及び経歴」「１５ サービス管理責任者の氏名、生年月日、住所及び経歴」又は「１７ （定員の変更）」 「１７ （従たる事業所・出張所の追加） 」、の場合には、事前に財団の担当部署にご相談ください。（生活介護、施設入所支援、自立訓練、療養介護については「１０」の事前相談は不要です）
D6: 変更届出書 | E6: 付表 | F6: 介護給付費等の算定に係る体制等状況一覧表 | G6: 定 款 | H6: 履歴事項 全部証明 書（写） | I6: 土地・建物 登記簿 （もしくは賃貸借 契約書）（写） | J6: 条例 (公営事業所 のみ） | K6: 平面図 （用途と面積を反映させたもの） | L6: 事業所 設備の 面積表 | M6: 消防計画 食品営業許可（写） | N6: 設備の概要 | O6: 経 歴 書 | P6: 資格免状の写し | Q6: ｻｰﾋﾞｽ 管理責任 者研修 修了証書(写) ※4 | R6: 相談支援従事者研修修了証書 | S6: 実務経験証明書 | T6: 勤務体制 一覧表 | U6: 運営 規程 | V6: 理事会 議事録 （＊5） | W6: 法36条3項非該当誓約書 | X6: 協力医療機関との契約内容が分かる書類 | Y6: 指定障害福祉サービス等の主たる対象者を特定する理由等 | Z6: 耐震化 調査票 | AA6: 関係機関との相談状況確認シート
C7: 変更事由／変更後内容を記載の必要書類
C8: 様式の有無（共通シートは名称） | D8: 別紙様式第二号 | E8: 有 | F8: 別紙1-1体制一覧 | G8: 無 | H8: 無 | I8: 無 | J8: 無 | K8: 無 | L8: 参考様式有 | M8: 無 | N8: 参考様式２ | O8: 参考様式３ | P8: 無 | Q8: 無 | R8: 無 | S8: 参考様式４ | T8: 標準様式４ | U8: 記載例有 | V8: 無 | W8: 標準様式3 | X8: 無 | Y8: 標準様式１ | Z8: 耐震化調査票 | AA8: 有
A9: 1 | B9: 事業所（施設）の名称 | D9: ● | E9: ● | J9: ● | U9: ● | V9: ●
A10: =A9+1 -> 2 | B10: 事業所（施設）の所在地 （＊１） （＊２） | D10: ● | E10: ● | I10: ● | J10: ● （変更がある 場合のみ） | K10: ● | L10: - | M10: - | N10: ● | U10: ● | V10: ● | Z10: ● | AA10: ●
A11: 3 | B11: 事業所（施設）の連絡先（電話番号） ※FAX番号が変わった場合はFAX番号も記載 | D11: ● | E11: ●
A12: 4 | B12: 申請者（設置者）の名称 【法人名変更】 | D12: ● | E12: ● | G12: - | H12: ● | U12: ● | V12: ●
A13: =A12+1 -> 5 | B13: 主たる事務所の所在地 （＊２） 【法人本部・区市町村役所の移転】 ＊電話・ＦＡＸ番号が変わった場合は電話・ＦＡＸ番号も記載 | D13: ● | G13: - | H13: ● | J13: ● （変更がある 場合のみ） | V13: ●
A14: =A13+1 -> 6 | B14: 申請者の代表者の氏名、生年月日、住所及び職名 | D14: ● | H14: ● | O14: ● | V14: ● | W14: ●
A15: 7 | B15: 法人等の種類 （＊２）
A16: 8 | B16: 定款(A型のみ)及び登記事項証明書又は条例等（当該事業に関するものに限る。） | D16: ● | G16: ● | H16: ● | J16: ● | V16: ● | W16: -
A17: 9 | B17: 共生型サービスの該当有無
A18: 10 | B18: 事業所（施設）の構造概要・平面図・設備の概要 （＊１） （＊２） | D18: ● | K18: ● | L18: - | M18: - | N18: ●
A19: 11 | B19: 障害児対象事業の該当有無
A20: 12 | B20: 利用する障害児の推定数
A21: 13 | B21: 利用者又は入所者の定員
A22: 14 | B22: 管理者の氏名、生年月日、住所及び経歴 | D22: ● | E22: ● | O22: ● | P22: ● | S22: ● | T22: ● | V22: ● | W22: ●
A23: 15 | B23: サービス管理責任者の氏名、生年月日、住所及び経歴 | D23: ● | E23: ● | O23: ● | P23: ● | Q23: ● | R23: - | S23: ● | T23: ●
A24: 16 | B24: 指定地域相談支援の提供に当たる者又は相談支援専門員の氏名、生年月日、住所及び経歴
A25: 17 | B25: 運営規程 | D25: ● | E25: ● | U25: ●
B26: （定員の変更） （※３） | D26: ● | E26: ● | F26: ● | K26: ● | L26: - | N26: ● | T26: ● | U26: ● | V26: ● | AA26: ●
B27: （従たる事業所・出張所の追加） （＊１） | D27: ● | E27: ● | F27: ● | I27: ● | J27: ● | K27: ● | L27: - | M27: - | N27: ● | T27: ● | U27: ● | V27: ● | X27: ● | Z27: ● | AA27: ●
B28: （主たる対象者） | D28: ● | E28: ● | U28: ● | Y28: ●
A29: 18 | B29: 協力医療機関・協力歯科医療機関の名称・診療科名・契約内容 | D29: ● | E29: ● | X29: ●
A30: 19 | B30: 提携就労支援機関の名称 | D30: ● | E30: ●
A31: 20 | B31: 提供する障害福祉サービス等の種類 | D31: 新規指定申請書類と同様の書類が必要となります。事前に財団の担当者へご相談ください。
A32: 21 | B32: 第三者委託により提供する障害福祉サービス等の種類等
A33: 22 | B33: 事業実施形態（事業所の種別等）
A34: 23 | B34: 従業者の勤務の体制及び勤務形態
A35: 24 | B35: その他 | D35: 変更届の項目以外で必要なものを以下その他として扱っております。下記に従って届出をお願い致します。
B36: 「就労選択支援員の氏名」 | D36: ● | E36: ● | O36: ● | P36: ● | T36: ●
B37: 【介護給付費等(訓練等給付費）の請求に関する事項】 | D37: 別紙「基本報酬・加算等にかかる添付書類一覧」を参照ください。
B39: ＊１ | C39: 用途変更が生じる場合等もありますので、変更届の提出前にご相談ください。
B40: ＊２ | C40: 施設整備費補助金を受けた事業所にあっては、２、５、１０について変更等がある場合は施設整備費補助金上の手続きが必要な場合がありますので、変更前にご相談ください
B41: ＊３ | C41: 定員規模の変更を伴う場合は、項目２４の介護給付費等に係る手続きも必要になります。
B42: ＊４ | C42: サービス管理責任者実践研修又は更新研修の修了日付が新しいどちらか一方の修了証書を提出してください。
B43: ＊５ | C43: 変更事項が理事会審議事項でない場合（又は理事会自体が存在しない場合）は、法人としての意思決定がなされていることが確認できる書類（取締役会議事録や管理者の任命書等）をご提出ください。

Sheet 基本報酬・加算等にかかる添付書類一覧(R8) 
A1: 基本報酬・加算等にかかる添付書類一覧
A2: ※ 添付書類は下記一覧表のとおり。なお、変更届にて申請する際は、担当部署へ到達した日をもって届出日になりますので、郵送の場合は余裕を持って提出願います。 １５日以前⇒翌月から １６日以降⇒翌々月から（１５日が閉庁日の場合は、直前の開庁日までに到達していること。４月の取扱いは通知参照）
A4: ※ 基本報酬は、就労系サービス（就労移行支援、就労継続支援Ａ型、就労継続支援Ｂ型、就労定着支援）について、区分に変更がある場合は、毎年（４月）変更届出が必要となります。 変更がない場合でも報告書の提出をお願いします。
A5: ※ 加算の算定要件に欠ける場合には、速やかに変更届を提出願います。変更届提出日に関わらず、変更年月日は、算定要件に欠けた時点となります。
A6: ※ 各届出様式等は報酬改定等により変更となる場合があるため、提出の際は最新の様式をお使いください。
A8: 基本報酬
A9: No. | B9: 基本報酬 | C9: 生活介護 | D9: 施設入所支援 | E9: 自立訓練(生活訓練) | F9: 自立訓練(機能訓練) | G9: 宿泊型自立訓練 | H9: 就労選択支援 | I9: 就労移行支援 | J9: 就労継続支援A型 | K9: 就労継続支援B型 | L9: 就労定着支援 | M9: 療養介護 | N9: 変更届出書（別紙様式第二号） 様式 | O9: 第5号 様式 | P9: 介護給付費等の算定に係る体制等状況一覧表 | Q9: 付表 | R9: 勤務形態一覧表 標準様式４ | S9: 各 届出 様式 | T9: 社会福祉士等資格証 (写) | U9: 看護職員資格証 (写) | V9: 栄養士資格証 (写) | W9: 管理栄養士資格証 (写) | X9: 運営規程 | Y9: その他
A10: 1 | B10: 就労移行支援 | I10: ● | N10: ○ | O10: - | P10: ○ | Q10: ― | R10: ― | S10: 別添２ | T10: ― | U10: ― | V10: ― | W10: ― | X10: ― | Y10: 別添２：就労移行支援の基本報酬の算定区分に関する届出書を提出するにあたっての確認事項 を添付すること
A11: 2 | B11: 就労継続支援Ａ型（※１） | J11: ● | N11: ○ | O11: - | P11: ○ | Q11: ― | R11: ― | S11: 別紙57 | T11: ― | U11: ― | V11: ― | W11: ― | X11: ―
A12: 3 | B12: 就労継続支援Ｂ型（※１） | K12: ● | N12: ○ | O12: - | P12: ○ | Q12: ― | R12: ― | S12: ― | T12: ― | U12: ― | V12: ― | W12: ― | X12: ―
A13: 4 | B13: 就労定着支援 | L13: ● | N13: ○ | O13: - | P13: ○ | Q13: ― | R13: ― | S13: ― | T13: ― | U13: ― | V13: ― | W13: ― | X13: ―
A14: ※1 | B14: 人員区分の変更 | J14: ● | K14: ● | N14: 〇 | O14: - | P14: 〇 | R14: 〇
A16: 加算
A17: No. | B17: 基本報酬 | C17: 生活介護 | D17: 施設入所支援 | E17: 自立訓練(生活訓練) | F17: 自立訓練(機能訓練) | G17: 宿泊型自立訓練 | H17: 就労選択支援 | I17: 就労移行支援 | J17: 就労継続支援A型 | K17: 就労継続支援B型 | L17: 就労定着支援 | M17: 療養介護 | N17: 変更届出書（別紙様式第二号） 様式 | O17: 第5号 様式 | P17: 介護給付費等の算定に係る体制等状況一覧表 | Q17: 付表 | R17: 勤務形態一覧表 標準様式４ | S17: 各 届出 様式 | T17: 社会福祉士等資格証 (写) | U17: 看護職員資格証 (写) | V17: 栄養士資格証 (写) | W17: 管理栄養士資格証 (写) | X17: 運営規程 | Y17: その他
A18: 1 | B18: 人員配置体制加算 | C18: ● | N18: ○ | O18: - | P18: ○ | Q18: ○ | R18: ○ | S18: 別紙 4 | T18: ― | U18: ― | V18: ― | W18: ― | X18: ○
A19: 2 | B19: 福祉専門職配置加算 | C19: ● | E19: ● | F19: ● | G19: ● | H19: ● | I19: ● | J19: ● | K19: ● | N19: ○ | O19: - | P19: ○ | Q19: ○ | R19: ○ | S19: 別紙3-1 | T19: ○ | U19: ― | V19: ― | W19: ― | X19: ○ （※） | Y19: 社会福祉士等の資格証（写）については、登録証を添付すること。（登録手続中で登録証が未発行の場合は、代わりに合格証を添付し、かつ登録証取得後提出すること） 勤続年数３年以上のⅢ型を算定する場合は、３年以上の勤続が分かる証明書の添付をすること。
A20: 3 | B20: 食事提供体制加算 | C20: ● | E20: ● | F20: ● | G20: ● | H20: ● | I20: ● | J20: ● | K20: ● | N20: ○ | O20: - | P20: ○ | Q20: ○ | R20: ○ | S20: 別紙 10 | T20: ― | U20: ― | V20: ○ | W20: ○ | X20: ○ | Y20: 別紙10に記載のあるものを添付すること
A21: 4 | B21: 栄養マネジメント加算 | D21: ● | N21: ○ | O21: - | P21: ○ | Q21: ○ | R21: ― | S21: 別紙 16 | T21: ― | U21: ― | V21: ― | W21: ○ | X21: ○
A22: 5 | B22: 視覚･聴覚言語障害者支援体制加算（Ⅰ） | C22: ● | D22: ● | E22: ● | F22: ● | G22: ● | H22: ● | I22: ● | J22: ● | K22: ● | N22: ○ | O22: - | P22: ○ | Q22: ― | R22: ○ | S22: 別紙 6-1 | T22: ― | U22: ― | V22: ― | W22: ― | X22: ―
B23: 視覚･聴覚言語障害者支援体制加算（Ⅱ） | C23: ● | D23: ● | E23: ● | F23: ● | G23: ● | H23: ● | I23: ● | J23: ● | K23: ● | N23: ○ | O23: - | P23: ○ | Q23: ― | R23: ○ | S23: 別紙 6-2 | T23: ― | U23: ― | V23: ― | W23: ― | X23: ―
A24: 6 | B24: 重度障害者支援加算Ⅰ、Ⅱ、Ⅲ 中核的人材配置体制加算 | C24: ● | D24: ● | N24: ○ | O24: - | P24: ○ | Q24: ○ | R24: ○ | S24: 別紙8-1 | T24: ― | U24: ― | V24: ― | W24: ― | X24: ― | Y24: 別紙8-1に記載のあるものを添付すること
A25: 7 | B25: 夜勤職員配置体制加算 | D25: ● | N25: ○ | O25: - | P25: ○ | Q25: ○ | R25: ○ 施設で作成している任意の夜勤勤務一覧 | S25: 別紙 17 | T25: ― | U25: ― | V25: ― | W25: ― | X25: ○
A26: 8 | B26: 夜間看護体制加算 | D26: ● | N26: ○ | O26: - | P26: ○ | Q26: ○ | R26: ○ 施設で作成している任意の夜勤勤務一覧 | S26: 別紙 19 | T26: ― | U26: ― | V26: ― | W26: ― | X26: ○
A27: 9 | B27: 夜間支援等体制加算（Ⅰ） | D27: ● | N27: ○ | O27: - | P27: ○ | Q27: ― | R27: ○ | S27: 別紙 29-1 | T27: ― | U27: ― | V27: ― | W27: ― | X27: ― | Y27: 契約形態（夜勤）のわかる書類（契約書等）を添付すること。
B28: 夜間支援等体制加算（Ⅱ） | G28: ● | N28: ○ | O28: - | P28: ○ | Q28: ― | R28: ○ | T28: ― | U28: ― | V28: ― | W28: ― | X28: ― | Y28: 契約形態（宿直）のわかる書類（契約書等）を添付すること。
B29: 夜間支援等体制加算（Ⅲ） | G29: ● | N29: ○ | O29: - | P29: ○ | Q29: ― | R29: ― | T29: ― | U29: ― | V29: ― | W29: ― | X29: ―
A30: 10 | B30: 地域移行支援体制強化加算 | G30: ● | N30: ○ | O30: - | P30: ○ | Q30: ○ | R30: ○ | S30: 別紙 27 | T30: ― | U30: ― | V30: ― | W30: ― | X30: ○
A31: 11 | B31: 通勤者生活支援加算 | G31: ● | N31: ○ | O31: - | P31: ○ | Q31: ― | R31: ― | T31: ― | U31: ― | V31: ― | W31: ― | X31: ―
A32: No. | B32: 基本報酬 | C32: 生活介護 | D32: 施設入所支援 | E32: 自立訓練(生活訓練) | F32: 自立訓練(機能訓練) | G32: 宿泊型自立訓練 | H32: 就労選択支援 | I32: 就労移行支援 | J32: 就労継続支援A型 | K32: 就労継続支援B型 | L32: 就労定着支援 | M32: 療養介護 | N32: 変更届出書（別紙様式第二号） 様式 | O32: 第5号 様式 | P32: 介護給付費等の算定に係る体制等状況一覧表 | Q32: 付表 | R32: 勤務形態一覧表 標準様式４ | S32: 各 届出 様式 | T32: 社会福祉士等資格証 (写) | U32: 看護職員資格証 (写) | V32: 栄養士資格証 (写) | W32: 管理栄養士資格証 (写) | X32: 運営規程 | Y32: その他
A33: 12 | B33: 短期滞在加算 | E33: ● | N33: ○ | O33: - | P33: ○ | Q33: ― | R33: ― | S33: 別紙 28 | T33: ― | U33: ― | V33: ― | W33: ― | X33: ―
A34: 13 | B34: 就労支援関係研修修了加算 | I34: ● | N34: ○ | O34: - | P34: ○ | Q34: ○ | R34: ○ | S34: 別紙 30 | T34: ― | U34: ― | V34: ― | W34: ― | X34: ○ （※） | Y34: 別紙３０に記載のあるとおり、研修修了証その他の研修を修了したことを証明できる書類を添付すること
A35: 14 | B35: 就労移行支援体制加算 | C35: ● | E35: ● | F35: ● | J35: ● | K35: ● | N35: ○ | O35: - | P35: ○ | Q35: ― | R35: ― | S35: 別紙 51-3 | T35: ― | U35: ― | V35: ― | W35: ― | X35: ― | Y35: 前年度の実績を確認の上、引き続き当該加算を算定する場合は、毎年4月に届出をする必要があります。
A36: 15 | B36: 目標工賃達成指導員加算 | K36: ● | N36: ○ | O36: - | P36: ○ | Q36: ○ | R36: ○ | S36: 別紙 32 | T36: ― | U36: ― | V36: ― | W36: ― | X36: ○ | Y36: 最新の工賃向上計画書を添付すること。
A37: 16 | B37: 目標工賃達成加算 | K37: ● | N37: ○ | O37: - | P37: ○ | Q37: ○ | R37: ― | S37: 別紙 33 | T37: ― | U37: ― | V37: ― | W37: ― | X37: ― | Y37: 前年度の実績を確認の上、引き続き当該加算を算定する場合は、毎年4月に届出をする必要があります。
A38: 17 | B38: 地域生活移行個別支援特別加算 | D38: ● | N38: ○ | O38: - | P38: ○ | Q38: ― | R38: ― | S38: 別紙 12 | T38: ― | U38: ― | V38: ― | W38: ― | X38: ―
A39: 18 | B39: 重度者支援体制加算（Ⅰ） | J39: ● | K39: ● | N39: ○ | O39: - | P39: ○ | Q39: ― | R39: ― | S39: 別紙 53 | T39: ― | U39: ― | V39: ― | W39: ― | X39: ― | Y39: 前年度の実績を確認の上、引き続き当該加算を算定する場合は、毎年4月に届出をする必要があります。
B40: 重度者支援体制加算（Ⅱ） | J40: ● | K40: ● | N40: ○ | O40: - | P40: ○ | Q40: ― | R40: ― | T40: ― | U40: ― | V40: ― | W40: ― | X40: ―
A41: 19 | B41: 延長支援加算 | C41: ● | N41: ○ | O41: - | P41: ○ | Q41: ○ | R41: ○ 延長時間帯に1名以上配置していることがわかるように（曜日に網掛けする、配置している職員を明示するなど）すること | T41: ― | U41: ― | V41: ― | W41: ― | X41: ○ | Y41: 算定する利用者の個別支援計画書を添付すること
A42: 20 | B42: 送迎加算（Ⅰ） | C42: ● | E42: ● | F42: ● | H42: ● | I42: ● | J42: ● | K42: ● | N42: ○ | O42: - | P42: ○ | Q42: ― | R42: ― | S42: 別紙 48 | T42: ― | U42: ― | V42: ― | W42: ― | X42: ―
B43: 送迎加算（Ⅱ） | C43: ● | E43: ● | F43: ● | H43: ● | I43: ● | J43: ● | K43: ● | N43: ○ | O43: - | P43: ○ | Q43: ― | R43: ― | T43: ― | U43: ― | V43: ― | W43: ― | X43: ―
...

Sheet 指定申請書
A1: 別紙様式第一号
A2: 指定障害福祉サービス事業所/指定障害者支援施設
A3: 指定障害児通所支援事業所/指定障害児入所施設
A4: 指定特定相談支援事業所/指定一般相談支援事業所/指定障害児相談支援事業所
E5: 指定 | G5: 申請書
O6: 年 | R6: 月 | U6: 日
B7: 東京都 | D7: 知事（市区村長） 殿
H8: 所在地 | K8: =IF(基本情報入力シート!L17&基本情報入力シート!L19="","",基本情報入力シート!L17&基本情報入力シート!L19)
G9: 申請者 | H9: 名 称 | K9: =IF(基本情報入力シート!L21="","",基本情報入力シート!L21)
H10: 代表者 | K10: =IF(基本情報入力シート!L37&" "&基本情報入力シート!L39="","",基本情報入力シート!L37&" "&基本情報入力シート!L39)
B12: 表題の事業所・施設に係る指定/指定の更新/指定の変更を受けたいので、下記のとおり、関係書類を添えて申請します。
F14: 法人番号(13桁)
A15: 申請者(設置者) | B15: フリガナ | D15: =IF(基本情報入力シート!L23="","",基本情報入力シート!L23)
B16: 名称 | D16: =IF(基本情報入力シート!L21="","",基本情報入力シート!L21)
B17: 主たる事務所の所在地 | D17: (郵便番号 | E17: =IF(基本情報入力シート!L15="","",基本情報入力シート!L15) | F17: - | G17: =IF(基本情報入力シート!T15="","",基本情報入力シート!T15) | I17: ）
D18: =IF(基本情報入力シート!L17="","",基本情報入力シート!L17)
D19: =IF(基本情報入力シート!L19="","",基本情報入力シート!L19)
B20: 連絡先 | D20: 電話番号 | E20: =IF(基本情報入力シート!L29="","",基本情報入力シート!L29) | H20: (内線) | K20: =IF(基本情報入力シート!L31="","",基本情報入力シート!L31)
D21: E-mailアドレス | F21: =IF(基本情報入力シート!L35="","",基本情報入力シート!L35)
B22: 法人等の種類 | D22: =IF(基本情報入力シート!L25="","",基本情報入力シート!L25)
B23: 代表者の職名・氏名・生年月日 | D23: 職名 | E23: =IF(基本情報入力シート!L37="","",基本情報入力シート!L37) | G23: フリガナ | H23: =IF(基本情報入力シート!L38="","",基本情報入力シート!L38) | M23: 生年月日 | O23: =IF(基本情報入力シート!L40="","",基本情報入力シート!L40)
G24: 氏名 | H24: =IF(基本情報入力シート!L39="","",基本情報入力シート!L39)
B25: 代表者の住所 | D25: (郵便番号 | E25: =IF(基本情報入力シート!L41="","",基本情報入力シート!L41) | F25: - | G25: =IF(基本情報入力シート!T41="","",基本情報入力シート!T41) | I25: ）
D26: =IF(基本情報入力シート!L42="","",基本情報入力シート!L42)
D27: =IF(基本情報入力シート!L43="","",基本情報入力シート!L43)
A28: 指定を受けようとする事業所・施設の種類 | B28: フリガナ | D28: =IF(基本情報入力シート!L48="","",基本情報入力シート!L48)
B29: 名称 | D29: =IF(基本情報入力シート!L49="","",基本情報入力シート!L49)
B30: 事業所(施設)の所在地 | D30: (郵便番号 | E30: =IF(基本情報入力シート!L50="","",基本情報入力シート!L50) | F30: - | G30: =IF(基本情報入力シート!T50="","",基本情報入力シート!T50) | I30: ）
D31: =IF(基本情報入力シート!L51="","",基本情報入力シート!L51)
D32: =IF(基本情報入力シート!L52="","",基本情報入力シート!L52)
B33: 多機能型事業所に係る指定の申請の場合は○ | F33: =IF(基本情報入力シート!L46="多機能型","○"," ")
B34: 同一所在地において 行う事業等の種類 | F34: 今回の指定(更新・変更)申請をする対象事業等に○ | H34: 既に指定を受けている事業に○ | L34: 事業の開始予定年月日 | R34: 本申請書に添付して提出する様式(付表)
E35: 共生型サービスの指定を申請するものに○
B36: 指定障害福祉サービス事業所 | C36: 居宅介護 | R36: 付表１
C37: 重度訪問介護 | R37: 付表１
C38: 同行援護 | R38: 付表１
C39: 行動援護 | R39: 付表１
C40: 療養介護 | R40: 付表２
C41: 生活介護 | R41: 付表３
C42: 短期入所 | R42: 付表４
...

Sheet 変更届出書
A1: 別紙様式第二号
A2: 指定障害福祉サービス事業所/指定障害者支援施設
A3: 指定障害児通所支援事業所/指定障害児入所施設
A4: 指定特定相談支援事業所/指定一般相談支援事業所/指定障害児相談支援事業所
S5: 変更届出書
AD6: 年 | AG6: 月 | AJ6: 日
B7: 東京都 | I7: 知事（市区村長） 殿
S8: 所在地 | W8: =IF(基本情報入力シート!L17&基本情報入力シート!L19="","",基本情報入力シート!L17&基本情報入力シート!L19)
O9: 申請者 | S9: 名称 | W9: =IF(基本情報入力シート!L21="","",基本情報入力シート!L21)
S10: 代表者氏名 | Z10: =IF(基本情報入力シート!L37&" "&基本情報入力シート!L39="","",基本情報入力シート!L37&" "&基本情報入力シート!L39)
B12: 次のとおり指定を受けた内容を変更しましたので届け出ます。
B14: FALSE | C14: 指定障害福祉サービス事業所等の指定に係る事項の変更の届出先（以下「指定権者」という。）と指定障害福祉サービス
C15: 事業所等の業務管理体制の整備に関する事項の変更の届出先（以下「監督権者」という。）が同一の自治体であり、かつ、
C16: 変更事項が「事業所（施設）の所在地」又は「申請者の代表者の氏名、生年月日、住所及び職名」の場合であって、同事項
C17: に係る事実の確認に支障がないと認めるときは、監督権者への変更の届出又は届出書への記載については、指定権者
C18: への変更の届出があったことをもって省略させることができることとされているので、その場合には左のチェックボックス（□）
C19: に✓を付してください。なお、当該変更届出を受理した指定権者は、当該変更届出の写しを監督権者へ回付してください。
T21: 事業所番号 | AA21: =IF(基本情報入力シート!L47="","",基本情報入力シート!L47)
B22: 指定を受けた内容を変更した事業所又は施設 | T22: 名称 | W22: =IF(基本情報入力シート!L48="","",基本情報入力シート!L48)
W23: =IF(基本情報入力シート!L49="","",基本情報入力シート!L49)
T24: 所在地 | W24: =IF(基本情報入力シート!L50="","",基本情報入力シート!L50) | Z24: =IF(基本情報入力シート!Q50="","",基本情報入力シート!Q50) -> - | AB24: =IF(基本情報入力シート!T50="","",基本情報入力シート!T50)
W25: =IF(基本情報入力シート!L51="","",基本情報入力シート!L51)
W26: =IF(基本情報入力シート!L52="","",基本情報入力シート!L52)
B27: サービスの種類 | T27: =IF(基本情報入力シート!L45&"("&基本情報入力シート!L46&")"="","",基本情報入力シート!L45&"("&基本情報入力シート!L46&")") -> ()
B28: 変更年月日
B29: 変更があった事項（該当に○） | T29: 変更の内容
D30: 事業所（施設）の名称 | T30: （変更前）
D31: 事業所（施設）の所在地
D32: 事業所（施設）の連絡先（電話番号）
D33: 申請者の名称
D34: 申請者の主たる事務所の所在地
D35: 申請者の代表者の氏名、生年月日、住所及び職名
D36: 法人等の種類
D37: 登記事項証明書又は条例等（当該事業に関するものに限る。）
D38: 共生型サービスの該当有無
D39: 事業所（施設）の構造概要・平面図・設備の概要
D40: 利用者又は入所者の定員 | T40: （変更後）
D41: 管理者の氏名、生年月日、住所及び経歴
D42: サービス管理（提供）責任者又は児童発達支援管理責任者の氏名、生年月日、住所及び経歴
D43: 指定地域相談支援の提供に当たる者又は相談支援専門員の氏名、生年月日、住所及び経歴
...

Sheet 付表９
A1: 付表９ 就労継続支援事業所の指定等に係る記載事項
A3: サービス種別(申請するものに○) | E3: 就労継続支援Ａ型 | H3: 就労継続支援Ｂ型
A4: 事業所 | B4: フリガナ | C4: =IF(基本情報入力シート!L48="","",基本情報入力シート!L48)
B5: 名 称 | C5: =IF(基本情報入力シート!L49="","",基本情報入力シート!L49)
B6: 所在地 | C6: (郵便番号 | D6: =IF(基本情報入力シート!L50="","",基本情報入力シート!L50) | E6: - | F6: =IF(基本情報入力シート!T50="","",基本情報入力シート!T50) | G6: )
C7: =IF(基本情報入力シート!L51="","",基本情報入力シート!L51)
C8: =IF(基本情報入力シート!L52="","",基本情報入力シート!L52)
B9: 電話番号 | C9: =IF(基本情報入力シート!L55="","",基本情報入力シート!L55)
B10: E-Mail | C10: =IF(基本情報入力シート!L57="","",基本情報入力シート!L57)
A11: 管理者 | B11: フリガナ | C11: =IF(基本情報入力シート!L71="","",基本情報入力シート!L71) | F11: 生年月日 | G11: =IF(基本情報入力シート!L76="","",基本情報入力シート!L76)
B12: 氏 名 | C12: =IF(基本情報入力シート!L70="","",基本情報入力シート!L70)
B13: 住 所 | C13: (郵便番号 | D13: =IF(基本情報入力シート!L72="","",基本情報入力シート!L72) | E13: - | F13: =IF(基本情報入力シート!T72="","",基本情報入力シート!T72) | G13: )
C14: =IF(基本情報入力シート!L73="","",基本情報入力シート!L73)
C15: =IF(基本情報入力シート!L74="","",基本情報入力シート!L74)
B16: 当該事業所で兼務する他の職種(兼務の場合記入)
B17: 他の事業所又は施設の従業者との兼務(兼務の場合記入) | D17: 事業所等の名称
D18: 兼務する職種及び勤務時間等
A20: サービス管理責任者 | B20: フリガナ | C20: =IF(基本情報入力シート!L78="","",基本情報入力シート!L78) | F20: 生年月日 | G20: =IF(基本情報入力シート!L83="","",基本情報入力シート!L83)
B21: 氏 名 | C21: =IF(基本情報入力シート!L77="","",基本情報入力シート!L77)
B22: 住 所 | C22: (郵便番号 | D22: =IF(基本情報入力シート!L79="","",基本情報入力シート!L79) | E22: - | F22: =IF(基本情報入力シート!T79="","",基本情報入力シート!T79) | G22: )
C23: =IF(基本情報入力シート!L80="","",基本情報入力シート!L80)
C24: =IF(基本情報入力シート!L81="","",基本情報入力シート!L81)
A25: 実施主体が地方公共団体である場合は、当該事業の実施について定めてある条例等 | H25: 第 条 第 項 第 号
A26: ○人員に関する基準の確認に必要な事項
A27: 従業者の職種・員数 | C27: 居宅介護等従業者 | E27: その他の従業者
C28: 専従 | D28: 兼務 | E28: 専従 | F28: 兼務
A29: 常勤(人)
A30: 非常勤(人)
A31: 常勤換算後の人数(人)
A32: 基準上の必要人数(人)
A33: ○運営・設備に関する基準の確認に必要な事項
A34: 利用定員(人) | C34: =IF(基本情報入力シート!L54="","",基本情報入力シート!L54)
A35: 利用者の推定数(人) | C35: =IF(基本情報入力シート!L53="","",基本情報入力シート!L53)
A36: 利用料
A37: その他の費用
A38: 通常の事業の実施地域 | C38: =IF(基本情報入力シート!L58="","",基本情報入力シート!L58)
A39: 協力医療機関 | C39: 名称 | G39: 診療科名
A40: ○一体的に実施する従たる事業所の指定等に係る記載事項
A41: 事業所 | B41: フリガナ | C41: =IF(基本情報入力シート!L59="","",基本情報入力シート!L59)
B42: 名 称 | C42: =IF(基本情報入力シート!L60="","",基本情報入力シート!L60)
...

Sheet 別紙１－１体制一覧
A3: 介護給付費等の算定に係る体制等状況一覧表
A5: 提供サービス | K5: 定員数 | O5: 定員規模 | U5: 多機能型等 定員区分（※1） | AA5: 人員配置区分 （※2） | AF5: その他該当する体制等
BA6: 適用開始日
A7: 各サービス共通 | AF7: 地域区分 | AL7: 選択下さい。
B8: 就労継続支援Ｂ型 | K8: =IF(基本情報入力シート!L54="","",基本情報入力シート!L54) | O8: 選択下さい | U8: 選択下さい | AA8: 選択ください。 | AF8: 平均工賃月額区分（※6） | AL8: 選択下さい。
AF9: 定員超過 | AL9: 選択下さい。
AF10: 職員欠如 | AL10: 選択下さい。
AF11: サービス管理責任者欠如 | AL11: 選択下さい。
AF12: 身体拘束廃止未実施 | AL12: 選択下さい。
AF13: 虐待防止措置未実施 | AL13: 選択下さい。
AF14: 業務継続計画未策定(※15,16 ) | AL14: 選択下さい。
AF15: 情報公表未報告 | AL15: 選択下さい。
AF16: 福祉専門職員配置等 | AL16: 選択下さい。
AF17: 視覚・聴覚等支援体制 | AL17: 選択下さい。
AF18: 重度者支援体制 | AL18: 選択下さい。
AF19: 就労移行支援体制 | AL19: 選択下さい。
AF20: 就労移行支援体制（就労定着者数） | AL20: 就労定着者数（ ）
... AF35: 高次脳機能障害者支援体制 | AL35: 選択下さい。
B36: 療養介護 | O36: １．40人以下 ２．41人以上60人以下 ３．61人以上80人以下 ４．81人以上 | AA36: １．Ⅰ型 ２．Ⅱ型 ３．Ⅲ型 ４．Ⅳ型 ５．Ⅴ型 | AF36: 身体拘束廃止未実施 | AL36: １．なし ２．あり
AF37: 虐待防止措置未実施 | AL37: １．なし ２．あり
AF38: 業務継続計画未策定 | AL38: １．なし ２．あり
AF39: 情報公表未報告 | AL39: １．なし ２．あり
AF40: 特例対象（※3） | AL40: １．なし ２．あり
AF41: 定員超過 | AL41: １．なし ２．あり
AF42: 職員欠如 | AL42: １．なし ２．あり
AF43: サービス管理責任者欠如 | AL43: １．なし ２．あり
AF44: 福祉専門職員配置等 | AL44: １．なし ３．Ⅱ ４．Ⅲ ５．Ⅰ
AF45: 人員配置体制 | AL45: １．なし ２．あり
AF46: 福祉・介護職員等処遇改善加算対象（※16） | AL46: １．なし ２．Ⅰ ３．Ⅱ ４．Ⅲ ５．Ⅳ ６．Ⅴ
AF47: 福祉・介護職員等処遇改善加算（Ⅴ）区分（※17） | AL47: １．Ｖ（１） ２．Ｖ（２） ３．Ｖ（３） ４．Ｖ（４） ５．Ｖ（５） ６．Ｖ（６） ７．Ｖ（７） ８．Ｖ（８） ９．Ｖ（９） １０．Ｖ（１０） １１．Ｖ（１１） １２．Ｖ（１２） １３．Ｖ（１３） １４．Ｖ（１４）
AF48: 指定管理者制度適用区分 | AL48: １．非該当 ２．該当
AF49: 地域生活支援拠点等 | AL49: １．非該当 ２．該当
B50: 療養介護 | O50: １．40人以下 ２．41人以上60人以下 ３．61人以上80人以下 ４．81人以上 | AA50: １．Ⅰ型 ２．Ⅱ型 ３．Ⅲ型 ４．Ⅳ型 ５．Ⅴ型 | AF50: 身体拘束廃止未実施 | AL50: １．なし ２．あり
AF51: 虐待防止措置未実施 | AL51: １．なし ２．あり
AF52: 業務継続計画未策定 | AL52: １．なし ２．あり
AF53: 情報公表未報告 | AL53: １．なし ２．あり
AF54: 特例対象（※3） | AL54: １．なし ２．あり
AF55: 定員超過 | AL55: １．なし ２．あり
AF56: 職員欠如 | AL56: １．なし ２．あり
AF57: サービス管理責任者欠如 | AL57: １．なし ２．あり
...

Sheet 標準様式４勤務形態
A1: 従業者の勤務の体制及び勤務形態一覧表 | AI1: サービス種別 | AK1: =IF(基本情報入力シート!L45&"("&基本情報入力シート!L46&")"="","",基本情報入力シート!L45&"("&基本情報入力シート!L46&")") -> ()
Q2: 年 | U2: 月 | AI2: 事業所名 | AK2: =IF(基本情報入力シート!L49="","",基本情報入力シート!L49)
AI3: (1)記載する期間 | AK3: ４週
AI4: (2)予定/実績の別 | AK4: 予定
AI5: (3)施設外就労の有無 | AK5: 無
AI6: (4)主従 | AK6: 主たる事業所
AI7: (5)人員配置区分 | AK7: 選択ください。
AG8: (6)事業所における常勤の従業者が勤務すべき時間数 | AK8: 時間/週 | AM8: 時間/月
A10: No. | B10: (7)職種 | C10: (8)勤務形態 | D10: (9)資格 | E10: (10)氏名 | F10: (11) | AK10: (12)勤務時間数合計 | AL10: (13)週平均の勤務時間数 | AM10: (14)兼務状況 （兼務先／兼務する職務の内容）等
F11: 第１週 | M11: 第２週 | T11: 第３週 | AA11: 第４週 | AH11: 第５週
B12: ※選択肢にない職種については直接入力してください | F12: 46174 | G12: 46175 | H12: 46176 | I12: 46177 | J12: 46178 | K12: 46179 | L12: 46180 | M12: 46181 | N12: 46182 | O12: 46183 | P12: 46184 | Q12: 46185 | R12: 46186 | S12: 46187 | T12: 46188 | U12: 46189 | V12: 46190 | W12: 46191 | X12: 46192 | Y12: 46193 | Z12: 46194 | AA12: 46195 | AB12: 46196 | AC12: 46197 | AD12: 46198 | AE12: 46199 | AF12: 46200 | AG12: 46201 | AH12: 46202 | AI12: 46203
F13: 46174 | G13: 46175 | H13: 46176 | I13: 46177 | J13: 46178 | K13: 46179 | L13: 46180 | M13: 46181 | N13: 46182 | O13: 46183 | P13: 46184 | Q13: 46185 | R13: 46186 | S13: 46187 | T13: 46188 | U13: 46189 | V13: 46190 | W13: 46191 | X13: 46192 | Y13: 46193 | Z13: 46194 | AA13: 46195 | AB13: 46196 | AC13: 46197 | AD13: 46198 | AE13: 46199 | AF13: 46200 | AG13: 46201 | AH13: 46202 | AI13: 46203
A14: 1 | B14: 管理者 | C14: A(常勤・専従) | E14: A | AK14: =+SUM(F14:AJ14) -> 0 | AL14: =IF($AK$3="４週",AK14/4,AK14/(DAY(EOMONTH($F$12,0))/7)) -> 0
A15: 2 | B15: サービス管理責任者 | C15: B(常勤・兼務) | E15: B | AK15: =+SUM(F15:AJ15) -> 0 | AL15: =IF($AK$3="４週",AK15/4,AK15/(DAY(EOMONTH($F$12,0))/7)) -> 0
A16: 3 | B16: 職業指導員 | C16: C(非常勤・専従) | E16: C | AK16: =+SUM(F16:AJ16) -> 0 | AL16: =IF($AK$3="４週",AK16/4,AK16/(DAY(EOMONTH($F$12,0))/7)) -> 0
A17: 4 | B17: 生活支援員 | C17: D(非常勤・兼務) | E17: D | AK17: =+SUM(F17:AJ17) -> 0 | AL17: =IF($AK$3="４週",AK17/4,AK17/(DAY(EOMONTH($F$12,0))/7)) -> 0
A18: 5 | AK18: =+SUM(F18:AJ18) -> 0 | AL18: =IF($AK$3="４週",AK18/4,AK18/(DAY(EOMONTH($F$12,0))/7)) -> 0
A19: 6 | AK19: =+SUM(F19:AJ19) -> 0 | AL19: =IF($AK$3="４週",AK19/4,AK19/(DAY(EOMONTH($F$12,0))/7)) -> 0
A20: 7 | AK20: =+SUM(F20:AJ20) -> 0 | AL20: =IF($AK$3="４週",AK20/4,AK20/(DAY(EOMONTH($F$12,0))/7)) -> 0
A21: 8 | AK21: =+SUM(F21:AJ21) -> 0 | AL21: =IF($AK$3="４週",AK21/4,AK21/(DAY(EOMONTH($F$12,0))/7)) -> 0
A22: 9 | AK22: =+SUM(F22:AJ22) -> 0 | AL22: =IF($AK$3="４週",AK22/4,AK22/(DAY(EOMONTH($F$12,0))/7)) -> 0
A23: 10 | AK23: =+SUM(F23:AJ23) -> 0 | AL23: =IF($AK$3="４週",AK23/4,AK23/(DAY(EOMONTH($F$12,0))/7)) -> 0
A24: 11 | AK24: =+SUM(F24:AJ24) -> 0 | AL24: =IF($AK$3="４週",AK24/4,AK24/(DAY(EOMONTH($F$12,0))/7)) -> 0
A25: 12 | AK25: =+SUM(F25:AJ25) -> 0 | AL25: =IF($AK$3="４週",AK25/4,AK25/(DAY(EOMONTH($F$12,0))/7)) -> 0
A26: 13 | AK26: =+SUM(F26:AJ26) -> 0 | AL26: =IF($AK$3="４週",AK26/4,AK26/(DAY(EOMONTH($F$12,0))/7)) -> 0
A27: 14 | AK27: =+SUM(F27:AJ27) -> 0 | AL27: =IF($AK$3="４週",AK27/4,AK27/(DAY(EOMONTH($F$12,0))/7)) -> 0
A28: 15 | AK28: =+SUM(F28:AJ28) -> 0 | AL28: =IF($AK$3="４週",AK28/4,AK28/(DAY(EOMONTH($F$12,0))/7)) -> 0
A29: 16 | AK29: =+SUM(F29:AJ29) -> 0 | AL29: =IF($AK$3="４週",AK29/4,AK29/(DAY(EOMONTH($F$12,0))/7)) -> 0
... A33: 20 | AK33: =+SUM(F33:AJ33) -> 0 | AL33: =IF($AK$3="４週",AK33/4,AK33/(DAY(EOMONTH($F$12,0))/7)) -> 0
A34: 合計 | F34: =+SUM(F14:F33) -> 0 | G34: =+SUM(G14:G33) -> 0 | H34: =+SUM(H14:H33) -> 0 | I34: =+SUM(I14:I33) -> 0 | J34: =+SUM(J14:J33) -> 0 | K34: =+SUM(K14:K33) -> 0 | L34: =+SUM(L14:L33) -> 0 | M34: =+SUM(M14:M33) -> 0 | ... AJ34: =+SUM(AJ14:AJ33) -> 0 | AK34: =+SUM(F34:AJ34) -> 0 | AL34: =IF($AK$3="４週",AK34/4,AK34/(DAY(EOMONTH($F$12,0))/7)) -> 0
A35: (15)サービス提供時間
A40: ＜前年度の平均値＞※新規申請の場合は推定数を記載ください。
D41: 4 | E41: 5 | F41: 6 | I41: 7 | L41: 8 | O41: 9 | R41: 10 | U41: 11 | X41: 12 | AA41: 1 | AD41: 2 | AG41: 3 | AJ41: 計 | AL41: 平均利用者数
A42: 利用者延べ数 | AJ42: =SUM(D42:AI42) -> 0 | AL42: =ROUNDUP(AJ42/AJ43,1) -> #DIV/0!
A43: 開所日数 | AJ43: =+SUM(D43:AI43) -> 0
A45: ＜人員に関する基準＞
A46: 区分 | C46: サービス管理責任者 | E46: 職業指導員及び生活支援員
A47: 必要な配置数 | C47: =ROUNDDOWN(IF(AL42<=60,1,1+ROUNDUP((AL42-60)/40,0)),1) -> #DIV/0! | E47: =ROUNDDOWN(AL42 / IF(OR($AK$7="１．Ⅰ型(6:1)", $AK$7="４．Ⅳ型(6:1)"), 6, IF(OR($AK$7="２．Ⅱ型(7.5:1)", $AK$7="５．Ⅴ型(7.5:1)"), 7.5, IF(OR($AK$7="３．Ⅲ型(10:1)", $AK$7="６．Ⅵ型(10:1)"), 10, 10))), 1) -> #DIV/0!
A49: ＜人員基準に関する実人数集計＞
C50: 管理者 | E50: サービス管理責任者 | I50: 職業指導員 | O50: 生活支援員 | U50: - | AA50: - | AG50: - | AL50: -
...

Sheet 別紙３-１福専
B2: （別紙３ー１） | H2: 年 月 日
B4: 福祉専門職員配置等加算に関する届出書 （療養介護・生活介護・自立訓練（機能訓練・生活訓練）・就労選択支援・就労移行支援・就労継続支援・自立生活援助・共同生活援助 ・児童発達支援・放課後等デイサービス・福祉型障害児入所施設・医療型障害児入所施設）
B6: １ 事業所・施設の名称 | C6: =IF(基本情報入力シート!L49="","",基本情報入力シート!L49)
B7: ２ 異動区分 | C7: １ 新規 ２ 変更 ３ 終了
B8: ３ サービスの種類 | C8: =IF(基本情報入力シート!L45="","",基本情報入力シート!L45)
B9: ４ 届出項目 | D9: １ 福祉専門職員配置等加算(Ⅰ) ※有資格者35％以上 ２ 福祉専門職員配置等加算(Ⅱ) ※有資格者25％以上 ３ 福祉専門職員配置等加算(Ⅲ) ※常勤職員が75％以上又は 勤続3年以上の常勤職員が30％以上
C10: ※生活介護のみ福祉専門職員配置等加算(Ⅰ)又は（Ⅱ）の算定とともに（Ⅲ）も算定可能である。
B11: ５ 社会福祉士等の状況 | I11: 選択してください
D12: ① | E12: 生活支援員等の総数 （常勤） | F12: 人
D13: ② | E13: ①のうち社会福祉士等 の総数（常勤） | F13: 人 | H13: ①に占める②の割合が 25％又は35％以上
B15: ６ 常勤職員の状況 | I15: 選択してください
D16: ① | E16: 生活支援員等の総数 （常勤換算） | F16: 人
D17: ② | E17: ①のうち常勤の者の数 | F17: 人 | H17: ①に占める②の割合が 75％以上
B19: ７ 勤続年数の状況 | I19: 選択してください
D20: ① | E20: 生活支援員等の総数 （常勤） | F20: 人
D21: ② | E21: ①のうち勤続年数３年以上の者の数 | F21: 人 | H21: ①に占める②の割合が 30％以上
B24: 注１ 常勤とは、「障害者の日常生活及び社会生活を総合的に支援するための法律に基づく指定障害福祉サービスの事業等の 人員、設備及び運営に関する基準について」（平成18年12月６日厚生労働省社会・援護局障害保健福祉部長通知）第二の ２の（３）に定義する「常勤」をいう。
B25: 注２ 生活支援員等とは、
B26: ○療養介護にあっては、生活支援員
B27: ○生活介護にあっては、生活支援員又は共生型生活介護従業者
B28: ○自立訓練（機能訓練）にあっては、生活支援員又は共生型自立訓練（機能訓練）従業者
B29: ○自立訓練（生活訓練）にあっては、生活支援員、地域移行支援員又は共生型自立訓練（生活訓練）従業者
B30: ○就労選択支援にあっては、就労選択支援員
B31: ○就労移行支援にあっては、職業指導員、生活支援員又は就労支援員
B32: ○就労継続支援Ａ型・Ｂ型にあっては、職業指導員又は生活支援員
B33: ○自立生活援助にあっては、地域生活支援員
B34: ○共同生活援助にあっては、世話人又は生活支援員（外部サービス利用型にあっては、世話人）
B35: ○児童発達支援にあっては、加算（Ⅰ）（Ⅱ）においては、児童指導員、障害福祉サービス経験者又は共生型児童発達 支援従業者、加算（Ⅲ）においては、児童指導員、保育士若しくは障害福祉サービス経験者又は共生型児童発達支援 従業者
... B38: ○医療型障害児入所施設にあっては、加算（Ⅰ）（Ⅱ）においては、児童指導員又は指定発達医療機関の職員、加算 （Ⅲ）においては、児童指導員若しくは保育士又は指定発達医療機関の職員 のことをいう。

Sheet 別紙６-１視覚聴覚Ⅰ
B1: （別紙６－１）
AA2: 年 月 日
B4: 視覚・聴覚言語障害者支援体制加算（Ⅰ）に関する届出書
B6: 事業所の名称 | L6: =IF(基本情報入力シート!L49="","",基本情報入力シート!L49)
B7: サービスの種類 | L7: =IF(基本情報入力シート!L45="","",基本情報入力シート!L45) | Z7: 多機能型の実施※1 | AG7: =IF(基本情報入力シート!L46="多機能型","有","無") -> 無
B8: 異動区分※2 | L8: １ 新規 ２ 変更 ３ 終了
B10: １ 利用者の状況
B11: 当該事業所の前年度の平均実利用者数 (A) | S11: =IF(基本情報入力シート!L53="","",基本情報入力シート!L53) | AC11: 人
C12: うち５０％ (B)＝ (A)×0.5 | S12: =ROUNDUP(S11*50%,1) -> #VALUE! | AC12: 人
B13: 加算要件に該当する利用者の数 (C)＝(E)／(D) | S13: =ROUNDUP(AE25/L25,1) -> #DIV/0! | AC13: 人 | AE13: (C)＞＝(B)
B14: 該当利用者の氏名 | L14: 手帳の種類 | Y14: 手帳の等級 | AE14: 前年度利用日数
B15: 1
B16: 2
B17: 3
B18: 4
B19: 5
B20: 6
B21: 7
B22: 8
B23: 9
B24: 10
B25: 前年度の開所日数 (D) | Q25: 日 | S25: 合 計 (E) | AE25: =SUM(AE15:AJ24) -> 0
B27: ２ 加配される従業者の状況
B28: 利用者数 (A) ÷ 40 ＝ (F) | S28: =ROUNDUP(S11/40,1) -> #VALUE! | AC28: 人
B29: 加配される従業者の数 (G) | AC29: 人 | AE29: (G)＞＝ (F)
B30: 加配される従業者の氏名 | S30: 資格・研修名等
B31: 1
B32: 2
B33: 3
B35: 添付書類 | H35: 身体障害者手帳の写し、従業者の勤務体制一覧表、組織体制図
B37: 注１ 本表は、次に該当する利用者を記載してください。 ① 身体障害者福祉法（昭和24年法律第283号）の第15条第４項の規定により交付を受けた身体障害者手帳 の障害程度が１級又は２級に該当し、日常生活におけるコミュニケーションや移動等に支障がある視覚障 害を有する者 ② 身体障害者手帳の障害の程度が２級に該当し、日常生活におけるコミュニケーションに支障がある聴覚 障害を有する者 ③ 身体障害者手帳の障害の程度が３級に該当し、日常生活におけるコミュニケーションに支障がある言語 機能障害を有する者 ④ 重度の視覚障害、聴覚障害、言語機能障害又は知的障害のうち２以上の障害を有する利用者については 、ダブルカウントするため、当該利用者の利用日数を２倍にして算定すること。この場合の「知的障害」 は「重度」の知的障害である必要はない。
B42: 注２ 「障害者の日常生活及び社会生活を総合的に支援するための法律に基づく指定障害福祉サービス等及び 基準該当障害福祉サービスに要する費用の額の算定に関する基準（平成18年９月29日厚生労働省告示第 523号）第５の４に規定する加配される「視覚障害者等との意思疎通に関し専門性を有する者として専ら 視覚障害者等の生活支援に従事する者」とは、次のいずれかに該当する者であること。 ① 視覚障害 点字の指導、点訳、歩行支援等を行うことができる者 ② 聴覚障害又は言語機能障害者 手話通訳等を行うことができる者
B47: ※１：多機能型事業所等については、当該多機能型事業所全体で、加算要件の利用者数や配置割合の計算を行 うこと。
B48: ※２：「異動区分」欄において「３ 終了」の場合は、１利用者の状況、２加配される従業者の状況の記載は 不要とする。

Sheet 別紙６-２視覚聴覚Ⅱ
B1: （別紙６－２）
AA2: 年 月 日
B4: 視覚・聴覚言語障害者支援体制加算（Ⅱ）に関する届出書
B6: 事業所の名称 | L6: =IF(基本情報入力シート!L49="","",基本情報入力シート!L49)
B7: サービスの種類 | L7: =IF(基本情報入力シート!L45="","",基本情報入力シート!L45) | Z7: 多機能型の実施※1 | AG7: =IF(基本情報入力シート!L46="多機能型","有","無") -> 無
B8: 異動区分※2 | L8: １ 新規 ２ 変更 ３ 終了
B10: １ 利用者の状況
B11: 当該事業所の前年度の平均実利用者数 (A) | S11: =IF(基本情報入力シート!L53="","",基本情報入力シート!L53) | AC11: 人
C12: うち３０％ (B)＝ (A)×0.3 | S12: =ROUNDUP(S11*30%,1) -> #VALUE! | AC12: 人
B13: 加算要件に該当する利用者の数 (C)＝(E)／(D) | S13: =ROUNDUP(AE25/L25,1) -> #DIV/0! | AC13: 人 | AE13: (C)＞＝(B)
B14: 該当利用者の氏名 | L14: 手帳の種類 | Y14: 手帳の等級 | AE14: 前年度利用日数
B15: 1
B16: 2
B17: 3
B18: 4
B19: 5
B20: 6
B21: 7
B22: 8
B23: 9
B24: 10
B25: 前年度の開所日数 (D) | Q25: 日 | S25: 合 計 (E) | AE25: =SUM(AE15:AJ24) -> 0
B27: ２ 加配される従業者の状況
B28: 利用者数 (A) ÷ 50 ＝ (F) | S28: =ROUNDUP(S11/50,1) -> #VALUE! | AC28: 人
B29: 加配される従業者の数 (G) | AC29: 人 | AE29: (G)＞＝(F)
B30: 加配される従業者の氏名 | S30: 資格・研修名等
B31: 1
B32: 2
B33: 3
B35: 添付書類 | H35: 身体障害者手帳の写し、従業者の勤務体制一覧表、組織体制図
B37: 注１ 本表は、次に該当する利用者を記載してください。 ① 身体障害者福祉法（昭和24年法律第283号）の第15条第４項の規定により交付を受けた身体障害者手帳 の障害程度が１級又は２級に該当し、日常生活におけるコミュニケーションや移動等に支障がある視覚障 害を有する者 ② 身体障害者手帳の障害の程度が２級に該当し、日常生活におけるコミュニケーションに支障がある聴覚 障害を有する者 ③ 身体障害者手帳の障害の程度が３級に該当し、日常生活におけるコミュニケーションに支障がある言語 機能障害を有する者 ④ 重度の視覚障害、聴覚障害、言語機能障害又は知的障害のうち２以上の障害を有する利用者については 、ダブルカウントするため、当該利用者の利用日数を２倍にして算定すること。この場合の「知的障害」 は「重度」の知的障害である必要はない。
B42: 注２ 「障害者の日常生活及び社会生活を総合的に支援するための法律に基づく指定障害福祉サービス等及び 基準該当障害福祉サービスに要する費用の額の算定に関する基準（平成18年９月29日厚生労働省告示第 523号）第５の４に規定する加配される「視覚障害者等との意思疎通に関し専門性を有する者として専ら 視覚障害者等の生活支援に従事する者」とは、次のいずれかに該当する者であること。 ① 視覚障害 点字の指導、点訳、歩行支援等を行うことができる者 ② 聴覚障害又は言語機能障害者 手話通訳等を行うことができる者
B47: ※１：多機能型事業所等については、当該多機能型事業所全体で、加算要件の利用者数や配置割合の計算を行 うこと。
B48: ※２：「異動区分」欄において「３ 終了」の場合は、１利用者の状況、２加配される従業者の状況の記載は 不要とする。

Sheet 別紙７高次脳
B1: （別紙７）
AD2: 年 月 日
B4: 高次脳機能障害者支援体制加算に関する届出書
B6: 事業所の名称 | L6: =IF(基本情報入力シート!L49="","",基本情報入力シート!L49)
B7: サービスの種類 | L7: =IF(基本情報入力シート!L45="","",基本情報入力シート!L45) | AA7: 多機能型の実施 ※1 | AI7: =IF(基本情報入力シート!L46="多機能型","有","無") -> 無
B8: 異 動 区 分 ※2 | L8: １ 新規 ２ 変更 ３ 終了
B10: １ 利用者の状況
B11: 当該事業所の前年度の平均実利用者数 (A) | S11: =IF(基本情報入力シート!L53="","",基本情報入力シート!L53) | AE11: 人
C12: うち３０％ (B)＝ (A)×0.3 | S12: =ROUNDUP(S11*30%,1) -> #VALUE! | AE12: 人
B13: 加算要件に該当する利用者の数 (C)＝(E)／(D) | S13: =ROUNDUP(AG14/AG15,1) -> #DIV/0! | AE13: 人 | AG13: (C)＞＝(B)
B14: 加算要件に該当する利用者の前年度利用日の合計 (E)
B15: 前年度の当該サービスの開所日数 の合計 (D)
B17: ２ 加配される従業者の配置状況
B18: 利用者数 (A) ÷ 50 ＝ (F) | S18: =ROUNDUP(S11/50,1) -> #VALUE! | AE18: 人
B19: 加配される従業者の数 (G) | AE19: 人 | AG19: (G)＞＝(F)
B21: ３ 加配される従業者の要件
B22: 加配される従業者の氏名 | S22: 加配される従業者の研修の受講状況
S23: 高次脳機能障害支援養成研修 （実践研修） 又は 上記に準ずるものとして、同研修における研修内容と同等のものとして都道府県知事が認める研修 | AF23: 受講 年度 | AI23: 研修の 実施主体
B24: 1 | AH24: 年
B25: 2 | AH25: 年
B26: 3 | AH26: 年
B27: 4 | AH27: 年
B28: 直上により配置した者のいずれかにより、当該指定共同生活援助事業所又は指定外部サービス利用型共同生活援助事業所の従業者に対し、障害者に対する配慮等に関する研修を年１回以上行っている。 | AI28: 確認
B31: 添付書類 | H31: 従業者の勤務体制一覧表、研修を修了したことを証明する書類等
B33: （※１） 多機能型事業所等については、当該多機能型事業所全体で、加算要件の利用者数や配置割合の計算を 行うこと。 （※２） 「異動区分」欄において「４ 終了」の場合は、１利用者の状況、２加配される従業者の状況の記載 は不要とする。

Sheet 別紙10食事
B1: 別紙１０ | AF1: （令和7.1‐）
AD2: 年 | AF2: 月 | AI2: 日
B3: 食事提供体制加算に関する届出書
B5: １ 事業所の名称 | L5: =IF(基本情報入力シート!L49="","",基本情報入力シート!L49)
B6: ２ サービスの種類 | L6: =IF(基本情報入力シート!L45&"("&基本情報入力シート!L46&")"="","",基本情報入力シート!L45&"("&基本情報入力シート!L46&")") -> ()
B7: ３ 異動区分 | L7: １ 新規 ２ 終了
B8: ４ 確認事項 | J8: ① | L8: 食事の提供にあたり、利用者の心身の状況（性別・年齢・身長・体重・疾病・障害特性）及び嗜好を把握し考慮している
J9: ② | L9: あらかじめ作成された献立に基づき調理し、適切な時間に食事を提供している
J10: ③ | L10: 当該事業所の従業者として、又は外部との連携により、管理栄養士又は栄養士が食事の提供に係る献立を確認している
J11: ④ | L11: 食事の提供を行った場合に利用者ごとの摂食量を記録している
J12: ⑤ | L12: 利用者ごとの体重又はＢＭＩをおおむね６月に１回記録している
B13: ５ 食事の提供体制 | D13: 食事提供に係る 人員配置 | M13: 管理栄養士 | W13: 常勤 | AB13: 名 | AC13: 非常勤 | AI13: 名
M14: 栄養士 | W14: 常勤 | AB14: 名 | AC14: 非常勤 | AI14: 名
D15: 栄養ケア・ステーション等との連携により、管理栄養士等が関与している場合 | M15: 連携先名
D16: 業務委託により食事提供を行う場合 | F16: 業務委託先
F18: 委託業務内容
F22: 適切な食事提供 の確保方策
B28: 注１ 事業所内で調理を行う場合、食事提供にかかわる職員（管理栄養士・栄養士）の状況を記載してく ださい。事業所内での調理業務は生活支援員の業務とは区別してください。 （※）付表・勤務形態一覧表・運営規程、平面図、建物面積表を添付してください。 注２ 調理業務を第三者に委託している場合、事業所内で調理員の配置は求められておりませんが、業務 委託契約書（写し）の提出が必要です。また、勤務形態一覧表に委託業者名を記載してください。 注３ 業務委託により食事提供を行う場合の「適切な食事提供の確保方策」欄は、献立に関する事業所・ 施設の関与、委託先から事業所・施設への食事の運搬方法、適時適温への配慮など、自己調理する場 合に通常確保される提供体制に相当するものへの対応の概略を記載してください。その際、委託先の 管理栄養士又は栄養士の有無は必ず記載してください。

Sheet 別紙23-２ピアサポ 
B1: （別紙23ー２）
B2: 自立訓練（機能訓練）、自立訓練（生活訓練）、就労継続支援Ｂ型用 | J2: 年 月 日
A4: ピアサポート実施加算に関する届出書
B6: １ 事業所名 | C6: =IF(基本情報入力シート!L49="","",基本情報入力シート!L49)
B7: ２ 異動区分 | C7: １ 新規 ２ 変更 ３ 終了
B8: ３ サービス費 区分 | C8: １ 自立訓練（機能訓練） ２ 自立訓練（生活訓練） ３ 就労継続支援B型サービス費（Ⅳ） ４ 就労継続支援B型サービス費（Ⅴ） ５ 就労計測支援B型サービス費（Ⅵ）
B9: ４ 障害者ピア サポート研修 修了職員 | C9: ＜雇用されている障害者又は障害者であった者＞
C10: 職種 | D10: 氏名 | E10: 修了した研修の名称 | H10: 受講 年度 | J10: 研修の 実施主体
I11: 年
I12: 年
I13: 年
C14: ＜その他の職員＞
C15: 職種 | D15: 氏名 | E15: 修了した研修の名称 | H15: 受講 年度 | J15: 研修の 実施主体
I16: 年
I17: 年
I18: 年
B19: ５ 研修の実施 | C19: 直上により配置した者のいずれかにより、当該事業所等の従業者に対し、障害者に対する配慮等に関する研修を年１回以上行っている。 | H19: 確認欄
B22: 注１ 「異動区分」欄については、該当する番号に○を付してください。
B23: 注２ ピアサポート研修の課程を修了し、当該研修の事業を行った者から当該研修の課程を修了した旨の証明 書の交付を受けた者を、指定自立訓練事業所、指定就労継続支援Ｂ型事業所等の従業者として２名以上 （当該２名以上のうち少なくとも１名は障害者等とする。）配置している。（※別添組織体制図、勤務形 態一覧表のとおり）
B24: 注３ 修了した研修の名称欄は「地域生活支援事業の障害者ピアサポート研修の基礎研修及び専門研修」等と 具体的に記載。
B25: 注４ 受講した研修の実施要綱、カリキュラム及び研修を修了したことを証明する書類等を添付してくださ い。

Sheet 別紙26社会生活
B1: （別紙26）
F2: 年 月 日
B4: 社会生活支援特別加算に関する届出書
B6: １ 事業所・施設の名称 | C6: =IF(基本情報入力シート!L49="","",基本情報入力シート!L49)
B7: ２ サービスの種類 | C7: =IF(基本情報入力シート!L45="","",基本情報入力シート!L45)
B8: ３ 異動区分 | C8: １ 新規 ２ 変更 ３ 終了
B9: ４ 従業者の配置 | C9: 人員配置基準に定める従業者の数に加え、平成18年厚生労働省告示第556号第９号に定める厚生労働大臣が定める者の受け入れに当たり、当該利用者に対する適切な支援を行うために必要な数の生活支援員を配置することが可能であること。 | G9: 有・無
B10: ５ 有資格者による 指導体制 | C10: 以下のいずれかにより、平成18年厚生労働省告示第556号第９号に定める厚生労働大臣が定める者に対する適切な支援について、従業者を対象とした指導体制が整えられていること。 ① 社会福祉士、精神保健福祉士又は公認心理師の資格を 有する者が配置されていること ② 指定医療機関等との連携により、社会福祉士、精神 保健福祉士又は公認心理師の資格を有する者を事業所に 訪問させていること 関係機関との連携の状況等 | G10: 有・無
B11: ６ 研修の開催 | C11: 従業者に対し、医療観察法に規定する入院によらない医療を受ける者又は刑事施設若しくは少年院を釈放された障害者の支援に関する研修が年一回以上行われていること。 | G11: 有・無
B12: ７ 他機関との連携 | C12: 保護観察所、更生保護施設、指定医療機関又は精神保健福祉センターその他関係機関との協力体制が整えられてること。 協力体制の状況等 | G12: 有・無
B14: 注１ 該当する資格を証する書類の写しを添付してください。指定医療機関等との連携により有資格者の 指導体制を整える場合は、関係機関との連携の状況等を具体的に記載してください。
B15: 注２ 研修の開催日時、参加者、研修内容等がわかる資料を付してください。
B16: 注３ 関係機関との協力体制については、その状況等を具体的に記載してください。

Sheet 別紙32 目標工賃達成指導員加算
A1: （別紙３２）
G2: 令和 年 月 日
A3: 目標工賃達成指導員配置加算に関する届出書
A5: １ 事業所名 | C5: =IF(基本情報入力シート!L49="","",基本情報入力シート!L49)
A6: ２ 異動区分 | C6: １ 新規 ２ 変更 ３ 終了
A7: ３ 当該施設・事業所の前年度の利用者数の平均値・・・・(A) | G7: =IF(基本情報入力シート!L53="","",基本情報入力シート!L53)
A8: ４ 職業指導員及び生活支援員の数｛(A)÷6｝・・・・(B) | G8: =ROUNDDOWN(G7/6, 1) -> #VALUE!
A9: ５ 職業指導員及び生活支援員に目標工賃達成指導員を加えた数｛(A)÷5｝・・・・(C) | G9: =ROUNDDOWN(G7/5, 1) -> #VALUE!
A11: 職業指導員及び生活支援員の氏名 | G11: 常勤換算後の人数
A12: 1
A13: 2
A14: 3
A15: 4
A16: 5
A17: 6
A18: 7
A19: 8
A20: 9
A21: 10
A22: 合計 | B22: (B)≦ | G22: =SUM(G12:H21) -> 0 | H22: ①
A24: 目標工賃達成指導員の氏名 | G24: 常勤換算後の人数
A25: 1
A26: 2
A27: 3
A28: 4
A29: 5
A30: 合計 | B30: 常勤換算1.0≦ | G30: =SUM(G25:H29) -> 0 | H30: ②
B32: 職業指導員及び生活支援員に目標工賃達成指導員を加えた常勤換算後の人数 | F32: (C)≦ | G32: =G22+G30 -> 0 | H32: ①＋②
A35: 注１：(A)は前年度の利用者数の延数を当該前年度の開所日数で除して得た数とする(少数点第2位以下切り上げ)。1年未満の実績しかない場合 は、便宜上定員の90%を利用者数とする。
A36: 注2：(B)は前年度の利用者数の平均値を6で除して得た数とする。(C)は前年度の利用者数の平均値を5で除して得たとする。

Sheet 目標工賃報告書
A2: 令和８年度目標工賃報告書
F3: 令和 年 月 日
A4: 東京都知事 殿
D5: 届出者 | E5: 法人所在地 | F5: =IF(基本情報入力シート!L17&基本情報入力シート!L19="","",基本情報入力シート!L17&基本情報入力シート!L19)
E6: 法人名 | F6: =IF(基本情報入力シート!L21="","",基本情報入力シート!L21)
E7: 法人代表者名 | F7: =IF(基本情報入力シート!L37&" "&基本情報入力シート!L39="","",基本情報入力シート!L37&" "&基本情報入力シート!L39)
A9: 東京都障害福祉サービス事業の設備及び運営の基準に関する条例（平成25年東京都条例第135号）第84条第4項の規定に基づき、今年度の目標工賃を報告いたします。
A10: 事業所名 | B10: =IF(基本情報入力シート!L49="","",基本情報入力シート!L49)
A11: 事業所所在地 | B11: =IF(基本情報入力シート!L51&基本情報入力シート!L52="","",基本情報入力シート!L51&基本情報入力シート!L52)
A12: 指定事業所番号 | B12: =IF(基本情報入力シート!L47="","",基本情報入力シート!L47)
A13: サービスの種類 | B13: =IF(基本情報入力シート!L45="","",基本情報入力シート!L45)
A14: 連絡先 | B14: 担当者 | E14: 電話番号
A15: 利用定員 | B15: =IF(基本情報入力シート!L54="","",基本情報入力シート!L54) | C15: 名
A16: ※利用定員は、当該年度の4月1日現在(年度途中で指定を受けた場合は開設時)で、就労継続支援Ｂ型の定員数を記載してください。
A18: （１）令和７年度の工賃実績額
B19: 工賃支払 総額（年間）（円） Ａ
B21: 工賃支払い対象者（人） | E21: 平均工賃（円）
A22: 月給 | B22: 開所日1日当たりの 平均利用者数 Ｂ | E22: 月給 （A÷B÷１２） | F22: =D19/D22/12 -> #DIV/0!
B23: ※（開所日1日当たりの平均利用者数）＝（年間延べ利用者数）÷（年間開所日数）
B24: ※「令和７年度工賃実績調査」で東京都に報告した（又は報告予定の）金額と、相違のないようにしてください。
A26: （２）令和８年度の目標工賃額
B27: 支払い形態 | E27: 目標工賃（円）
B28: 月給（回答必須）

Sheet （様式1-1）工賃向上計画
C2: 「工賃向上計画」(参考様式）
C3: １ 事業所の概要
C4: 法人名 | L4: =IF(基本情報入力シート!L21="","",基本情報入力シート!L21) | AH4: 代表者名 | AR4: =IF(基本情報入力シート!L37&基本情報入力シート!L39="","",基本情報入力シート!L37&" "&基本情報入力シート!L39)
C5: 事業所名 | L5: =IF(基本情報入力シート!L49="","",基本情報入力シート!L49) | AH5: 担当者名
C6: 主な障害種別 | AH6: 利用者の平均年齢 （8年4月1日現在） | BJ6: 歳
C8: サービスの 種類 | L8: =IF(基本情報入力シート!L45="","",基本情報入力シート!L45) | AH8: 事業開始
C10: 事業所 所在地 | L10: =IF(基本情報入力シート!L51&基本情報入力シート!L52="","",基本情報入力シート!L51&基本情報入力シート!L52)
L12: TEL: | O12: =IF(基本情報入力シート!L55="","",基本情報入力シート!L55) | AB12: FAX: | AE12: =IF(基本情報入力シート!L56="","",基本情報入力シート!L56) | AQ12: E-mail: | AU12: =IF(基本情報入力シート!L57="","",基本情報入力シート!L57)
C13: 定員数 （8年4月1日現在） | P13: =IF(基本情報入力シート!L54="","",基本情報入力シート!L54) | AE13: 名 | AH13: 実利用者数 （8年4月1日現在） | AU13: =IF(基本情報入力シート!L53="","",基本情報入力シート!L53) | BK13: 名
C14: 上記以外の法人実施事業
C16: 職員の状況 | M16: 福祉活動における 直接指導職員数（生活支援員） | AI16: 名 | AL16: 就労支援活動に おける職員数（職業指導員） | BK16: 名
C17: 事業所 の特徴
C26: ２ 目標工賃の設定
E28: 目標とする工賃（ 月額 ） | AF28: ※目標工賃は月額による算出を基本とする
E29: 目標工賃設定に当たっての基本的な考え方
E32: 各年度ごとの目標工賃
E33: 区 分 | T33: ７年度実績 | AE33: ８年度 | AP33: ９年度 | BA33: １０年度
E35: 年間売上 金額（Ａ） | Q35: 実績 | AC35: 円 | AN35: 円 | AY35: 円 | BJ35: 円
Q36: 目標 | AC36: 円 | AN36: 円 | AY36: 円 | BJ36: 円
E37: 売上に対する 年間総原価（Ｂ） | Q37: 実績 | AC37: 円 | AN37: 円 | AY37: 円 | BJ37: 円
Q38: 目標 | AC38: 円 | AN38: 円 | AY38: 円 | BJ38: 円
E39: 年間工賃支払総額 （Ａ－Ｂ） | Q39: 実績 | T39: =T35-T37 -> 0 | AC39: 円 | AN39: 円 | AY39: 円 | BJ39: 円
Q40: 目標 | T40: =T36-T38 -> 0 | AC40: 円 | AE40: =AE36-AE38 -> 0 | AN40: 円 | AP40: =AP36-AP38 -> 0 | AY40: 円 | BA40: =BA36-BA38 -> 0 | BJ40: 円
E41: 開所日1日当たりの 平均利用者数（Ｃ） | Q41: 実績 | AC41: 人 | AN41: 人 | AY41: 人 | BJ41: 人
Q42: 目標 | AC42: 人 | AN42: 人 | AY42: 人 | BJ42: 人
E43: 平均工賃額 （A－B）÷（C)÷１２月 | Q43: 実績 | T43: =T39/T41/12 -> #DIV/0! | AC43: 円 | AN43: 円 | AY43: 円 | BJ43: 円
Q44: 目標 | T44: =T40/T42/12 -> #DIV/0! | AC44: 円 | AE44: =AE40/AE42/12 -> #DIV/0! | AN44: 円 | AP44: =AP40/AP42/12 -> #DIV/0! | AY44: 円 | BA44: =BA40/BA42/12 -> #DIV/0! | BJ44: 円

Sheet （様式１-2）工賃向上計画
C1: ３ 現状分析と今後の方向性 | AR1: ※記入する欄が足りないときは、適宜追加してください。
C2: 作業名 | M2: 作業内容・量と現状分析 | AH2: 今後の方向性
C17: ４ 各年度に取組む具体的方策 | AD17: ※記入する欄が足りないときは、適宜追加してください。
C18: 作業名 | M18: 令和８年度 | AF18: 令和９年度 | AY18: 令和１０年度
C33: ５ その他 | M33: ※推進体制、活用したい支援策等を記載してください。

Sheet 別紙33目標工賃達成
B1: （別紙33）
F2: 年 月 日
B4: 目標工賃達成加算に関する届出書
B6: 事業所名 | D6: =IF(基本情報入力シート!L49="","",基本情報入力シート!L49)
B7: 異動区分 | D7: １ 新規 ２ 変更 ３ 終了
B9: 平均工賃月額等 | C9: ① 工賃目標の対象年度の前年度における事業所の平均工賃月額（令和６年度実績）
G10: 円
C11: ② 工賃目標の対象年度の目標工賃額（令和７年度平均目標工賃月額）
G12: 円
C13: ③ 工賃目標の対象年度の事業所の平均工賃月額（令和７年度実績）
G14: 円
C15: ④ 工賃目標の対象年度の前々年度における全国平均工賃月額（令和５年度）
C16: 22649 | G16: 円
C17: ⑤ 工賃目標の対象年度の前々々年度における全国平均工賃月額（令和４年度）
C18: 17031 | G18: 円
C19: ⑥ ①＋（④－⑤） ※④－⑤が０未満の場合は、０として算定すること。
C20: =IF(C10="","",C10+ MAX(0, C16-C18)) | G20: 円
B21: 算定要件 | C21: ＜要件確認１＞ ②の額が⑥の額以上となっていること。（②≧⑥）
D22: （ 該当 ・ 非該当 ）
C23: ＜要件確認２＞ ③の額が②の額以上となっていること。（③≧②）
D24: （ 該当 ・ 非該当 ）

Sheet 別紙47地活拠点
B2: （別紙47） | T2: 年 月 日
A4: 地域生活支援拠点等に関連する加算の届出
B6: 地域生活支援拠点等に関連する加算の要件を満たす事業所として、以下のとおり届け出ます。
B8: １ 届出区分 | G8: １ 新規 ２ 変更 ３ 終了
B9: ２ 事業所の名称 | G9: =IF(基本情報入力シート!L49="","",基本情報入力シート!L49)
B10: ３ 地域生活支援拠点等 としての位置付け | G10: 市町村により地域生活支援拠点等として 位置付けられたことを証明する運営規程の有無 | U10: 選択してください
G12: 市町村により地域生活支援拠点等として位置付けられた日付 | X12: 年 | Z12: 月 | AB12: 日
B13: ４ 市町村及び地域生活 支援拠点等との連携及 び調整に従事する者の 氏名 | G13: ※該当者が複数名いる場合は、各々の氏名を記載すること。
B14: ５ 当該届出により算定する加算 | D14: ≪緊急時対応加算 地域生活支援拠点等の場合≫ | Q14: 対象：訪問系サービス※、 重度障害者等包括支援（訪問系サービスのみ対象）
D15: ≪緊急時支援加算 地域生活支援拠点等の場合≫ | Q15: 対象：自立生活援助、地域定着支援、 重度障害者等包括支援（自立生活援助のみ対象）
D16: ≪地域生活支援拠点等として短期入所を行った場合の加算≫ | Q16: 対象：短期入所、重度障害者等包括支援
D17: ≪緊急時受入加算≫ | Q17: 対象：日中系サービス※
D18: ≪障害福祉サービスの体験支援加算≫ | Q18: 対象：日中系サービス※
D19: ≪障害福祉サービスの体験利用加算・体験宿泊加算≫ | Q19: 対象：地域移行支援
D20: ≪地域移行促進加算（Ⅰ）・（Ⅱ）≫ | Q20: 対象：施設入所支援
D21: ≪地域生活支援拠点等相談強化加算≫ | Q21: 対象：計画相談支援、障害児相談支援
B23: 添付書類：運営規定 運営規程は、当該事業所等が地域生活支援拠点等の機能を担う事業所であることが規定されているもの(規定の変更の手続中であるものを含む。) に限る。なお、事業所の運営規程が変更の手続中のものである場合は、当該変更の手続の完了後、速やかに変更後の運営規程を提出すること。 注１ 地域生活支援拠点等機能強化加算については別に定める様式にて届出を行うこと。 注２ 訪問系サービスとは、居宅介護、重度訪問介護、同行援護、行動援護をいう。 注３ 日中系サービスとは、生活介護、自立訓練（機能訓練）、自立訓練（生活訓練）、就労移行支援（養成含む）、就労 継続支援Ａ型、就労継続支援Ｂ型をいう。

Sheet 別紙48送迎
A1: （別紙48）
E2: 年 月 日
A4: 送迎加算に関する届出書
B6: 事業所・施設の名称 | C6: =IF(基本情報入力シート!L49="","",基本情報入力シート!L49)
B7: サービスの種類 | C7: =IF(基本情報入力シート!L45="","",基本情報入力シート!L45)
B8: １ 異動区分 | C8: １ 新規 ２ 変更 ３ 終了
B9: ２ 送迎の状況① （全サービス） | C9: 1 | D9: 当該事業所において行われる通所サービス等の利用につき、利用者の送迎を行っていること。
B10: ３ 送迎の状況② （短期入所、重度障害者等包括支援以外） ※1・2いずれにも該当する場合は送迎加算Ⅰ、いずれか一方に該当する場合は送迎加算Ⅱの算定が可能。 | C10: 1 | D10: １回の送迎につき、平均10人以上（ただし、利用定員が20人未満の事業所にあっては、１回の送迎につき、平均的に定員の100分の50以上）が利用している。
C11: 2 | D11: 週３回以上の送迎を実施している。
B12: ４ 送迎の状況③ （生活介護の上乗せ加算） | C12: 1 | D12: 送迎を利用する者のうち、区分５若しくは区分６に該当する者又はこれに準ずる者が100分の60以上。
C13: 2 | D13: 1には該当しない。
B15: ※ 「異動区分」欄については、該当する番号に○を付してください。 ※ 「送迎の状況②」欄については、両方に該当する場合は両方に○を付けること。 ※ 「これに準ずる者」とは、区分 4 以下であって、行動関連項目合計点数が 10 点以上で ある者又は喀痰吸引等を必要とする者とする。

Sheet 別紙51-3就労移行
A1: （別紙51ー３） | H1: 年 月 日
A2: 就労移行支援体制加算に関する届出書 （就労継続支援Ｂ型）
A4: 事業所の名称 | D4: =IF(基本情報入力シート!L49="","",基本情報入力シート!L49)
A5: 異動区分 | D5: １ 新規 ２ 変更 ３ 終了
C7: 前年度における 就労定着者の数 | E7: 人
C11: 当該年度の前年度の ９月30日時点における 事業所の定員数 | E11: 人
B14: 基本報酬の算定区分 | C14: 就労継続支援B型サービス費（Ⅰ）、（Ⅱ）又は（Ⅲ） の場合、 下記にチェックしてください。 | F14: 選択下さい。
C24: 就労継続支援B型サービス費（Ⅳ）、（Ⅴ）又は（Ⅵ） の場合、左のボックスにチェックしてください。
B26: 氏名 | C26: 就職日（年月日） | E26: 就職先事業所名 | G26: 前年度において6月に達した日（年月日） | H26: 届出時点の継続状況 （離職している場合は離職日も記入）
A27: 1
A28: 2
A29: 3
A30: 4
A31: 5
A32: 6
A33: 7
A34: 8
A35: 9
A36: 10
A37: 11
A38: 12
... A46: 20
A47: 注１ 就労定着者とは、就労継続支援Ｂ型等を受けた後、就労し、当該年度の前年度において就労継続している期間が６月に達した者 をいう。なお、就労とは企業等との雇用契約に基づく就労をいい、労働時間等労働条件の内容は問わない。 ただし、就労継続支援Ａ型事業所の利用者としての移行及び施設外支援の対象となるトライアル雇用は除く。 注２ 通常の事業所に雇用されている者であって労働時間の延長又は休職からの復職の際に就労に必要な知識及び能力の向上のための 支援を一時的に必要とするものが、就労継続支援Ｂ型等を受けた場合にあっては、当該就労継続支援Ｂ型等を受けた後、就労を 継続している期間が 6 月に達した者を就労定着者として取り扱う。具体的には、労働時間の延長の場合には指定就労継続支援 Ｂ型等の終了日の翌日、休職からの復職の場合は実際に企業に復職した日を１日目として６月に達した者とする。 注３ 基本報酬の算定区分について、就労継続支援B型サービス費（Ⅰ）、（Ⅱ）又は（Ⅲ）を算定している場合は、 平均工賃月額の区分も選択すること。 注４ 届出時点の継続状況には、就労が継続している場合には「継続」、離職している場合には「離職」と記入。 （離職している場合は離職日も記入） 注５ 加算単位数は前年度の就労定着者の数に当該年度の利用定員及び基本報酬の算定区分に応じた所定単位数を乗じて得た単位数を 加算することとなる。 注６ 前年度における就労定着者の数については、当該年度の前年度の９月30日時点における事業所の定員数を上限とする。
B53: 選択下さい。
B54: １．（Ｒ８改定対象外）平均工賃月額が４万５千円以上
B55: ２．（Ｒ８改定対象外）平均工賃月額が３万５千円以上４万５千円未満
B56: ３．（Ｒ８改定対象外）平均工賃月額が３万円以上３万５千円未満
B57: ４．（Ｒ８改定対象外）平均工賃月額が２万５千円以上３万円未満
B58: ５．（Ｒ８改定対象外）平均工賃月額が２万円以上２万５千円未満
B59: ６．（Ｒ８改定対象外）平均工賃月額が１万５千円以上２万円未満
B60: ７．平均工賃月額が１万円以上１万５千円未満
B61: ８．なし（経過措置対象）
B62: ９．平均工賃月額が１万円未満
B63: １０．なし（生産活動等への支援実施対象）
B64: １１:（Ｒ８改定対象）平均工賃月額が４万８千円以上の場合
... B75: ２２:（Ｒ８改定対象）平均工賃月額が１万５千円以上１万８千円未満

Sheet 別紙53重度者
A1: （別紙53） | R1: 年 月 日
A2: 障がい基礎年金１級を受給する利用者の状況 （重度者支援体制加算に係る届出書）
A4: 事業所の名称 | I4: =IF(基本情報入力シート!L49="","",基本情報入力シート!L49)
A5: 異動区分 | I5: １ 新規 ２ 変更 ３ 終了
A7: 当該施設の前年度利用者延べ人数(全体) | S7: （Ａ） | X7: 人
A10: うち障がい基礎年金１級を受給する利用者延べ人数 | S10: （Ｂ） | U10: =SUM(U21:Z50) -> 0 | X10: 人
A13: （Ｂ）／（Ａ）×100 | S13: （Ｃ） | U13: =U10/U7*100 -> #DIV/0! | X13: ％
A16: 重度者支援体制加算 | I16: （Ⅰ） 50％～ | R16: （Ⅱ） 25％～50％
C18: 氏 名 | U18: 利用日数
A21: 1
A24: 2
A27: 3
A30: 4
A33: 5
A36: 6
A39: 7
A42: 8
A45: 9
A48: 10
B51: ※ 本表は前年度の障がい基礎年金１級を受給する利用者を記載してください。
B52: ※ 重度者支援体制加算を算定する場合に作成し、都道府県知事に届け出ること。

Sheet 標準様式１主たる対象  
A1: (標準様式１)
A3: 指定障害福祉サービス等の主たる対象者を特定する理由等
B5: 事業所名 | C5: =IF(基本情報入力シート!L49="","",基本情報入力シート!L49)
B6: 指定障害福祉サービス等の種類 | C6: =IF(基本情報入力シート!L45="","",基本情報入力シート!L45)
A9: １ 申請に係る指定障害福祉サービス等の主たる対象者
A11: ２ 主たる対象者を１のとおり特定する理由
A13: ３ 今後における主たる対象者の拡充の予定
A14: (１)拡充予定の有無 選択してください。 | C14: ( 有り ・ 無し )
A15: (２)拡充予定の内容及び予定時期
A17: (３)拡充のための方策

Sheet （標準様式２）苦情解決措置の概要
A1: (標準様式２)
A3: 利用者(入所者)又はその家族からの苦情を解決するために講ずる措置の概要
A5: 事業所名 | B5: =IF(基本情報入力シート!L49="","",基本情報入力シート!L49)
A6: 指定障害福祉サービス等の種類 | B6: =IF(基本情報入力シート!L45="","",基本情報入力シート!L45)
A8: 措 置 の 概 要
A9: １ 利用者(入所者)又はその家族からの相談又は苦情等に対応する常設の窓口(連絡先)、担当者
A11: ２ 円滑かつ迅速に苦情を解決するための処理体制・手順
A13: ※具体的な対応方針
A15: ３ その他参考事項

Sheet 標準様式３誓約書
A1: (標準様式３) | N1: ★標準様式３別紙① を添付してください。
A2: 誓 約 書
H4: 年 | J4: 月 | L4: 日
C5: 知事 殿
A7: 申請者 | D7: （名称） | E7: =IF(基本情報入力シート!L21="","",基本情報入力シート!L21)
D9: （代表者の職名・氏名） | F9: =IF(基本情報入力シート!L37&基本情報入力シート!L39="","",基本情報入力シート!L37&" "&基本情報入力シート!L39)
A13: 申請者が別紙のいずれにも該当しない者であることを誓約します。
C15: 別紙①： 障害福祉サービス事業者向け
C16: 別紙②： 障害者支援施設向け
C17: 別紙③： 一般相談支援事業者向け
C18: 別紙④： 特定相談支援事業者向け
C19: 別紙⑤： 障害児通所支援事業者向け
C20: 別紙⑥： 障害児入所施設向け
C21: 別紙⑦： 障害児相談支援事業者向け
B22: 注 該当する種別に○を付けてください。

Sheet 標準様式３別紙①
B1: （別紙①：障害福祉サービス事業者向け）
C2: 障害者の日常生活及び社会生活を総合的に支援するための法律第３６条第３項
B4: 一 | C4: 申請者が都道府県の条例で定める者でないとき。
B5: 二 | C5: 当該申請に係るサービス事業所の従業者の知識及び技能並びに人員が、第四十三条第一項の都道府県の条例で定める基準を満たしていないとき。
B6: 三 | C6: 申請者が、第四十三条第二項の都道府県の条例で定める指定障害福祉サービスの事業の設備及び運営に関する基準に従って適正な障害福祉サービス事業の運営をすることができないと認められるとき。
B7: 四 | C7: 申請者が、禁錮以上の刑に処せられ、その執行を終わり、又は執行を受けることがなくなるまでの者であるとき。
B8: 五 | C8: 申請者が、この法律その他国民の保健医療若しくは福祉に関する法律で政令で定めるものの規定により罰金の刑に処せられ、その執行を終わり、又は執行を受けることがなくなるまでの者であるとき。
B9: 五の二 | C9: 申請者が、労働に関する法律の規定であって政令で定めるものにより罰金の刑に処せられ、その執行を終わり、又は執行を受けることがなくなるまでの者であるとき。
B10: 六 | C10: 申請者が、第五十条第一項（同条第三項において準用する場合を含む。以下この項において同じ。）、第五十一条の二十九第一項若しくは第二項又は第七十六条の三第六項の規定により指定を取り消され、その取消しの日から起算して五年を経過しない者（当該指定を取り消された者が法人である場合においては、当該取消しの処分に係る行政手続法（平成五年法律第八十八号）第十五条の規定による通知があった日前六十日以内に当該法人の役員又はそのサービス事所を管理する者その他の政令で定める使用人（以下「役員等」という。）であった者で当該取消しの日から起算して五年を経過しないものを含み、当該指定を取り消された者が法人でない場合においては、当該通知があった日前六十日以内に当該者の管理者であった者で当該取消しの日から起算して五年を経過しないものを含む。）であるとき。ただし、当該指定の取消しが、指定障害福祉サービス事業者の指定の取消しのうち当該指定の取消しの処分の理由となった事実及び当該事実の発生を防止するための当該指定障害福祉サービス事業者による業務管理体制の整備についての取組の状況その他の当該事実に関して当該指定障害福祉サービス事業者が有していた責任の程度を考慮して、この号本文に規定する指定の取消しに該当しないこととすることが相当であると認められるものとして主務省令で定めるものに該当する場合を除く。
B11: 七 | C11: 申請者と密接な関係を有する者（申請者（法人に限る。以下この号において同じ。）の株式の所有その他の事由を通じて当該申請者の事業を実質的に支配し、若しくはその事業に重要な影響を与える関係にある者として主務省令で定めるもの（以下この号において「申請者の親会社等」という。）、申請者の親会社等が株式の所有その他の事由を通じてその事業を実質的に支配し、若しくはその事業に重要な影響を与える関係にある者として主務省令で定めるもの又は当該申請者が株式の所有その他の事由を通じてその事業を実質的に支配し、若しくはその事業に重要な影響を与える関係にある者として主務省令で定めるもののうち、当該申請者と主務省令で定める密接な関係を有する法人をいう。）が、第五十条第一項、第五十一条の二十九第一項若しくは第二項又は第七十六条の三第六項の規定により指定を取り消され、その取消しの日から起算して五年を経過していないとき。ただし、当該指定の取消しが、指定障害福祉サービス事業者の指定の取消しのうち当該指定の取消しの処分の理由となった事実及び当該事実の発生を防止するための当該指定障害福祉サービス事業者による業務管理体制の整備についての取組の状況その他の当該事実に関して当該指定障害福祉サービス事業者が有していた責任の程度を考慮して、この号本文に規定する指定の取消しに該当しないこととすることが相当であると認められるものとして主務省令で定めるものに該当する場合を除く。
B12: 八 | C12: 申請者が、第五十条第一項、第五十一条の二十九第一項若しくは第二項又は第七十六条の三第六項の規定による指定の取消しの処分に係る行政手続法第十五条の規定による通知があった日から当該処分をする日又は処分をしないことを決定する日までの間に第四十六条第二項又は第五十一条の二十五第二項若しくは第四項の規定による事業の廃止の届出をした者（当該事業の廃止について相当の理由がある者を除く。）で、当該届出の日から起算して五年を経過しないものであるとき。
B13: 九 | C13: 申請者が、第四十八条第一項（同条第三項において準用する場合を含む。）又は第五十一条の二十七第一項若しくは第二項の規定による検査が行われた日から聴聞決定予定日（当該検査の結果に基づき第五十条第一項又は第五十一条の二十九第一項若しくは第二項の規定による指定の取消しの処分に係る聴聞を行うか否かの決定をすることが見込まれる日として主務省令で定めるところにより都道府県知事が当該申請者に当該検査が行われた日から十日以内に特定の日を通知した場合における当該特定の日をいう。）までの間に第四十六条第二項又は第五十一条の二十五第二項若しくは第四項の規定による事業の廃止の届出をした者（当該事業の廃止について相当の理由がある者を除く。）で、当該届出の日から起算して五年を経過しないものであるとき。
B14: 十 | C14: 第八号に規定する期間内に第四十六条第二項又は第五十一条の二十五第二項若しくは第四項の規定による事業の廃止の届出があった場合において、申請者が、同号の通知の日前六十日以内に当該届出に係る法人（当該事業の廃止について相当の理由がある法人を除く。）の役員等又は当該届出に係る法人でない者（当該事業の廃止について相当の理由がある者を除く。）の管理者であった者で、当該届出の日から起算して五年を経過しないものであるとき。
B15: 十一 | C15: 申請者が、指定の申請前五年以内に障害福祉サービスに関し不正又は著しく不当な行為をした者であるとき。
... B17: 十三 | C17: 申請者が、法人でない者で、その管理者が第四号から第六号まで又は第八号から第十一号までのいずれかに該当する者であるとき。
B18: ※療養介護に係る指定の申請にあっては、第七号を除く。

Sheet 参考様式２設備概要
A1: （参考様式２）
B2: 設備の概要
A4: サービス種類 （ | B4: =IF(基本情報入力シート!L45="","",基本情報入力シート!L45) | C4: )
A5: 事業所名 （ | B5: =IF(基本情報入力シート!L49="","",基本情報入力シート!L49) | C5: )
A6: 設備の概要 | B6: 設備基準上適合すべき項目等についての状況 | C6: 適合の可否
A25: 室名 | B25: 備品の品目及び数量
A44: 備考１ 申請するサービス種類に関して、基準省令で定められた設備基準上適合すべき項目のうち、
A45: 「居室面積等一覧表｣に記載した項目以外の事項について記載してください。
A46: ２ 必要に応じて写真等を添付し、その旨を合わせて記載してください。
A47: ３ ｢適合の可否｣欄には、何も記載しないでください。

Sheet 参考様式３（管理者）経歴書
A1: （参考様式３）
A2: 管理者経歴書
A4: 事業所の名称 | C4: =IF(基本情報入力シート!L49="","",基本情報入力シート!L49)
A5: フリガナ | B5: =IF(基本情報入力シート!L71="","",基本情報入力シート!L71) | F5: 生年月日 | G5: =IF(基本情報入力シート!L76="","",基本情報入力シート!L76)
A6: 氏名 | B6: =IF(基本情報入力シート!L70="","",基本情報入力シート!L70)
A8: 住所 | B8: （郵便番号 | C8: =IF(基本情報入力シート!L72="","",基本情報入力シート!L72) | D8: - | E8: =IF(基本情報入力シート!T72="","",基本情報入力シート!T72) | F8: )
B9: =IF(基本情報入力シート!L73&基本情報入力シート!L74="","",基本情報入力シート!L73&基本情報入力シート!L74)
A10: 電話番号 | B10: =IF(基本情報入力シート!L75="","",基本情報入力シート!L75)
A11: 主な職歴等
A12: 年 月 ～ 年 月 | D12: 勤務先等 | G12: 職務内容
A28: 職務に関連する資格
A29: 資格の種類 | E29: 資格取得年月日
A37: 備考（研修等の受講の状況等）
A43: 備考１ 住所・電話番号は、自宅のものを記載してください。
A44: ２ 当該管理者が管理する事業所が複数の場合は、「事業所の名称」欄を適宜拡張して、その全てを
A45: 記載してください。

Sheet 参考様式３（サビ菅）経歴書 
A1: （参考様式３）
A2: サービス管理責任者経歴書
A4: 事業所の名称 | C4: =IF(基本情報入力シート!L49="","",基本情報入力シート!L49)
A5: フリガナ | B5: =IF(基本情報入力シート!L78="","",基本情報入力シート!L78) | F5: 生年月日 | G5: =IF(基本情報入力シート!L83="","",基本情報入力シート!L83)
A6: 氏名 | B6: =IF(基本情報入力シート!L77="","",基本情報入力シート!L77)
A8: 住所 | B8: (郵便番号 | C8: =IF(基本情報入力シート!L79="","",基本情報入力シート!L79) | D8: - | E8: =IF(基本情報入力シート!T79="","",基本情報入力シート!T79) | F8: )
B9: =IF(基本情報入力シート!L80&基本情報入力シート!L81="","",基本情報入力シート!L80&基本情報入力シート!L81)
A10: 電話番号 | B10: =IF(基本情報入力シート!L82="","",基本情報入力シート!L82)
A11: 主な職歴等
A12: 年 月 ～ 年 月 | D12: 勤務先等 | G12: 職務内容
A28: 職務に関連する資格
A29: 資格の種類 | E29: 資格取得年月日
A37: 備考（研修等の受講の状況等）
A43: 備考１ 住所・電話番号は、自宅のものを記載してください。
A44: ２ 当該管理者が管理する事業所が複数の場合は、「事業所の名称」欄を適宜拡張して、その全てを
A45: 記載してください。

Sheet 利用日数届出書
A2: 利用日数に係る特例の適用を受ける通所施設に係る（変更）届出書
N4: 年 | P4: 月 | R4: 日
B7: 東京都知事 殿
I9: =IF(基本情報入力シート!L17="","",基本情報入力シート!L17)
F10: 住所 | I10: =IF(基本情報入力シート!L19="","",基本情報入力シート!L19)
E11: 届出者 | F11: （所在地） | I11: =IF(基本情報入力シート!L21="","",基本情報入力シート!L21)
F12: 氏名 | I12: =IF(基本情報入力シート!L37&" "&基本情報入力シート!L39="","",基本情報入力シート!L37&" "&基本情報入力シート!L39)
F13: （名称及び代表者氏名）
B16: 下記の理由により、利用日数に係る特例の適用を受ける必要がありますので、次のとおり届け出ます。
A18: 施 設 名 (種別） | C18: 名 称 | E18: =IF(基本情報入力シート!L49="","",基本情報入力シート!L49)
C19: 所 在 地 | E19: =IF(基本情報入力シート!L51&基本情報入力シート!L52="","",基本情報入力シート!L51&基本情報入力シート!L52)
A20: 連 絡 先 | C20: 電話番号 | E20: =IF(基本情報入力シート!L55="","",基本情報入力シート!L55) | I20: 担当者名
C21: ＦＡＸ番号 | E21: =IF(基本情報入力シート!L56="","",基本情報入力シート!L56)
A22: 対象期間 | C22: 特例の適用を受ける必要性
A23: 月 ～ 月
A24: 月 ～ 月
A25: 月 ～ 月
A26: 月 ～ 月
A27: （注１）対象期間とは、「原則の日数」を超える支援が必要となる月を含む３か月以上1年以内の期間をいう。
A28: （注２）年間スケジュール表など年間を通じた事業計画がわかる資料を添付すること。

Sheet 利用日数管理票
A1: 利用日数に係る特例の適用を受ける場合の利用日数管理票
A2: （ 年 月サービス分）
A4: 事 業 所 番 号
A5: 施 設 名 | B5: =IF(基本情報入力シート!L49="","",基本情報入力シート!L49)
A7: 施設受給者証番号
A8: 支給決定障害者氏名
A10: 対 象 期 間
D11: 月 | E11: ～ | H11: 月
A13: 原則の日数の総和
A16: 対象期間内における各月の利用日数
B17: 月 | D17: 月 | F17: 月 | H17: 月 | J17: 月 | L17: 月 | N17: 月 | P17: 月 | R17: 月 | T17: 月 | V17: 月 | X17: 月
A20: 対象期間内における当該月までの利用日数の合計
A24: 注１ 対象期間には、当該施設が特定する３か月以上1年以内の期間を記載すること。
A26: 注２ 原則の日数の総和には、対象期間における原則の日数の総和を記載すること。

Sheet 耐震化調査票
AI1: 別 紙
A2: 社会福祉施設等における耐震化に関する調査票
A4: ※ １施設で複数の棟がある場合は、大変恐縮ですが調査票をコピーして、棟ごとに調査票を作成してください。
A6: ※ 回答できない事情がある場合は、欄外にその旨を記入してください。
A8: 所属団体(法人)名 | B8: 名 称 | E8: =IF(基本情報入力シート!L21="","",基本情報入力シート!L21) | T8: 施設名 | U8: 名 称 | X8: =IF(基本情報入力シート!L49="","",基本情報入力シート!L49) | AF8: 指定番号 | AH8: =IF(基本情報入力シート!L47="","",基本情報入力シート!L47)
B9: 所在地 | E9: =IF(基本情報入力シート!L17&基本情報入力シート!L19="","",基本情報入力シート!L17&" "&基本情報入力シート!L19) | U9: 所在地 | X9: =IF(基本情報入力シート!L51&基本情報入力シート!L52="","",基本情報入力シート!L51&基本情報入力シート!L52)
B10: 担当者 | U10: 担当者
B11: 電 話 | U11: 電 話
A13: ① | B13: 施設種別・棟の名称 (複数棟所有で棟名がない場合は、便宜上「Ａ棟などの呼称で区分してください。） | J13: 施設種別 （別表から選択してください） | AA13: 棟の名称 (記入例：管理棟）
J14: ―
A15: ② | B15: 併設施設について （同一建物（棟）内に他の社会福祉施設が併設されている場合や、複数のサービスを提供している場合は御記入ください。） | J15: 施設種別 （別表から選択してください） | AA15: 施設名称
J16: ―
J17: ―
J18: ―
J19: ―
J20: ※書ききれない場合は、裏面欄外に御記入ください。
A21: ③ | B21: 施設について （Ａ～Ｇについて御回答ください） | J21: Ａ | K21: 施設設置者の公私区分 （公立には、公設民営を含む） | AA21: 公立 ・ 私立
J22: Ｂ | K22: 建物の構造 | AA22: 1. 木造
AA23: 2. 鉄筋ｺﾝｸﾘｰﾄ構造（RC）
AA24: 3. 鉄骨構造（Ｓ）
AA25: 4. 鉄骨鉄筋ｺﾝｸﾘｰﾄ構造（SRC）
AA26: 5. その他 （ ）
J27: Ｃ | K27: 建物が竣工（完成）した年 | AA27: 昭和 年 月
K28: ※昭和５６年６月１日以降に建築確認を行なった建物は、現在の耐震基準に適合しています。 | AA28: 昭和５７年１月１日以降
AH29: → 終了
J30: Ｄ | K30: 建物の自己所有・賃貸の別 （無償貸与物件は賃貸） | AA30: 自己所有 ・ 賃貸
J31: Ｅ | K31: 建物の階数 | AA31: 階建
L32: （ビル一室等使用の場合は、当該建物総階数）
J33: Ｆ | K33: 建物の延べ床面積 （ビル一室等使用の場合は、上段に施設面積、下段に建物総面積） | AK33: ㎡
J35: Ｇ | K35: 増改築の有無 | AA35: 有（ 年 月） ・ 無
A36: ④ | B36: 耐震診断の実施状況 について （Ａ・Ｂのいずれか1箇所に○をつけてください） | J36: Ａ | K36: 耐震診断実施済み | AA36: 実施日： 年 月
K37: ※Ｉｗ値（木造）・Ｉｓ値（非木造）は、階ごと等複数算出されている場合、全ての値を記載してください。 | AA37: Ｉｗ値・Ｉｓ値：
AH38: → ⑤へ
J39: Ｂ | K39: 耐震診断未実施 | Q39: → ⑥へ
AH40: ⇒裏面へ
A41: ⑤ | B41: 耐震診断の結果と耐震化の実施状況について （Ａ・Ｂのいずれか1箇所に○をつけてください） | J41: Ａ | K41: 耐震診断の結果、耐震化は不要
K42: （全ての階において、木造:Ｉｗ値１．1以上、非木造：Ｉｓ値０．7以上） | AH42: → 終了
J43: Ｂ | K43: 耐震診断の結果、耐震化が必要（いずれかの階で、Iw値が1.1未満又はIs値0.7未満）
K44: 耐震化の実施状況 ： １～４の中から、あてはまる項目に○をしてください。
L45: 1．改修済み
...

Sheet 事業開始届
B2: 東京都知事 殿 | O2: 年 月 日
M3: =IF(基本情報入力シート!L21="","",基本情報入力シート!L21)
G4: 届出者 氏名
I5: （法人の場合は名称） | M5: =IF(基本情報入力シート!L37&基本情報入力シート!L39="","",基本情報入力シート!L37&" "&基本情報入力シート!L39)
F7: =IF(基本情報入力シート!L49="","",基本情報入力シート!L49) | N7: 事業開始届
C9: このたび、標記の事業を開始しますので、下記により届け出ます。
K11: 記
C13: 事業 | E13: 種類 | J13: =IF(基本情報入力シート!L45="","",基本情報入力シート!L45)
E15: 内容
C17: 経営者 | E17: 氏名（法人の場合は名称） | J17: =IF(基本情報入力シート!L21="","",基本情報入力シート!L21)
E19: 住所 | J19: =IF(基本情報入力シート!L17&基本情報入力シート!L19="","",基本情報入力シート!L17&基本情報入力シート!L19)
E21: （法人の場合は主たる事務所の所在地）
C22: 条例、定款その他の基本約款 | J22: 別紙のとおり
C23: 職員の職種 | G23: 職務内容 | P23: 職員の定数
S24: 人
S26: 人
S28: 人
N30: 合計 | P30: =SUM(P24:R29) -> 0 | S30: 人
C32: 主な職員の氏名及び経歴 | J32: 別紙のとおり
C33: 事業を行おうとする区域 | J33: =IF(基本情報入力シート!L58="","",基本情報入力シート!L58)
C34: （区市町村の委託事業については区市町村名も含む）
C35: 事業の用に共する施設（短期入所を行おうとする場合） | E35: 名称
E37: 種類
E39: 所在地
E41: 定員
O42: 人
C43: 事業開始予定年月日
C44: 収支予算書及び事業計画書 | J44: 別紙のとおり
C45: 事業所平面図及び部屋別面積表 | J45: 別紙のとおり
C47: この紙面は、事業開始の届出を行おうとする方に「参考例」として示すものであり、届出の様式を定めるものではありません。

Sheet 参考様式４実務証明
A1: （参考様式４）
A2: 実 務 経 験 証 明 書
J4: 番 号
J5: 年 月 日
E7: 施設又は事業所所在地及び名称
E9: 代表者氏名 | J9: 印
E10: 電話番号
A12: 下記の者の実務経験は、以下のとおりであることを証明します。
A14: 氏 名 | G14: （生年月日 年 月 日）
A15: 現 住 所
A16: 施設又は事業所名
D17: 施設・事業所の種別（ ）
A18: 業 務 期 間
D19: 年 月 日～ 年 月 日（ 年 月間）
A20: 業 務 内 容 | D20: 職名（ ）
A26: （注） | B26: １． | C26: 施設又は事業所名欄には、知的障害者更生施設等の種別も記入すること。
