Workbook
Name _01_北海道: OFFSET(#REF!,0,0,COUNTA(#REF!)-1,1)
Name _02_青森県: #REF!
Name _03_岩手県: #REF!
Name _04_宮城県: #REF!
Name _05_秋田県: #REF!
Name _06_山形県: #REF!
Name _07_福島県: #REF!
Name _08_茨城県: #REF!
Name _09_栃木県: #REF!
Name _10_群馬県: #REF!
Name _11_埼玉県: #REF!
Name _12_千葉県: #REF!
Name _13_東京都: #REF!
Name _14_神奈川県: #REF!
Name _15_新潟県: #REF!
Name _16_富山県: #REF!
Name _17_石川県: #REF!
Name _18_福井県: #REF!
Name _19_山梨県: #REF!
Name _20_長野県: #REF!
Name _21_岐阜県: #REF!
Name _22_静岡県: #REF!
Name _23_愛知県: #REF!
Name _24_三重県: #REF!
Name _25_滋賀県: #REF!
Name _26_京都府: #REF!
Name _27_大阪府: #REF!
Name _28_兵庫県: #REF!
Name _29_奈良県: #REF!
Name _30_和歌山県: #REF!
Name _31_鳥取県: #REF!
Name _32_島根県: #REF!
Name _33_岡山県: #REF!
Name _34_広島県: #REF!
Name _35_山口県: #REF!
Name _36_徳島県: #REF!
Name _37_香川県: #REF!
Name _38_愛媛県: #REF!
Name _39_高知県: #REF!
Name _40_福岡県: #REF!
Name _41_佐賀県: #REF!
Name _42_長崎県: #REF!
Name _43_熊本県: #REF!
Name _44_大分県: #REF!
Name _45_宮崎県: #REF!
Name _46_鹿児島県: #REF!
Name _47_沖縄県: #REF!
Name Autoshape1: #REF!
Name syuukeihyou11: [1]集計表２!$A$3:$AD$109
Name グループホーム: #REF!
Name 居宅介護: #REF!
Name 重度障害者等包括支援: #REF!
Name 重度訪問介護: #REF!
Name 障害児入所施設: #REF!
Name 障害者支援施設: #REF!
Name 短期入所: #REF!

Sheet 提出書類一覧
A2: 令和７年度障害者支援施設等におけるデジタル技術等活用支援事業補助金 提出書類一覧（交付申請時）
A4: 交付申請の提出にあたり、こちらで提出書類をチェックの上、一緒に御提出ください。
A5: 番号 | B5: 様式 作成順 | C5: 提 出 書 類 名 | G5: 提出時 チェック欄 | H5: 注意点
A7: 1 | C7: 令和７年度障害者支援施設等におけるデジタル技術等活用支援事業補助金提出書類一覧（交付申請時）（本票） | H7: ◆提出時チェック欄にチェックし、提出漏れがないか確認の上、以下書類と一緒に提出すること
A8: 2 | B8: 4 | C8: 交付申請書（様式第１号） | H8: ◆法人名、法人住所、代表者名、代表者印は印鑑証明書と同一のものか。 ◆日付は提出日を記入すること。
A9: 3 | B9: 3 | C9: 積算調書（別紙１－１、１－１－１又は１－２－１） ロボット介護機器のみの場合：別紙１－１－２） | H9: ◆記入ミス、転記ミスはないか。
A10: 4 | B10: 2 | C10: 積算内訳書（別紙１－１－２①、１－１－２②、又は１－２－２①、１－２－２②） ロボット介護機器のみの場合：別紙１－２－２） | H10: ◆記入ミス、転記ミスはないか。
A11: 5 | B11: 1 | C11: 事業計画書（別紙１－１－３又は１－２－３） | H11: ◆記入ミス、転記ミスはないか。
A12: 6 | B12: 5 | C12: 誓約書（別紙１－３） | H12: ◆法人名、法人住所、代表者名、代表者印は印鑑証明書と同一のものか。
A13: 7 | B13: 6 | C13: 歳入歳出予算書抄本（別紙１－４） | H13: ◆歳入と歳出の金額を一致させること ◆歳出の備考欄に経費詳細を記載すること ◆法人名、代表者名、代表者印は印鑑証明書と同一のものか。 ◆日付は提出日を記入すること。
A14: 8 | C14: 導入する機器等の見積書、納品書及び領収書の写し | H14: ◆複数事業者からの見積書を提出 ◆支払済の経費は領収書を提出 ◆経費の積算根拠となる資料は全て添付
D15: 金額換算可能な各種ポイントが付与・利用された場合の当該ポイント相当額の確認できる根拠資料 ※利用されたポイント数が記載された請求書、ポイント付与の条件（何円購入で何ポイント）や１ポイント当たりの換金率が記載されたカード会社の規約書等 | H15: ◆該当がある場合のみ提出 ◆可能な限り、クレジットカードやポイントカード等の利用は避けるようにしてください。
A16: 9 | C16: 申請する機器等の内容（仕様）が確認できる書類 （例）契約書・仕様書の写し、機器等のカタログやホームページを印刷したもの | H16: ◆コンサルティング以外の全経費について提出 ◆導入済のシステムを新規のシステムと一体的に活用する場合、導入済のシステムの内容（仕様）が確認できる書類も提出すること
A17: 10 | C17: コンサルティングの目的、内容、契約締結日、契約期間、金額、相手方が確認できる書類 （例）コンサルティングの契約書及び仕様書の写し | H17: ◆コンサルティング経費を申請した場合のみ
A18: 11 | C18: 印鑑証明書
A19: 12 | C19: その他参考となる資料
A20: ※その他必要に応じて、書類の提出をお願いすることがあります。
A23: ○申請する経費について、以下の点を確認し、レ点をつけてください。
B24: 本補助金と対象経費を重複して他の補助金等の交付を受けていない。
B25: 「他の補助金等」とは、経産省事業が実施している「ＩＴ導入補助金」 等
A27: 〇申請する経費の支払時に、金額換算可能な各種ポイントが付与又は利用されたかについて、以下のチェックボックスのうち該当するものにレ点を付けてください。
A29: ① 対象経費の支払時に、金額換算可能な各種ポイントが付与された。
B30: ※金額換算可能な各種ポイントが付与された場合は、当該ポイントの今後の利用予定の有無にかかわらず、レ点を付けること。
A31: ② 対象経費の支払時に、対象経費の一部の金額について金額換算可能な各種ポイントを利用した。
A32: ③ 上記①及び②のいずれにも該当しない。

Sheet 様式第１号
A1: 様式第１号 | T1: 7福保障施第1169号
T2: 年 月 日
B6: 東京都知事 殿
M7: 提出者
N8: 所在地
N9: 法人名
N10: 代表者職氏名
B13: 障害者支援施設等におけるデジタル技術等活用支援事業補助金の交付申請について
B17: このことについて、下記のとおり提出いたします。
A20: 記
B23: １ 申請額 | F23: 金 円 | G23: ='別紙1-1「積算調書」統合'!G11 -> 0 | O23: 円
B25: ２ 施設の名称 | G25: ='別紙1-1「積算調書」統合'!$F$4 -> 0
B27: ３ 添付資料
B28: ア 積算調書（別紙1-1、別紙1-1-1、別紙-1-2-1）
B29: イ 積算内訳書（別紙1-1-2①②、別紙1-2-2①②）
B30: ウ 事業計画書（別紙1-1-3、別紙1-2-3）
B31: エ 契約書等の写し、仕様書並びにカタログ
B32: オ 誓約書（別紙1-3）
B33: カ 歳入歳出予算書抄本（別紙1-4）
B34: キ その他参考となる資料
M35: 担 当 者
M36: 所属
M38: 氏名
M39: TEL
M40: e-mail

Sheet 別紙1-1「積算調書」統合
A1: 別紙１-1
E2: （法人名）
E3: （事業所種別）
E4: （事業所名）
D5: 積算調書
A8: 対象事業 | B8: 総事業費 （円） （Ａ） | C8: 対象経費の 実支出予定額 （円） （Ｂ） | D8: 寄附金その他の 収入額 （円） （Ｃ） | E8: 差引後 実支出予定額 （円） （Ｄ＝Ｂ－Ｃ） | F8: 補助基準額 （円） （E） | G8: 申請額 （円） (千円未満切捨）
A9: 障害者支援施設等デジタル技術等活用支援事業 | B9: =+'別紙1-1-1「ロボット積算調書」'!$A$9 -> 0 | C9: =+'別紙1-1-1「ロボット積算調書」'!$B$9 -> 0 | D9: =+'別紙1-1-1「ロボット積算調書」'!$C$9 -> 0 | E9: =+'別紙1-1-1「ロボット積算調書」'!$D$9 -> 0 | F9: =+'別紙1-1-1「ロボット積算調書」'!$E$9 -> 0 | G9: =+'別紙1-1-1「ロボット積算調書」'!$G$9 -> 0
A10: デジタル技術を活用した障害福祉サービス事業所等支援事業 | B10: ='別紙1-2-1「デジタル積算調書」'!B9 -> 0 | C10: ='別紙1-2-1「デジタル積算調書」'!C9 -> 0 | D10: ='別紙1-2-1「デジタル積算調書」'!D9 -> 0 | E10: ='別紙1-2-1「デジタル積算調書」'!E9 -> 0 | F10: ='別紙1-2-1「デジタル積算調書」'!F9 -> 0 | G10: ='別紙1-2-1「デジタル積算調書」'!H9 -> 0
A11: 合計 | B11: =SUM(B9:B10) -> 0 | C11: =SUM(C9:C10) -> 0 | D11: =SUM(D9:D10) -> 0 | E11: =SUM(E9:E10) -> 0 | F11: =SUM(F9:F10) -> 0 | G11: =SUM(G9:G10) -> 0
A12: （注１）申請額は、千円未満を切り捨てた額とすること。

Sheet 別紙1-1-1「ロボット積算調書」
A1: 別紙１-１-１
E2: （法人名）
E3: （事業所種別・定員数）
E4: （事業所名）
A5: 積算調書
A8: 総事業費 （円） （Ａ） | B8: 対象経費の 実支出予定額 （円） （Ｂ） | C8: 寄附金その他の 収入額 （円） （Ｃ） | D8: 差引後 実支出予定額 （円） （Ｄ＝Ｂ－Ｃ） | E8: 補助基準額 （円） （E） | F8: ＤとＥを比較して 少ない方の額 （円） （Ｆ） | G8: 申請額 （円） （Ｇ＝Ｆ×3/4） (千円未満切捨）
A9: =+B9 -> 0 | B9: ='別紙1-1-2①「ロボット積算内訳書」'!G48 -> 0 | D9: =B9-C9 -> 0 | E9: =IFERROR(VLOOKUP(F3,$I$11:$J$38,2,0),0) -> 0 | F9: =MIN(E9,D9) -> 0 | G9: =ROUNDDOWN(F9*3/4,-3) -> 0
I11: 障害者支援施設（「デジタル及びロボット」20人以下） | J11: 6660000
A12: （注１）申請額は、千円未満を切り捨てた額とすること。 | I12: 障害者支援施設（「デジタル及びロボット」21人以上40人以下） | J12: 9990000
I13: 障害者支援施設（「デジタル及びロボット」41人以上60人以下） | J13: 16650000
I14: 障害者支援施設（「デジタル及びロボット」61人以上） | J14: 20000000
I15: 障害者支援施設（「ロボット」20人以下） | J15: 2000000
I16: 障害者支援施設（「ロボット」21人以上40人以下） | J16: 3000000
I17: 障害者支援施設（「ロボット」41人以上60人以下） | J17: 5000000
I18: 障害者支援施設（「ロボット」61人以上） | J18: 6000000
I19: 福祉型障害児入所施設（「デジタル及びロボット」20人以下） | J19: 5600000
I20: 福祉型障害児入所施設（「デジタル及びロボット」21人以上40人以下） | J20: 8400000
I21: 福祉型障害児入所施設（「デジタル及びロボット」41人以上60人以下） | J21: 14000000
I22: 福祉型障害児入所施設（「デジタル及びロボット」61人以上） | J22: 16800000
I23: 福祉型障害児入所施設（「ロボット」20人以下） | J23: 2000000
I24: 福祉型障害児入所施設（「ロボット」21人以上40人以下） | J24: 3000000
... I38: 重度障害者等包括支援（「ロボット」） | J38: 1500000

Sheet 別紙1-1-2①「ロボット積算内訳書」
B1: 別紙１－１－２① | K1: 工事請負費
D2: （法人名） | E2: ='別紙1-1-1「ロボット積算調書」'!F2 -> 0 | K2: 備品購入費
D3: （事業所種別・定員数） | E3: ='別紙1-1-1「ロボット積算調書」'!F3 -> 0 | K3: 役務費
D4: （事業所名） | E4: ='別紙1-1-1「ロボット積算調書」'!F4 -> 0 | K4: 委託料
K5: 使用料及賃借料
B6: 積算内訳書 | K6: その他
B9: １ 利用者支援業務の効率化に資するデジタル機器の導入等
B10: （ア）見守り支援機器 | K10: 役務費
B11: 科目（選択） | C11: 内容 | D11: 支出予定月 | E11: 単価（円） | F11: 数量 | G11: 支出予定額（円） | K11: 委託料
G12: =E12*F12 -> 0 | K12: その他
G13: =E13*F13 -> 0
B14: 小 計（Ａ） | G14: =SUM(G12:G13) -> 0
B16: （イ）情報共有のための通信機器、業務支援のためのソフトウェア等
B17: 科目（選択） | C17: 内容 | D17: 支出予定月 | E17: 単価（円） | F17: 数量 | G17: 支出予定額（円）
G18: =E18*F18 -> 0
G19: =E19*F19 -> 0
B20: 小 計（Ｂ） | G20: =SUM(G18:G19) -> 0
B22: （ウ）通信環境整備
B23: 科目（選択） | C23: 内容 | D23: 支出予定月 | E23: 単価（円） | F23: 数量 | G23: 支出予定額（円）
G24: =E24*F24 -> 0
G25: =E25*F25 -> 0
B26: 小 計（Ｃ） | G26: =SUM(G24:G25) -> 0
B28: ２ 介護従事者の負担軽減等に資するロボット介護機器の導入等
B29: 科目（選択） | C29: 内容 | D29: 支出予定月 | E29: 単価（円） | F29: 数量 | G29: 支出予定額（円）
G30: =E30*F30 -> 0
G38: =E38*F38 -> 0
G39: =E39*F39 -> 0
B40: 小 計（Ｄ） | G40: =SUM(G30:G39) -> 0
B42: ３ 機器選定等に係るアドバイザー費用
B43: 科目（選択） | C43: 内容 | D43: 支出予定月 | E43: 単価（円） | F43: 数量 | G43: 支出予定額（円）
G44: =E44*F44 -> 0
B45: 小 計（Ｅ） | G45: =SUM(G44:G44) -> 0
G47: 支出予定額（円）
B48: 合 計（Ａ+Ｂ+Ｃ+Ｄ+Ｅ）（補助対象経費） | G48: =G14+G19+G26+G40+G45 -> 0
B49: （注）契約書等の写しを添付し、補助対象経費の内容について具体的にわかるようにすること。
B50: 支出予定額の積算、内訳等が確認できないものは、対象として認めない。

Sheet 別紙1-3「ＩＣＴ活用による業務改善計画書」 (2)
M1: 別紙１-３
A2: ＩＣＴ活用による業務改善計画書
A5: １-１ 法人・事業所概要
A7: 法人名
A8: 事業所名称
A9: 対象事業所種別
A12: 事業所所在地 | B12: 〒
B13: 東京都
A15: １-２ 現在の事業所の状況
A17: 定員数 | B17: ユニット型
B18: 従来型
A19: 建物構造 | G19: 延床面積
A20: 対象事業所種別 | E20: （ 床）
E22: （ ）
A23: 職員数 | B23: 介護職員 | D23: 常勤 | G23: 非常勤 | J23: 計
B24: 看護職員 | D24: 常勤 | G24: 非常勤 | J24: 計
B25: 合計 | D25: 常勤 | G25: 非常勤 | J25: 計
A27: ※補助申請年度の４月１日時点の情報を記入してください。
A28: ※職員数は、併設ショートステイを含めて記載し、その他併設サービスは含まずに記載ください。
N29: ※ＨＰ等での公表は２－１以降
A30: ２-１ 事業所の概要
A31: 対象事業所種別
A34: 法人名・施設名
A35: 竣工年月日
A36: 定員数
A37: 建物構造 | G37: 延床面積
A38: ２-２ 法人・事業所における解決課題
A39: 申請する事業所における現状の問題点、ＩＣＴ活用によって解決したいと考えている課題、効率化を図りたい介護業務等を具体的に記載してください。
A40: （現状の問題点、取り組むべき課題）
A41: （ＩＣＴ化する介護業務等）
A42: ２-３ 法人・事業所における検討状況、組織体制
A43: この申請にあたり、ＩＣＴ環境整備及びＩＣＴ機器導入に当たり、法人・事業所内でのどのような検討を行ったか、ＩＣＴ導入を担当する組織体制など具体的に記載してください。
A44: （内部での検討状況）
A45: （ＩＣＴ導入のための組織体制）
A46: 理事会等の 議事録 | B46: ＩＣＴによる業務改善計画の内容、環境整備や機器等の購入に係る各理事等の発言内容や質疑応答など、法人内部での意思決定過程がわかる詳細な議事録を作成し、原本証明した写しを別途提出すること。 | N46: ※議事録はＨＰ公表なし
A48: ２-４ 業務改善計画（基本単価に関するもの）
A49: １ 利用者処遇業務に関するＩＣＴ導入前の外部コンサルティング
A50: 外部コンサルティングの活用
A51: 活用する場合、委託先及び内容を具体的に記載してください。
A52: （委託先）
...

Sheet 別紙1-1-2②「ロボット積算内訳書」
A1: 別紙１－１－２②
A2: ロボット積算内訳書
P5: 自治体名
C7: 【基本情報】
C8: 法人名
C9: 事業所名
C10: 職員数（実数） | F10: 人
C11: 施設利用者数 | F11: 人
B13: 実支出（予定）額： | E13: =$C$17+$E$17-$G$17 -> 0 | J13: 円
C16: 機器導入費用 （合計） | E16: 初期設定に要する費用 （合計） | G16: 値引額 （合計）
C17: =$P$25 -> 0 | E17: =$S$25 -> 0
B19: No. | C19: 導入内容 | K19: 数量 | M19: 単価 | P19: 機器導入費用 | S19: 初期設定に要する費用
B20: 1 | L20: 台 | P20: =K20*M20 -> 0
B21: 2 | L21: 台 | P21: =K21*M21 -> 0
B22: 3 | L22: 台 | P22: =K22*M22 -> 0
B23: 4 | L23: 台 | P23: =K23*M23 -> 0
B24: 5 | L24: 台 | P24: =K24*M24 -> 0
M25: 合計 | P25: =SUM(P20:R24) -> 0 | S25: =SUM(S20:U24) -> 0
AB26: FALSE
AB27: FALSE
AB28: FALSE
AB29: FALSE
AB30: FALSE
B31: 備考 （特別な事情等があれば記載） | AB31: FALSE
AB32: FALSE
AB33: FALSE
AB34: FALSE
B35: ※ | C35: 本内訳書の資料として、複数の業者から徴した見積書の写し（PDFファイルに限る。）を添付すること。 | AB35: FALSE
AB36: FALSE
AB37: FALSE
AB38: FALSE
AB39: FALSE

Sheet 別紙1-1-3「ロボット事業計画書」
A1: 別紙１－１－３
B2: ロボット事業計画書
B3: ※導入機器ごとの効果や目的等を把握するため、導入機器ごとにそれぞれ作成をしてください。（一体的に利用している機器を除く）
K5: 自治体名 | L5: 東京都
B7: 【基本情報】
B8: フリガナ
B9: 法人名
B10: フリガナ
B11: 事業所名
B12: 施設・事業所種別（指定を複数受けている場合は、補助上限額を適用する施設・事業所を選択）
B14: 職員数（常勤換算数） 【「従事者の１ヶ月の勤務延時間」／「事業所等が定めている、常勤の従事者が勤務すべき１週間の時間数 × ４（週）」にて算出（産休・育休、休職は除く）】
B16: 参考情報：令和元年度から令和6度に係るロボット等導入支援事業補助実績（複数回補助を受けている場合、補助年度は直近を選択）
B17: （補助実績） | E17: （補助年度）
B19: 【申請に当たっての確認事項】 ※４つの事項について記載内容を確認し、チェックすること。
B20: 導入経費の算定に当たっては、複数の業者から見積書を徴している。
B21: ロボット等導入によって得られた生産性向上による業務効率化及び職員の業務負担軽減により超過勤務手当等の経費に金銭的剰余が出た場合には、 当該費用を利用者が受ける障害福祉サービスの質の向上や職員の賃金改善に資する取組に適切に使用するとともに、その旨を職員等に周知する。
B22: 東京都からの求めがあった場合は、ロボット等導入の効果分析や事例の公表等に対応する。
B23: 「福祉・介護職員処遇改善加算」を算定しているか、あるいは交付申請後おおむね３ヶ月以内に取得見込みである。
B25: １．経費計画
B26: （１）補助対象経費の実支出（予定）額 | J26: 円 | V26: FALSE
B27: ※実際にかかる費用の総額を記載 | V27: FALSE
B28: （２）主な導入機器内容（種別・機器名等） | R28: FALSE | V28: FALSE
B29: 機器の種別： | C29: 移乗介護 | D29: 排泄支援 | F29: 入浴支援 | R29: FALSE | V29: FALSE
C30: 移動支援 | D30: 見守り・コミュニケーション | R30: FALSE | V30: FALSE
R31: FALSE | V31: FALSE
B32: 機器名： | R32: FALSE | V32: FALSE
R33: FALSE | V33: FALSE
B34: 機器の特徴： | R34: FALSE | V34: FALSE
R35: FALSE | V35: FALSE
V36: FALSE
R37: FALSE | V37: FALSE
B38: ２．事業計画 | R38: FALSE | V38: FALSE
B39: （１）機器を導入することにしたきっかけ及び目的（複数回答可） | R39: FALSE | V39: FALSE
B40: きっかけ | G40: 目的 | R40: FALSE
B45: （※その他を選択した場合に記入 ） | G45: （※その他を選択した場合に記入 ）
B47: （２）事業所が抱える課題
B50: （３）ロボット機器等を導入する業務内容（概要）
B54: （４）ロボット機器等導入前の定量的指標及びロボット機器等導入により想定される定量的指標
B55: ① 前記２（３）に係る現在（ロボット機器等導入前）の業務時間内訳
B56: 業務内容 | D56: A.業務従事者数 | E56: 発生件数 | J56: D. 1件当たりの 平均処理時間（分） | K56: 人時間 E（A×C×D） | L56: １人あたり 業務時間 （C×D／A）
...

Sheet 別紙1-2-1「デジタル積算調書」
A1: 別紙１－２－１
F2: （事業所名) | G2: ='別紙1-2-3「デジタル事業計画書」'!$C$9 -> 0 | R2: １～10人 | S2: 1334000
F3: （職員数） | R3: 11～20人 | S3: 2134000
A4: 積算調書 | R4: 21～30人 | S4: 2667000
F5: 単位（円） | R5: 31～50人 | S5: 3467000
A6: 対象事業 | B6: 総事業費 （円） （Ａ） | C6: 対象経費の 実支出予定額 （円） （Ｂ） | D6: 寄附金その他の 収入額 （円） （Ｃ） | E6: 差引後 実支出予定額 （円） （Ｄ＝Ｂ－Ｃ） | F6: 補助基準額 （円） （E） | G6: DとEを比較して 少ない方の額 （F） | H6: 申請額 （G＝F×３／４） (千円未満切捨） | R6: 51～70人 | S6: 4267000
A7: 福祉・介護業務支援システム導入等経費 | C7: ='別紙1-2-2①「デジタル積算内訳書」'!$S$39 -> 0 | E7: =C7-D7 -> 0 | F7: =IFERROR(VLOOKUP(G3,R2:S9,2,0),0) -> 0 | G7: =MIN(F7,E7) -> 0 | H7: =ROUNDDOWN(G7*3/4,-3) -> 0 | R7: 71～90人 | S7: 5067000
A8: 福祉・介護業務支援システム導入前後のコンサルティング経費 | C8: ='別紙1-2-2①「デジタル積算内訳書」'!$R$48 -> 0 | E8: =C8-D8 -> 0 | F8: =IF(E8=0,0,1000000) -> 0 | G8: =MIN(F8,E8) -> 0 | H8: =ROUNDDOWN(G8*3/4,-3) -> 0 | R8: 91～110人 | S8: 5867000
A9: 合計 | B9: =SUM(B7:B8) -> 0 | C9: =SUM(C7:C8) -> 0 | D9: =SUM(D7:D8) -> 0 | E9: =SUM(E7:E8) -> 0 | F9: =SUM(F7:F8) -> 0 | G9: =SUM(G7:G8) -> 0 | H9: =SUM(H7:H8) -> 0 | R9: 111人～ | S9: 6667000
A10: （注）申請額は、千円未満を切り捨てた額とすること。

Sheet 別紙1-2-2①「デジタル積算内訳書」
B1: 別紙１-2-2①
J2: （事業所名） | K2: ='別紙1-2-3「デジタル事業計画書」'!$C$9 -> 0
A4: デジタル積算内訳書
C7: ・次の「申請経費」のうち、今回申請する経費に「〇」を付けること。
C8: ・「〇」を付けた経費について、（１）から（２）までの該当する記載項目に、経費別積算内訳等を記載すること。
C9: ・支出予定額の積算、内訳等が確認できないものは、対象として認めない。
C10: ・ハードウェアについては、一気通貫できる福祉・介護システムを導入するためのものに限る。既存システムでも可。
C11: ・複数の福祉・介護業務支援システムを連携させることや、既に導入済みである福祉・介護業務支援システムに新たに業務機能を追加すること等により、上記の機能を有する場合も対象とする。
C12: 申請経費 | I12: 記載項目
D13: ソフトウェア（開発の際の開発基盤のみは対象外）導入費及び初期設定費 | I13: （１）
D14: 情報端末（タブレット端末・スマートフォン等ハードウェア、インカム）導入費及び初期設定費 | I14: （１）
D15: 通信環境機器等（Wi-Fi、ルーターなど）導入費 | I15: （１）
D16: 福祉・介護業務支援システム導入前後のコンサルティング経費 | I16: （２）
Z18: 〇 | AA18: ソフトウェア | AB18: ①記録業務・情報共有業務・請求業務
C19: （回答方法） | F19: ⇒プルダウンから選択肢を１つ選択 | J19: ⇒文字等を直接入力 | AA19: パソコン | AB19: ②バックオフィス業務
AA20: タブレット
AA21: スマートフォン
B22: （１）令和７年度内に導入し、本補助金を申請する福祉・介護業務支援システム(ソフトウェア・クラウドサービス等)、情報端末、（タブレット、スマートフォン、パソコン等）、通信環環境機器（Wi-Fi、ルーター等）導入経費 | AA22: インカム
AA23: その他ハードウェア
B24: 導入内容【記入】 | E24: メーカー名【記入】 | G24: 導入したシステム・機器等【択一】 | H24: システムの場合は 機能を選択 【択一】 | I24: 支出 (予定)月 【記入】 | J24: 単価（円） 【記入】 | L24: 数量 【記入】 | M24: 数量が複数の場合の考え方 (ライセンス数・支払月数等)【記入】 ※年度内に納品及び支払いを終えるものが対象 | Q24: 初期設定等に要する費用 【記入】 | R24: 見積書等項番 【記入】 | S24: 支出(予定)額 （円） | AA24: Wi-Fiルーター
S25: 導入費用 | T25: 初期設定等費用 | AA25: その他通信環境機器
A27: 1 | B27: ='別紙1-2-2②「デジタル積算内訳」'!$C21 -> 0 | J27: ='別紙1-2-2②「デジタル積算内訳」'!$M21 -> 0 | L27: ='別紙1-2-2②「デジタル積算内訳」'!K21 -> 0 | Q27: ='別紙1-2-2②「デジタル積算内訳」'!$S21 -> 0 | S27: =J27*L27 -> 0 | T27: =Q27 -> 0
A28: 2 | B28: ='別紙1-2-2②「デジタル積算内訳」'!$C22 -> 0 | J28: ='別紙1-2-2②「デジタル積算内訳」'!$M22 -> 0 | L28: ='別紙1-2-2②「デジタル積算内訳」'!K22 -> 0 | Q28: ='別紙1-2-2②「デジタル積算内訳」'!$S22 -> 0 | S28: =J28*L28 -> 0 | T28: =Q28 -> 0
A29: 3 | B29: ='別紙1-2-2②「デジタル積算内訳」'!$C23 -> 0 | J29: ='別紙1-2-2②「デジタル積算内訳」'!$M23 -> 0 | L29: ='別紙1-2-2②「デジタル積算内訳」'!K23 -> 0 | Q29: ='別紙1-2-2②「デジタル積算内訳」'!$S23 -> 0 | S29: =J29*L29 -> 0 | T29: =Q29 -> 0
A30: 4 | B30: ='別紙1-2-2②「デジタル積算内訳」'!$C24 -> 0 | J30: ='別紙1-2-2②「デジタル積算内訳」'!$M24 -> 0 | L30: ='別紙1-2-2②「デジタル積算内訳」'!K24 -> 0 | Q30: ='別紙1-2-2②「デジタル積算内訳」'!$S24 -> 0 | S30: =J30*L30 -> 0 | T30: =Q30 -> 0
A31: 5 | B31: ='別紙1-2-2②「デジタル積算内訳」'!$C25 -> 0 | J31: ='別紙1-2-2②「デジタル積算内訳」'!$M25 -> 0 | L31: ='別紙1-2-2②「デジタル積算内訳」'!K25 -> 0 | Q31: ='別紙1-2-2②「デジタル積算内訳」'!$S25 -> 0 | S31: =J31*L31 -> 0 | T31: =Q31 -> 0
A32: 6 | B32: ='別紙1-2-2②「デジタル積算内訳」'!$C26 -> 0 | J32: ='別紙1-2-2②「デジタル積算内訳」'!$M26 -> 0 | L32: ='別紙1-2-2②「デジタル積算内訳」'!K26 -> 0 | Q32: ='別紙1-2-2②「デジタル積算内訳」'!$S26 -> 0 | S32: =J32*L32 -> 0 | T32: =Q32 -> 0
A33: 7 | B33: ='別紙1-2-2②「デジタル積算内訳」'!$C27 -> 0 | J33: ='別紙1-2-2②「デジタル積算内訳」'!$M27 -> 0 | L33: ='別紙1-2-2②「デジタル積算内訳」'!K27 -> 0 | Q33: ='別紙1-2-2②「デジタル積算内訳」'!$S27 -> 0 | S33: =J33*L33 -> 0 | T33: =Q33 -> 0
A34: 8 | B34: ='別紙1-2-2②「デジタル積算内訳」'!$C28 -> 0 | J34: ='別紙1-2-2②「デジタル積算内訳」'!$M28 -> 0 | L34: ='別紙1-2-2②「デジタル積算内訳」'!K28 -> 0 | Q34: ='別紙1-2-2②「デジタル積算内訳」'!$S28 -> 0 | S34: =J34*L34 -> 0 | T34: =Q34 -> 0
A35: 9 | B35: ='別紙1-2-2②「デジタル積算内訳」'!$C29 -> 0 | J35: ='別紙1-2-2②「デジタル積算内訳」'!$M29 -> 0 | L35: ='別紙1-2-2②「デジタル積算内訳」'!K29 -> 0 | Q35: ='別紙1-2-2②「デジタル積算内訳」'!$S29 -> 0 | S35: =J35*L35 -> 0 | T35: =Q35 -> 0
A36: 10 | B36: ='別紙1-2-2②「デジタル積算内訳」'!$C30 -> 0 | J36: ='別紙1-2-2②「デジタル積算内訳」'!$M30 -> 0 | L36: ='別紙1-2-2②「デジタル積算内訳」'!K30 -> 0 | Q36: ='別紙1-2-2②「デジタル積算内訳」'!$S30 -> 0 | S36: =J36*L36 -> 0 | T36: =Q36 -> 0
A37: 11 | B37: ='別紙1-2-2②「デジタル積算内訳」'!$C31 -> 0 | J37: ='別紙1-2-2②「デジタル積算内訳」'!$M31 -> 0 | L37: ='別紙1-2-2②「デジタル積算内訳」'!K31 -> 0 | Q37: ='別紙1-2-2②「デジタル積算内訳」'!$S31 -> 0 | S37: =J37*L37 -> 0 | T37: =Q37 -> 0
B38: 合 計 | S38: =SUM(S27:S37) -> 0 | T38: =SUM(T27:T37) -> 0
S39: =SUM(S38,T38) -> 0
B41: （１）Ｂ 既に導入済で令和５年度申請しない福祉・介護業務支援システム
B42: ↳上記（１）Ａの「システムの機能」欄で、「導入済」を選択した機能を有する、既に導入済で令和５年度本補助金を申請しないシステムについて、回答してください。
B43: システム名【記入】 | E43: メーカー名【記入】 | H43: システムの機能 【択一】
A45: 1
B46: （２）福祉・介護業務支援システム導入前後のコンサルティング経費
B47: コンサルティングの内容 | H47: コンサルティング会社 | I47: 支出 (予定)月 【記入】 | J47: 単価（円） 【記入】 | L47: 数量 【記入】 | M47: 数量が複数の場合の考え方 (コンサルティング月数等)【記入】 ※年度内に納品及び支払いを終えるものが対象 | Q47: 見積書等項番【記入】 | R47: 支出(予定)額 （円）
...

Sheet 別紙1-2-2②「デジタル積算内訳」
A1: 別紙１－２－２②
B3: デジタル積算内訳書
O6: 自治体名： | R6: 東京都
C8: 【基本情報】
C9: 法人名 | D9: ='別紙1-2-3「デジタル事業計画書」'!$C$7 -> 0
C10: 事業所名 | D10: ='別紙1-2-3「デジタル事業計画書」'!$C$9 -> 0
C11: 職員数（実数） | F11: 人
C12: 施設利用者数 | F12: 人
B14: 実支出（予定）額： | E14: =$C$18+$E$18-$G$18 -> 0 | J14: 円
C17: 機器導入費用（合計） | E17: 初期設定に要する費用（合計） | G17: 値引額（合計）
C18: =$P$32 -> 0 | E18: =$S$32 -> 0 | G18: ='別紙1-2-1「デジタル積算調書」'!D7 -> 0
B20: No. | C20: 導入内容 | K20: 数量 | M20: 単価 | P20: 機器導入費用 | S20: 初期設定に要する費用
B21: 1 | P21: =K21*M21 -> 0
B22: 2 | P22: =K22*M22 -> 0
B23: 3 | P23: =K23*M23 -> 0
B24: 4 | P24: =K24*M24 -> 0
B25: 5 | P25: =K25*M25 -> 0
B26: 6 | P26: =K26*M26 -> 0
B27: 7 | P27: =K27*M27 -> 0
B28: 8 | P28: =K28*M28 -> 0
B29: 9 | P29: =K29*M29 -> 0
B30: 10 | P30: =K30*M30 -> 0
B31: 11 | P31: =K31*M31 -> 0
M32: 合計 | P32: =SUM(P21:R31) -> 0 | S32: =SUM(S21:U31) -> 0
B34: 備考 （特別な事情等があれば記載）

Sheet 別紙1-2-3「デジタル事業計画書」
A1: 別紙１－２－３
B2: デジタル事業計画書
H4: 自治体名 | I4: 東京都
B5: 【基本情報】
B6: フリガナ
B7: 法人名
B8: フリガナ
B9: 事業所名
B10: 提供サービス（複数のサービスを提供している場合は、主たる１つのみ選択）
B12: 職員数（常勤換算数） 【「全職員の月間勤務時間数」／「常勤職員の月間勤務時間数」にて算出（産休・育休、休職は除く）】
B14: 参考情報：令和元年度から令和６年度に係るICT導入モデル事業補助実績（複数回補助を受けている場合、補助年度は直近を選択）
B15: （補助実績） | D15: （補助年度）
B17: 【申請に当たっての確認事項】 ※６つの事項について記載内容を確認し、チェックすること。
B18: ICT機器（AIカメラ等除く）の申請のために、都道府県等が行うICT導入に伴う研修会に参加する。
B19: 導入経費の算定に当たっては、複数の業者から見積書を徴している。
B20: ICT機器等導入によって得られた生産性向上による業務効率化及び職員の業務負担軽減により超過勤務手当等の経費に金銭的剰余が出た場合には、 当該費用を利用者が受ける障害福祉サービスの質の向上や職員の賃金改善に資する取組に適切に使用するとともに、その旨を職員等に周知する。
B21: 厚生労働省からの求めがあった場合は、ICT機器等導入の効果分析の公表等に対応する。
B22: 「福祉・介護職員等処遇改善加算」を算定しているか、あるいは交付申請後おおむね３ヶ月以内に取得見込みである。
A23: （該当する場合に、チェックしてください。）
B24: 同一敷地内に障害者を支援する施設・事業所と障害児を支援する施設・事業所が併設されている場合、障害者を支援する施設・事業所に係るICT機器導入の費用のみ計上している（費用を按分している）。
B27: １．事業計画
B28: （１）主な導入機器内容（複数選択可）
C30: パソコン | E30: スマートフォン | R30: FALSE
C31: タブレット | E31: インカム
C32: ＡＩカメラ等（防犯、虐待防止、事故防止など、利用者の安心安全のために活用するカメラ）
C34: ソフトウェア（事業所での業務を支援するソフトウェア（記録業務、情報共有業務、請求業務）で、各種業務を一気通貫で行うことが可能なものに限る。）
C35: ソフトウェア（バックオフィス業務のためのソフトウェア（勤怠管理、シフト表作成、人事、給与などの業務）で、各種業務を一気通貫で行うことが可能なものに限る。）
C37: 通信環境機器等（Wi-Fiルーターなど）
C38: 保守経費等（クラウドサービス、保守・サポート費、導入設定、導入研修、セキュリティ対策など）
C39: その他（ ）
B42: （２）ICTの導入を計画する分野（特に該当するもの１つに☑）
C43: 作業の迅速化に係る取組（現場や外出先での入力支援、支援記録の作成など）
C44: 情報の共有化に係る取組（職員間の情報の伝達など）
C45: 業務の統合化に係る取組（勤怠管理、シフト表作成、人事・給与業務など）
C46: その他
B48: （３）機器を導入することにしたきっかけ及び目的（複数回答可）
B49: きっかけ | G49: 目的
B54: （※その他を選択した場合に記入 ） | G54: （※その他を選択した場合に記入 ）
B56: （４）事業所が抱える課題
B59: （５）ICT機器等を導入する業務内容（概要）
...

Sheet 別紙1-3誓約書
A1: 別紙１-3
A4: 誓 約 書
A7: 東 京 都 知 事 殿
A10: 障害者支援施設等におけるデジタル技術等活用支援事業補助金交付要綱第7条の規定に基づく補助金交付申請を行うにあたり、当該申請により補助金等の交付を受けようとする者（法人その他の団体にあっては、代表者、役員又は使用人その他の従業員若しくは構成員を含む。）が東京都暴力団排除条例第２条第２号に規定する暴力団、同条第３号に規定する暴力団員又は同条第４号に規定する暴力団関係者（以下「暴力団員等」という。）に該当せず、かつ将来にわたっても該当しないことをここに誓約いたします。 また、この誓約に違反又は相違があり、同要綱別記２補助条件７（１）オの規定により補助金等の交付の決定の取消しを受けた場合において、同要綱別記２補助条件８の規定に基づき返還を命じられたときは、これに異議なく応じることを誓約いたします。 あわせて、知事が必要と認めた場合には、暴力団員等であるか否かの確認のため、警視庁へ照会がなされることに同意いたします。
A13: 年 月 日
A16: 所在地
A19: 法人名
A22: 代表者職氏名
A28: ＊ 法人その他の団体にあっては、主たる事務所の所在地、名称及び代表者の氏名を記入すること。 ＊ この誓約書における「暴力団関係者」とは、以下の者をいう。 ・ 暴力団又は暴力団員が実質的に経営を支配する法人等に所属する者 ・ 暴力団員を雇用している者 ・ 暴力団又は暴力団員を不当に利用していると認められる者 ・ 暴力団の維持、運営に協力し、又は関与していると認められる者 ・ 暴力団又は暴力団員と社会的に非難されるべき関係を有していると認められる者

Sheet 別紙1-4予算書抄本
B1: 別紙１-4
AK2: （法人名） | AL2: ='別紙1-1「積算調書」統合'!$F$2 -> 0
AK3: （事業所種別） | AL3: ='別紙1-1「積算調書」統合'!$F$3 -> 0
AK4: （事業所名） | AL4: ='別紙1-1「積算調書」統合'!$F$4 -> 0
A6: 歳入歳出予算（見込）書抄本
B9: １ 歳入の部
BA10: （単位：円）
D11: 区 分 | S11: 予算（見込）額 | AJ11: 備 考
D13: 補助金 | S13: ='別紙1-1「積算調書」統合'!G11 -> 0
D16: 自己資金 | S16: =S26-S13 -> 0
D26: 合 計 | S26: ='別紙1-1「積算調書」統合'!C11 -> 0
B28: ２ 歳出の部
D30: 区 分 | S30: 予算（見込）額 | AJ30: 備 考
D32: ロボット | S32: ='別紙1-1-1「ロボット積算調書」'!D9 -> 0
D38: デジタル | S38: ='別紙1-1「積算調書」統合'!C10 -> 0
D45: 合 計 | S45: =S32+S38 -> 0
C48: 本書は、原本と相違ないことを証明します。
D50: 年 月 日
E52: 法人名
E54: 代表者名 | AG54: 印
