Workbook

Sheet 申請様式
B2: 法人名 | AN2: 別紙 交付申請兼実績報告内訳その１ | BE2: 別紙 交付申請兼実績報告内訳その２
B3: 法人番号（13桁）
B4: 申請金額 （法人全体の合計申請金額） | D4: =SUM(BE9:BE195) -> 0
B6: １、施設情報 | F6: ２． 【区分１入所系・区分２通所系】各月１日時点の定員数 【区分３相談系・区分４訪問系】補助対象期間の途中において指定を受けた事業所のみ、指定を受けた日の属する月に〇を記入 | O6: ３、補助対象に使用した費用の総額表 | AO6: ４、他の補助金の受給状況 （※区市町村等の他の物価高騰対策等補助金を受給している場合に記載） | AX6: ５、積算調書
AO7: 他の補助金① | AR7: 他の補助金② | AU7: 他の補助金③ | AX7: 【入所系・通所系】のみ | AZ7: Ａ | BA7: B | BB7: C | BC7: D | BD7: E | BE7: F
B8: 項番 | C8: 施設等の名称 | D8: 施設種別 | E8: 事業所番号 | F8: R7.4 | G8: R7.5 | H8: R7.6 | I8: R7.7 | J8: R7.8 | K8: R7.9 | L8: R7. 10 | M8: R7. 11 | N8: R7. 12 | O8: 補助対象経費 | P8: R7.4 | Q8: R7.5 | R8: R7.6 | S8: R7.7 | T8: R7.8 | U8: R7.9 | V8: R7.10 | W8: R7.11 | X8: R7.12 | Y8: 小計 | Z8: 小計 （税抜） | AA8: 補助対象 経費 | AB8: R7.4 | AC8: R7.5 | AD8: R7.6 | AE8: R7.7 | AF8: R7.8 | AG8: R7.9 | AH8: R7.10 | AI8: R7.11 | AJ8: R7.12 | AK8: 小計 | AL8: 小計 （税抜） | AM8: 合計 | AN8: 合計 （消費税税抜相当額） | AO8: 他の補助金等の名称 | AP8: 他の補助金の受給額 （円） | AQ8: 他補助金のうち、同一補助対象に対する受給額（円） | AR8: 他の補助金等の名称 | AS8: 他の補助金の受給額 | AT8: 他補助金のうち、同一補助対象に対する受給額（円） | AU8: 他の補助金等の名称 | AV8: 他の補助金の受給額 | AW8: 他補助金のうち、同一補助対象に対する受給額（円） | AX8: 補助基準額 | AY8: ×各月定員計 | AZ8: 基準額 | BA8: 補助対象経費 （３に記載する消費税税抜き相当額合計と一致） | BB8: 他補助金重複分相当額 （４に記載する、同一補助対象に対する受給額合計と一致） | BC8: 差引額 （B－C） | BD8: 都支援金基本額 （A＞D→D,A≦D→A） | BE8: 支援金所要額 (交付申請額) （E×補助率10/10）
B9: 1 | O9: =IF(D9="", "", IF(COUNTIF(リスト!$B$2:$D$31, D9)>=1, "光熱費", "")) | Y9: =SUM(P9:X9) -> 0 | Z9: =ROUNDDOWN(Y9/1.1,0) -> 0 | AA9: =IF(D9="", "", VLOOKUP(D9, リスト!$B$2:$D$31, 3, FALSE)) | AK9: =SUM(AB9:AJ9) -> 0 | AL9: =IF(AA9="食材費",ROUNDDOWN(AK9/1.08,0),ROUNDDOWN(AK9/1.1,0)) -> 0 | AM9: =SUM(Y9,AK9) -> 0 | AN9: =SUM(Z9,AL9) -> 0 | AX9: =IFERROR(VLOOKUP(D9,リスト!$B$2:$E$18,4, FALSE), "") | AY9: =IF(COUNT(F9:N9)=0, "", SUM(F9:N9)) | AZ9: {=IF(ISBLANK(D9),"",IF(ISNUMBER(MATCH(D9,リスト!$B$19:$B$31,0)),IF(COUNTIF(F9:N9,"〇")>1,"error",INDEX(リスト!$B$19:$M$31,MATCH(D9,リスト!$B$19:$B$31,0),IF(COUNTIF(F9:N9,"〇")=0,4,MATCH("〇",F9:N9,0)+3))),AX9*AY9))} | BA9: =AN9 -> 0 | BB9: =IFERROR(AQ9+AT9+AW9,"") -> 0 | BC9: =IFERROR(IF(BA9-BB9>=0,BA9-BB9,0),"") -> 0 | BD9: =MIN(AZ9,BC9) -> 0 | BE9: =BD9 -> 0
B10: 2 | O10: =IF(D10="", "", IF(COUNTIF(リスト!$B$2:$D$31, D10)>=1, "光熱費", "")) | Y10: =SUM(P10:X10) -> 0 | Z10: =ROUNDDOWN(Y10/1.1,0) -> 0 | AA10: =IF(D10="", "", VLOOKUP(D10, リスト!$B$2:$D$31, 3, FALSE)) | AK10: =SUM(AB10:AJ10) -> 0 | AL10: =IF(AA10="食材費",ROUNDDOWN(AK10/1.08,0),ROUNDDOWN(AK10/1.1,0)) -> 0 | AM10: =SUM(Y10,AK10) -> 0 | AN10: =SUM(Z10,AL10) -> 0 | AX10: =IFERROR(VLOOKUP(D10,リスト!$B$2:$E$18,4, FALSE), "") | AY10: =IF(COUNT(F10:N10)=0, "", SUM(F10:N10)) | AZ10: {=IF(ISBLANK(D10),"",IF(ISNUMBER(MATCH(D10,リスト!$B$19:$B$31,0)),IF(COUNTIF(F10:N10,"〇")>1,"error",INDEX(リスト!$B$19:$M$31,MATCH(D10,リスト!$B$19:$B$31,0),IF(COUNTIF(F10:N10,"〇")=0,4,MATCH("〇",F10:N10,0)+3))),AX10*AY10))} | BA10: =AN10 -> 0 | BB10: =IFERROR(AQ10+AT10+AW10,"") -> 0 | BC10: =IFERROR(IF(BA10-BB10>=0,BA10-BB10,0),"") -> 0 | BD10: =MIN(AZ10,BC10) -> 0 | BE10: =BD10 -> 0
B11: 3 | O11: =IF(D11="", "", IF(COUNTIF(リスト!$B$2:$D$31, D11)>=1, "光熱費", "")) | Y11: =SUM(P11:X11) -> 0 | Z11: =ROUNDDOWN(Y11/1.1,0) -> 0 | AA11: =IF(D11="", "", VLOOKUP(D11, リスト!$B$2:$D$31, 3, FALSE)) | AK11: =SUM(AB11:AJ11) -> 0 | AL11: =IF(AA11="食材費",ROUNDDOWN(AK11/1.08,0),ROUNDDOWN(AK11/1.1,0)) -> 0 | AM11: =SUM(Y11,AK11) -> 0 | AN11: =SUM(Z11,AL11) -> 0 | AX11: =IFERROR(VLOOKUP(D11,リスト!$B$2:$E$18,4, FALSE), "") | AY11: =IF(COUNT(F11:N11)=0, "", SUM(F11:N11)) | AZ11: {=IF(ISBLANK(D11),"",IF(ISNUMBER(MATCH(D11,リスト!$B$19:$B$31,0)),IF(COUNTIF(F11:N11,"〇")>1,"error",INDEX(リスト!$B$19:$M$31,MATCH(D11,リスト!$B$19:$B$31,0),IF(COUNTIF(F11:N11,"〇")=0,4,MATCH("〇",F11:N11,0)+3))),AX11*AY11))} | BA11: =AN11 -> 0 | BB11: =IFERROR(AQ11+AT11+AW11,"") -> 0 | BC11: =IFERROR(IF(BA11-BB11>=0,BA11-BB11,0),"") -> 0 | BD11: =MIN(AZ11,BC11) -> 0 | BE11: =BD11 -> 0
B12: 4 | O12: =IF(D12="", "", IF(COUNTIF(リスト!$B$2:$D$31, D12)>=1, "光熱費", "")) | Y12: =SUM(P12:X12) -> 0 | Z12: =ROUNDDOWN(Y12/1.1,0) -> 0 | AA12: =IF(D12="", "", VLOOKUP(D12, リスト!$B$2:$D$31, 3, FALSE)) | AK12: =SUM(AB12:AJ12) -> 0 | AL12: =IF(AA12="食材費",ROUNDDOWN(AK12/1.08,0),ROUNDDOWN(AK12/1.1,0)) -> 0 | AM12: =SUM(Y12,AK12) -> 0 | AN12: =SUM(Z12,AL12) -> 0 | AX12: =IFERROR(VLOOKUP(D12,リスト!$B$2:$E$18,4, FALSE), "") | AY12: =IF(COUNT(F12:N12)=0, "", SUM(F12:N12)) | AZ12: {=IF(ISBLANK(D12),"",IF(ISNUMBER(MATCH(D12,リスト!$B$19:$B$31,0)),IF(COUNTIF(F12:N12,"〇")>1,"error",INDEX(リスト!$B$19:$M$31,MATCH(D12,リスト!$B$19:$B$31,0),IF(COUNTIF(F12:N12,"〇")=0,4,MATCH("〇",F12:N12,0)+3))),AX12*AY12))} | BA12: =AN12 -> 0 | BB12: =IFERROR(AQ12+AT12+AW12,"") -> 0 | BC12: =IFERROR(IF(BA12-BB12>=0,BA12-BB12,0),"") -> 0 | BD12: =MIN(AZ12,BC12) -> 0 | BE12: =BD12 -> 0
B13: 5 | O13: =IF(D13="", "", IF(COUNTIF(リスト!$B$2:$D$31, D13)>=1, "光熱費", "")) | Y13: =SUM(P13:X13) -> 0 | Z13: =ROUNDDOWN(Y13/1.1,0) -> 0 | AA13: =IF(D13="", "", VLOOKUP(D13, リスト!$B$2:$D$31, 3, FALSE)) | AK13: =SUM(AB13:AJ13) -> 0 | AL13: =IF(AA13="食材費",ROUNDDOWN(AK13/1.08,0),ROUNDDOWN(AK13/1.1,0)) -> 0 | AM13: =SUM(Y13,AK13) -> 0 | AN13: =SUM(Z13,AL13) -> 0 | AX13: =IFERROR(VLOOKUP(D13,リスト!$B$2:$E$18,4, FALSE), "") | AY13: =IF(COUNT(F13:N13)=0, "", SUM(F13:N13)) | AZ13: {=IF(ISBLANK(D13),"",IF(ISNUMBER(MATCH(D13,リスト!$B$19:$B$31,0)),IF(COUNTIF(F13:N13,"〇")>1,"error",INDEX(リスト!$B$19:$M$31,MATCH(D13,リスト!$B$19:$B$31,0),IF(COUNTIF(F13:N13,"〇")=0,4,MATCH("〇",F13:N13,0)+3))),AX13*AY13))} | BA13: =AN13 -> 0 | BB13: =IFERROR(AQ13+AT13+AW13,"") -> 0 | BC13: =IFERROR(IF(BA13-BB13>=0,BA13-BB13,0),"") -> 0 | BD13: =MIN(AZ13,BC13) -> 0 | BE13: =BD13 -> 0
B14: 6 | O14: =IF(D14="", "", IF(COUNTIF(リスト!$B$2:$D$31, D14)>=1, "光熱費", "")) | Y14: =SUM(P14:X14) -> 0 | Z14: =ROUNDDOWN(Y14/1.1,0) -> 0 | AA14: =IF(D14="", "", VLOOKUP(D14, リスト!$B$2:$D$31, 3, FALSE)) | AK14: =SUM(AB14:AJ14) -> 0 | AL14: =IF(AA14="食材費",ROUNDDOWN(AK14/1.08,0),ROUNDDOWN(AK14/1.1,0)) -> 0 | AM14: =SUM(Y14,AK14) -> 0 | AN14: =SUM(Z14,AL14) -> 0 | AX14: =IFERROR(VLOOKUP(D14,リスト!$B$2:$E$18,4, FALSE), "") | AY14: =IF(COUNT(F14:N14)=0, "", SUM(F14:N14)) | AZ14: {=IF(ISBLANK(D14),"",IF(ISNUMBER(MATCH(D14,リスト!$B$19:$B$31,0)),IF(COUNTIF(F14:N14,"〇")>1,"error",INDEX(リスト!$B$19:$M$31,MATCH(D14,リスト!$B$19:$B$31,0),IF(COUNTIF(F14:N14,"〇")=0,4,MATCH("〇",F14:N14,0)+3))),AX14*AY14))} | BA14: =AN14 -> 0 | BB14: =IFERROR(AQ14+AT14+AW14,"") -> 0 | BC14: =IFERROR(IF(BA14-BB14>=0,BA14-BB14,0),"") -> 0 | BD14: =MIN(AZ14,BC14) -> 0 | BE14: =BD14 -> 0
B15: 7 | O15: =IF(D15="", "", IF(COUNTIF(リスト!$B$2:$D$31, D15)>=1, "光熱費", "")) | Y15: =SUM(P15:X15) -> 0 | Z15: =ROUNDDOWN(Y15/1.1,0) -> 0 | AA15: =IF(D15="", "", VLOOKUP(D15, リスト!$B$2:$D$31, 3, FALSE)) | AK15: =SUM(AB15:AJ15) -> 0 | AL15: =IF(AA15="食材費",ROUNDDOWN(AK15/1.08,0),ROUNDDOWN(AK15/1.1,0)) -> 0 | AM15: =SUM(Y15,AK15) -> 0 | AN15: =SUM(Z15,AL15) -> 0 | AX15: =IFERROR(VLOOKUP(D15,リスト!$B$2:$E$18,4, FALSE), "") | AY15: =IF(COUNT(F15:N15)=0, "", SUM(F15:N15)) | AZ15: {=IF(ISBLANK(D15),"",IF(ISNUMBER(MATCH(D15,リスト!$B$19:$B$31,0)),IF(COUNTIF(F15:N15,"〇")>1,"error",INDEX(リスト!$B$19:$M$31,MATCH(D15,リスト!$B$19:$B$31,0),IF(COUNTIF(F15:N15,"〇")=0,4,MATCH("〇",F15:N15,0)+3))),AX15*AY15))} | BA15: =AN15 -> 0 | BB15: =IFERROR(AQ15+AT15+AW15,"") -> 0 | BC15: =IFERROR(IF(BA15-BB15>=0,BA15-BB15,0),"") -> 0 | BD15: =MIN(AZ15,BC15) -> 0 | BE15: =BD15 -> 0
B16: 8 | O16: =IF(D16="", "", IF(COUNTIF(リスト!$B$2:$D$31, D16)>=1, "光熱費", "")) | Y16: =SUM(P16:X16) -> 0 | Z16: =ROUNDDOWN(Y16/1.1,0) -> 0 | AA16: =IF(D16="", "", VLOOKUP(D16, リスト!$B$2:$D$31, 3, FALSE)) | AK16: =SUM(AB16:AJ16) -> 0 | AL16: =IF(AA16="食材費",ROUNDDOWN(AK16/1.08,0),ROUNDDOWN(AK16/1.1,0)) -> 0 | AM16: =SUM(Y16,AK16) -> 0 | AN16: =SUM(Z16,AL16) -> 0 | AX16: =IFERROR(VLOOKUP(D16,リスト!$B$2:$E$18,4, FALSE), "") | AY16: =IF(COUNT(F16:N16)=0, "", SUM(F16:N16)) | AZ16: {=IF(ISBLANK(D16),"",IF(ISNUMBER(MATCH(D16,リスト!$B$19:$B$31,0)),IF(COUNTIF(F16:N16,"〇")>1,"error",INDEX(リスト!$B$19:$M$31,MATCH(D16,リスト!$B$19:$B$31,0),IF(COUNTIF(F16:N16,"〇")=0,4,MATCH("〇",F16:N16,0)+3))),AX16*AY16))} | BA16: =AN16 -> 0 | BB16: =IFERROR(AQ16+AT16+AW16,"") -> 0 | BC16: =IFERROR(IF(BA16-BB16>=0,BA16-BB16,0),"") -> 0 | BD16: =MIN(AZ16,BC16) -> 0 | BE16: =BD16 -> 0
B17: 9 | O17: =IF(D17="", "", IF(COUNTIF(リスト!$B$2:$D$31, D17)>=1, "光熱費", "")) | Y17: =SUM(P17:X17) -> 0 | Z17: =ROUNDDOWN(Y17/1.1,0) -> 0 | AA17: =IF(D17="", "", VLOOKUP(D17, リスト!$B$2:$D$31, 3, FALSE)) | AK17: =SUM(AB17:AJ17) -> 0 | AL17: =IF(AA17="食材費",ROUNDDOWN(AK17/1.08,0),ROUNDDOWN(AK17/1.1,0)) -> 0 | AM17: =SUM(Y17,AK17) -> 0 | AN17: =SUM(Z17,AL17) -> 0 | AX17: =IFERROR(VLOOKUP(D17,リスト!$B$2:$E$18,4, FALSE), "") | AY17: =IF(COUNT(F17:N17)=0, "", SUM(F17:N17)) | AZ17: {=IF(ISBLANK(D17),"",IF(ISNUMBER(MATCH(D17,リスト!$B$19:$B$31,0)),IF(COUNTIF(F17:N17,"〇")>1,"error",INDEX(リスト!$B$19:$M$31,MATCH(D17,リスト!$B$19:$B$31,0),IF(COUNTIF(F17:N17,"〇")=0,4,MATCH("〇",F17:N17,0)+3))),AX17*AY17))} | BA17: =AN17 -> 0 | BB17: =IFERROR(AQ17+AT17+AW17,"") -> 0 | BC17: =IFERROR(IF(BA17-BB17>=0,BA17-BB17,0),"") -> 0 | BD17: =MIN(AZ17,BC17) -> 0 | BE17: =BD17 -> 0
B18: 10 | O18: =IF(D18="", "", IF(COUNTIF(リスト!$B$2:$D$31, D18)>=1, "光熱費", "")) | Y18: =SUM(P18:X18) -> 0 | Z18: =ROUNDDOWN(Y18/1.1,0) -> 0 | AA18: =IF(D18="", "", VLOOKUP(D18, リスト!$B$2:$D$31, 3, FALSE)) | AK18: =SUM(AB18:AJ18) -> 0 | AL18: =IF(AA18="食材費",ROUNDDOWN(AK18/1.08,0),ROUNDDOWN(AK18/1.1,0)) -> 0 | AM18: =SUM(Y18,AK18) -> 0 | AN18: =SUM(Z18,AL18) -> 0 | AX18: =IFERROR(VLOOKUP(D18,リスト!$B$2:$E$18,4, FALSE), "") | AY18: =IF(COUNT(F18:N18)=0, "", SUM(F18:N18)) | AZ18: {=IF(ISBLANK(D18),"",IF(ISNUMBER(MATCH(D18,リスト!$B$19:$B$31,0)),IF(COUNTIF(F18:N18,"〇")>1,"error",INDEX(リスト!$B$19:$M$31,MATCH(D18,リスト!$B$19:$B$31,0),IF(COUNTIF(F18:N18,"〇")=0,4,MATCH("〇",F18:N18,0)+3))),AX18*AY18))} | BA18: =AN18 -> 0 | BB18: =IFERROR(AQ18+AT18+AW18,"") -> 0 | BC18: =IFERROR(IF(BA18-BB18>=0,BA18-BB18,0),"") -> 0 | BD18: =MIN(AZ18,BC18) -> 0 | BE18: =BD18 -> 0
B19: 11 | O19: =IF(D19="", "", IF(COUNTIF(リスト!$B$2:$D$31, D19)>=1, "光熱費", "")) | Y19: =SUM(P19:X19) -> 0 | Z19: =ROUNDDOWN(Y19/1.1,0) -> 0 | AA19: =IF(D19="", "", VLOOKUP(D19, リスト!$B$2:$D$31, 3, FALSE)) | AK19: =SUM(AB19:AJ19) -> 0 | AL19: =IF(AA19="食材費",ROUNDDOWN(AK19/1.08,0),ROUNDDOWN(AK19/1.1,0)) -> 0 | AM19: =SUM(Y19,AK19) -> 0 | AN19: =SUM(Z19,AL19) -> 0 | AX19: =IFERROR(VLOOKUP(D19,リスト!$B$2:$E$18,4, FALSE), "") | AY19: =IF(COUNT(F19:N19)=0, "", SUM(F19:N19)) | AZ19: {=IF(ISBLANK(D19),"",IF(ISNUMBER(MATCH(D19,リスト!$B$19:$B$31,0)),IF(COUNTIF(F19:N19,"〇")>1,"error",INDEX(リスト!$B$19:$M$31,MATCH(D19,リスト!$B$19:$B$31,0),IF(COUNTIF(F19:N19,"〇")=0,4,MATCH("〇",F19:N19,0)+3))),AX19*AY19))} | BA19: =AN19 -> 0 | BB19: =IFERROR(AQ19+AT19+AW19,"") -> 0 | BC19: =IFERROR(IF(BA19-BB19>=0,BA19-BB19,0),"") -> 0 | BD19: =MIN(AZ19,BC19) -> 0 | BE19: =BD19 -> 0
B20: 12 | O20: =IF(D20="", "", IF(COUNTIF(リスト!$B$2:$D$31, D20)>=1, "光熱費", "")) | Y20: =SUM(P20:X20) -> 0 | Z20: =ROUNDDOWN(Y20/1.1,0) -> 0 | AA20: =IF(D20="", "", VLOOKUP(D20, リスト!$B$2:$D$31, 3, FALSE)) | AK20: =SUM(AB20:AJ20) -> 0 | AL20: =IF(AA20="食材費",ROUNDDOWN(AK20/1.08,0),ROUNDDOWN(AK20/1.1,0)) -> 0 | AM20: =SUM(Y20,AK20) -> 0 | AN20: =SUM(Z20,AL20) -> 0 | AX20: =IFERROR(VLOOKUP(D20,リスト!$B$2:$E$18,4, FALSE), "") | AY20: =IF(COUNT(F20:N20)=0, "", SUM(F20:N20)) | AZ20: {=IF(ISBLANK(D20),"",IF(ISNUMBER(MATCH(D20,リスト!$B$19:$B$31,0)),IF(COUNTIF(F20:N20,"〇")>1,"error",INDEX(リスト!$B$19:$M$31,MATCH(D20,リスト!$B$19:$B$31,0),IF(COUNTIF(F20:N20,"〇")=0,4,MATCH("〇",F20:N20,0)+3))),AX20*AY20))} | BA20: =AN20 -> 0 | BB20: =IFERROR(AQ20+AT20+AW20,"") -> 0 | BC20: =IFERROR(IF(BA20-BB20>=0,BA20-BB20,0),"") -> 0 | BD20: =MIN(AZ20,BC20) -> 0 | BE20: =BD20 -> 0
... B195: 187 | O195: =IF(D195="", "", IF(COUNTIF(リスト!$B$2:$D$31, D195)>=1, "光熱費", "")) | Y195: =SUM(P195:X195) -> 0 | Z195: =ROUNDDOWN(Y195/1.1,0) -> 0 | AA195: =IF(D195="", "", VLOOKUP(D195, リスト!$B$2:$D$31, 3, FALSE)) | AK195: =SUM(AB195:AJ195) -> 0 | AL195: =IF(AA195="食材費",ROUNDDOWN(AK195/1.08,0),ROUNDDOWN(AK195/1.1,0)) -> 0 | AM195: =SUM(Y195,AK195) -> 0 | AN195: =SUM(Z195,AL195) -> 0 | AX195: =IFERROR(VLOOKUP(D195,リスト!$B$2:$E$18,4, FALSE), "") | AY195: =IF(COUNT(F195:N195)=0, "", SUM(F195:N195)) | AZ195: {=IF(ISBLANK(D195),"",IF(ISNUMBER(MATCH(D195,リスト!$B$19:$B$31,0)),IF(COUNTIF(F195:N195,"〇")>1,"error",INDEX(リスト!$B$19:$M$31,MATCH(D195,リスト!$B$19:$B$31,0),IF(COUNTIF(F195:N195,"〇")=0,4,MATCH("〇",F195:N195,0)+3))),AX195*AY195))} | BA195: =AN195 -> 0 | BB195: =IFERROR(AQ195+AT195+AW195,"") -> 0 | BC195: =IFERROR(IF(BA195-BB195>=0,BA195-BB195,0),"") -> 0 | BD195: =MIN(AZ195,BC195) -> 0 | BE195: =BD195 -> 0

Sheet 記入例
B2: 法人名 | D2: aiueo株式会社 | AN2: 別紙 交付申請兼実績報告内訳その１ | BE2: 別紙 交付申請兼実績報告内訳その２
B3: 法人番号（13桁） | D3: 1112223334123
B4: 申請金額 （法人全体の合計申請金額） | D4: =SUM(BE9:BE195) -> 1528948 | G4: https://www.houjin-bangou.nta.go.jp/
B6: １、施設情報 | F6: ２． 【区分１入所系・区分２通所系】各月１日時点の定員数 【区分３相談系・区分４訪問系】補助対象期間の途中において指定を受けた事業所のみ、指定を受けた日の属する月に〇を記入 | O6: ３、補助対象に使用した費用の総額表 | AO6: ４、他の補助金の受給状況 （※区市町村等の他の物価高騰対策等補助金を受給している場合に記載） | AX6: ５、積算調書
AO7: 他の補助金① | AR7: 他の補助金② | AU7: 他の補助金③ | AX7: 【入所系・通所系】のみ | AZ7: Ａ | BA7: B | BB7: C | BC7: D | BD7: E | BE7: F
B8: 項番 | C8: 施設等の名称 | D8: 施設種別 | E8: 事業所番号 | F8: R7.4 | G8: R7.5 | H8: R7.6 | I8: R7.7 | J8: R7.8 | K8: R7.9 | L8: R7. 10 | M8: R7. 11 | N8: R7. 12 | O8: 補助対象経費 | P8: R7.4 | Q8: R7.5 | R8: R7.6 | S8: R7.7 | T8: R7.8 | U8: R7.9 | V8: R7.10 | W8: R7.11 | X8: R7.12 | Y8: 小計 | Z8: 小計 （税抜） | AA8: 補助対象 経費 | AB8: R7.4 | AC8: R7.5 | AD8: R7.6 | AE8: R7.7 | AF8: R7.8 | AG8: R7.9 | AH8: R7.10 | AI8: R7.11 | AJ8: R7.12 | AK8: 小計 | AL8: 小計 （税抜） | AM8: 合計 | AN8: 合計 （消費税 税抜相当額） | AO8: 他の補助金等の名称 | AP8: 他の補助金の受給額 （円） | AQ8: 他補助金のうち、同一補助対象に対する受給額（円） | AR8: 他の補助金等の名称 | AS8: 他の補助金の受給額 | AT8: 他補助金のうち、同一補助対象に対する受給額（円） | AU8: 他の補助金等の名称 | AV8: 他の補助金の受給額 | AW8: 他補助金のうち、同一補助対象に対する受給額（円） | AX8: 補助基準額 | AY8: ×各月定員計 | AZ8: 基準額 | BA8: 補助対象経費 （３に記載する消費税税抜き相当額合計と一致） | BB8: 他補助金重複分相当額 （４に記載する、同一補助対象に対する受給額合計と一致） | BC8: 差引額 （B－C） | BD8: 都支援金基本額 （A＞D→D,A≦D→A） | BE8: 支援金所要額 (交付申請額) （E×補助率10/10）
B9: 1 | C9: あいうえお施設 | D9: 障害者支援施設 | E9: 1310101000 | F9: 30 | G9: 30 | H9: 30 | I9: 30 | J9: 30 | K9: 30 | L9: 30 | M9: 30 | N9: 30 | O9: =IF(D9="", "", IF(COUNTIF(リスト!$B$2:$D$31, D9)>=1, "光熱費", "")) -> 光熱費 | P9: 200000 | Q9: 200000 | R9: 200000 | S9: 200000 | T9: 200000 | U9: 200000 | V9: 200000 | W9: 200000 | X9: 200000 | Y9: =SUM(P9:X9) -> 1800000 | Z9: =ROUNDDOWN(Y9/1.1,0) -> 1636363 | AA9: =IF(D9="", "", VLOOKUP(D9, リスト!$B$2:$D$31, 3, FALSE)) -> 食材費 | AB9: 500000 | AC9: 500000 | AD9: 500000 | AE9: 500000 | AF9: 500000 | AG9: 500000 | AH9: 500000 | AI9: 500000 | AJ9: 500000 | AK9: =SUM(AB9:AJ9) -> 4500000 | AL9: =IF(AA9="食材費",ROUNDDOWN(AK9/1.08,0),ROUNDDOWN(AK9/1.1,0)) -> 4166666 | AM9: =SUM(Y9,AK9) -> 6300000 | AN9: =SUM(Z9,AL9) -> 5803029 | AO9: ○○区物価高騰対策補助金 | AP9: 200000 | AQ9: 200000 | AR9: ○○区物価高騰対策補助金 | AS9: 100000 | AT9: 50000 | AU9: ○○区物価高騰対策補助金 | AV9: 100000 | AW9: 50000 | AX9: =IFERROR(VLOOKUP(D9,リスト!$B$2:$E$18,4, FALSE), "") -> 3646 | AY9: =IF(COUNT(F9:N9)=0, "", SUM(F9:N9)) -> 270 | AZ9: {=IF(ISBLANK(D9),"",IF(ISNUMBER(MATCH(D9,リスト!$B$19:$B$31,0)),IF(COUNTIF(F9:N9,"〇")>1,"error",INDEX(リスト!$B$19:$M$31,MATCH(D9,リスト!$B$19:$B$31,0),IF(COUNTIF(F9:N9,"〇")=0,4,MATCH("〇",F9:N9,0)+3))),AX9*AY9))} -> 984420 | BA9: =AN9 -> 5803029 | BB9: =IFERROR(AQ9+AT9+AW9,"") -> 300000 | BC9: =IFERROR(IF(BA9-BB9>=0,BA9-BB9,0),"") -> 5503029 | BD9: =MIN(AZ9,BC9) -> 984420 | BE9: =BD9 -> 984420
B10: 2 | C10: あいうえおグループホーム | D10: 共同生活援助 | E10: 1310102000 | F10: 5 | G10: 5 | H10: 5 | I10: 5 | J10: 5 | K10: 5 | L10: 6 | M10: 6 | N10: 6 | O10: =IF(D10="", "", IF(COUNTIF(リスト!$B$2:$D$31, D10)>=1, "光熱費", "")) -> 光熱費 | P10: 13000 | Q10: 13000 | R10: 13000 | S10: 13000 | T10: 13000 | U10: 13000 | V10: 18000 | W10: 18000 | X10: 18000 | Y10: =SUM(P10:X10) -> 132000 | Z10: =ROUNDDOWN(Y10/1.1,0) -> 120000 | AA10: =IF(D10="", "", VLOOKUP(D10, リスト!$B$2:$D$31, 3, FALSE)) -> 食材費 | AB10: 15000 | AC10: 15000 | AD10: 15000 | AE10: 15000 | AF10: 15000 | AG10: 15000 | AH10: 18000 | AI10: 18000 | AJ10: 18000 | AK10: =SUM(AB10:AJ10) -> 144000 | AL10: =IF(AA10="食材費",ROUNDDOWN(AK10/1.08,0),ROUNDDOWN(AK10/1.1,0)) -> 133333 | AM10: =SUM(Y10,AK10) -> 276000 | AN10: =SUM(Z10,AL10) -> 253333 | AO10: ××区物価高騰対策補助金 | AP10: 100000 | AQ10: 100000 | AR10: ××区物価高騰対策補助金 | AS10: 150000 | AT10: 10000 | AU10: ××区物価高騰対策補助金 | AV10: 1000 | AW10: 1000 | AX10: =IFERROR(VLOOKUP(D10,リスト!$B$2:$E$18,4, FALSE), "") -> 3646 | AY10: =IF(COUNT(F10:N10)=0, "", SUM(F10:N10)) -> 48 | AZ10: {=IF(ISBLANK(D10),"",IF(ISNUMBER(MATCH(D10,リスト!$B$19:$B$31,0)),IF(COUNTIF(F10:N10,"〇")>1,"error",INDEX(リスト!$B$19:$M$31,MATCH(D10,リスト!$B$19:$B$31,0),IF(COUNTIF(F10:N10,"〇")=0,4,MATCH("〇",F10:N10,0)+3))),AX10*AY10))} -> 175008 | BA10: =AN10 -> 253333 | BB10: =IFERROR(AQ10+AT10+AW10,"") -> 111000 | BC10: =IFERROR(IF(BA10-BB10>=0,BA10-BB10,0),"") -> 142333 | BD10: =MIN(AZ10,BC10) -> 142333 | BE10: =BD10 -> 142333
B11: 3 | C11: あいうえお福祉作業所 | D11: 就労継続支援Ａ型 | E11: 1310102000 | F11: 20 | G11: 20 | H11: 20 | I11: 20 | J11: 20 | K11: 20 | L11: 20 | M11: 20 | N11: 20 | O11: =IF(D11="", "", IF(COUNTIF(リスト!$B$2:$D$31, D11)>=1, "光熱費", "")) -> 光熱費 | P11: 30000 | Q11: 30000 | R11: 30000 | S11: 30000 | T11: 30000 | U11: 30000 | V11: 30000 | W11: 30000 | X11: 30000 | Y11: =SUM(P11:X11) -> 270000 | Z11: =ROUNDDOWN(Y11/1.1,0) -> 245454 | AA11: =IF(D11="", "", VLOOKUP(D11, リスト!$B$2:$D$31, 3, FALSE)) -> 燃料費 | AB11: 20000 | AC11: 20000 | AD11: 20000 | AE11: 20000 | AF11: 20000 | AG11: 20000 | AH11: 25000 | AI11: 25000 | AJ11: 25000 | AK11: =SUM(AB11:AJ11) -> 195000 | AL11: =IF(AA11="食材費",ROUNDDOWN(AK11/1.08,0),ROUNDDOWN(AK11/1.1,0)) -> 177272 | AM11: =SUM(Y11,AK11) -> 465000 | AN11: =SUM(Z11,AL11) -> 422726 | AO11: △△市物価高騰対策補助金 | AP11: 200000 | AQ11: 0 | AX11: =IFERROR(VLOOKUP(D11,リスト!$B$2:$E$18,4, FALSE), "") -> 987 | AY11: =IF(COUNT(F11:N11)=0, "", SUM(F11:N11)) -> 180 | AZ11: {=IF(ISBLANK(D11),"",IF(ISNUMBER(MATCH(D11,リスト!$B$19:$B$31,0)),IF(COUNTIF(F11:N11,"〇")>1,"error",INDEX(リスト!$B$19:$M$31,MATCH(D11,リスト!$B$19:$B$31,0),IF(COUNTIF(F11:N11,"〇")=0,4,MATCH("〇",F11:N11,0)+3))),AX11*AY11))} -> 177660 | BA11: =AN11 -> 422726 | BB11: =IFERROR(AQ11+AT11+AW11,"") -> 0 | BC11: =IFERROR(IF(BA11-BB11>=0,BA11-BB11,0),"") -> 422726 | BD11: =MIN(AZ11,BC11) -> 177660 | BE11: =BD11 -> 177660
B12: 4 | C12: かきくけこ訪問サービス | D12: 重度訪問介護 | E12: 1300000001 | O12: =IF(D12="", "", IF(COUNTIF(リスト!$B$2:$D$31, D12)>=1, "光熱費", "")) -> 光熱費 | P12: 10000 | Q12: 10000 | R12: 10000 | S12: 10000 | T12: 10000 | U12: 10000 | V12: 10000 | W12: 10000 | X12: 10000 | Y12: =SUM(P12:X12) -> 90000 | Z12: =ROUNDDOWN(Y12/1.1,0) -> 81818 | AA12: =IF(D12="", "", VLOOKUP(D12, リスト!$B$2:$D$31, 3, FALSE)) -> 燃料費 | AB12: 10000 | AC12: 10000 | AD12: 10000 | AE12: 10000 | AF12: 10000 | AG12: 10000 | AH12: 10000 | AI12: 10000 | AJ12: 10000 | AK12: =SUM(AB12:AJ12) -> 90000 | AL12: =IF(AA12="食材費",ROUNDDOWN(AK12/1.08,0),ROUNDDOWN(AK12/1.1,0)) -> 81818 | AM12: =SUM(Y12,AK12) -> 180000 | AN12: =SUM(Z12,AL12) -> 163636 | AX12: =IFERROR(VLOOKUP(D12,リスト!$B$2:$E$18,4, FALSE), "") | AY12: =IF(COUNT(F12:N12)=0, "", SUM(F12:N12)) | AZ12: {=IF(ISBLANK(D12),"",IF(ISNUMBER(MATCH(D12,リスト!$B$19:$B$31,0)),IF(COUNTIF(F12:N12,"〇")>1,"error",INDEX(リスト!$B$19:$M$31,MATCH(D12,リスト!$B$19:$B$31,0),IF(COUNTIF(F12:N12,"〇")=0,4,MATCH("〇",F12:N12,0)+3))),AX12*AY12))} -> 44250 | BA12: =AN12 -> 163636 | BB12: =IFERROR(AQ12+AT12+AW12,"") -> 0 | BC12: =IFERROR(IF(BA12-BB12>=0,BA12-BB12,0),"") -> 163636 | BD12: =MIN(AZ12,BC12) -> 44250 | BE12: =BD12 -> 44250
B13: 5 | C13: かきくけこ訪問サービス | D13: 自立生活援助 | E13: 1300000001 | I13: 〇 | O13: =IF(D13="", "", IF(COUNTIF(リスト!$B$2:$D$31, D13)>=1, "光熱費", "")) -> 光熱費 | S13: 10000 | T13: 10000 | U13: 10000 | V13: 10000 | W13: 10000 | X13: 10000 | Y13: =SUM(P13:X13) -> 60000 | Z13: =ROUNDDOWN(Y13/1.1,0) -> 54545 | AA13: =IF(D13="", "", VLOOKUP(D13, リスト!$B$2:$D$31, 3, FALSE)) -> 燃料費 | AE13: 10000 | AF13: 10000 | AG13: 10000 | AH13: 10000 | AI13: 10000 | AJ13: 10000 | AK13: =SUM(AB13:AJ13) -> 60000 | AL13: =IF(AA13="食材費",ROUNDDOWN(AK13/1.08,0),ROUNDDOWN(AK13/1.1,0)) -> 54545 | AM13: =SUM(Y13,AK13) -> 120000 | AN13: =SUM(Z13,AL13) -> 109090 | AO13: □□市物価高騰対策補助金 | AP13: 50000 | AQ13: 30000 | AX13: =IFERROR(VLOOKUP(D13,リスト!$B$2:$E$18,4, FALSE), "") | AY13: =IF(COUNT(F13:N13)=0, "", SUM(F13:N13)) | AZ13: {=IF(ISBLANK(D13),"",IF(ISNUMBER(MATCH(D13,リスト!$B$19:$B$31,0)),IF(COUNTIF(F13:N13,"〇")>1,"error",INDEX(リスト!$B$19:$M$31,MATCH(D13,リスト!$B$19:$B$31,0),IF(COUNTIF(F13:N13,"〇")=0,4,MATCH("〇",F13:N13,0)+3))),AX13*AY13))} -> 11800 | BA13: =AN13 -> 109090 | BB13: =IFERROR(AQ13+AT13+AW13,"") -> 30000 | BC13: =IFERROR(IF(BA13-BB13>=0,BA13-BB13,0),"") -> 79090 | BD13: =MIN(AZ13,BC13) -> 11800 | BE13: =BD13 -> 11800
B14: 6 | C14: さしすせそ訪問サービス | D14: 重度障害者等包括支援 | E14: 1310100003 | G14: 〇 | H14: 〇 | I14: 〇 | J14: 〇 | K14: 〇 | L14: 〇 | M14: 〇 | N14: 〇 | O14: =IF(D14="", "", IF(COUNTIF(リスト!$B$2:$D$31, D14)>=1, "光熱費", "")) -> 光熱費 | P14: 10000 | Q14: 10000 | R14: 10000 | S14: 10000 | T14: 10000 | U14: 10000 | V14: 10000 | W14: 10000 | X14: 10000 | Y14: =SUM(P14:X14) -> 90000 | Z14: =ROUNDDOWN(Y14/1.1,0) -> 81818 | AA14: =IF(D14="", "", VLOOKUP(D14, リスト!$B$2:$D$31, 3, FALSE)) -> 燃料費 | AB14: 10000 | AC14: 10000 | AD14: 10000 | AE14: 10000 | AF14: 10000 | AG14: 10000 | AH14: 10000 | AI14: 10000 | AJ14: 10000 | AK14: =SUM(AB14:AJ14) -> 90000 | AL14: =IF(AA14="食材費",ROUNDDOWN(AK14/1.08,0),ROUNDDOWN(AK14/1.1,0)) -> 81818 | AM14: =SUM(Y14,AK14) -> 180000 | AN14: =SUM(Z14,AL14) -> 163636 | AX14: =IFERROR(VLOOKUP(D14,リスト!$B$2:$E$18,4, FALSE), "") | AY14: =IF(COUNT(F14:N14)=0, "", SUM(F14:N14)) | AZ14: {=IF(ISBLANK(D14),"",IF(ISNUMBER(MATCH(D14,リスト!$B$19:$B$31,0)),IF(COUNTIF(F14:N14,"〇")>1,"error",INDEX(リスト!$B$19:$M$31,MATCH(D14,リスト!$B$19:$B$31,0),IF(COUNTIF(F14:N14,"〇")=0,4,MATCH("〇",F14:N14,0)+3))),AX14*AY14))} -> error | BA14: =AN14 -> 163636 | BB14: =IFERROR(AQ14+AT14+AW14,"") -> 0 | BC14: =IFERROR(IF(BA14-BB14>=0,BA14-BB14,0),"") -> 163636 | BD14: =MIN(AZ14,BC14) -> 163636 | BE14: =BD14 -> 163636
B15: 7 | C15: たちつてと相談支援 | D15: 計画相談支援 | E15: 1310100004 | M15: 〇 | O15: =IF(D15="", "", IF(COUNTIF(リスト!$B$2:$D$31, D15)>=1, "光熱費", "")) -> 光熱費 | W15: 10000 | X15: 10000 | Y15: =SUM(P15:X15) -> 20000 | Z15: =ROUNDDOWN(Y15/1.1,0) -> 18181 | AA15: =IF(D15="", "", VLOOKUP(D15, リスト!$B$2:$D$31, 3, FALSE)) -> 燃料費 | AI15: 10000 | AJ15: 10000 | AK15: =SUM(AB15:AJ15) -> 20000 | AL15: =IF(AA15="食材費",ROUNDDOWN(AK15/1.08,0),ROUNDDOWN(AK15/1.1,0)) -> 18181 | AM15: =SUM(Y15,AK15) -> 40000 | AN15: =SUM(Z15,AL15) -> 36362 | AX15: =IFERROR(VLOOKUP(D15,リスト!$B$2:$E$18,4, FALSE), "") | AY15: =IF(COUNT(F15:N15)=0, "", SUM(F15:N15)) | AZ15: {=IF(ISBLANK(D15),"",IF(ISNUMBER(MATCH(D15,リスト!$B$19:$B$31,0)),IF(COUNTIF(F15:N15,"〇")>1,"error",INDEX(リスト!$B$19:$M$31,MATCH(D15,リスト!$B$19:$B$31,0),IF(COUNTIF(F15:N15,"〇")=0,4,MATCH("〇",F15:N15,0)+3))),AX15*AY15))} -> 3940 | BA15: =AN15 -> 36362 | BB15: =IFERROR(AQ15+AT15+AW15,"") -> 0 | BC15: =IFERROR(IF(BA15-BB15>=0,BA15-BB15,0),"") -> 36362 | BD15: =MIN(AZ15,BC15) -> 3940 | BE15: =BD15 -> 3940
B16: 8 | C16: たちつてと相談支援 | D16: 障害児相談支援 | E16: 1310100004 | O16: =IF(D16="", "", IF(COUNTIF(リスト!$B$2:$D$31, D16)>=1, "光熱費", "")) -> 光熱費 | P16: 0 | Q16: 0 | R16: 0 | S16: 0 | T16: 0 | U16: 0 | V16: 0 | W16: 0 | X16: 1000 | Y16: =SUM(P16:X16) -> 1000 | Z16: =ROUNDDOWN(Y16/1.1,0) -> 909 | AA16: =IF(D16="", "", VLOOKUP(D16, リスト!$B$2:$D$31, 3, FALSE)) -> 燃料費 | AB16: 0 | AC16: 0 | AD16: 0 | AE16: 0 | AF16: 0 | AG16: 0 | AH16: 0 | AI16: 0 | AJ16: 0 | AK16: =SUM(AB16:AJ16) -> 0 | AL16: =IF(AA16="食材費",ROUNDDOWN(AK16/1.08,0),ROUNDDOWN(AK16/1.1,0)) -> 0 | AM16: =SUM(Y16,AK16) -> 1000 | AN16: =SUM(Z16,AL16) -> 909 | AX16: =IFERROR(VLOOKUP(D16,リスト!$B$2:$E$18,4, FALSE), "") | AY16: =IF(COUNT(F16:N16)=0, "", SUM(F16:N16)) | AZ16: {=IF(ISBLANK(D16),"",IF(ISNUMBER(MATCH(D16,リスト!$B$19:$B$31,0)),IF(COUNTIF(F16:N16,"〇")>1,"error",INDEX(リスト!$B$19:$M$31,MATCH(D16,リスト!$B$19:$B$31,0),IF(COUNTIF(F16:N16,"〇")=0,4,MATCH("〇",F16:N16,0)+3))),AX16*AY16))} -> 17700 | BA16: =AN16 -> 909 | BB16: =IFERROR(AQ16+AT16+AW16,"") -> 0 | BC16: =IFERROR(IF(BA16-BB16>=0,BA16-BB16,0),"") -> 909 | BD16: =MIN(AZ16,BC16) -> 909 | BE16: =BD16 -> 909
B17: 9 | O17: =IF(D17="", "", IF(COUNTIF(リスト!$B$2:$D$31, D17)>=1, "光熱費", "")) | Y17: =SUM(P17:X17) -> 0 | Z17: =ROUNDDOWN(Y17/1.1,0) -> 0 | AA17: =IF(D17="", "", VLOOKUP(D17, リスト!$B$2:$D$31, 3, FALSE)) | AK17: =SUM(AB17:AJ17) -> 0 | AL17: =IF(AA17="食材費",ROUNDDOWN(AK17/1.08,0),ROUNDDOWN(AK17/1.1,0)) -> 0 | AM17: =SUM(Y17,AK17) -> 0 | AN17: =SUM(Z17,AL17) -> 0 | AX17: =IFERROR(VLOOKUP(D17,リスト!$B$2:$E$18,4, FALSE), "") | AY17: =IF(COUNT(F17:N17)=0, "", SUM(F17:N17)) | AZ17: {=IF(ISBLANK(D17),"",IF(ISNUMBER(MATCH(D17,リスト!$B$19:$B$31,0)),IF(COUNTIF(F17:N17,"〇")>1,"error",INDEX(リスト!$B$19:$M$31,MATCH(D17,リスト!$B$19:$B$31,0),IF(COUNTIF(F17:N17,"〇")=0,4,MATCH("〇",F17:N17,0)+3))),AX17*AY17))} | BA17: =AN17 -> 0 | BB17: =IFERROR(AQ17+AT17+AW17,"") -> 0 | BC17: =IFERROR(IF(BA17-BB17>=0,BA17-BB17,0),"") -> 0 | BD17: =MIN(AZ17,BC17) -> 0 | BE17: =BD17 -> 0
B18: 10 | O18: =IF(D18="", "", IF(COUNTIF(リスト!$B$2:$D$31, D18)>=1, "光熱費", "")) | Y18: =SUM(P18:X18) -> 0 | Z18: =ROUNDDOWN(Y18/1.1,0) -> 0 | AA18: =IF(D18="", "", VLOOKUP(D18, リスト!$B$2:$D$31, 3, FALSE)) | AK18: =SUM(AB18:AJ18) -> 0 | AL18: =IF(AA18="食材費",ROUNDDOWN(AK18/1.08,0),ROUNDDOWN(AK18/1.1,0)) -> 0 | AM18: =SUM(Y18,AK18) -> 0 | AN18: =SUM(Z18,AL18) -> 0 | AX18: =IFERROR(VLOOKUP(D18,リスト!$B$2:$E$18,4, FALSE), "") | AY18: =IF(COUNT(F18:N18)=0, "", SUM(F18:N18)) | AZ18: {=IF(ISBLANK(D18),"",IF(ISNUMBER(MATCH(D18,リスト!$B$19:$B$31,0)),IF(COUNTIF(F18:N18,"〇")>1,"error",INDEX(リスト!$B$19:$M$31,MATCH(D18,リスト!$B$19:$B$31,0),IF(COUNTIF(F18:N18,"〇")=0,4,MATCH("〇",F18:N18,0)+3))),AX18*AY18))} | BA18: =AN18 -> 0 | BB18: =IFERROR(AQ18+AT18+AW18,"") -> 0 | BC18: =IFERROR(IF(BA18-BB18>=0,BA18-BB18,0),"") -> 0 | BD18: =MIN(AZ18,BC18) -> 0 | BE18: =BD18 -> 0
B19: 11 | O19: =IF(D19="", "", IF(COUNTIF(リスト!$B$2:$D$31, D19)>=1, "光熱費", "")) | Y19: =SUM(P19:X19) -> 0 | Z19: =ROUNDDOWN(Y19/1.1,0) -> 0 | AA19: =IF(D19="", "", VLOOKUP(D19, リスト!$B$2:$D$31, 3, FALSE)) | AK19: =SUM(AB19:AJ19) -> 0 | AL19: =IF(AA19="食材費",ROUNDDOWN(AK19/1.08,0),ROUNDDOWN(AK19/1.1,0)) -> 0 | AM19: =SUM(Y19,AK19) -> 0 | AN19: =SUM(Z19,AL19) -> 0 | AX19: =IFERROR(VLOOKUP(D19,リスト!$B$2:$E$18,4, FALSE), "") | AY19: =IF(COUNT(F19:N19)=0, "", SUM(F19:N19)) | AZ19: {=IF(ISBLANK(D19),"",IF(ISNUMBER(MATCH(D19,リスト!$B$19:$B$31,0)),IF(COUNTIF(F19:N19,"〇")>1,"error",INDEX(リスト!$B$19:$M$31,MATCH(D19,リスト!$B$19:$B$31,0),IF(COUNTIF(F19:N19,"〇")=0,4,MATCH("〇",F19:N19,0)+3))),AX19*AY19))} | BA19: =AN19 -> 0 | BB19: =IFERROR(AQ19+AT19+AW19,"") -> 0 | BC19: =IFERROR(IF(BA19-BB19>=0,BA19-BB19,0),"") -> 0 | BD19: =MIN(AZ19,BC19) -> 0 | BE19: =BD19 -> 0
B20: 12 | O20: =IF(D20="", "", IF(COUNTIF(リスト!$B$2:$D$31, D20)>=1, "光熱費", "")) | Y20: =SUM(P20:X20) -> 0 | Z20: =ROUNDDOWN(Y20/1.1,0) -> 0 | AA20: =IF(D20="", "", VLOOKUP(D20, リスト!$B$2:$D$31, 3, FALSE)) | AK20: =SUM(AB20:AJ20) -> 0 | AL20: =IF(AA20="食材費",ROUNDDOWN(AK20/1.08,0),ROUNDDOWN(AK20/1.1,0)) -> 0 | AM20: =SUM(Y20,AK20) -> 0 | AN20: =SUM(Z20,AL20) -> 0 | AX20: =IFERROR(VLOOKUP(D20,リスト!$B$2:$E$18,4, FALSE), "") | AY20: =IF(COUNT(F20:N20)=0, "", SUM(F20:N20)) | AZ20: {=IF(ISBLANK(D20),"",IF(ISNUMBER(MATCH(D20,リスト!$B$19:$B$31,0)),IF(COUNTIF(F20:N20,"〇")>1,"error",INDEX(リスト!$B$19:$M$31,MATCH(D20,リスト!$B$19:$B$31,0),IF(COUNTIF(F20:N20,"〇")=0,4,MATCH("〇",F20:N20,0)+3))),AX20*AY20))} | BA20: =AN20 -> 0 | BB20: =IFERROR(AQ20+AT20+AW20,"") -> 0 | BC20: =IFERROR(IF(BA20-BB20>=0,BA20-BB20,0),"") -> 0 | BD20: =MIN(AZ20,BC20) -> 0 | BE20: =BD20 -> 0
B21: 13 | O21: =IF(D21="", "", IF(COUNTIF(リスト!$B$2:$D$31, D21)>=1, "光熱費", "")) | Y21: =SUM(P21:X21) -> 0 | Z21: =ROUNDDOWN(Y21/1.1,0) -> 0 | AA21: =IF(D21="", "", VLOOKUP(D21, リスト!$B$2:$D$31, 3, FALSE)) | AK21: =SUM(AB21:AJ21) -> 0 | AL21: =IF(AA21="食材費",ROUNDDOWN(AK21/1.08,0),ROUNDDOWN(AK21/1.1,0)) -> 0 | AM21: =SUM(Y21,AK21) -> 0 | AN21: =SUM(Z21,AL21) -> 0 | AX21: =IFERROR(VLOOKUP(D21,リスト!$B$2:$E$18,4, FALSE), "") | AY21: =IF(COUNT(F21:N21)=0, "", SUM(F21:N21)) | AZ21: {=IF(ISBLANK(D21),"",IF(ISNUMBER(MATCH(D21,リスト!$B$19:$B$31,0)),IF(COUNTIF(F21:N21,"〇")>1,"error",INDEX(リスト!$B$19:$M$31,MATCH(D21,リスト!$B$19:$B$31,0),IF(COUNTIF(F21:N21,"〇")=0,4,MATCH("〇",F21:N21,0)+3))),AX21*AY21))} | BA21: =AN21 -> 0 | BB21: =IFERROR(AQ21+AT21+AW21,"") -> 0 | BC21: =IFERROR(IF(BA21-BB21>=0,BA21-BB21,0),"") -> 0 | BD21: =MIN(AZ21,BC21) -> 0 | BE21: =BD21 -> 0
B22: 14 | O22: =IF(D22="", "", IF(COUNTIF(リスト!$B$2:$D$31, D22)>=1, "光熱費", "")) | Y22: =SUM(P22:X22) -> 0 | Z22: =ROUNDDOWN(Y22/1.1,0) -> 0 | AA22: =IF(D22="", "", VLOOKUP(D22, リスト!$B$2:$D$31, 3, FALSE)) | AK22: =SUM(AB22:AJ22) -> 0 | AL22: =IF(AA22="食材費",ROUNDDOWN(AK22/1.08,0),ROUNDDOWN(AK22/1.1,0)) -> 0 | AM22: =SUM(Y22,AK22) -> 0 | AN22: =SUM(Z22,AL22) -> 0 | AX22: =IFERROR(VLOOKUP(D22,リスト!$B$2:$E$18,4, FALSE), "") | AY22: =IF(COUNT(F22:N22)=0, "", SUM(F22:N22)) | AZ22: {=IF(ISBLANK(D22),"",IF(ISNUMBER(MATCH(D22,リスト!$B$19:$B$31,0)),IF(COUNTIF(F22:N22,"〇")>1,"error",INDEX(リスト!$B$19:$M$31,MATCH(D22,リスト!$B$19:$B$31,0),IF(COUNTIF(F22:N22,"〇")=0,4,MATCH("〇",F22:N22,0)+3))),AX22*AY22))} | BA22: =AN22 -> 0 | BB22: =IFERROR(AQ22+AT22+AW22,"") -> 0 | BC22: =IFERROR(IF(BA22-BB22>=0,BA22-BB22,0),"") -> 0 | BD22: =MIN(AZ22,BC22) -> 0 | BE22: =BD22 -> 0
B23: 15 | O23: =IF(D23="", "", IF(COUNTIF(リスト!$B$2:$D$31, D23)>=1, "光熱費", "")) | Y23: =SUM(P23:X23) -> 0 | Z23: =ROUNDDOWN(Y23/1.1,0) -> 0 | AA23: =IF(D23="", "", VLOOKUP(D23, リスト!$B$2:$D$31, 3, FALSE)) | AK23: =SUM(AB23:AJ23) -> 0 | AL23: =IF(AA23="食材費",ROUNDDOWN(AK23/1.08,0),ROUNDDOWN(AK23/1.1,0)) -> 0 | AM23: =SUM(Y23,AK23) -> 0 | AN23: =SUM(Z23,AL23) -> 0 | AX23: =IFERROR(VLOOKUP(D23,リスト!$B$2:$E$18,4, FALSE), "") | AY23: =IF(COUNT(F23:N23)=0, "", SUM(F23:N23)) | AZ23: {=IF(ISBLANK(D23),"",IF(ISNUMBER(MATCH(D23,リスト!$B$19:$B$31,0)),IF(COUNTIF(F23:N23,"〇")>1,"error",INDEX(リスト!$B$19:$M$31,MATCH(D23,リスト!$B$19:$B$31,0),IF(COUNTIF(F23:N23,"〇")=0,4,MATCH("〇",F23:N23,0)+3))),AX23*AY23))} | BA23: =AN23 -> 0 | BB23: =IFERROR(AQ23+AT23+AW23,"") -> 0 | BC23: =IFERROR(IF(BA23-BB23>=0,BA23-BB23,0),"") -> 0 | BD23: =MIN(AZ23,BC23) -> 0 | BE23: =BD23 -> 0
B24: 16 | O24: =IF(D24="", "", IF(COUNTIF(リスト!$B$2:$D$31, D24)>=1, "光熱費", "")) | Y24: =SUM(P24:X24) -> 0 | Z24: =ROUNDDOWN(Y24/1.1,0) -> 0 | AA24: =IF(D24="", "", VLOOKUP(D24, リスト!$B$2:$D$31, 3, FALSE)) | AK24: =SUM(AB24:AJ24) -> 0 | AL24: =IF(AA24="食材費",ROUNDDOWN(AK24/1.08,0),ROUNDDOWN(AK24/1.1,0)) -> 0 | AM24: =SUM(Y24,AK24) -> 0 | AN24: =SUM(Z24,AL24) -> 0 | AX24: =IFERROR(VLOOKUP(D24,リスト!$B$2:$E$18,4, FALSE), "") | AY24: =IF(COUNT(F24:N24)=0, "", SUM(F24:N24)) | AZ24: {=IF(ISBLANK(D24),"",IF(ISNUMBER(MATCH(D24,リスト!$B$19:$B$31,0)),IF(COUNTIF(F24:N24,"〇")>1,"error",INDEX(リスト!$B$19:$M$31,MATCH(D24,リスト!$B$19:$B$31,0),IF(COUNTIF(F24:N24,"〇")=0,4,MATCH("〇",F24:N24,0)+3))),AX24*AY24))} | BA24: =AN24 -> 0 | BB24: =IFERROR(AQ24+AT24+AW24,"") -> 0 | BC24: =IFERROR(IF(BA24-BB24>=0,BA24-BB24,0),"") -> 0 | BD24: =MIN(AZ24,BC24) -> 0 | BE24: =BD24 -> 0
B25: 17 | O25: =IF(D25="", "", IF(COUNTIF(リスト!$B$2:$D$31, D25)>=1, "光熱費", "")) | Y25: =SUM(P25:X25) -> 0 | Z25: =ROUNDDOWN(Y25/1.1,0) -> 0 | AA25: =IF(D25="", "", VLOOKUP(D25, リスト!$B$2:$D$31, 3, FALSE)) | AK25: =SUM(AB25:AJ25) -> 0 | AL25: =IF(AA25="食材費",ROUNDDOWN(AK25/1.08,0),ROUNDDOWN(AK25/1.1,0)) -> 0 | AM25: =SUM(Y25,AK25) -> 0 | AN25: =SUM(Z25,AL25) -> 0 | AX25: =IFERROR(VLOOKUP(D25,リスト!$B$2:$E$18,4, FALSE), "") | AY25: =IF(COUNT(F25:N25)=0, "", SUM(F25:N25)) | AZ25: {=IF(ISBLANK(D25),"",IF(ISNUMBER(MATCH(D25,リスト!$B$19:$B$31,0)),IF(COUNTIF(F25:N25,"〇")>1,"error",INDEX(リスト!$B$19:$M$31,MATCH(D25,リスト!$B$19:$B$31,0),IF(COUNTIF(F25:N25,"〇")=0,4,MATCH("〇",F25:N25,0)+3))),AX25*AY25))} | BA25: =AN25 -> 0 | BB25: =IFERROR(AQ25+AT25+AW25,"") -> 0 | BC25: =IFERROR(IF(BA25-BB25>=0,BA25-BB25,0),"") -> 0 | BD25: =MIN(AZ25,BC25) -> 0 | BE25: =BD25 -> 0
B26: 18 | O26: =IF(D26="", "", IF(COUNTIF(リスト!$B$2:$D$31, D26)>=1, "光熱費", "")) | Y26: =SUM(P26:X26) -> 0 | Z26: =ROUNDDOWN(Y26/1.1,0) -> 0 | AA26: =IF(D26="", "", VLOOKUP(D26, リスト!$B$2:$D$31, 3, FALSE)) | AK26: =SUM(AB26:AJ26) -> 0 | AL26: =IF(AA26="食材費",ROUNDDOWN(AK26/1.08,0),ROUNDDOWN(AK26/1.1,0)) -> 0 | AM26: =SUM(Y26,AK26) -> 0 | AN26: =SUM(Z26,AL26) -> 0 | AX26: =IFERROR(VLOOKUP(D26,リスト!$B$2:$E$18,4, FALSE), "") | AY26: =IF(COUNT(F26:N26)=0, "", SUM(F26:N26)) | AZ26: {=IF(ISBLANK(D26),"",IF(ISNUMBER(MATCH(D26,リスト!$B$19:$B$31,0)),IF(COUNTIF(F26:N26,"〇")>1,"error",INDEX(リスト!$B$19:$M$31,MATCH(D26,リスト!$B$19:$B$31,0),IF(COUNTIF(F26:N26,"〇")=0,4,MATCH("〇",F26:N26,0)+3))),AX26*AY26))} | BA26: =AN26 -> 0 | BB26: =IFERROR(AQ26+AT26+AW26,"") -> 0 | BC26: =IFERROR(IF(BA26-BB26>=0,BA26-BB26,0),"") -> 0 | BD26: =MIN(AZ26,BC26) -> 0 | BE26: =BD26 -> 0
B27: 19 | O27: =IF(D27="", "", IF(COUNTIF(リスト!$B$2:$D$31, D27)>=1, "光熱費", "")) | Y27: =SUM(P27:X27) -> 0 | Z27: =ROUNDDOWN(Y27/1.1,0) -> 0 | AA27: =IF(D27="", "", VLOOKUP(D27, リスト!$B$2:$D$31, 3, FALSE)) | AK27: =SUM(AB27:AJ27) -> 0 | AL27: =IF(AA27="食材費",ROUNDDOWN(AK27/1.08,0),ROUNDDOWN(AK27/1.1,0)) -> 0 | AM27: =SUM(Y27,AK27) -> 0 | AN27: =SUM(Z27,AL27) -> 0 | AX27: =IFERROR(VLOOKUP(D27,リスト!$B$2:$E$18,4, FALSE), "") | AY27: =IF(COUNT(F27:N27)=0, "", SUM(F27:N27)) | AZ27: {=IF(ISBLANK(D27),"",IF(ISNUMBER(MATCH(D27,リスト!$B$19:$B$31,0)),IF(COUNTIF(F27:N27,"〇")>1,"error",INDEX(リスト!$B$19:$M$31,MATCH(D27,リスト!$B$19:$B$31,0),IF(COUNTIF(F27:N27,"〇")=0,4,MATCH("〇",F27:N27,0)+3))),AX27*AY27))} | BA27: =AN27 -> 0 | BB27: =IFERROR(AQ27+AT27+AW27,"") -> 0 | BC27: =IFERROR(IF(BA27-BB27>=0,BA27-BB27,0),"") -> 0 | BD27: =MIN(AZ27,BC27) -> 0 | BE27: =BD27 -> 0
B28: 20 | O28: =IF(D28="", "", IF(COUNTIF(リスト!$B$2:$D$31, D28)>=1, "光熱費", "")) | Y28: =SUM(P28:X28) -> 0 | Z28: =ROUNDDOWN(Y28/1.1,0) -> 0 | AA28: =IF(D28="", "", VLOOKUP(D28, リスト!$B$2:$D$31, 3, FALSE)) | AK28: =SUM(AB28:AJ28) -> 0 | AL28: =IF(AA28="食材費",ROUNDDOWN(AK28/1.08,0),ROUNDDOWN(AK28/1.1,0)) -> 0 | AM28: =SUM(Y28,AK28) -> 0 | AN28: =SUM(Z28,AL28) -> 0 | AX28: =IFERROR(VLOOKUP(D28,リスト!$B$2:$E$18,4, FALSE), "") | AY28: =IF(COUNT(F28:N28)=0, "", SUM(F28:N28)) | AZ28: {=IF(ISBLANK(D28),"",IF(ISNUMBER(MATCH(D28,リスト!$B$19:$B$31,0)),IF(COUNTIF(F28:N28,"〇")>1,"error",INDEX(リスト!$B$19:$M$31,MATCH(D28,リスト!$B$19:$B$31,0),IF(COUNTIF(F28:N28,"〇")=0,4,MATCH("〇",F28:N28,0)+3))),AX28*AY28))} | BA28: =AN28 -> 0 | BB28: =IFERROR(AQ28+AT28+AW28,"") -> 0 | BC28: =IFERROR(IF(BA28-BB28>=0,BA28-BB28,0),"") -> 0 | BD28: =MIN(AZ28,BC28) -> 0 | BE28: =BD28 -> 0
... B195: 187 | O195: =IF(D195="", "", IF(COUNTIF(リスト!$B$2:$D$31, D195)>=1, "光熱費", "")) | Y195: =SUM(P195:X195) -> 0 | Z195: =ROUNDDOWN(Y195/1.1,0) -> 0 | AA195: =IF(D195="", "", VLOOKUP(D195, リスト!$B$2:$D$31, 3, FALSE)) | AK195: =SUM(AB195:AJ195) -> 0 | AL195: =IF(AA195="食材費",ROUNDDOWN(AK195/1.08,0),ROUNDDOWN(AK195/1.1,0)) -> 0 | AM195: =SUM(Y195,AK195) -> 0 | AN195: =SUM(Z195,AL195) -> 0 | AX195: =IFERROR(VLOOKUP(D195,リスト!$B$2:$E$18,4, FALSE), "") | AY195: =IF(COUNT(F195:N195)=0, "", SUM(F195:N195)) | AZ195: {=IF(ISBLANK(D195),"",IF(ISNUMBER(MATCH(D195,リスト!$B$19:$B$31,0)),IF(COUNTIF(F195:N195,"〇")>1,"error",INDEX(リスト!$B$19:$M$31,MATCH(D195,リスト!$B$19:$B$31,0),IF(COUNTIF(F195:N195,"〇")=0,4,MATCH("〇",F195:N195,0)+3))),AX195*AY195))} | BA195: =AN195 -> 0 | BB195: =IFERROR(AQ195+AT195+AW195,"") -> 0 | BC195: =IFERROR(IF(BA195-BB195>=0,BA195-BB195,0),"") -> 0 | BD195: =MIN(AZ195,BC195) -> 0 | BE195: =BD195 -> 0

Sheet リスト
C1: 番号 | E1: 補助基準額
A2: 入所系 | B2: 障害者支援施設 | C2: 1 | D2: 食材費 | E2: 3646
B3: 福祉型障害児入所施設 | C3: 2 | D3: 食材費 | E3: 3646
B4: 医療型障害児入所施設 | C4: 3 | D4: 食材費 | E4: 3646
B5: 都外施設（者） | C5: 4 | D5: 食材費 | E5: 3646
B6: 都外施設（児） | C6: 5 | D6: 食材費 | E6: 3646
B7: 共同生活援助 | C7: 6 | D7: 食材費 | E7: 3646
B8: 短期入所 | C8: 7 | D8: 食材費 | E8: 3646
A9: 通所系 | B9: 生活介護 | C9: 8 | D9: 燃料費 | E9: 987
B10: 宿泊型自立訓練 | C10: 9 | D10: 燃料費 | E10: 987
B11: 自立訓練（生活訓練） | C11: 10 | D11: 燃料費 | E11: 987
B12: 自立訓練（機能訓練） | C12: 11 | D12: 燃料費 | E12: 987
B13: 就労移行支援 | C13: 12 | D13: 燃料費 | E13: 987
B14: 就労継続支援Ａ型 | C14: 13 | D14: 燃料費 | E14: 987
B15: 就労継続支援Ｂ型 | C15: 14 | D15: 燃料費 | E15: 987
B16: 就労選択支援 | C16: 15 | D16: 燃料費 | E16: 987
B17: 児童発達支援 | C17: 16 | D17: 燃料費 | E17: 987
B18: 放課後等デイサービス | C18: 17 | D18: 燃料費 | E18: 987
A19: 訪問系 | B19: 居宅訪問型児童発達支援 | C19: 18 | D19: 燃料費 | E19: 44250 | F19: 39340 | G19: 34420 | H19: 29500 | I19: 24590 | J19: 19670 | K19: 14750 | L19: 9840 | M19: 4920
B20: 保育所等訪問支援 | C20: 19 | D20: 燃料費 | E20: 44250 | F20: 39340 | G20: 34420 | H20: 29500 | I20: 24590 | J20: 19670 | K20: 14750 | L20: 9840 | M20: 4920
B21: 居宅介護 | C21: 20 | D21: 燃料費 | E21: 44250 | F21: 39340 | G21: 34420 | H21: 29500 | I21: 24590 | J21: 19670 | K21: 14750 | L21: 9840 | M21: 4920
B22: 重度訪問介護 | C22: 21 | D22: 燃料費 | E22: 44250 | F22: 39340 | G22: 34420 | H22: 29500 | I22: 24590 | J22: 19670 | K22: 14750 | L22: 9840 | M22: 4920
B23: 同行援護 | C23: 22 | D23: 燃料費 | E23: 44250 | F23: 39340 | G23: 34420 | H23: 29500 | I23: 24590 | J23: 19670 | K23: 14750 | L23: 9840 | M23: 4920
B24: 行動援護 | C24: 23 | D24: 燃料費 | E24: 44250 | F24: 39340 | G24: 34420 | H24: 29500 | I24: 24590 | J24: 19670 | K24: 14750 | L24: 9840 | M24: 4920
B25: 重度障害者等包括支援 | C25: 24 | D25: 燃料費 | E25: 44250 | F25: 39340 | G25: 34420 | H25: 29500 | I25: 24590 | J25: 19670 | K25: 14750 | L25: 9840 | M25: 4920
A26: 相談系 | B26: 就労定着支援 | C26: 25 | D26: 燃料費 | E26: 17700 | F26: 15740 | G26: 13770 | H26: 11800 | I26: 9840 | J26: 7870 | K26: 5900 | L26: 3940 | M26: 1970
B27: 自立生活援助 | C27: 26 | D27: 燃料費 | E27: 17700 | F27: 15740 | G27: 13770 | H27: 11800 | I27: 9840 | J27: 7870 | K27: 5900 | L27: 3940 | M27: 1970
B28: 計画相談支援 | C28: 27 | D28: 燃料費 | E28: 17700 | F28: 15740 | G28: 13770 | H28: 11800 | I28: 9840 | J28: 7870 | K28: 5900 | L28: 3940 | M28: 1970
B29: 地域相談支援（地域移行支援） | C29: 28 | D29: 燃料費 | E29: 17700 | F29: 15740 | G29: 13770 | H29: 11800 | I29: 9840 | J29: 7870 | K29: 5900 | L29: 3940 | M29: 1970
B30: 地域相談支援（地域定着支援） | C30: 29 | D30: 燃料費 | E30: 17700 | F30: 15740 | G30: 13770 | H30: 11800 | I30: 9840 | J30: 7870 | K30: 5900 | L30: 3940 | M30: 1970
B31: 障害児相談支援 | C31: 30 | D31: 燃料費 | E31: 17700 | F31: 15740 | G31: 13770 | H31: 11800 | I31: 9840 | J31: 7870 | K31: 5900 | L31: 3940 | M31: 1970
