Workbook

Sheet 別紙
B2: 法人名 | AC2: 別紙 交付申請兼実績報告内訳その１ | BE2: 別紙 交付申請兼実績報告内訳その２
B3: 法人番号（13桁）
B4: 申請金額 （法人全体の合計申請金額） | D4: =SUM(BE9:BE53) -> 0
B6: １、施設情報 | F6: ２、 【入所系・通所系】各月１日時点の定員数 【相談系・訪問系】補助対象期間の途中において指定を受けた事業所のみ、指定を受けた日の属する月に〇を記入（それ以外は空欄） | L6: ３、補助対象に使用した費用の総額表 | AO6: ４、他の補助金の受給状況 （※区市町村等の他の物価高騰対策等補助金を受給している場合に記載） | AX6: ５、積算調書
AO7: 他の補助金① | AR7: 他の補助金② | AU7: 他の補助金③ | AX7: 【入所系・通所系】のみ | AZ7: Ａ | BA7: B | BB7: C | BC7: D | BD7: E | BE7: F
B8: 項番 | C8: 施設等の名称 | D8: 施設種別 | E8: 事業所番号 | F8: R8.1 | G8: R8.2 | H8: R8.3 | I8: R8.4 | J8: R8.5 | K8: R8.6 | L8: 補助対象経費 | M8: R8.1 | N8: R8.2 | O8: R8.3 | P8: R8.4 | Q8: R8.5 | R8: R8.6 | S8: 小計 | T8: 小計 （税抜） | U8: 補助対象 経費 | V8: R8.1 | W8: R8.2 | X8: R8.3 | Y8: R8.4 | Z8: R8.5 | AA8: R8.6 | AB8: 小計 | AC8: 小計 （税抜） | AD8: 補助対象 経費 | AE8: R8.1 | AF8: R8.2 | AG8: R8.3 | AH8: R8.4 | AI8: R8.5 | AJ8: R8.6 | AK8: 小計 | AL8: 小計 （税抜） | AM8: 合計 | AN8: 合計 （消費税税抜相当額） | AO8: 他の補助金等の名称 | AP8: 他の補助金の受給額 （円） | AQ8: 他補助金のうち、同一補助対象に対する受給額（円） | AR8: 他の補助金等の名称 | AS8: 他の補助金の受給額 | AT8: 他補助金のうち、同一補助対象に対する受給額（円） | AU8: 他の補助金等の名称 | AV8: 他の補助金の受給額 | AW8: 他補助金のうち、同一補助対象に対する受給額（円） | AX8: 補助基準額 | AY8: ×各月定員計 | AZ8: 基準額 | BA8: 補助対象経費 （３に記載する消費税税抜き相当額合計と一致） | BB8: 他補助金重複分相当額 （４に記載する、同一補助対象に対する受給額合計と一致） | BC8: 差引額 （B－C） | BD8: 都支援金基本額 （A＞D→D,A≦D→A） | BE8: 支援金所要額 (交付申請額) （E×補助率10/10）
B9: 1 | L9: =IF(D9="", "", IF(COUNTIF(リスト①!$B$2:$E$49, D9)>=1, "光熱費", "")) | S9: =SUM(M9:R9) -> 0 | T9: =ROUNDDOWN(S9/1.1,0) -> 0 | U9: =IF(D9="", "", VLOOKUP(D9, リスト①!$B$2:$E$49, 3, FALSE)) | AB9: =SUM(V9:AA9) -> 0 | AC9: =IF(U9="食材費",ROUNDDOWN(AB9/1.08,0),ROUNDDOWN(AB9/1.1,0)) -> 0 | AD9: =IF(D9="", "", VLOOKUP(D9, リスト①!$B$2:$E$49, 4, FALSE)) | AK9: =SUM(AE9:AJ9) -> 0 | AL9: =IF(AD9="食材費",ROUNDDOWN(AK9/1.08,0),ROUNDDOWN(AK9/1.1,0)) -> 0 | AM9: =SUM(S9,AB9,AK9) -> 0 | AN9: =SUM(T9,AC9,AL9) -> 0 | AX9: =IFERROR(VLOOKUP(D9,リスト①!$B$2:$F$36,5, FALSE), "") | AY9: =IF(COUNT(F9:K9)=0, "", SUM(F9:K9)) | AZ9: {=IF(ISBLANK(D9),"",IF(ISNUMBER(MATCH(D9,リスト①!$B$37:$B$49,0)),IF(COUNTIF(F9:K9,"〇")>1,"error",INDEX(リスト①!$B$37:$N$49,MATCH(D9,リスト①!$B$37:$B$49,0),IF(COUNTIF(F9:K9,"〇")=0,5,MATCH("〇",F9:K9,0)+3))),AX9*AY9))} | BA9: =AN9 -> 0 | BB9: =IFERROR(AQ9+AT9+AW9,"") -> 0 | BC9: =IFERROR(IF(BA9-BB9>=0,BA9-BB9,0),"") -> 0 | BD9: =MIN(AZ9,BC9) -> 0 | BE9: =BD9 -> 0
B10: 2 | L10: =IF(D10="", "", IF(COUNTIF(リスト①!$B$2:$E$49, D10)>=1, "光熱費", "")) | S10: =SUM(M10:R10) -> 0 | T10: =ROUNDDOWN(S10/1.1,0) -> 0 | U10: =IF(D10="", "", VLOOKUP(D10, リスト①!$B$2:$E$49, 3, FALSE)) | AB10: =SUM(V10:AA10) -> 0 | AC10: =IF(U10="食材費",ROUNDDOWN(AB10/1.08,0),ROUNDDOWN(AB10/1.1,0)) -> 0 | AD10: =IF(D10="", "", VLOOKUP(D10, リスト①!$B$2:$E$49, 4, FALSE)) | AK10: =SUM(AE10:AJ10) -> 0 | AL10: =IF(AD10="食材費",ROUNDDOWN(AK10/1.08,0),ROUNDDOWN(AK10/1.1,0)) -> 0 | AM10: =SUM(S10,AB10,AK10) -> 0 | AN10: =SUM(T10,AC10,AL10) -> 0 | AX10: =IFERROR(VLOOKUP(D10,リスト①!$B$2:$F$36,5, FALSE), "") | AY10: =IF(COUNT(F10:K10)=0, "", SUM(F10:K10)) | AZ10: {=IF(ISBLANK(D10),"",IF(ISNUMBER(MATCH(D10,リスト①!$B$37:$B$49,0)),IF(COUNTIF(F10:K10,"〇")>1,"error",INDEX(リスト①!$B$37:$N$49,MATCH(D10,リスト①!$B$37:$B$49,0),IF(COUNTIF(F10:K10,"〇")=0,5,MATCH("〇",F10:K10,0)+4))),AX10*AY10))} | BA10: =AN10 -> 0 | BB10: =IFERROR(AQ10+AT10+AW10,"") -> 0 | BC10: =IFERROR(IF(BA10-BB10>=0,BA10-BB10,0),"") -> 0 | BD10: =MIN(AZ10,BC10) -> 0 | BE10: =BD10 -> 0
B11: 3 | L11: =IF(D11="", "", IF(COUNTIF(リスト①!$B$2:$E$49, D11)>=1, "光熱費", "")) | S11: =SUM(M11:R11) -> 0 | T11: =ROUNDDOWN(S11/1.1,0) -> 0 | U11: =IF(D11="", "", VLOOKUP(D11, リスト①!$B$2:$E$49, 3, FALSE)) | AB11: =SUM(V11:AA11) -> 0 | AC11: =IF(U11="食材費",ROUNDDOWN(AB11/1.08,0),ROUNDDOWN(AB11/1.1,0)) -> 0 | AD11: =IF(D11="", "", VLOOKUP(D11, リスト①!$B$2:$E$49, 4, FALSE)) | AK11: =SUM(AE11:AJ11) -> 0 | AL11: =IF(AD11="食材費",ROUNDDOWN(AK11/1.08,0),ROUNDDOWN(AK11/1.1,0)) -> 0 | AM11: =SUM(S11,AB11,AK11) -> 0 | AN11: =SUM(T11,AC11,AL11) -> 0 | AX11: =IFERROR(VLOOKUP(D11,リスト①!$B$2:$F$36,5, FALSE), "") | AY11: =IF(COUNT(F11:K11)=0, "", SUM(F11:K11)) | AZ11: {=IF(ISBLANK(D11),"",IF(ISNUMBER(MATCH(D11,リスト①!$B$37:$B$49,0)),IF(COUNTIF(F11:K11,"〇")>1,"error",INDEX(リスト①!$B$37:$N$49,MATCH(D11,リスト①!$B$37:$B$49,0),IF(COUNTIF(F11:K11,"〇")=0,5,MATCH("〇",F11:K11,0)+4))),AX11*AY11))} | BA11: =AN11 -> 0 | BB11: =IFERROR(AQ11+AT11+AW11,"") -> 0 | BC11: =IFERROR(IF(BA11-BB11>=0,BA11-BB11,0),"") -> 0 | BD11: =MIN(AZ11,BC11) -> 0 | BE11: =BD11 -> 0
B12: 4 | L12: =IF(D12="", "", IF(COUNTIF(リスト①!$B$2:$E$49, D12)>=1, "光熱費", "")) | S12: =SUM(M12:R12) -> 0 | T12: =ROUNDDOWN(S12/1.1,0) -> 0 | U12: =IF(D12="", "", VLOOKUP(D12, リスト①!$B$2:$E$49, 3, FALSE)) | AB12: =SUM(V12:AA12) -> 0 | AC12: =IF(U12="食材費",ROUNDDOWN(AB12/1.08,0),ROUNDDOWN(AB12/1.1,0)) -> 0 | AD12: =IF(D12="", "", VLOOKUP(D12, リスト①!$B$2:$E$49, 4, FALSE)) | AK12: =SUM(AE12:AJ12) -> 0 | AL12: =IF(AD12="食材費",ROUNDDOWN(AK12/1.08,0),ROUNDDOWN(AK12/1.1,0)) -> 0 | AM12: =SUM(S12,AB12,AK12) -> 0 | AN12: =SUM(T12,AC12,AL12) -> 0 | AX12: =IFERROR(VLOOKUP(D12,リスト①!$B$2:$F$36,5, FALSE), "") | AY12: =IF(COUNT(F12:K12)=0, "", SUM(F12:K12)) | AZ12: {=IF(ISBLANK(D12),"",IF(ISNUMBER(MATCH(D12,リスト①!$B$37:$B$49,0)),IF(COUNTIF(F12:K12,"〇")>1,"error",INDEX(リスト①!$B$37:$N$49,MATCH(D12,リスト①!$B$37:$B$49,0),IF(COUNTIF(F12:K12,"〇")=0,5,MATCH("〇",F12:K12,0)+4))),AX12*AY12))} | BA12: =AN12 -> 0 | BB12: =IFERROR(AQ12+AT12+AW12,"") -> 0 | BC12: =IFERROR(IF(BA12-BB12>=0,BA12-BB12,0),"") -> 0 | BD12: =MIN(AZ12,BC12) -> 0 | BE12: =BD12 -> 0
B13: 5 | L13: =IF(D13="", "", IF(COUNTIF(リスト①!$B$2:$E$49, D13)>=1, "光熱費", "")) | S13: =SUM(M13:R13) -> 0 | T13: =ROUNDDOWN(S13/1.1,0) -> 0 | U13: =IF(D13="", "", VLOOKUP(D13, リスト①!$B$2:$E$49, 3, FALSE)) | AB13: =SUM(V13:AA13) -> 0 | AC13: =IF(U13="食材費",ROUNDDOWN(AB13/1.08,0),ROUNDDOWN(AB13/1.1,0)) -> 0 | AD13: =IF(D13="", "", VLOOKUP(D13, リスト①!$B$2:$E$49, 4, FALSE)) | AK13: =SUM(AE13:AJ13) -> 0 | AL13: =IF(AD13="食材費",ROUNDDOWN(AK13/1.08,0),ROUNDDOWN(AK13/1.1,0)) -> 0 | AM13: =SUM(S13,AB13,AK13) -> 0 | AN13: =SUM(T13,AC13,AL13) -> 0 | AX13: =IFERROR(VLOOKUP(D13,リスト①!$B$2:$F$36,5, FALSE), "") | AY13: =IF(COUNT(F13:K13)=0, "", SUM(F13:K13)) | AZ13: {=IF(ISBLANK(D13),"",IF(ISNUMBER(MATCH(D13,リスト①!$B$37:$B$49,0)),IF(COUNTIF(F13:K13,"〇")>1,"error",INDEX(リスト①!$B$37:$N$49,MATCH(D13,リスト①!$B$37:$B$49,0),IF(COUNTIF(F13:K13,"〇")=0,5,MATCH("〇",F13:K13,0)+4))),AX13*AY13))} | BA13: =AN13 -> 0 | BB13: =IFERROR(AQ13+AT13+AW13,"") -> 0 | BC13: =IFERROR(IF(BA13-BB13>=0,BA13-BB13,0),"") -> 0 | BD13: =MIN(AZ13,BC13) -> 0 | BE13: =BD13 -> 0
B14: 6 | L14: =IF(D14="", "", IF(COUNTIF(リスト①!$B$2:$E$49, D14)>=1, "光熱費", "")) | S14: =SUM(M14:R14) -> 0 | T14: =ROUNDDOWN(S14/1.1,0) -> 0 | U14: =IF(D14="", "", VLOOKUP(D14, リスト①!$B$2:$E$49, 3, FALSE)) | AB14: =SUM(V14:AA14) -> 0 | AC14: =IF(U14="食材費",ROUNDDOWN(AB14/1.08,0),ROUNDDOWN(AB14/1.1,0)) -> 0 | AD14: =IF(D14="", "", VLOOKUP(D14, リスト①!$B$2:$E$49, 4, FALSE)) | AK14: =SUM(AE14:AJ14) -> 0 | AL14: =IF(AD14="食材費",ROUNDDOWN(AK14/1.08,0),ROUNDDOWN(AK14/1.1,0)) -> 0 | AM14: =SUM(S14,AB14,AK14) -> 0 | AN14: =SUM(T14,AC14,AL14) -> 0 | AX14: =IFERROR(VLOOKUP(D14,リスト①!$B$2:$F$36,5, FALSE), "") | AY14: =IF(COUNT(F14:K14)=0, "", SUM(F14:K14)) | AZ14: {=IF(ISBLANK(D14),"",IF(ISNUMBER(MATCH(D14,リスト①!$B$37:$B$49,0)),IF(COUNTIF(F14:K14,"〇")>1,"error",INDEX(リスト①!$B$37:$N$49,MATCH(D14,リスト①!$B$37:$B$49,0),IF(COUNTIF(F14:K14,"〇")=0,5,MATCH("〇",F14:K14,0)+4))),AX14*AY14))} | BA14: =AN14 -> 0 | BB14: =IFERROR(AQ14+AT14+AW14,"") -> 0 | BC14: =IFERROR(IF(BA14-BB14>=0,BA14-BB14,0),"") -> 0 | BD14: =MIN(AZ14,BC14) -> 0 | BE14: =BD14 -> 0
B15: 7 | L15: =IF(D15="", "", IF(COUNTIF(リスト①!$B$2:$E$49, D15)>=1, "光熱費", "")) | S15: =SUM(M15:R15) -> 0 | T15: =ROUNDDOWN(S15/1.1,0) -> 0 | U15: =IF(D15="", "", VLOOKUP(D15, リスト①!$B$2:$E$49, 3, FALSE)) | AB15: =SUM(V15:AA15) -> 0 | AC15: =IF(U15="食材費",ROUNDDOWN(AB15/1.08,0),ROUNDDOWN(AB15/1.1,0)) -> 0 | AD15: =IF(D15="", "", VLOOKUP(D15, リスト①!$B$2:$E$49, 4, FALSE)) | AK15: =SUM(AE15:AJ15) -> 0 | AL15: =IF(AD15="食材費",ROUNDDOWN(AK15/1.08,0),ROUNDDOWN(AK15/1.1,0)) -> 0 | AM15: =SUM(S15,AB15,AK15) -> 0 | AN15: =SUM(T15,AC15,AL15) -> 0 | AX15: =IFERROR(VLOOKUP(D15,リスト①!$B$2:$F$36,5, FALSE), "") | AY15: =IF(COUNT(F15:K15)=0, "", SUM(F15:K15)) | AZ15: {=IF(ISBLANK(D15),"",IF(ISNUMBER(MATCH(D15,リスト①!$B$37:$B$49,0)),IF(COUNTIF(F15:K15,"〇")>1,"error",INDEX(リスト①!$B$37:$N$49,MATCH(D15,リスト①!$B$37:$B$49,0),IF(COUNTIF(F15:K15,"〇")=0,5,MATCH("〇",F15:K15,0)+4))),AX15*AY15))} | BA15: =AN15 -> 0 | BB15: =IFERROR(AQ15+AT15+AW15,"") -> 0 | BC15: =IFERROR(IF(BA15-BB15>=0,BA15-BB15,0),"") -> 0 | BD15: =MIN(AZ15,BC15) -> 0 | BE15: =BD15 -> 0
B16: 8 | L16: =IF(D16="", "", IF(COUNTIF(リスト①!$B$2:$E$49, D16)>=1, "光熱費", "")) | S16: =SUM(M16:R16) -> 0 | T16: =ROUNDDOWN(S16/1.1,0) -> 0 | U16: =IF(D16="", "", VLOOKUP(D16, リスト①!$B$2:$E$49, 3, FALSE)) | AB16: =SUM(V16:AA16) -> 0 | AC16: =IF(U16="食材費",ROUNDDOWN(AB16/1.08,0),ROUNDDOWN(AB16/1.1,0)) -> 0 | AD16: =IF(D16="", "", VLOOKUP(D16, リスト①!$B$2:$E$49, 4, FALSE)) | AK16: =SUM(AE16:AJ16) -> 0 | AL16: =IF(AD16="食材費",ROUNDDOWN(AK16/1.08,0),ROUNDDOWN(AK16/1.1,0)) -> 0 | AM16: =SUM(S16,AB16,AK16) -> 0 | AN16: =SUM(T16,AC16,AL16) -> 0 | AX16: =IFERROR(VLOOKUP(D16,リスト①!$B$2:$F$36,5, FALSE), "") | AY16: =IF(COUNT(F16:K16)=0, "", SUM(F16:K16)) | AZ16: {=IF(ISBLANK(D16),"",IF(ISNUMBER(MATCH(D16,リスト①!$B$37:$B$49,0)),IF(COUNTIF(F16:K16,"〇")>1,"error",INDEX(リスト①!$B$37:$N$49,MATCH(D16,リスト①!$B$37:$B$49,0),IF(COUNTIF(F16:K16,"〇")=0,5,MATCH("〇",F16:K16,0)+4))),AX16*AY16))} | BA16: =AN16 -> 0 | BB16: =IFERROR(AQ16+AT16+AW16,"") -> 0 | BC16: =IFERROR(IF(BA16-BB16>=0,BA16-BB16,0),"") -> 0 | BD16: =MIN(AZ16,BC16) -> 0 | BE16: =BD16 -> 0
B17: 9 | L17: =IF(D17="", "", IF(COUNTIF(リスト①!$B$2:$E$49, D17)>=1, "光熱費", "")) | S17: =SUM(M17:R17) -> 0 | T17: =ROUNDDOWN(S17/1.1,0) -> 0 | U17: =IF(D17="", "", VLOOKUP(D17, リスト①!$B$2:$E$49, 3, FALSE)) | AB17: =SUM(V17:AA17) -> 0 | AC17: =IF(U17="食材費",ROUNDDOWN(AB17/1.08,0),ROUNDDOWN(AB17/1.1,0)) -> 0 | AD17: =IF(D17="", "", VLOOKUP(D17, リスト①!$B$2:$E$49, 4, FALSE)) | AK17: =SUM(AE17:AJ17) -> 0 | AL17: =IF(AD17="食材費",ROUNDDOWN(AK17/1.08,0),ROUNDDOWN(AK17/1.1,0)) -> 0 | AM17: =SUM(S17,AB17,AK17) -> 0 | AN17: =SUM(T17,AC17,AL17) -> 0 | AX17: =IFERROR(VLOOKUP(D17,リスト①!$B$2:$F$36,5, FALSE), "") | AY17: =IF(COUNT(F17:K17)=0, "", SUM(F17:K17)) | AZ17: {=IF(ISBLANK(D17),"",IF(ISNUMBER(MATCH(D17,リスト①!$B$37:$B$49,0)),IF(COUNTIF(F17:K17,"〇")>1,"error",INDEX(リスト①!$B$37:$N$49,MATCH(D17,リスト①!$B$37:$B$49,0),IF(COUNTIF(F17:K17,"〇")=0,5,MATCH("〇",F17:K17,0)+4))),AX17*AY17))} | BA17: =AN17 -> 0 | BB17: =IFERROR(AQ17+AT17+AW17,"") -> 0 | BC17: =IFERROR(IF(BA17-BB17>=0,BA17-BB17,0),"") -> 0 | BD17: =MIN(AZ17,BC17) -> 0 | BE17: =BD17 -> 0
B18: 10 | L18: =IF(D18="", "", IF(COUNTIF(リスト①!$B$2:$E$49, D18)>=1, "光熱費", "")) | S18: =SUM(M18:R18) -> 0 | T18: =ROUNDDOWN(S18/1.1,0) -> 0 | U18: =IF(D18="", "", VLOOKUP(D18, リスト①!$B$2:$E$49, 3, FALSE)) | AB18: =SUM(V18:AA18) -> 0 | AC18: =IF(U18="食材費",ROUNDDOWN(AB18/1.08,0),ROUNDDOWN(AB18/1.1,0)) -> 0 | AD18: =IF(D18="", "", VLOOKUP(D18, リスト①!$B$2:$E$49, 4, FALSE)) | AK18: =SUM(AE18:AJ18) -> 0 | AL18: =IF(AD18="食材費",ROUNDDOWN(AK18/1.08,0),ROUNDDOWN(AK18/1.1,0)) -> 0 | AM18: =SUM(S18,AB18,AK18) -> 0 | AN18: =SUM(T18,AC18,AL18) -> 0 | AX18: =IFERROR(VLOOKUP(D18,リスト①!$B$2:$F$36,5, FALSE), "") | AY18: =IF(COUNT(F18:K18)=0, "", SUM(F18:K18)) | AZ18: {=IF(ISBLANK(D18),"",IF(ISNUMBER(MATCH(D18,リスト①!$B$37:$B$49,0)),IF(COUNTIF(F18:K18,"〇")>1,"error",INDEX(リスト①!$B$37:$N$49,MATCH(D18,リスト①!$B$37:$B$49,0),IF(COUNTIF(F18:K18,"〇")=0,5,MATCH("〇",F18:K18,0)+4))),AX18*AY18))} | BA18: =AN18 -> 0 | BB18: =IFERROR(AQ18+AT18+AW18,"") -> 0 | BC18: =IFERROR(IF(BA18-BB18>=0,BA18-BB18,0),"") -> 0 | BD18: =MIN(AZ18,BC18) -> 0 | BE18: =BD18 -> 0
B19: 11 | L19: =IF(D19="", "", IF(COUNTIF(リスト①!$B$2:$E$49, D19)>=1, "光熱費", "")) | S19: =SUM(M19:R19) -> 0 | T19: =ROUNDDOWN(S19/1.1,0) -> 0 | U19: =IF(D19="", "", VLOOKUP(D19, リスト①!$B$2:$E$49, 3, FALSE)) | AB19: =SUM(V19:AA19) -> 0 | AC19: =IF(U19="食材費",ROUNDDOWN(AB19/1.08,0),ROUNDDOWN(AB19/1.1,0)) -> 0 | AD19: =IF(D19="", "", VLOOKUP(D19, リスト①!$B$2:$E$49, 4, FALSE)) | AK19: =SUM(AE19:AJ19) -> 0 | AL19: =IF(AD19="食材費",ROUNDDOWN(AK19/1.08,0),ROUNDDOWN(AK19/1.1,0)) -> 0 | AM19: =SUM(S19,AB19,AK19) -> 0 | AN19: =SUM(T19,AC19,AL19) -> 0 | AX19: =IFERROR(VLOOKUP(D19,リスト①!$B$2:$F$36,5, FALSE), "") | AY19: =IF(COUNT(F19:K19)=0, "", SUM(F19:K19)) | AZ19: {=IF(ISBLANK(D19),"",IF(ISNUMBER(MATCH(D19,リスト①!$B$37:$B$49,0)),IF(COUNTIF(F19:K19,"〇")>1,"error",INDEX(リスト①!$B$37:$N$49,MATCH(D19,リスト①!$B$37:$B$49,0),IF(COUNTIF(F19:K19,"〇")=0,5,MATCH("〇",F19:K19,0)+4))),AX19*AY19))} | BA19: =AN19 -> 0 | BB19: =IFERROR(AQ19+AT19+AW19,"") -> 0 | BC19: =IFERROR(IF(BA19-BB19>=0,BA19-BB19,0),"") -> 0 | BD19: =MIN(AZ19,BC19) -> 0 | BE19: =BD19 -> 0
B20: 12 | L20: =IF(D20="", "", IF(COUNTIF(リスト①!$B$2:$E$49, D20)>=1, "光熱費", "")) | S20: =SUM(M20:R20) -> 0 | T20: =ROUNDDOWN(S20/1.1,0) -> 0 | U20: =IF(D20="", "", VLOOKUP(D20, リスト①!$B$2:$E$49, 3, FALSE)) | AB20: =SUM(V20:AA20) -> 0 | AC20: =IF(U20="食材費",ROUNDDOWN(AB20/1.08,0),ROUNDDOWN(AB20/1.1,0)) -> 0 | AD20: =IF(D20="", "", VLOOKUP(D20, リスト①!$B$2:$E$49, 4, FALSE)) | AK20: =SUM(AE20:AJ20) -> 0 | AL20: =IF(AD20="食材費",ROUNDDOWN(AK20/1.08,0),ROUNDDOWN(AK20/1.1,0)) -> 0 | AM20: =SUM(S20,AB20,AK20) -> 0 | AN20: =SUM(T20,AC20,AL20) -> 0 | AX20: =IFERROR(VLOOKUP(D20,リスト①!$B$2:$F$36,5, FALSE), "") | AY20: =IF(COUNT(F20:K20)=0, "", SUM(F20:K20)) | AZ20: {=IF(ISBLANK(D20),"",IF(ISNUMBER(MATCH(D20,リスト①!$B$37:$B$49,0)),IF(COUNTIF(F20:K20,"〇")>1,"error",INDEX(リスト①!$B$37:$N$49,MATCH(D20,リスト①!$B$37:$B$49,0),IF(COUNTIF(F20:K20,"〇")=0,5,MATCH("〇",F20:K20,0)+4))),AX20*AY20))} | BA20: =AN20 -> 0 | BB20: =IFERROR(AQ20+AT20+AW20,"") -> 0 | BC20: =IFERROR(IF(BA20-BB20>=0,BA20-BB20,0),"") -> 0 | BD20: =MIN(AZ20,BC20) -> 0 | BE20: =BD20 -> 0
B21: 13 | L21: =IF(D21="", "", IF(COUNTIF(リスト①!$B$2:$E$49, D21)>=1, "光熱費", "")) | S21: =SUM(M21:R21) -> 0 | T21: =ROUNDDOWN(S21/1.1,0) -> 0 | U21: =IF(D21="", "", VLOOKUP(D21, リスト①!$B$2:$E$49, 3, FALSE)) | AB21: =SUM(V21:AA21) -> 0 | AC21: =IF(U21="食材費",ROUNDDOWN(AB21/1.08,0),ROUNDDOWN(AB21/1.1,0)) -> 0 | AD21: =IF(D21="", "", VLOOKUP(D21, リスト①!$B$2:$E$49, 4, FALSE)) | AK21: =SUM(AE21:AJ21) -> 0 | AL21: =IF(AD21="食材費",ROUNDDOWN(AK21/1.08,0),ROUNDDOWN(AK21/1.1,0)) -> 0 | AM21: =SUM(S21,AB21,AK21) -> 0 | AN21: =SUM(T21,AC21,AL21) -> 0 | AX21: =IFERROR(VLOOKUP(D21,リスト①!$B$2:$F$36,5, FALSE), "") | AY21: =IF(COUNT(F21:K21)=0, "", SUM(F21:K21)) | AZ21: {=IF(ISBLANK(D21),"",IF(ISNUMBER(MATCH(D21,リスト①!$B$37:$B$49,0)),IF(COUNTIF(F21:K21,"〇")>1,"error",INDEX(リスト①!$B$37:$N$49,MATCH(D21,リスト①!$B$37:$B$49,0),IF(COUNTIF(F21:K21,"〇")=0,5,MATCH("〇",F21:K21,0)+4))),AX21*AY21))} | BA21: =AN21 -> 0 | BB21: =IFERROR(AQ21+AT21+AW21,"") -> 0 | BC21: =IFERROR(IF(BA21-BB21>=0,BA21-BB21,0),"") -> 0 | BD21: =MIN(AZ21,BC21) -> 0 | BE21: =BD21 -> 0
... B53: 45 | L53: =IF(D53="", "", IF(COUNTIF(リスト①!$B$2:$E$49, D53)>=1, "光熱費", "")) | S53: =SUM(M53:R53) -> 0 | T53: =ROUNDDOWN(S53/1.1,0) -> 0 | U53: =IF(D53="", "", VLOOKUP(D53, リスト①!$B$2:$E$49, 3, FALSE)) | AB53: =SUM(V53:AA53) -> 0 | AC53: =IF(U53="食材費",ROUNDDOWN(AB53/1.08,0),ROUNDDOWN(AB53/1.1,0)) -> 0 | AD53: =IF(D53="", "", VLOOKUP(D53, リスト①!$B$2:$E$49, 4, FALSE)) | AK53: =SUM(AE53:AJ53) -> 0 | AL53: =IF(AD53="食材費",ROUNDDOWN(AK53/1.08,0),ROUNDDOWN(AK53/1.1,0)) -> 0 | AM53: =SUM(S53,AB53,AK53) -> 0 | AN53: =SUM(T53,AC53,AL53) -> 0 | AX53: =IFERROR(VLOOKUP(D53,リスト①!$B$2:$F$36,5, FALSE), "") | AY53: =IF(COUNT(F53:K53)=0, "", SUM(F53:K53)) | AZ53: {=IF(ISBLANK(D53),"",IF(ISNUMBER(MATCH(D53,リスト①!$B$37:$B$49,0)),IF(COUNTIF(F53:K53,"〇")>1,"error",INDEX(リスト①!$B$37:$N$49,MATCH(D53,リスト①!$B$37:$B$49,0),IF(COUNTIF(F53:K53,"〇")=0,5,MATCH("〇",F53:K53,0)+4))),AX53*AY53))} | BA53: =AN53 -> 0 | BB53: =IFERROR(AQ53+AT53+AW53,"") -> 0 | BC53: =IFERROR(IF(BA53-BB53>=0,BA53-BB53,0),"") -> 0 | BD53: =MIN(AZ53,BC53) -> 0 | BE53: =BD53 -> 0

Sheet 記載例（別紙）
B2: 法人名 | D2: aiueo株式会社 | AC2: 別紙 交付申請兼実績報告内訳その１ | BE2: 別紙 交付申請兼実績報告内訳その２
B3: 法人番号（13桁） | D3: 1112223334
B4: 申請金額 （法人全体の合計申請金額） | D4: =SUM(BE9:BE53) -> 2727474 | G4: https://www.houjin-bangou.nta.go.jp/
B6: １、施設情報 | F6: ２、 【入所系・通所系】各月１日時点の定員数 【相談系・訪問系】補助対象期間の途中において指定を受けた事業所のみ、指定を受けた日の属する月に〇を記入 | L6: ３、補助対象に使用した費用の総額表 | AO6: ４、他の補助金の受給状況 （※区市町村等の他の物価高騰対策等補助金を受給している場合に記載） | AX6: ５、積算調書
AO7: 他の補助金① | AR7: 他の補助金② | AU7: 他の補助金③ | AX7: 【入所系・通所系】のみ | AZ7: Ａ | BA7: B | BB7: C | BC7: D | BD7: E | BE7: F
B8: 項番 | C8: 施設等の名称 | D8: 施設種別 | E8: 事業所番号 | F8: R8.1 | G8: R8.2 | H8: R8.3 | I8: R8.4 | J8: R8.5 | K8: R8.6 | L8: 補助対象経費 | M8: R8.1 | N8: R8.2 | O8: R8.3 | P8: R8.4 | Q8: R8.5 | R8: R8.6 | S8: 小計 | T8: 小計 （税抜） | U8: 補助対象 経費 | V8: R8.1 | W8: R8.2 | X8: R8.3 | Y8: R8.4 | Z8: R8.5 | AA8: R8.6 | AB8: 小計 | AC8: 小計 （税抜） | AD8: 補助対象 経費 | AE8: R8.1 | AF8: R8.2 | AG8: R8.3 | AH8: R8.4 | AI8: R8.5 | AJ8: R8.6 | AK8: 小計 | AL8: 小計 （税抜） | AM8: 合計 | AN8: 合計 （消費税税抜相当額） | AO8: 他の補助金等の名称 | AP8: 他の補助金の受給額 （円） | AQ8: 他補助金のうち、同一補助対象に対する受給額（円） | AR8: 他の補助金等の名称 | AS8: 他の補助金の受給額 | AT8: 他補助金のうち、同一補助対象に対する受給額（円） | AU8: 他の補助金等の名称 | AV8: 他の補助金の受給額 | AW8: 他補助金のうち、同一補助対象に対する受給額（円） | AX8: 補助基準額 | AY8: ×各月定員計 | AZ8: 基準額 | BA8: 補助対象経費 （３に記載する消費税税抜き相当額合計と一致） | BB8: 他補助金重複分相当額 （４に記載する、同一補助対象に対する受給額合計と一致） | BC8: 差引額 （B－C） | BD8: 都支援金基本額 （A＞D→D,A≦D→A） | BE8: 支援金所要額 (交付申請額) （E×補助率10/10）
B9: 1 | C9: あいうえお施設 | D9: 障害者支援施設 | E9: 1310101000 | F9: 40 | G9: 40 | H9: 40 | I9: 40 | J9: 40 | K9: 40 | L9: =IF(D9="", "", IF(COUNTIF(リスト①!$B$2:$E$49, D9)>=1, "光熱費", "")) -> 光熱費 | M9: 200000 | N9: 200000 | O9: 200000 | P9: 200000 | Q9: 200000 | R9: 200000 | S9: =SUM(M9:R9) -> 1200000 | T9: =ROUNDDOWN(S9/1.1,0) -> 1090909 | U9: =IF(D9="", "", VLOOKUP(D9, リスト①!$B$2:$E$49, 3, FALSE)) -> 食材費 | V9: 500000 | W9: 500000 | X9: 500000 | Y9: 500000 | Z9: 500000 | AA9: 500000 | AB9: =SUM(V9:AA9) -> 3000000 | AC9: =IF(U9="食材費",ROUNDDOWN(AB9/1.08,0),ROUNDDOWN(AB9/1.1,0)) -> 2777777 | AD9: =IF(D9="", "", VLOOKUP(D9, リスト①!$B$2:$E$49, 4, FALSE)) -> - | AK9: =SUM(AE9:AJ9) -> 0 | AL9: =IF(AD9="食材費",ROUNDDOWN(AK9/1.08,0),ROUNDDOWN(AK9/1.1,0)) -> 0 | AM9: =SUM(S9,AB9,AK9) -> 4200000 | AN9: =SUM(T9,AC9,AL9) -> 3868686 | AO9: ○○区物価高騰対策補助金 | AP9: 200000 | AQ9: 200000 | AR9: ○○区物価高騰対策補助金 | AS9: 100000 | AT9: 50000 | AU9: ○○区物価高騰対策補助金 | AV9: 50000 | AW9: 50000 | AX9: =IFERROR(VLOOKUP(D9,リスト①!$B$2:$F$36,5, FALSE), "") -> 5669 | AY9: =IF(COUNT(F9:K9)=0, "", SUM(F9:K9)) -> 240 | AZ9: {=IF(ISBLANK(D9),"",IF(ISNUMBER(MATCH(D9,リスト①!$B$37:$B$49,0)),IF(COUNTIF(F9:K9,"〇")>1,"error",INDEX(リスト①!$B$37:$N$49,MATCH(D9,リスト①!$B$37:$B$49,0),IF(COUNTIF(F9:K9,"〇")=0,5,MATCH("〇",F9:K9,0)+3))),AX9*AY9))} -> 1360560 | BA9: =AN9 -> 3868686 | BB9: =IFERROR(AQ9+AT9+AW9,"") -> 300000 | BC9: =IFERROR(IF(BA9-BB9>=0,BA9-BB9,0),"") -> 3568686 | BD9: =MIN(AZ9,BC9) -> 1360560 | BE9: =BD9 -> 1360560
B10: 2 | C10: あいうえお施設 | D10: 生活介護 | E10: 1310102000 | F10: 10 | G10: 10 | H10: 10 | I10: 10 | J10: 10 | K10: 10 | L10: =IF(D10="", "", IF(COUNTIF(リスト①!$B$2:$E$49, D10)>=1, "光熱費", "")) -> 光熱費 | M10: 50000 | N10: 50000 | O10: 50000 | P10: 50000 | Q10: 50000 | R10: 50000 | S10: =SUM(M10:R10) -> 300000 | T10: =ROUNDDOWN(S10/1.1,0) -> 272727 | U10: =IF(D10="", "", VLOOKUP(D10, リスト①!$B$2:$E$49, 3, FALSE)) -> 燃料費 | V10: 10000 | W10: 10000 | X10: 10000 | Y10: 10000 | Z10: 10000 | AA10: 10000 | AB10: =SUM(V10:AA10) -> 60000 | AC10: =IF(U10="食材費",ROUNDDOWN(AB10/1.08,0),ROUNDDOWN(AB10/1.1,0)) -> 54545 | AD10: =IF(D10="", "", VLOOKUP(D10, リスト①!$B$2:$E$49, 4, FALSE)) -> - | AK10: =SUM(AE10:AJ10) -> 0 | AL10: =IF(AD10="食材費",ROUNDDOWN(AK10/1.08,0),ROUNDDOWN(AK10/1.1,0)) -> 0 | AM10: =SUM(S10,AB10,AK10) -> 360000 | AN10: =SUM(T10,AC10,AL10) -> 327272 | AX10: =IFERROR(VLOOKUP(D10,リスト①!$B$2:$F$36,5, FALSE), "") -> 987 | AY10: =IF(COUNT(F10:K10)=0, "", SUM(F10:K10)) -> 60 | AZ10: {=IF(ISBLANK(D10),"",IF(ISNUMBER(MATCH(D10,リスト①!$B$37:$B$49,0)),IF(COUNTIF(F10:K10,"〇")>1,"error",INDEX(リスト①!$B$37:$N$49,MATCH(D10,リスト①!$B$37:$B$49,0),IF(COUNTIF(F10:K10,"〇")=0,5,MATCH("〇",F10:K10,0)+4))),AX10*AY10))} -> 59220 | BA10: =AN10 -> 327272 | BB10: =IFERROR(AQ10+AT10+AW10,"") -> 0 | BC10: =IFERROR(IF(BA10-BB10>=0,BA10-BB10,0),"") -> 327272 | BD10: =MIN(AZ10,BC10) -> 59220 | BE10: =BD10 -> 59220
B11: 3 | C11: かきくけこグループホーム | D11: 共同生活援助 | E11: 1310102000 | F11: 20 | G11: 20 | H11: 20 | I11: 20 | J11: 20 | K11: 20 | L11: =IF(D11="", "", IF(COUNTIF(リスト①!$B$2:$E$49, D11)>=1, "光熱費", "")) -> 光熱費 | M11: 13000 | N11: 13000 | O11: 13000 | P11: 13000 | Q11: 13000 | R11: 13000 | S11: =SUM(M11:R11) -> 78000 | T11: =ROUNDDOWN(S11/1.1,0) -> 70909 | U11: =IF(D11="", "", VLOOKUP(D11, リスト①!$B$2:$E$49, 3, FALSE)) -> 食材費 | V11: 100000 | W11: 100000 | X11: 100000 | Y11: 100000 | Z11: 100000 | AA11: 100000 | AB11: =SUM(V11:AA11) -> 600000 | AC11: =IF(U11="食材費",ROUNDDOWN(AB11/1.08,0),ROUNDDOWN(AB11/1.1,0)) -> 555555 | AD11: =IF(D11="", "", VLOOKUP(D11, リスト①!$B$2:$E$49, 4, FALSE)) -> - | AK11: =SUM(AE11:AJ11) -> 0 | AL11: =IF(AD11="食材費",ROUNDDOWN(AK11/1.08,0),ROUNDDOWN(AK11/1.1,0)) -> 0 | AM11: =SUM(S11,AB11,AK11) -> 678000 | AN11: =SUM(T11,AC11,AL11) -> 626464 | AO11: △△市物価高騰対策補助金 | AP11: 200000 | AQ11: 0 | AR11: △△市物価高騰対策補助金 | AS11: 150000 | AT11: 10000 | AU11: △△市物価高騰対策補助金 | AV11: 10000 | AW11: 10000 | AX11: =IFERROR(VLOOKUP(D11,リスト①!$B$2:$F$36,5, FALSE), "") -> 5669 | AY11: =IF(COUNT(F11:K11)=0, "", SUM(F11:K11)) -> 120 | AZ11: {=IF(ISBLANK(D11),"",IF(ISNUMBER(MATCH(D11,リスト①!$B$37:$B$49,0)),IF(COUNTIF(F11:K11,"〇")>1,"error",INDEX(リスト①!$B$37:$N$49,MATCH(D11,リスト①!$B$37:$B$49,0),IF(COUNTIF(F11:K11,"〇")=0,5,MATCH("〇",F11:K11,0)+4))),AX11*AY11))} -> 680280 | BA11: =AN11 -> 626464 | BB11: =IFERROR(AQ11+AT11+AW11,"") -> 20000 | BC11: =IFERROR(IF(BA11-BB11>=0,BA11-BB11,0),"") -> 606464 | BD11: =MIN(AZ11,BC11) -> 606464 | BE11: =BD11 -> 606464
B12: 4 | C12: かきくけこ福祉作業所 | D12: 就労継続支援Ａ型 | E12: 1300000001 | F12: 20 | G12: 20 | H12: 20 | I12: 20 | J12: 20 | K12: 20 | L12: =IF(D12="", "", IF(COUNTIF(リスト①!$B$2:$E$49, D12)>=1, "光熱費", "")) -> 光熱費 | M12: 30000 | N12: 30000 | O12: 30000 | P12: 30000 | Q12: 30000 | R12: 30000 | S12: =SUM(M12:R12) -> 180000 | T12: =ROUNDDOWN(S12/1.1,0) -> 163636 | U12: =IF(D12="", "", VLOOKUP(D12, リスト①!$B$2:$E$49, 3, FALSE)) -> 燃料費 | V12: 20000 | W12: 20000 | X12: 20000 | Y12: 20000 | Z12: 20000 | AA12: 20000 | AB12: =SUM(V12:AA12) -> 120000 | AC12: =IF(U12="食材費",ROUNDDOWN(AB12/1.08,0),ROUNDDOWN(AB12/1.1,0)) -> 109090 | AD12: =IF(D12="", "", VLOOKUP(D12, リスト①!$B$2:$E$49, 4, FALSE)) -> - | AK12: =SUM(AE12:AJ12) -> 0 | AL12: =IF(AD12="食材費",ROUNDDOWN(AK12/1.08,0),ROUNDDOWN(AK12/1.1,0)) -> 0 | AM12: =SUM(S12,AB12,AK12) -> 300000 | AN12: =SUM(T12,AC12,AL12) -> 272726 | AX12: =IFERROR(VLOOKUP(D12,リスト①!$B$2:$F$36,5, FALSE), "") -> 987 | AY12: =IF(COUNT(F12:K12)=0, "", SUM(F12:K12)) -> 120 | AZ12: {=IF(ISBLANK(D12),"",IF(ISNUMBER(MATCH(D12,リスト①!$B$37:$B$49,0)),IF(COUNTIF(F12:K12,"〇")>1,"error",INDEX(リスト①!$B$37:$N$49,MATCH(D12,リスト①!$B$37:$B$49,0),IF(COUNTIF(F12:K12,"〇")=0,5,MATCH("〇",F12:K12,0)+4))),AX12*AY12))} -> 118440 | BA12: =AN12 -> 272726 | BB12: =IFERROR(AQ12+AT12+AW12,"") -> 0 | BC12: =IFERROR(IF(BA12-BB12>=0,BA12-BB12,0),"") -> 272726 | BD12: =MIN(AZ12,BC12) -> 118440 | BE12: =BD12 -> 118440
B13: 5 | C13: かきくけこ福祉作業所 | D13: 就労継続支援Ｂ型（食事提供体制加算取得） | E13: 1300000002 | F13: 30 | G13: 30 | H13: 30 | I13: 30 | J13: 30 | K13: 30 | L13: =IF(D13="", "", IF(COUNTIF(リスト①!$B$2:$E$49, D13)>=1, "光熱費", "")) -> 光熱費 | M13: 30000 | N13: 30000 | O13: 30000 | P13: 30000 | Q13: 30000 | R13: 30000 | S13: =SUM(M13:R13) -> 180000 | T13: =ROUNDDOWN(S13/1.1,0) -> 163636 | U13: =IF(D13="", "", VLOOKUP(D13, リスト①!$B$2:$E$49, 3, FALSE)) -> 燃料費 | V13: 20000 | W13: 20000 | X13: 20000 | Y13: 20000 | Z13: 20000 | AA13: 20000 | AB13: =SUM(V13:AA13) -> 120000 | AC13: =IF(U13="食材費",ROUNDDOWN(AB13/1.08,0),ROUNDDOWN(AB13/1.1,0)) -> 109090 | AD13: =IF(D13="", "", VLOOKUP(D13, リスト①!$B$2:$E$49, 4, FALSE)) -> 食材費 | AE13: 40000 | AF13: 40000 | AG13: 40000 | AH13: 40000 | AI13: 40000 | AJ13: 40000 | AK13: =SUM(AE13:AJ13) -> 240000 | AL13: =IF(AD13="食材費",ROUNDDOWN(AK13/1.08,0),ROUNDDOWN(AK13/1.1,0)) -> 222222 | AM13: =SUM(S13,AB13,AK13) -> 540000 | AN13: =SUM(T13,AC13,AL13) -> 494948 | AO13: □□市物価高騰対策補助金 | AP13: 50000 | AQ13: 30000 | AX13: =IFERROR(VLOOKUP(D13,リスト①!$B$2:$F$36,5, FALSE), "") -> 1607 | AY13: =IF(COUNT(F13:K13)=0, "", SUM(F13:K13)) -> 180 | AZ13: {=IF(ISBLANK(D13),"",IF(ISNUMBER(MATCH(D13,リスト①!$B$37:$B$49,0)),IF(COUNTIF(F13:K13,"〇")>1,"error",INDEX(リスト①!$B$37:$N$49,MATCH(D13,リスト①!$B$37:$B$49,0),IF(COUNTIF(F13:K13,"〇")=0,5,MATCH("〇",F13:K13,0)+4))),AX13*AY13))} -> 289260 | BA13: =AN13 -> 494948 | BB13: =IFERROR(AQ13+AT13+AW13,"") -> 30000 | BC13: =IFERROR(IF(BA13-BB13>=0,BA13-BB13,0),"") -> 464948 | BD13: =MIN(AZ13,BC13) -> 289260 | BE13: =BD13 -> 289260
B14: 6 | C14: さしすせそ児童発達支援事業所 | D14: 児童発達支援 | E14: 1310100003 | F14: 15 | G14: 15 | H14: 15 | I14: 15 | J14: 15 | K14: 15 | L14: =IF(D14="", "", IF(COUNTIF(リスト①!$B$2:$E$49, D14)>=1, "光熱費", "")) -> 光熱費 | M14: 50000 | N14: 50000 | O14: 50000 | P14: 50000 | Q14: 50000 | R14: 50000 | S14: =SUM(M14:R14) -> 300000 | T14: =ROUNDDOWN(S14/1.1,0) -> 272727 | U14: =IF(D14="", "", VLOOKUP(D14, リスト①!$B$2:$E$49, 3, FALSE)) -> 燃料費 | V14: 20000 | W14: 20000 | X14: 20000 | Y14: 20000 | Z14: 20000 | AA14: 20000 | AB14: =SUM(V14:AA14) -> 120000 | AC14: =IF(U14="食材費",ROUNDDOWN(AB14/1.08,0),ROUNDDOWN(AB14/1.1,0)) -> 109090 | AD14: =IF(D14="", "", VLOOKUP(D14, リスト①!$B$2:$E$49, 4, FALSE)) -> - | AK14: =SUM(AE14:AJ14) -> 0 | AL14: =IF(AD14="食材費",ROUNDDOWN(AK14/1.08,0),ROUNDDOWN(AK14/1.1,0)) -> 0 | AM14: =SUM(S14,AB14,AK14) -> 420000 | AN14: =SUM(T14,AC14,AL14) -> 381817 | AX14: =IFERROR(VLOOKUP(D14,リスト①!$B$2:$F$36,5, FALSE), "") -> 987 | AY14: =IF(COUNT(F14:K14)=0, "", SUM(F14:K14)) -> 90 | AZ14: {=IF(ISBLANK(D14),"",IF(ISNUMBER(MATCH(D14,リスト①!$B$37:$B$49,0)),IF(COUNTIF(F14:K14,"〇")>1,"error",INDEX(リスト①!$B$37:$N$49,MATCH(D14,リスト①!$B$37:$B$49,0),IF(COUNTIF(F14:K14,"〇")=0,5,MATCH("〇",F14:K14,0)+4))),AX14*AY14))} -> 88830 | BA14: =AN14 -> 381817 | BB14: =IFERROR(AQ14+AT14+AW14,"") -> 0 | BC14: =IFERROR(IF(BA14-BB14>=0,BA14-BB14,0),"") -> 381817 | BD14: =MIN(AZ14,BC14) -> 88830 | BE14: =BD14 -> 88830
B15: 7 | C15: さしすせそ児童発達支援事業所 | D15: 児童発達支援（一体型多機能型） | E15: 1310100004 | F15: 5 | G15: 5 | H15: 5 | I15: 5 | J15: 5 | K15: 5 | L15: =IF(D15="", "", IF(COUNTIF(リスト①!$B$2:$E$49, D15)>=1, "光熱費", "")) -> 光熱費 | M15: 20000 | N15: 20000 | O15: 20000 | P15: 20000 | Q15: 20000 | R15: 20000 | S15: =SUM(M15:R15) -> 120000 | T15: =ROUNDDOWN(S15/1.1,0) -> 109090 | U15: =IF(D15="", "", VLOOKUP(D15, リスト①!$B$2:$E$49, 3, FALSE)) -> 燃料費 | V15: 10000 | W15: 10000 | X15: 10000 | Y15: 10000 | Z15: 10000 | AA15: 10000 | AB15: =SUM(V15:AA15) -> 60000 | AC15: =IF(U15="食材費",ROUNDDOWN(AB15/1.08,0),ROUNDDOWN(AB15/1.1,0)) -> 54545 | AD15: =IF(D15="", "", VLOOKUP(D15, リスト①!$B$2:$E$49, 4, FALSE)) -> - | AK15: =SUM(AE15:AJ15) -> 0 | AL15: =IF(AD15="食材費",ROUNDDOWN(AK15/1.08,0),ROUNDDOWN(AK15/1.1,0)) -> 0 | AM15: =SUM(S15,AB15,AK15) -> 180000 | AN15: =SUM(T15,AC15,AL15) -> 163635 | AX15: =IFERROR(VLOOKUP(D15,リスト①!$B$2:$F$36,5, FALSE), "") -> 987 | AY15: =IF(COUNT(F15:K15)=0, "", SUM(F15:K15)) -> 30 | AZ15: {=IF(ISBLANK(D15),"",IF(ISNUMBER(MATCH(D15,リスト①!$B$37:$B$49,0)),IF(COUNTIF(F15:K15,"〇")>1,"error",INDEX(リスト①!$B$37:$N$49,MATCH(D15,リスト①!$B$37:$B$49,0),IF(COUNTIF(F15:K15,"〇")=0,5,MATCH("〇",F15:K15,0)+4))),AX15*AY15))} -> 29610 | BA15: =AN15 -> 163635 | BB15: =IFERROR(AQ15+AT15+AW15,"") -> 0 | BC15: =IFERROR(IF(BA15-BB15>=0,BA15-BB15,0),"") -> 163635 | BD15: =MIN(AZ15,BC15) -> 29610 | BE15: =BD15 -> 29610
B16: 8 | C16: さしすせそ放課後等デイサービス事業所 | D16: 放課後等デイサービス（一体型多機能型） | E16: 1310100004 | F16: 5 | G16: 5 | H16: 5 | I16: 5 | J16: 5 | K16: 5 | L16: =IF(D16="", "", IF(COUNTIF(リスト①!$B$2:$E$49, D16)>=1, "光熱費", "")) -> 光熱費 | M16: 20000 | N16: 20000 | O16: 20000 | P16: 20000 | Q16: 20000 | R16: 20000 | S16: =SUM(M16:R16) -> 120000 | T16: =ROUNDDOWN(S16/1.1,0) -> 109090 | U16: =IF(D16="", "", VLOOKUP(D16, リスト①!$B$2:$E$49, 3, FALSE)) -> 燃料費 | V16: 10000 | W16: 10000 | X16: 10000 | Y16: 10000 | Z16: 10000 | AA16: 10000 | AB16: =SUM(V16:AA16) -> 60000 | AC16: =IF(U16="食材費",ROUNDDOWN(AB16/1.08,0),ROUNDDOWN(AB16/1.1,0)) -> 54545 | AD16: =IF(D16="", "", VLOOKUP(D16, リスト①!$B$2:$E$49, 4, FALSE)) -> - | AK16: =SUM(AE16:AJ16) -> 0 | AL16: =IF(AD16="食材費",ROUNDDOWN(AK16/1.08,0),ROUNDDOWN(AK16/1.1,0)) -> 0 | AM16: =SUM(S16,AB16,AK16) -> 180000 | AN16: =SUM(T16,AC16,AL16) -> 163635 | AX16: =IFERROR(VLOOKUP(D16,リスト①!$B$2:$F$36,5, FALSE), "") -> 987 | AY16: =IF(COUNT(F16:K16)=0, "", SUM(F16:K16)) -> 30 | AZ16: {=IF(ISBLANK(D16),"",IF(ISNUMBER(MATCH(D16,リスト①!$B$37:$B$49,0)),IF(COUNTIF(F16:K16,"〇")>1,"error",INDEX(リスト①!$B$37:$N$49,MATCH(D16,リスト①!$B$37:$B$49,0),IF(COUNTIF(F16:K16,"〇")=0,5,MATCH("〇",F16:K16,0)+4))),AX16*AY16))} -> 29610 | BA16: =AN16 -> 163635 | BB16: =IFERROR(AQ16+AT16+AW16,"") -> 0 | BC16: =IFERROR(IF(BA16-BB16>=0,BA16-BB16,0),"") -> 163635 | BD16: =MIN(AZ16,BC16) -> 29610 | BE16: =BD16 -> 29610
B17: 9 | C17: たちつてと訪問サービス | D17: 重度訪問介護 | E17: 1310100005 | G17: 〇 | L17: =IF(D17="", "", IF(COUNTIF(リスト①!$B$2:$E$49, D17)>=1, "光熱費", "")) -> 光熱費 | N17: 10000 | O17: 10000 | P17: 10000 | Q17: 10000 | R17: 10000 | S17: =SUM(M17:R17) -> 50000 | T17: =ROUNDDOWN(S17/1.1,0) -> 45454 | U17: =IF(D17="", "", VLOOKUP(D17, リスト①!$B$2:$E$49, 3, FALSE)) -> 燃料費 | W17: 10000 | X17: 10000 | Y17: 10000 | Z17: 10000 | AA17: 10000 | AB17: =SUM(V17:AA17) -> 50000 | AC17: =IF(U17="食材費",ROUNDDOWN(AB17/1.08,0),ROUNDDOWN(AB17/1.1,0)) -> 45454 | AD17: =IF(D17="", "", VLOOKUP(D17, リスト①!$B$2:$E$49, 4, FALSE)) -> - | AK17: =SUM(AE17:AJ17) -> 0 | AL17: =IF(AD17="食材費",ROUNDDOWN(AK17/1.08,0),ROUNDDOWN(AK17/1.1,0)) -> 0 | AM17: =SUM(S17,AB17,AK17) -> 100000 | AN17: =SUM(T17,AC17,AL17) -> 90908 | AX17: =IFERROR(VLOOKUP(D17,リスト①!$B$2:$F$36,5, FALSE), "") | AY17: =IF(COUNT(F17:K17)=0, "", SUM(F17:K17)) | AZ17: {=IF(ISBLANK(D17),"",IF(ISNUMBER(MATCH(D17,リスト①!$B$37:$B$49,0)),IF(COUNTIF(F17:K17,"〇")>1,"error",INDEX(リスト①!$B$37:$N$49,MATCH(D17,リスト①!$B$37:$B$49,0),IF(COUNTIF(F17:K17,"〇")=0,5,MATCH("〇",F17:K17,0)+4))),AX17*AY17))} -> 24590 | BA17: =AN17 -> 90908 | BB17: =IFERROR(AQ17+AT17+AW17,"") -> 0 | BC17: =IFERROR(IF(BA17-BB17>=0,BA17-BB17,0),"") -> 90908 | BD17: =MIN(AZ17,BC17) -> 24590 | BE17: =BD17 -> 24590
B18: 10 | C18: たちつてと訪問サービス | D18: 居宅介護 | E18: 1310100005 | F18: 〇 | G18: 〇 | H18: 〇 | I18: 〇 | J18: 〇 | K18: 〇 | L18: =IF(D18="", "", IF(COUNTIF(リスト①!$B$2:$E$49, D18)>=1, "光熱費", "")) -> 光熱費 | M18: 10000 | N18: 10000 | O18: 10000 | P18: 10000 | Q18: 10000 | R18: 10000 | S18: =SUM(M18:R18) -> 60000 | T18: =ROUNDDOWN(S18/1.1,0) -> 54545 | U18: =IF(D18="", "", VLOOKUP(D18, リスト①!$B$2:$E$49, 3, FALSE)) -> 燃料費 | V18: 10000 | W18: 10000 | X18: 10000 | Y18: 10000 | Z18: 10000 | AA18: 10000 | AB18: =SUM(V18:AA18) -> 60000 | AC18: =IF(U18="食材費",ROUNDDOWN(AB18/1.08,0),ROUNDDOWN(AB18/1.1,0)) -> 54545 | AD18: =IF(D18="", "", VLOOKUP(D18, リスト①!$B$2:$E$49, 4, FALSE)) -> - | AK18: =SUM(AE18:AJ18) -> 0 | AL18: =IF(AD18="食材費",ROUNDDOWN(AK18/1.08,0),ROUNDDOWN(AK18/1.1,0)) -> 0 | AM18: =SUM(S18,AB18,AK18) -> 120000 | AN18: =SUM(T18,AC18,AL18) -> 109090 | AX18: =IFERROR(VLOOKUP(D18,リスト①!$B$2:$F$36,5, FALSE), "") | AZ18: {=IF(ISBLANK(D18),"",IF(ISNUMBER(MATCH(D18,リスト①!$B$37:$B$49,0)),IF(COUNTIF(F18:K18,"〇")>1,"error",INDEX(リスト①!$B$37:$N$49,MATCH(D18,リスト①!$B$37:$B$49,0),IF(COUNTIF(F18:K18,"〇")=0,5,MATCH("〇",F18:K18,0)+4))),AX18*AY18))} -> error | BA18: =AN18 -> 109090 | BB18: =IFERROR(AQ18+AT18+AW18,"") -> 0 | BC18: =IFERROR(IF(BA18-BB18>=0,BA18-BB18,0),"") -> 109090 | BD18: =MIN(AZ18,BC18) -> 109090 | BE18: =BD18 -> 109090
C19: なにぬねの相談支援 | D19: 計画相談支援 | E19: 1310100006 | L19: =IF(D19="", "", IF(COUNTIF(リスト①!$B$2:$E$49, D19)>=1, "光熱費", "")) -> 光熱費 | M19: 10000 | N19: 10000 | O19: 10000 | P19: 10000 | Q19: 10000 | R19: 10000 | S19: =SUM(M19:R19) -> 60000 | T19: =ROUNDDOWN(S19/1.1,0) -> 54545 | U19: =IF(D19="", "", VLOOKUP(D19, リスト①!$B$2:$E$49, 3, FALSE)) -> 燃料費 | AB19: =SUM(V19:AA19) -> 0 | AC19: =IF(U19="食材費",ROUNDDOWN(AB19/1.08,0),ROUNDDOWN(AB19/1.1,0)) -> 0 | AD19: =IF(D19="", "", VLOOKUP(D19, リスト①!$B$2:$E$49, 4, FALSE)) -> - | AK19: =SUM(AE19:AJ19) -> 0 | AL19: =IF(AD19="食材費",ROUNDDOWN(AK19/1.08,0),ROUNDDOWN(AK19/1.1,0)) -> 0 | AM19: =SUM(S19,AB19,AK19) -> 60000 | AN19: =SUM(T19,AC19,AL19) -> 54545 | AX19: =IFERROR(VLOOKUP(D19,リスト①!$B$2:$F$36,5, FALSE), "") | AZ19: {=IF(ISBLANK(D19),"",IF(ISNUMBER(MATCH(D19,リスト①!$B$37:$B$49,0)),IF(COUNTIF(F19:K19,"〇")>1,"error",INDEX(リスト①!$B$37:$N$49,MATCH(D19,リスト①!$B$37:$B$49,0),IF(COUNTIF(F19:K19,"〇")=0,5,MATCH("〇",F19:K19,0)+4))),AX19*AY19))} -> 11800 | BA19: =AN19 -> 54545 | BB19: =IFERROR(AQ19+AT19+AW19,"") -> 0 | BC19: =IFERROR(IF(BA19-BB19>=0,BA19-BB19,0),"") -> 54545 | BD19: =MIN(AZ19,BC19) -> 11800 | BE19: =BD19 -> 11800
L20: =IF(D20="", "", IF(COUNTIF(リスト①!$B$2:$E$49, D20)>=1, "光熱費", "")) | S20: =SUM(M20:R20) -> 0 | T20: =ROUNDDOWN(S20/1.1,0) -> 0 | U20: =IF(D20="", "", VLOOKUP(D20, リスト①!$B$2:$E$49, 3, FALSE)) | AB20: =SUM(V20:AA20) -> 0 | AC20: =IF(U20="食材費",ROUNDDOWN(AB20/1.08,0),ROUNDDOWN(AB20/1.1,0)) -> 0 | AD20: =IF(D20="", "", VLOOKUP(D20, リスト①!$B$2:$E$49, 4, FALSE)) | AK20: =SUM(AE20:AJ20) -> 0 | AL20: =IF(AD20="食材費",ROUNDDOWN(AK20/1.08,0),ROUNDDOWN(AK20/1.1,0)) -> 0 | AM20: =SUM(S20,AB20,AK20) -> 0 | AN20: =SUM(T20,AC20,AL20) -> 0 | AX20: =IFERROR(VLOOKUP(D20,リスト①!$B$2:$F$36,5, FALSE), "") | AZ20: {=IF(ISBLANK(D20),"",IF(ISNUMBER(MATCH(D20,リスト①!$B$37:$B$49,0)),IF(COUNTIF(F20:K20,"〇")>1,"error",INDEX(リスト①!$B$37:$N$49,MATCH(D20,リスト①!$B$37:$B$49,0),IF(COUNTIF(F20:K20,"〇")=0,5,MATCH("〇",F20:K20,0)+4))),AX20*AY20))} | BA20: =AN20 -> 0 | BB20: =IFERROR(AQ20+AT20+AW20,"") -> 0 | BC20: =IFERROR(IF(BA20-BB20>=0,BA20-BB20,0),"") -> 0 | BD20: =MIN(AZ20,BC20) -> 0 | BE20: =BD20 -> 0
L21: =IF(D21="", "", IF(COUNTIF(リスト①!$B$2:$E$49, D21)>=1, "光熱費", "")) | S21: =SUM(M21:R21) -> 0 | T21: =ROUNDDOWN(S21/1.1,0) -> 0 | U21: =IF(D21="", "", VLOOKUP(D21, リスト①!$B$2:$E$49, 3, FALSE)) | AB21: =SUM(V21:AA21) -> 0 | AC21: =IF(U21="食材費",ROUNDDOWN(AB21/1.08,0),ROUNDDOWN(AB21/1.1,0)) -> 0 | AD21: =IF(D21="", "", VLOOKUP(D21, リスト①!$B$2:$E$49, 4, FALSE)) | AK21: =SUM(AE21:AJ21) -> 0 | AL21: =IF(AD21="食材費",ROUNDDOWN(AK21/1.08,0),ROUNDDOWN(AK21/1.1,0)) -> 0 | AM21: =SUM(S21,AB21,AK21) -> 0 | AN21: =SUM(T21,AC21,AL21) -> 0 | AX21: =IFERROR(VLOOKUP(D21,リスト①!$B$2:$F$36,5, FALSE), "") | AZ21: {=IF(ISBLANK(D21),"",IF(ISNUMBER(MATCH(D21,リスト①!$B$37:$B$49,0)),IF(COUNTIF(F21:K21,"〇")>1,"error",INDEX(リスト①!$B$37:$N$49,MATCH(D21,リスト①!$B$37:$B$49,0),IF(COUNTIF(F21:K21,"〇")=0,5,MATCH("〇",F21:K21,0)+4))),AX21*AY21))} | BA21: =AN21 -> 0 | BB21: =IFERROR(AQ21+AT21+AW21,"") -> 0 | BC21: =IFERROR(IF(BA21-BB21>=0,BA21-BB21,0),"") -> 0 | BD21: =MIN(AZ21,BC21) -> 0 | BE21: =BD21 -> 0
L22: =IF(D22="", "", IF(COUNTIF(リスト①!$B$2:$E$49, D22)>=1, "光熱費", "")) | S22: =SUM(M22:R22) -> 0 | T22: =ROUNDDOWN(S22/1.1,0) -> 0 | U22: =IF(D22="", "", VLOOKUP(D22, リスト①!$B$2:$E$49, 3, FALSE)) | AB22: =SUM(V22:AA22) -> 0 | AC22: =IF(U22="食材費",ROUNDDOWN(AB22/1.08,0),ROUNDDOWN(AB22/1.1,0)) -> 0 | AD22: =IF(D22="", "", VLOOKUP(D22, リスト①!$B$2:$E$49, 4, FALSE)) | AK22: =SUM(AE22:AJ22) -> 0 | AL22: =IF(AD22="食材費",ROUNDDOWN(AK22/1.08,0),ROUNDDOWN(AK22/1.1,0)) -> 0 | AM22: =SUM(S22,AB22,AK22) -> 0 | AN22: =SUM(T22,AC22,AL22) -> 0 | AX22: =IFERROR(VLOOKUP(D22,リスト①!$B$2:$F$36,5, FALSE), "") | AZ22: {=IF(ISBLANK(D22),"",IF(ISNUMBER(MATCH(D22,リスト①!$B$37:$B$49,0)),IF(COUNTIF(F22:K22,"〇")>1,"error",INDEX(リスト①!$B$37:$N$49,MATCH(D22,リスト①!$B$37:$B$49,0),IF(COUNTIF(F22:K22,"〇")=0,5,MATCH("〇",F22:K22,0)+4))),AX22*AY22))} | BA22: =AN22 -> 0 | BB22: =IFERROR(AQ22+AT22+AW22,"") -> 0 | BC22: =IFERROR(IF(BA22-BB22>=0,BA22-BB22,0),"") -> 0 | BD22: =MIN(AZ22,BC22) -> 0 | BE22: =BD22 -> 0
L23: =IF(D23="", "", IF(COUNTIF(リスト①!$B$2:$E$49, D23)>=1, "光熱費", "")) | S23: =SUM(M23:R23) -> 0 | T23: =ROUNDDOWN(S23/1.1,0) -> 0 | U23: =IF(D23="", "", VLOOKUP(D23, リスト①!$B$2:$E$49, 3, FALSE)) | AB23: =SUM(V23:AA23) -> 0 | AC23: =IF(U23="食材費",ROUNDDOWN(AB23/1.08,0),ROUNDDOWN(AB23/1.1,0)) -> 0 | AD23: =IF(D23="", "", VLOOKUP(D23, リスト①!$B$2:$E$49, 4, FALSE)) | AK23: =SUM(AE23:AJ23) -> 0 | AL23: =IF(AD23="食材費",ROUNDDOWN(AK23/1.08,0),ROUNDDOWN(AK23/1.1,0)) -> 0 | AM23: =SUM(S23,AB23,AK23) -> 0 | AN23: =SUM(T23,AC23,AL23) -> 0 | AX23: =IFERROR(VLOOKUP(D23,リスト①!$B$2:$F$36,5, FALSE), "") | AZ23: {=IF(ISBLANK(D23),"",IF(ISNUMBER(MATCH(D23,リスト①!$B$37:$B$49,0)),IF(COUNTIF(F23:K23,"〇")>1,"error",INDEX(リスト①!$B$37:$N$49,MATCH(D23,リスト①!$B$37:$B$49,0),IF(COUNTIF(F23:K23,"〇")=0,5,MATCH("〇",F23:K23,0)+4))),AX23*AY23))} | BA23: =AN23 -> 0 | BB23: =IFERROR(AQ23+AT23+AW23,"") -> 0 | BC23: =IFERROR(IF(BA23-BB23>=0,BA23-BB23,0),"") -> 0 | BD23: =MIN(AZ23,BC23) -> 0 | BE23: =BD23 -> 0
L24: =IF(D24="", "", IF(COUNTIF(リスト①!$B$2:$E$49, D24)>=1, "光熱費", "")) | S24: =SUM(M24:R24) -> 0 | T24: =ROUNDDOWN(S24/1.1,0) -> 0 | U24: =IF(D24="", "", VLOOKUP(D24, リスト①!$B$2:$E$49, 3, FALSE)) | AB24: =SUM(V24:AA24) -> 0 | AC24: =IF(U24="食材費",ROUNDDOWN(AB24/1.08,0),ROUNDDOWN(AB24/1.1,0)) -> 0 | AD24: =IF(D24="", "", VLOOKUP(D24, リスト①!$B$2:$E$49, 4, FALSE)) | AK24: =SUM(AE24:AJ24) -> 0 | AL24: =IF(AD24="食材費",ROUNDDOWN(AK24/1.08,0),ROUNDDOWN(AK24/1.1,0)) -> 0 | AM24: =SUM(S24,AB24,AK24) -> 0 | AN24: =SUM(T24,AC24,AL24) -> 0 | AX24: =IFERROR(VLOOKUP(D24,リスト①!$B$2:$F$36,5, FALSE), "") | AZ24: {=IF(ISBLANK(D24),"",IF(ISNUMBER(MATCH(D24,リスト①!$B$37:$B$49,0)),IF(COUNTIF(F24:K24,"〇")>1,"error",INDEX(リスト①!$B$37:$N$49,MATCH(D24,リスト①!$B$37:$B$49,0),IF(COUNTIF(F24:K24,"〇")=0,5,MATCH("〇",F24:K24,0)+4))),AX24*AY24))} | BA24: =AN24 -> 0 | BB24: =IFERROR(AQ24+AT24+AW24,"") -> 0 | BC24: =IFERROR(IF(BA24-BB24>=0,BA24-BB24,0),"") -> 0 | BD24: =MIN(AZ24,BC24) -> 0 | BE24: =BD24 -> 0
L25: =IF(D25="", "", IF(COUNTIF(リスト①!$B$2:$E$49, D25)>=1, "光熱費", "")) | S25: =SUM(M25:R25) -> 0 | T25: =ROUNDDOWN(S25/1.1,0) -> 0 | U25: =IF(D25="", "", VLOOKUP(D25, リスト①!$B$2:$E$49, 3, FALSE)) | AB25: =SUM(V25:AA25) -> 0 | AC25: =IF(U25="食材費",ROUNDDOWN(AB25/1.08,0),ROUNDDOWN(AB25/1.1,0)) -> 0 | AD25: =IF(D25="", "", VLOOKUP(D25, リスト①!$B$2:$E$49, 4, FALSE)) | AK25: =SUM(AE25:AJ25) -> 0 | AL25: =IF(AD25="食材費",ROUNDDOWN(AK25/1.08,0),ROUNDDOWN(AK25/1.1,0)) -> 0 | AM25: =SUM(S25,AB25,AK25) -> 0 | AN25: =SUM(T25,AC25,AL25) -> 0 | AX25: =IFERROR(VLOOKUP(D25,リスト①!$B$2:$F$36,5, FALSE), "") | AZ25: {=IF(ISBLANK(D25),"",IF(ISNUMBER(MATCH(D25,リスト①!$B$37:$B$49,0)),IF(COUNTIF(F25:K25,"〇")>1,"error",INDEX(リスト①!$B$37:$N$49,MATCH(D25,リスト①!$B$37:$B$49,0),IF(COUNTIF(F25:K25,"〇")=0,5,MATCH("〇",F25:K25,0)+4))),AX25*AY25))} | BA25: =AN25 -> 0 | BB25: =IFERROR(AQ25+AT25+AW25,"") -> 0 | BC25: =IFERROR(IF(BA25-BB25>=0,BA25-BB25,0),"") -> 0 | BD25: =MIN(AZ25,BC25) -> 0 | BE25: =BD25 -> 0
L26: =IF(D26="", "", IF(COUNTIF(リスト①!$B$2:$E$49, D26)>=1, "光熱費", "")) | S26: =SUM(M26:R26) -> 0 | T26: =ROUNDDOWN(S26/1.1,0) -> 0 | U26: =IF(D26="", "", VLOOKUP(D26, リスト①!$B$2:$E$49, 3, FALSE)) | AB26: =SUM(V26:AA26) -> 0 | AC26: =IF(U26="食材費",ROUNDDOWN(AB26/1.08,0),ROUNDDOWN(AB26/1.1,0)) -> 0 | AD26: =IF(D26="", "", VLOOKUP(D26, リスト①!$B$2:$E$49, 4, FALSE)) | AK26: =SUM(AE26:AJ26) -> 0 | AL26: =IF(AD26="食材費",ROUNDDOWN(AK26/1.08,0),ROUNDDOWN(AK26/1.1,0)) -> 0 | AM26: =SUM(S26,AB26,AK26) -> 0 | AN26: =SUM(T26,AC26,AL26) -> 0 | AX26: =IFERROR(VLOOKUP(D26,リスト①!$B$2:$F$36,5, FALSE), "") | AZ26: {=IF(ISBLANK(D26),"",IF(ISNUMBER(MATCH(D26,リスト①!$B$37:$B$49,0)),IF(COUNTIF(F26:K26,"〇")>1,"error",INDEX(リスト①!$B$37:$N$49,MATCH(D26,リスト①!$B$37:$B$49,0),IF(COUNTIF(F26:K26,"〇")=0,5,MATCH("〇",F26:K26,0)+4))),AX26*AY26))} | BA26: =AN26 -> 0 | BB26: =IFERROR(AQ26+AT26+AW26,"") -> 0 | BC26: =IFERROR(IF(BA26-BB26>=0,BA26-BB26,0),"") -> 0 | BD26: =MIN(AZ26,BC26) -> 0 | BE26: =BD26 -> 0
L27: =IF(D27="", "", IF(COUNTIF(リスト①!$B$2:$E$49, D27)>=1, "光熱費", "")) | S27: =SUM(M27:R27) -> 0 | T27: =ROUNDDOWN(S27/1.1,0) -> 0 | U27: =IF(D27="", "", VLOOKUP(D27, リスト①!$B$2:$E$49, 3, FALSE)) | AB27: =SUM(V27:AA27) -> 0 | AC27: =IF(U27="食材費",ROUNDDOWN(AB27/1.08,0),ROUNDDOWN(AB27/1.1,0)) -> 0 | AD27: =IF(D27="", "", VLOOKUP(D27, リスト①!$B$2:$E$49, 4, FALSE)) | AK27: =SUM(AE27:AJ27) -> 0 | AL27: =IF(AD27="食材費",ROUNDDOWN(AK27/1.08,0),ROUNDDOWN(AK27/1.1,0)) -> 0 | AM27: =SUM(S27,AB27,AK27) -> 0 | AN27: =SUM(T27,AC27,AL27) -> 0 | AX27: =IFERROR(VLOOKUP(D27,リスト①!$B$2:$F$36,5, FALSE), "") | AZ27: {=IF(ISBLANK(D27),"",IF(ISNUMBER(MATCH(D27,リスト①!$B$37:$B$49,0)),IF(COUNTIF(F27:K27,"〇")>1,"error",INDEX(リスト①!$B$37:$N$49,MATCH(D27,リスト①!$B$37:$B$49,0),IF(COUNTIF(F27:K27,"〇")=0,5,MATCH("〇",F27:K27,0)+4))),AX27*AY27))} | BA27: =AN27 -> 0 | BB27: =IFERROR(AQ27+AT27+AW27,"") -> 0 | BC27: =IFERROR(IF(BA27-BB27>=0,BA27-BB27,0),"") -> 0 | BD27: =MIN(AZ27,BC27) -> 0 | BE27: =BD27 -> 0
L28: =IF(D28="", "", IF(COUNTIF(リスト①!$B$2:$E$49, D28)>=1, "光熱費", "")) | S28: =SUM(M28:R28) -> 0 | T28: =ROUNDDOWN(S28/1.1,0) -> 0 | U28: =IF(D28="", "", VLOOKUP(D28, リスト①!$B$2:$E$49, 3, FALSE)) | AB28: =SUM(V28:AA28) -> 0 | AC28: =IF(U28="食材費",ROUNDDOWN(AB28/1.08,0),ROUNDDOWN(AB28/1.1,0)) -> 0 | AD28: =IF(D28="", "", VLOOKUP(D28, リスト①!$B$2:$E$49, 4, FALSE)) | AK28: =SUM(AE28:AJ28) -> 0 | AL28: =IF(AD28="食材費",ROUNDDOWN(AK28/1.08,0),ROUNDDOWN(AK28/1.1,0)) -> 0 | AM28: =SUM(S28,AB28,AK28) -> 0 | AN28: =SUM(T28,AC28,AL28) -> 0 | AX28: =IFERROR(VLOOKUP(D28,リスト①!$B$2:$F$36,5, FALSE), "") | AZ28: {=IF(ISBLANK(D28),"",IF(ISNUMBER(MATCH(D28,リスト①!$B$37:$B$49,0)),IF(COUNTIF(F28:K28,"〇")>1,"error",INDEX(リスト①!$B$37:$N$49,MATCH(D28,リスト①!$B$37:$B$49,0),IF(COUNTIF(F28:K28,"〇")=0,5,MATCH("〇",F28:K28,0)+4))),AX28*AY28))} | BA28: =AN28 -> 0 | BB28: =IFERROR(AQ28+AT28+AW28,"") -> 0 | BC28: =IFERROR(IF(BA28-BB28>=0,BA28-BB28,0),"") -> 0 | BD28: =MIN(AZ28,BC28) -> 0 | BE28: =BD28 -> 0
L29: =IF(D29="", "", IF(COUNTIF(リスト①!$B$2:$E$49, D29)>=1, "光熱費", "")) | S29: =SUM(M29:R29) -> 0 | T29: =ROUNDDOWN(S29/1.1,0) -> 0 | U29: =IF(D29="", "", VLOOKUP(D29, リスト①!$B$2:$E$49, 3, FALSE)) | AB29: =SUM(V29:AA29) -> 0 | AC29: =IF(U29="食材費",ROUNDDOWN(AB29/1.08,0),ROUNDDOWN(AB29/1.1,0)) -> 0 | AD29: =IF(D29="", "", VLOOKUP(D29, リスト①!$B$2:$E$49, 4, FALSE)) | AK29: =SUM(AE29:AJ29) -> 0 | AL29: =IF(AD29="食材費",ROUNDDOWN(AK29/1.08,0),ROUNDDOWN(AK29/1.1,0)) -> 0 | AM29: =SUM(S29,AB29,AK29) -> 0 | AN29: =SUM(T29,AC29,AL29) -> 0 | AX29: =IFERROR(VLOOKUP(D29,リスト①!$B$2:$F$36,5, FALSE), "") | AZ29: {=IF(ISBLANK(D29),"",IF(ISNUMBER(MATCH(D29,リスト①!$B$37:$B$49,0)),IF(COUNTIF(F29:K29,"〇")>1,"error",INDEX(リスト①!$B$37:$N$49,MATCH(D29,リスト①!$B$37:$B$49,0),IF(COUNTIF(F29:K29,"〇")=0,5,MATCH("〇",F29:K29,0)+4))),AX29*AY29))} | BA29: =AN29 -> 0 | BB29: =IFERROR(AQ29+AT29+AW29,"") -> 0 | BC29: =IFERROR(IF(BA29-BB29>=0,BA29-BB29,0),"") -> 0 | BD29: =MIN(AZ29,BC29) -> 0 | BE29: =BD29 -> 0
L30: =IF(D30="", "", IF(COUNTIF(リスト①!$B$2:$E$49, D30)>=1, "光熱費", "")) | S30: =SUM(M30:R30) -> 0 | T30: =ROUNDDOWN(S30/1.1,0) -> 0 | U30: =IF(D30="", "", VLOOKUP(D30, リスト①!$B$2:$E$49, 3, FALSE)) | AB30: =SUM(V30:AA30) -> 0 | AC30: =IF(U30="食材費",ROUNDDOWN(AB30/1.08,0),ROUNDDOWN(AB30/1.1,0)) -> 0 | AD30: =IF(D30="", "", VLOOKUP(D30, リスト①!$B$2:$E$49, 4, FALSE)) | AK30: =SUM(AE30:AJ30) -> 0 | AL30: =IF(AD30="食材費",ROUNDDOWN(AK30/1.08,0),ROUNDDOWN(AK30/1.1,0)) -> 0 | AM30: =SUM(S30,AB30,AK30) -> 0 | AN30: =SUM(T30,AC30,AL30) -> 0 | AX30: =IFERROR(VLOOKUP(D30,リスト①!$B$2:$F$36,5, FALSE), "") | AZ30: {=IF(ISBLANK(D30),"",IF(ISNUMBER(MATCH(D30,リスト①!$B$37:$B$49,0)),IF(COUNTIF(F30:K30,"〇")>1,"error",INDEX(リスト①!$B$37:$N$49,MATCH(D30,リスト①!$B$37:$B$49,0),IF(COUNTIF(F30:K30,"〇")=0,5,MATCH("〇",F30:K30,0)+4))),AX30*AY30))} | BA30: =AN30 -> 0 | BB30: =IFERROR(AQ30+AT30+AW30,"") -> 0 | BC30: =IFERROR(IF(BA30-BB30>=0,BA30-BB30,0),"") -> 0 | BD30: =MIN(AZ30,BC30) -> 0 | BE30: =BD30 -> 0
L31: =IF(D31="", "", IF(COUNTIF(リスト①!$B$2:$E$49, D31)>=1, "光熱費", "")) | S31: =SUM(M31:R31) -> 0 | T31: =ROUNDDOWN(S31/1.1,0) -> 0 | U31: =IF(D31="", "", VLOOKUP(D31, リスト①!$B$2:$E$49, 3, FALSE)) | AB31: =SUM(V31:AA31) -> 0 | AC31: =IF(U31="食材費",ROUNDDOWN(AB31/1.08,0),ROUNDDOWN(AB31/1.1,0)) -> 0 | AD31: =IF(D31="", "", VLOOKUP(D31, リスト①!$B$2:$E$49, 4, FALSE)) | AK31: =SUM(AE31:AJ31) -> 0 | AL31: =IF(AD31="食材費",ROUNDDOWN(AK31/1.08,0),ROUNDDOWN(AK31/1.1,0)) -> 0 | AM31: =SUM(S31,AB31,AK31) -> 0 | AN31: =SUM(T31,AC31,AL31) -> 0 | AX31: =IFERROR(VLOOKUP(D31,リスト①!$B$2:$F$36,5, FALSE), "") | AZ31: {=IF(ISBLANK(D31),"",IF(ISNUMBER(MATCH(D31,リスト①!$B$37:$B$49,0)),IF(COUNTIF(F31:K31,"〇")>1,"error",INDEX(リスト①!$B$37:$N$49,MATCH(D31,リスト①!$B$37:$B$49,0),IF(COUNTIF(F31:K31,"〇")=0,5,MATCH("〇",F31:K31,0)+4))),AX31*AY31))} | BA31: =AN31 -> 0 | BB31: =IFERROR(AQ31+AT31+AW31,"") -> 0 | BC31: =IFERROR(IF(BA31-BB31>=0,BA31-BB31,0),"") -> 0 | BD31: =MIN(AZ31,BC31) -> 0 | BE31: =BD31 -> 0
... L39: =IF(D39="", "", IF(COUNTIF(リスト①!$B$2:$E$49, D39)>=1, "光熱費", "")) | S39: =SUM(M39:R39) -> 0 | T39: =ROUNDDOWN(S39/1.1,0) -> 0 | U39: =IF(D39="", "", VLOOKUP(D39, リスト①!$B$2:$E$49, 3, FALSE)) | AB39: =SUM(V39:AA39) -> 0 | AC39: =IF(U39="食材費",ROUNDDOWN(AB39/1.08,0),ROUNDDOWN(AB39/1.1,0)) -> 0 | AD39: =IF(D39="", "", VLOOKUP(D39, リスト①!$B$2:$E$49, 4, FALSE)) | AK39: =SUM(AE39:AJ39) -> 0 | AL39: =IF(AD39="食材費",ROUNDDOWN(AK39/1.08,0),ROUNDDOWN(AK39/1.1,0)) -> 0 | AM39: =SUM(S39,AB39,AK39) -> 0 | AN39: =SUM(T39,AC39,AL39) -> 0 | AX39: =IFERROR(VLOOKUP(D39,リスト①!$B$2:$F$36,5, FALSE), "") | AZ39: {=IF(ISBLANK(D39),"",IF(ISNUMBER(MATCH(D39,リスト①!$B$37:$B$49,0)),IF(COUNTIF(F39:K39,"〇")>1,"error",INDEX(リスト①!$B$37:$N$49,MATCH(D39,リスト①!$B$37:$B$49,0),IF(COUNTIF(F39:K39,"〇")=0,5,MATCH("〇",F39:K39,0)+4))),AX39*AY39))} | BA39: =AN39 -> 0 | BB39: =IFERROR(AQ39+AT39+AW39,"") -> 0 | BC39: =IFERROR(IF(BA39-BB39>=0,BA39-BB39,0),"") -> 0 | BD39: =MIN(AZ39,BC39) -> 0 | BE39: =BD39 -> 0
L40: =IF(D40="", "", IF(COUNTIF(リスト①!$B$2:$E$49, D40)>=1, "光熱費", "")) | S40: =SUM(M40:R40) -> 0 | T40: =ROUNDDOWN(S40/1.1,0) -> 0 | U40: =IF(D40="", "", VLOOKUP(D40, リスト①!$B$2:$E$49, 3, FALSE)) | AB40: =SUM(V40:AA40) -> 0 | AC40: =IF(U40="食材費",ROUNDDOWN(AB40/1.08,0),ROUNDDOWN(AB40/1.1,0)) -> 0 | AD40: =IF(D40="", "", VLOOKUP(D40, リスト①!$B$2:$E$49, 4, FALSE)) | AK40: =SUM(AE40:AJ40) -> 0 | AL40: =IF(AD40="食材費",ROUNDDOWN(AK40/1.08,0),ROUNDDOWN(AK40/1.1,0)) -> 0 | AM40: =SUM(S40,AB40,AK40) -> 0 | AN40: =SUM(T40,AC40,AL40) -> 0 | AX40: =IFERROR(VLOOKUP(D40,リスト①!$B$2:$F$36,5, FALSE), "") | AY40: =IF(COUNT(F40:K40)=0, "", SUM(F40:K40)) | AZ40: {=IF(ISBLANK(D40),"",IF(ISNUMBER(MATCH(D40,リスト①!$B$37:$B$49,0)),IF(COUNTIF(F40:K40,"〇")>1,"error",INDEX(リスト①!$B$37:$N$49,MATCH(D40,リスト①!$B$37:$B$49,0),IF(COUNTIF(F40:K40,"〇")=0,5,MATCH("〇",F40:K40,0)+4))),AX40*AY40))} | BA40: =AN40 -> 0 | BB40: =IFERROR(AQ40+AT40+AW40,"") -> 0 | BC40: =IFERROR(IF(BA40-BB40>=0,BA40-BB40,0),"") -> 0 | BD40: =MIN(AZ40,BC40) -> 0 | BE40: =BD40 -> 0
L41: =IF(D41="", "", IF(COUNTIF(リスト①!$B$2:$E$49, D41)>=1, "光熱費", "")) | S41: =SUM(M41:R41) -> 0 | T41: =ROUNDDOWN(S41/1.1,0) -> 0 | U41: =IF(D41="", "", VLOOKUP(D41, リスト①!$B$2:$E$49, 3, FALSE)) | AB41: =SUM(V41:AA41) -> 0 | AC41: =IF(U41="食材費",ROUNDDOWN(AB41/1.08,0),ROUNDDOWN(AB41/1.1,0)) -> 0 | AD41: =IF(D41="", "", VLOOKUP(D41, リスト①!$B$2:$E$49, 4, FALSE)) | AK41: =SUM(AE41:AJ41) -> 0 | AL41: =IF(AD41="食材費",ROUNDDOWN(AK41/1.08,0),ROUNDDOWN(AK41/1.1,0)) -> 0 | AM41: =SUM(S41,AB41,AK41) -> 0 | AN41: =SUM(T41,AC41,AL41) -> 0 | AX41: =IFERROR(VLOOKUP(D41,リスト①!$B$2:$F$36,5, FALSE), "") | AY41: =IF(COUNT(F41:K41)=0, "", SUM(F41:K41)) | AZ41: {=IF(ISBLANK(D41),"",IF(ISNUMBER(MATCH(D41,リスト①!$B$37:$B$49,0)),IF(COUNTIF(F41:K41,"〇")>1,"error",INDEX(リスト①!$B$37:$N$49,MATCH(D41,リスト①!$B$37:$B$49,0),IF(COUNTIF(F41:K41,"〇")=0,5,MATCH("〇",F41:K41,0)+4))),AX41*AY41))} | BA41: =AN41 -> 0 | BB41: =IFERROR(AQ41+AT41+AW41,"") -> 0 | BC41: =IFERROR(IF(BA41-BB41>=0,BA41-BB41,0),"") -> 0 | BD41: =MIN(AZ41,BC41) -> 0 | BE41: =BD41 -> 0
L42: =IF(D42="", "", IF(COUNTIF(リスト①!$B$2:$E$49, D42)>=1, "光熱費", "")) | S42: =SUM(M42:R42) -> 0 | T42: =ROUNDDOWN(S42/1.1,0) -> 0 | U42: =IF(D42="", "", VLOOKUP(D42, リスト①!$B$2:$E$49, 3, FALSE)) | AB42: =SUM(V42:AA42) -> 0 | AC42: =IF(U42="食材費",ROUNDDOWN(AB42/1.08,0),ROUNDDOWN(AB42/1.1,0)) -> 0 | AD42: =IF(D42="", "", VLOOKUP(D42, リスト①!$B$2:$E$49, 4, FALSE)) | AK42: =SUM(AE42:AJ42) -> 0 | AL42: =IF(AD42="食材費",ROUNDDOWN(AK42/1.08,0),ROUNDDOWN(AK42/1.1,0)) -> 0 | AM42: =SUM(S42,AB42,AK42) -> 0 | AN42: =SUM(T42,AC42,AL42) -> 0 | AX42: =IFERROR(VLOOKUP(D42,リスト①!$B$2:$F$36,5, FALSE), "") | AY42: =IF(COUNT(F42:K42)=0, "", SUM(F42:K42)) | AZ42: {=IF(ISBLANK(D42),"",IF(ISNUMBER(MATCH(D42,リスト①!$B$37:$B$49,0)),IF(COUNTIF(F42:K42,"〇")>1,"error",INDEX(リスト①!$B$37:$N$49,MATCH(D42,リスト①!$B$37:$B$49,0),IF(COUNTIF(F42:K42,"〇")=0,5,MATCH("〇",F42:K42,0)+4))),AX42*AY42))} | BA42: =AN42 -> 0 | BB42: =IFERROR(AQ42+AT42+AW42,"") -> 0 | BC42: =IFERROR(IF(BA42-BB42>=0,BA42-BB42,0),"") -> 0 | BD42: =MIN(AZ42,BC42) -> 0 | BE42: =BD42 -> 0
L43: =IF(D43="", "", IF(COUNTIF(リスト①!$B$2:$E$49, D43)>=1, "光熱費", "")) | S43: =SUM(M43:R43) -> 0 | T43: =ROUNDDOWN(S43/1.1,0) -> 0 | U43: =IF(D43="", "", VLOOKUP(D43, リスト①!$B$2:$E$49, 3, FALSE)) | AB43: =SUM(V43:AA43) -> 0 | AC43: =IF(U43="食材費",ROUNDDOWN(AB43/1.08,0),ROUNDDOWN(AB43/1.1,0)) -> 0 | AD43: =IF(D43="", "", VLOOKUP(D43, リスト①!$B$2:$E$49, 4, FALSE)) | AK43: =SUM(AE43:AJ43) -> 0 | AL43: =IF(AD43="食材費",ROUNDDOWN(AK43/1.08,0),ROUNDDOWN(AK43/1.1,0)) -> 0 | AM43: =SUM(S43,AB43,AK43) -> 0 | AN43: =SUM(T43,AC43,AL43) -> 0 | AX43: =IFERROR(VLOOKUP(D43,リスト①!$B$2:$F$36,5, FALSE), "") | AY43: =IF(COUNT(F43:K43)=0, "", SUM(F43:K43)) | AZ43: {=IF(ISBLANK(D43),"",IF(ISNUMBER(MATCH(D43,リスト①!$B$37:$B$49,0)),IF(COUNTIF(F43:K43,"〇")>1,"error",INDEX(リスト①!$B$37:$N$49,MATCH(D43,リスト①!$B$37:$B$49,0),IF(COUNTIF(F43:K43,"〇")=0,5,MATCH("〇",F43:K43,0)+4))),AX43*AY43))} | BA43: =AN43 -> 0 | BB43: =IFERROR(AQ43+AT43+AW43,"") -> 0 | BC43: =IFERROR(IF(BA43-BB43>=0,BA43-BB43,0),"") -> 0 | BD43: =MIN(AZ43,BC43) -> 0 | BE43: =BD43 -> 0
L44: =IF(D44="", "", IF(COUNTIF(リスト①!$B$2:$E$49, D44)>=1, "光熱費", "")) | S44: =SUM(M44:R44) -> 0 | T44: =ROUNDDOWN(S44/1.1,0) -> 0 | U44: =IF(D44="", "", VLOOKUP(D44, リスト①!$B$2:$E$49, 3, FALSE)) | AB44: =SUM(V44:AA44) -> 0 | AC44: =IF(U44="食材費",ROUNDDOWN(AB44/1.08,0),ROUNDDOWN(AB44/1.1,0)) -> 0 | AD44: =IF(D44="", "", VLOOKUP(D44, リスト①!$B$2:$E$49, 4, FALSE)) | AK44: =SUM(AE44:AJ44) -> 0 | AL44: =IF(AD44="食材費",ROUNDDOWN(AK44/1.08,0),ROUNDDOWN(AK44/1.1,0)) -> 0 | AM44: =SUM(S44,AB44,AK44) -> 0 | AN44: =SUM(T44,AC44,AL44) -> 0 | AX44: =IFERROR(VLOOKUP(D44,リスト①!$B$2:$F$36,5, FALSE), "") | AY44: =IF(COUNT(F44:K44)=0, "", SUM(F44:K44)) | AZ44: {=IF(ISBLANK(D44),"",IF(ISNUMBER(MATCH(D44,リスト①!$B$37:$B$49,0)),IF(COUNTIF(F44:K44,"〇")>1,"error",INDEX(リスト①!$B$37:$N$49,MATCH(D44,リスト①!$B$37:$B$49,0),IF(COUNTIF(F44:K44,"〇")=0,5,MATCH("〇",F44:K44,0)+4))),AX44*AY44))} | BA44: =AN44 -> 0 | BB44: =IFERROR(AQ44+AT44+AW44,"") -> 0 | BC44: =IFERROR(IF(BA44-BB44>=0,BA44-BB44,0),"") -> 0 | BD44: =MIN(AZ44,BC44) -> 0 | BE44: =BD44 -> 0
L45: =IF(D45="", "", IF(COUNTIF(リスト①!$B$2:$E$49, D45)>=1, "光熱費", "")) | S45: =SUM(M45:R45) -> 0 | T45: =ROUNDDOWN(S45/1.1,0) -> 0 | U45: =IF(D45="", "", VLOOKUP(D45, リスト①!$B$2:$E$49, 3, FALSE)) | AB45: =SUM(V45:AA45) -> 0 | AC45: =IF(U45="食材費",ROUNDDOWN(AB45/1.08,0),ROUNDDOWN(AB45/1.1,0)) -> 0 | AD45: =IF(D45="", "", VLOOKUP(D45, リスト①!$B$2:$E$49, 4, FALSE)) | AK45: =SUM(AE45:AJ45) -> 0 | AL45: =IF(AD45="食材費",ROUNDDOWN(AK45/1.08,0),ROUNDDOWN(AK45/1.1,0)) -> 0 | AM45: =SUM(S45,AB45,AK45) -> 0 | AN45: =SUM(T45,AC45,AL45) -> 0 | AX45: =IFERROR(VLOOKUP(D45,リスト①!$B$2:$F$36,5, FALSE), "") | AY45: =IF(COUNT(F45:K45)=0, "", SUM(F45:K45)) | AZ45: {=IF(ISBLANK(D45),"",IF(ISNUMBER(MATCH(D45,リスト①!$B$37:$B$49,0)),IF(COUNTIF(F45:K45,"〇")>1,"error",INDEX(リスト①!$B$37:$N$49,MATCH(D45,リスト①!$B$37:$B$49,0),IF(COUNTIF(F45:K45,"〇")=0,5,MATCH("〇",F45:K45,0)+4))),AX45*AY45))} | BA45: =AN45 -> 0 | BB45: =IFERROR(AQ45+AT45+AW45,"") -> 0 | BC45: =IFERROR(IF(BA45-BB45>=0,BA45-BB45,0),"") -> 0 | BD45: =MIN(AZ45,BC45) -> 0 | BE45: =BD45 -> 0
L46: =IF(D46="", "", IF(COUNTIF(リスト①!$B$2:$E$49, D46)>=1, "光熱費", "")) | S46: =SUM(M46:R46) -> 0 | T46: =ROUNDDOWN(S46/1.1,0) -> 0 | U46: =IF(D46="", "", VLOOKUP(D46, リスト①!$B$2:$E$49, 3, FALSE)) | AB46: =SUM(V46:AA46) -> 0 | AC46: =IF(U46="食材費",ROUNDDOWN(AB46/1.08,0),ROUNDDOWN(AB46/1.1,0)) -> 0 | AD46: =IF(D46="", "", VLOOKUP(D46, リスト①!$B$2:$E$49, 4, FALSE)) | AK46: =SUM(AE46:AJ46) -> 0 | AL46: =IF(AD46="食材費",ROUNDDOWN(AK46/1.08,0),ROUNDDOWN(AK46/1.1,0)) -> 0 | AM46: =SUM(S46,AB46,AK46) -> 0 | AN46: =SUM(T46,AC46,AL46) -> 0 | AX46: =IFERROR(VLOOKUP(D46,リスト①!$B$2:$F$36,5, FALSE), "") | AY46: =IF(COUNT(F46:K46)=0, "", SUM(F46:K46)) | AZ46: {=IF(ISBLANK(D46),"",IF(ISNUMBER(MATCH(D46,リスト①!$B$37:$B$49,0)),IF(COUNTIF(F46:K46,"〇")>1,"error",INDEX(リスト①!$B$37:$N$49,MATCH(D46,リスト①!$B$37:$B$49,0),IF(COUNTIF(F46:K46,"〇")=0,5,MATCH("〇",F46:K46,0)+4))),AX46*AY46))} | BA46: =AN46 -> 0 | BB46: =IFERROR(AQ46+AT46+AW46,"") -> 0 | BC46: =IFERROR(IF(BA46-BB46>=0,BA46-BB46,0),"") -> 0 | BD46: =MIN(AZ46,BC46) -> 0 | BE46: =BD46 -> 0
L47: =IF(D47="", "", IF(COUNTIF(リスト①!$B$2:$E$49, D47)>=1, "光熱費", "")) | S47: =SUM(M47:R47) -> 0 | T47: =ROUNDDOWN(S47/1.1,0) -> 0 | U47: =IF(D47="", "", VLOOKUP(D47, リスト①!$B$2:$E$49, 3, FALSE)) | AB47: =SUM(V47:AA47) -> 0 | AC47: =IF(U47="食材費",ROUNDDOWN(AB47/1.08,0),ROUNDDOWN(AB47/1.1,0)) -> 0 | AD47: =IF(D47="", "", VLOOKUP(D47, リスト①!$B$2:$E$49, 4, FALSE)) | AK47: =SUM(AE47:AJ47) -> 0 | AL47: =IF(AD47="食材費",ROUNDDOWN(AK47/1.08,0),ROUNDDOWN(AK47/1.1,0)) -> 0 | AM47: =SUM(S47,AB47,AK47) -> 0 | AN47: =SUM(T47,AC47,AL47) -> 0 | AX47: =IFERROR(VLOOKUP(D47,リスト①!$B$2:$F$36,5, FALSE), "") | AY47: =IF(COUNT(F47:K47)=0, "", SUM(F47:K47)) | AZ47: {=IF(ISBLANK(D47),"",IF(ISNUMBER(MATCH(D47,リスト①!$B$37:$B$49,0)),IF(COUNTIF(F47:K47,"〇")>1,"error",INDEX(リスト①!$B$37:$N$49,MATCH(D47,リスト①!$B$37:$B$49,0),IF(COUNTIF(F47:K47,"〇")=0,5,MATCH("〇",F47:K47,0)+4))),AX47*AY47))} | BA47: =AN47 -> 0 | BB47: =IFERROR(AQ47+AT47+AW47,"") -> 0 | BC47: =IFERROR(IF(BA47-BB47>=0,BA47-BB47,0),"") -> 0 | BD47: =MIN(AZ47,BC47) -> 0 | BE47: =BD47 -> 0
L48: =IF(D48="", "", IF(COUNTIF(リスト①!$B$2:$E$49, D48)>=1, "光熱費", "")) | S48: =SUM(M48:R48) -> 0 | T48: =ROUNDDOWN(S48/1.1,0) -> 0 | U48: =IF(D48="", "", VLOOKUP(D48, リスト①!$B$2:$E$49, 3, FALSE)) | AB48: =SUM(V48:AA48) -> 0 | AC48: =IF(U48="食材費",ROUNDDOWN(AB48/1.08,0),ROUNDDOWN(AB48/1.1,0)) -> 0 | AD48: =IF(D48="", "", VLOOKUP(D48, リスト①!$B$2:$E$49, 4, FALSE)) | AK48: =SUM(AE48:AJ48) -> 0 | AL48: =IF(AD48="食材費",ROUNDDOWN(AK48/1.08,0),ROUNDDOWN(AK48/1.1,0)) -> 0 | AM48: =SUM(S48,AB48,AK48) -> 0 | AN48: =SUM(T48,AC48,AL48) -> 0 | AX48: =IFERROR(VLOOKUP(D48,リスト①!$B$2:$F$36,5, FALSE), "") | AY48: =IF(COUNT(F48:K48)=0, "", SUM(F48:K48)) | AZ48: {=IF(ISBLANK(D48),"",IF(ISNUMBER(MATCH(D48,リスト①!$B$37:$B$49,0)),IF(COUNTIF(F48:K48,"〇")>1,"error",INDEX(リスト①!$B$37:$N$49,MATCH(D48,リスト①!$B$37:$B$49,0),IF(COUNTIF(F48:K48,"〇")=0,5,MATCH("〇",F48:K48,0)+4))),AX48*AY48))} | BA48: =AN48 -> 0 | BB48: =IFERROR(AQ48+AT48+AW48,"") -> 0 | BC48: =IFERROR(IF(BA48-BB48>=0,BA48-BB48,0),"") -> 0 | BD48: =MIN(AZ48,BC48) -> 0 | BE48: =BD48 -> 0
L49: =IF(D49="", "", IF(COUNTIF(リスト①!$B$2:$E$49, D49)>=1, "光熱費", "")) | S49: =SUM(M49:R49) -> 0 | T49: =ROUNDDOWN(S49/1.1,0) -> 0 | U49: =IF(D49="", "", VLOOKUP(D49, リスト①!$B$2:$E$49, 3, FALSE)) | AB49: =SUM(V49:AA49) -> 0 | AC49: =IF(U49="食材費",ROUNDDOWN(AB49/1.08,0),ROUNDDOWN(AB49/1.1,0)) -> 0 | AD49: =IF(D49="", "", VLOOKUP(D49, リスト①!$B$2:$E$49, 4, FALSE)) | AK49: =SUM(AE49:AJ49) -> 0 | AL49: =IF(AD49="食材費",ROUNDDOWN(AK49/1.08,0),ROUNDDOWN(AK49/1.1,0)) -> 0 | AM49: =SUM(S49,AB49,AK49) -> 0 | AN49: =SUM(T49,AC49,AL49) -> 0 | AX49: =IFERROR(VLOOKUP(D49,リスト①!$B$2:$F$36,5, FALSE), "") | AY49: =IF(COUNT(F49:K49)=0, "", SUM(F49:K49)) | AZ49: {=IF(ISBLANK(D49),"",IF(ISNUMBER(MATCH(D49,リスト①!$B$37:$B$49,0)),IF(COUNTIF(F49:K49,"〇")>1,"error",INDEX(リスト①!$B$37:$N$49,MATCH(D49,リスト①!$B$37:$B$49,0),IF(COUNTIF(F49:K49,"〇")=0,5,MATCH("〇",F49:K49,0)+4))),AX49*AY49))} | BA49: =AN49 -> 0 | BB49: =IFERROR(AQ49+AT49+AW49,"") -> 0 | BC49: =IFERROR(IF(BA49-BB49>=0,BA49-BB49,0),"") -> 0 | BD49: =MIN(AZ49,BC49) -> 0 | BE49: =BD49 -> 0
L50: =IF(D50="", "", IF(COUNTIF(リスト①!$B$2:$E$49, D50)>=1, "光熱費", "")) | S50: =SUM(M50:R50) -> 0 | T50: =ROUNDDOWN(S50/1.1,0) -> 0 | U50: =IF(D50="", "", VLOOKUP(D50, リスト①!$B$2:$E$49, 3, FALSE)) | AB50: =SUM(V50:AA50) -> 0 | AC50: =IF(U50="食材費",ROUNDDOWN(AB50/1.08,0),ROUNDDOWN(AB50/1.1,0)) -> 0 | AD50: =IF(D50="", "", VLOOKUP(D50, リスト①!$B$2:$E$49, 4, FALSE)) | AK50: =SUM(AE50:AJ50) -> 0 | AL50: =IF(AD50="食材費",ROUNDDOWN(AK50/1.08,0),ROUNDDOWN(AK50/1.1,0)) -> 0 | AM50: =SUM(S50,AB50,AK50) -> 0 | AN50: =SUM(T50,AC50,AL50) -> 0 | AX50: =IFERROR(VLOOKUP(D50,リスト①!$B$2:$F$36,5, FALSE), "") | AY50: =IF(COUNT(F50:K50)=0, "", SUM(F50:K50)) | AZ50: {=IF(ISBLANK(D50),"",IF(ISNUMBER(MATCH(D50,リスト①!$B$37:$B$49,0)),IF(COUNTIF(F50:K50,"〇")>1,"error",INDEX(リスト①!$B$37:$N$49,MATCH(D50,リスト①!$B$37:$B$49,0),IF(COUNTIF(F50:K50,"〇")=0,5,MATCH("〇",F50:K50,0)+4))),AX50*AY50))} | BA50: =AN50 -> 0 | BB50: =IFERROR(AQ50+AT50+AW50,"") -> 0 | BC50: =IFERROR(IF(BA50-BB50>=0,BA50-BB50,0),"") -> 0 | BD50: =MIN(AZ50,BC50) -> 0 | BE50: =BD50 -> 0
L51: =IF(D51="", "", IF(COUNTIF(リスト①!$B$2:$E$49, D51)>=1, "光熱費", "")) | S51: =SUM(M51:R51) -> 0 | T51: =ROUNDDOWN(S51/1.1,0) -> 0 | U51: =IF(D51="", "", VLOOKUP(D51, リスト①!$B$2:$E$49, 3, FALSE)) | AB51: =SUM(V51:AA51) -> 0 | AC51: =IF(U51="食材費",ROUNDDOWN(AB51/1.08,0),ROUNDDOWN(AB51/1.1,0)) -> 0 | AD51: =IF(D51="", "", VLOOKUP(D51, リスト①!$B$2:$E$49, 4, FALSE)) | AK51: =SUM(AE51:AJ51) -> 0 | AL51: =IF(AD51="食材費",ROUNDDOWN(AK51/1.08,0),ROUNDDOWN(AK51/1.1,0)) -> 0 | AM51: =SUM(S51,AB51,AK51) -> 0 | AN51: =SUM(T51,AC51,AL51) -> 0 | AX51: =IFERROR(VLOOKUP(D51,リスト①!$B$2:$F$36,5, FALSE), "") | AY51: =IF(COUNT(F51:K51)=0, "", SUM(F51:K51)) | AZ51: {=IF(ISBLANK(D51),"",IF(ISNUMBER(MATCH(D51,リスト①!$B$37:$B$49,0)),IF(COUNTIF(F51:K51,"〇")>1,"error",INDEX(リスト①!$B$37:$N$49,MATCH(D51,リスト①!$B$37:$B$49,0),IF(COUNTIF(F51:K51,"〇")=0,5,MATCH("〇",F51:K51,0)+4))),AX51*AY51))} | BA51: =AN51 -> 0 | BB51: =IFERROR(AQ51+AT51+AW51,"") -> 0 | BC51: =IFERROR(IF(BA51-BB51>=0,BA51-BB51,0),"") -> 0 | BD51: =MIN(AZ51,BC51) -> 0 | BE51: =BD51 -> 0
... L53: =IF(D53="", "", IF(COUNTIF(リスト①!$B$2:$E$49, D53)>=1, "光熱費", "")) | S53: =SUM(M53:R53) -> 0 | T53: =ROUNDDOWN(S53/1.1,0) -> 0 | U53: =IF(D53="", "", VLOOKUP(D53, リスト①!$B$2:$E$49, 3, FALSE)) | AB53: =SUM(V53:AA53) -> 0 | AC53: =IF(U53="食材費",ROUNDDOWN(AB53/1.08,0),ROUNDDOWN(AB53/1.1,0)) -> 0 | AD53: =IF(D53="", "", VLOOKUP(D53, リスト①!$B$2:$E$49, 4, FALSE)) | AK53: =SUM(AE53:AJ53) -> 0 | AL53: =IF(AD53="食材費",ROUNDDOWN(AK53/1.08,0),ROUNDDOWN(AK53/1.1,0)) -> 0 | AM53: =SUM(S53,AB53,AK53) -> 0 | AN53: =SUM(T53,AC53,AL53) -> 0 | AX53: =IFERROR(VLOOKUP(D53,リスト①!$B$2:$F$36,5, FALSE), "") | AY53: =IF(COUNT(F53:K53)=0, "", SUM(F53:K53)) | AZ53: {=IF(ISBLANK(D53),"",IF(ISNUMBER(MATCH(D53,リスト①!$B$37:$B$49,0)),IF(COUNTIF(F53:K53,"〇")>1,"error",INDEX(リスト①!$B$37:$N$49,MATCH(D53,リスト①!$B$37:$B$49,0),IF(COUNTIF(F53:K53,"〇")=0,5,MATCH("〇",F53:K53,0)+4))),AX53*AY53))} | BA53: =AN53 -> 0 | BB53: =IFERROR(AQ53+AT53+AW53,"") -> 0 | BC53: =IFERROR(IF(BA53-BB53>=0,BA53-BB53,0),"") -> 0 | BD53: =MIN(AZ53,BC53) -> 0 | BE53: =BD53 -> 0

Sheet 対象施設（区分）

Sheet リスト①
C1: 番号 | F1: 補助基準額
A2: 入所系 | B2: 障害者支援施設 | C2: 1 | D2: 食材費 | E2: - | F2: 5669
B3: 福祉型障害児入所施設 | C3: 2 | D3: 食材費 | E3: - | F3: 5669
B4: 医療型障害児入所施設 | C4: 3 | D4: 食材費 | E4: - | F4: 5669
B5: 都外施設（者） | C5: 4 | D5: 食材費 | E5: - | F5: 5669
B6: 都外施設（児） | C6: 5 | D6: 食材費 | E6: - | F6: 5669
B7: 共同生活援助 | C7: 6 | D7: 食材費 | E7: - | F7: 5669
B8: 短期入所 | C8: 7 | D8: 食材費 | E8: - | F8: 5669
A9: 通所系 | B9: 生活介護（食事提供体制加算取得） | C9: 8 | D9: 燃料費 | E9: 食材費 | F9: 1607
B10: 生活介護（一体型多機能型）（食事提供体制加算取得） | C10: 9 | D10: 燃料費 | E10: 食材費 | F10: 1607
B11: 生活介護 | C11: 10 | D11: 燃料費 | E11: - | F11: 987
B12: 生活介護（一体型多機能型） | C12: 11 | D12: 燃料費 | E12: - | F12: 987
B13: 宿泊型自立訓練（食事提供体制加算取得） | C13: 12 | D13: 燃料費 | E13: 食材費 | F13: 1607
B14: 宿泊型自立訓練 | C14: 13 | D14: 燃料費 | E14: - | F14: 987
B15: 自立訓練（生活訓練）（食事提供体制加算取得） | C15: 14 | D15: 燃料費 | E15: 食材費 | F15: 1607
B16: 自立訓練（生活訓練） | C16: 15 | D16: 燃料費 | E16: - | F16: 987
B17: 自立訓練（機能訓練）（食事提供体制加算取得） | C17: 16 | D17: 燃料費 | E17: 食材費 | F17: 1607
B18: 自立訓練（機能訓練） | C18: 17 | D18: 燃料費 | E18: - | F18: 987
B19: 就労移行支援（食事提供体制加算取得） | C19: 18 | D19: 燃料費 | E19: 食材費 | F19: 1607
B20: 就労移行支援 | C20: 19 | D20: 燃料費 | E20: - | F20: 987
B21: 就労継続支援Ａ型（食事提供体制加算取得） | C21: 20 | D21: 燃料費 | E21: 食材費 | F21: 1607 | L21: 〇
B22: 就労継続支援Ａ型 | C22: 21 | D22: 燃料費 | E22: - | F22: 987
B23: 就労継続支援Ｂ型（食事提供体制加算取得） | C23: 22 | D23: 燃料費 | E23: 食材費 | F23: 1607
B24: 就労継続支援Ｂ型 | C24: 23 | D24: 燃料費 | E24: - | F24: 987
B25: 就労選択支援（食事提供体制加算取得） | C25: 24 | D25: 燃料費 | E25: 食材費 | F25: 1607
B26: 就労選択支援 | C26: 25 | D26: 燃料費 | E26: - | F26: 987
B27: 児童発達支援センター（食事提供加算取得） | C27: 26 | D27: 燃料費 | E27: 食材費 | F27: 1607
B28: 児童発達支援センター | C28: 27 | D28: 燃料費 | E28: - | F28: 987
B29: 児童発達支援（食事・おやつ提供あり） | C29: 28 | D29: 燃料費 | E29: 食材費 | F29: 1607
B30: 児童発達支援（一体型多機能型）（食事・おやつ提供あり） | C30: 29 | D30: 燃料費 | E30: 食材費 | F30: 1607
B31: 児童発達支援 | C31: 30 | D31: 燃料費 | E31: - | F31: 987
B32: 児童発達支援（一体型多機能型） | C32: 31 | D32: 燃料費 | E32: - | F32: 987
B33: 放課後等デイサービス（食事・おやつ提供あり） | C33: 32 | D33: 燃料費 | E33: 食材費 | F33: 1607
... B36: 放課後等デイサービス（一体型多機能型） | C36: 35 | D36: 燃料費 | E36: - | F36: 987
A37: 訪問系 | B37: 居宅訪問型児童発達支援 | C37: 36 | D37: 燃料費 | E37: - | F37: 29500 | G37: 24590 | H37: 19670 | I37: 14750 | J37: 9840 | K37: 4920
B38: 保育所等訪問支援 | C38: 37 | D38: 燃料費 | E38: - | F38: 29500 | G38: 24590 | H38: 19670 | I38: 14750 | J38: 9840 | K38: 4920
B39: 居宅介護 | C39: 38 | D39: 燃料費 | E39: - | F39: 29500 | G39: 24590 | H39: 19670 | I39: 14750 | J39: 9840 | K39: 4920
B40: 重度訪問介護 | C40: 39 | D40: 燃料費 | E40: - | F40: 29500 | G40: 24590 | H40: 19670 | I40: 14750 | J40: 9840 | K40: 4920
B41: 同行援護 | C41: 40 | D41: 燃料費 | E41: - | F41: 29500 | G41: 24590 | H41: 19670 | I41: 14750 | J41: 9840 | K41: 4920
B42: 行動援護 | C42: 41 | D42: 燃料費 | E42: - | F42: 29500 | G42: 24590 | H42: 19670 | I42: 14750 | J42: 9840 | K42: 4920
B43: 重度障害者等包括支援 | C43: 42 | D43: 燃料費 | E43: - | F43: 29500 | G43: 24590 | H43: 19670 | I43: 14750 | J43: 9840 | K43: 4920
A44: 相談系 | B44: 就労定着支援 | C44: 43 | D44: 燃料費 | E44: - | F44: 11800 | G44: 9840 | H44: 7870 | I44: 5900 | J44: 3940 | K44: 1970
B45: 自立生活援助 | C45: 44 | D45: 燃料費 | E45: - | F45: 11800 | G45: 9840 | H45: 7870 | I45: 5900 | J45: 3940 | K45: 1970
B46: 計画相談支援 | C46: 45 | D46: 燃料費 | E46: - | F46: 11800 | G46: 9840 | H46: 7870 | I46: 5900 | J46: 3940 | K46: 1970
B47: 地域相談支援（地域移行支援） | C47: 46 | D47: 燃料費 | E47: - | F47: 11800 | G47: 9840 | H47: 7870 | I47: 5900 | J47: 3940 | K47: 1970
B48: 地域相談支援（地域定着支援） | C48: 47 | D48: 燃料費 | E48: - | F48: 11800 | G48: 9840 | H48: 7870 | I48: 5900 | J48: 3940 | K48: 1970
B49: 障害児相談支援 | C49: 48 | D49: 燃料費 | E49: - | F49: 11800 | G49: 9840 | H49: 7870 | I49: 5900 | J49: 3940 | K49: 1970
