Workbook

Sheet 【要確認】書類のポイント
A1: 障害者グループホーム体制強化支援事業補助金 交付申請書類のポイント
A3: ● | B3: 申請書類作成の流れ
A5: 1 | B5: 「基本情報シート」に法人・事業所等の基本情報を正確に入力してください。今後、実績報告書類作成にも活用いたします。
B6: 各項目を入力する際は、記載例や、備考・注意事項を必ず確認してください。
A7: 2 | B7: 各様式ごとに、必要事項（クリーム色のセル）を入力してください。
B8: 入力する際は、以下のチェックポイントを必ず確認してください。
B9: 内容に明らかな齟齬等がある場合、赤字のエラーメッセージ表示や、赤塗セル表示になります。修正してください。
A10: 3 | B10: 郵送の場合、各申請書類を全てＡ４用紙で取りまとめ、押印漏れが無いか再度確認の上、以下の項番順に揃えてください。
B11: ステープラ（いわゆるホッチキス）留めは不要です。
A13: ● | B13: チェックポイント
A15: 項番 | B15: 様式番号 | C15: 様式（書類）名 | D15: ✔ | E15: チェックポイント
A16: 1 | B16: ― | C16: 基本情報シート | E16: ・黄色いセルの全てを入力した ・必要に応じて黄緑色のセルに入力をした | F16: =IF(基本情報シート!C1="","","基本情報シートの修正が必要です")
A17: 2 | B17: 第１号様式 | C17: 交付申請鑑文 | E17: ・（郵送の場合）印鑑証明書と同一印を押印した
A18: 3 | B18: 参考様式１－１ | C18: 交付申請額内訳書 | E18: ・申請ユニット及び申請区分（体制強化Ⅰ、Ⅱ及びⅢ）に対応する「対象経費の支出予定額（Ａ）」を漏れなく入力した ・体制強化Ⅰ（0.4人加配）、体制強化Ⅱ（0.6人加配）及び体制強化Ⅲ（補助要件を満たすための人件費等）に要した費用を記載した | F18: =IF('様式１－１'!J2="","","様式１－１の修正が必要です")
A19: 4 | B19: 参考様式２－１ | C19: 交付申請 確認表 | E19: ・補助要件を満たしているか確認した （全て自動入力のため、入力は不要）
A20: 5 | B20: 参考様式３ | C20: 月別職員配置状況明細表 | E20: ・入居者状況を漏れなく記載した ・空室がある場合は、入居予定欄へ想定する利用者区分で記載した ・交付申請対象としないユニットも含め、事業所全体の職員配置が人員配置体制加算Ⅰ（日中サービス支援型は人員配置体制加算Ⅴ）の要件を満たしている ・入力する勤務時間は、夜間及び深夜の時間帯（最低限２２時～翌５時）を除外して記載した ・（郵送の場合）Ａ４用紙で印刷した（複数枚になっても可） | F20: =IF('様式２－１(全て自動入力)'!D2="","","様式３の修正が必要です")
A21: 6 | B21: 参考様式４ | C21: 歳入歳出予算書抄本 | E21: ・（郵送の場合）印鑑証明書と同一印を押印した （全て自動入力のため、入力は不要）
A22: 7 | B22: 参考様式１３ | C22: 誓約書 | E22: ・（郵送の場合）印鑑証明書と同一印を押印した （全て自動入力のため、入力は不要）
A23: 8 | B23: ― | C23: 印鑑証明書（郵送の場合のみ必要） | E23: ・法務局等で取得した原本（紫色）である ・概ね３か月以内の最新のものである ・本紙から基本情報シートへ転記した
C24: 関係書類：受給者証の写し、勤務表（シフト表）、勤怠表（出退勤時間がわかるもの）、業務日誌、障害者手帳の写し（体制強化Ⅱの重複障害対象者のみ） | E24: 交付申請時には提出不要ですが、保存が必要です。
A26: ● | B26: 提出方法と提出先（郵送とjGrants（電子申請）の2通りの方法があります。）
A27: （１）郵送の場合（郵送とメールの両方が必要です）
B28: 郵送：上記申請書類一式を、以下まで郵送してください。参考にレターパックの宛名に必要な情報をご案内いたします。
B29: 〒163-8001 東京都新宿区西新宿２丁目８番１号 東京都庁第一本庁舎３１階南側 東京都福祉局 障害者施策推進部 地域生活支援課 居住支援担当 03（5320）4151
B31: メール：申請様式のExcelファイルを、PDF等にせずExcelファイル形式のまま、メール添付にて送信してください。
B32: メール宛先 | C32: S1140702@section.metro.tokyo.jp
B33: メール件名 | C33: 令和8年度GH体制強化支援事業補助金交付申請
A36: （２）jGrants（電子申請）の場合（事前にGビズIDの取得が必要です。）
B37: 申請用URL | C37: ※準備中※

Sheet 基本情報シート
B1: 基本情報シート | C1: =IF(OR(AND(C3="",C5="",C6="",C7="",C8="",C9="",C11="",C12="",C13="",C14="",C16="",C19="",C20="",C21="",C23="",C24="",C25="",C29=""),AND(C3<>"",C5<>"",C6<>"",C7<>"",C8<>"",C9<>"",C11<>"",C12<>"",C13<>"",C14<>"",C16<>"",C19<>"",C20<>"",C21<>"",C23<>"",C24<>"",C25<>"",C29<>"")),"","黄色セルに未入力項目があります") | D1: 8 | E1: 年度ver
B2: ※黄色いセルは必須入力です。黄緑色セルは必要に応じて入力してください。
B3: 基準日 | E3: 補助申請対象期間の初日を記載してください。 （例）補助申請対象期間：R7.4.1～R8.3.31 ⇒ 基準日：令和7年4月1日
A4: ● | B4: 法人情報（印鑑証明書又はGビズIDの記載事項を転記してください） | D4: （記載例） | E4: （備考・注意事項）
B5: 法人名 | D5: 特定非営利活動法人東京 | E5: 法人格と法人名の間にスペースを空けないでください。
B6: 代表者職 | D6: 理事長 | E6: 通常の呼称ではなく、印鑑証明書のとおりの記載にしてください。
B7: 代表者氏名 | D7: 東京太郎
B8: 法人所在地〒 | D8: 123-4567
B9: 法人所在地 | D9: 東京都新宿区西新宿二丁目８番１号 | E9: 都道府県名から記載。印鑑証明の記載が「○丁目×番地△号」の場合、「〇－×－△」のように省略しないでください。
A10: ● | B10: 担当者情報
B11: 書類作成担当者氏名 | D11: 東京花子
B12: 交付決定書送付先郵便番号 | D12: 123-4567
B13: 交付決定書送付先住所 | D13: 東京都新宿区西新宿二丁目８番１号
B14: 日中の連絡先電話番号 | D14: 090-1234-5678
B15: FAX番号
B16: メールアドレス１ | D16: hanako-tokyo@****.com
B17: メールアドレス２ | D17: grouphome.tokyo@****.com | E17: メールアドレス１が個人アドレスの場合、法人または事業所アドレスの登録に御協力ください。
A18: ● | B18: 事業所情報
B19: 事業所番号 | D19: 1234567890
B20: 事業所名 | D20: グループホーム東京
B21: 類型 | D21: 介護サービス包括型
B22: 人員配置体制加算 | C22: =IF(OR(C21="介護サービス包括型",C21="外部サービス利用型"),"12：1（Ⅰ/Ⅲ/ⅩⅢ）",IF(C21="日中サービス支援型","7.5：１（Ⅴ/Ⅶ/Ⅸ/Ⅺ）","")) | D22: 12：1（Ⅰ/Ⅲ/ⅩⅢ） | E22: 自動入力されます。
B23: GH事業所所在地〒 | D23: 111-2222
B24: GH事業所所在地 | D24: 東京都新宿区東新宿１－２－３
B25: 常勤職員の勤務すべき週時間数 | D25: 40 | E25: 1週間に当該事業所における常勤職員の勤務すべき時間数（就業規則上に定める時間数）
B26: 管理者氏名 | D26: 江戸太郎 | E26: 体制強化Ⅲを申請する場合は必須。
B27: 専門研修受講予定者 | D27: 江戸花子 | E27: 体制強化Ⅱを申請する場合は必須。事業所内の職員であれば可。
A28: ● | B28: 交付申請の対象とする各ユニット情報（8ユニット以上ある場合はお問い合わせください。）
A29: ① | B29: ユニットの名称 | D29: Aユニット
A30: ② | B30: ユニットの名称 | D30: Bユニット
A31: ③ | B31: ユニットの名称 | D31: Cユニット
A32: ④ | B32: ユニットの名称 | D32: Dユニット
A33: ⑤ | B33: ユニットの名称 | D33: Eユニット
A34: ⑥ | B34: ユニットの名称 | D34: Fユニット
A35: ⑦ | B35: ユニットの名称 | D35: Gユニット

Sheet 第１号様式(要押印)
A1: 第１号様式 | I1: =D23
H4: 令和 年 月 日
A6: 東京都知事 殿
D8: 〒 | F8: =IF(基本情報シート!C8="","",基本情報シート!C8)
D9: 法人の住所 | F9: =IF(基本情報シート!C9="","",基本情報シート!C9)
D10: 法人名 | F10: =IF(基本情報シート!C5="","",基本情報シート!C5)
D11: 代表者職・氏名 | F11: =IF(基本情報シート!C6="","",基本情報シート!C6) | H11: =IF(基本情報シート!C7="","",基本情報シート!C7)
A14: 令和 | B14: =基本情報シート!D1 -> 8 | C14: 年度障害者グループホーム体制強化支援事業補助金の交付申請について
A17: 障害者グループホーム体制強化支援事業に対する補助金として、下記の金額を交付されたく、関係書類を添えて申請します。
A21: 記
A23: １ 事業所番号 | D23: =IF(基本情報シート!C19="","",基本情報シート!C19)
A25: ２ 事業所名 | D25: =IF(基本情報シート!C20="","",基本情報シート!C20)
A27: ３ 交付申請額 | D27: 金 | E27: =E38 -> 0 | G27: 円
A29: ４ 対象ユニット及び内訳
B30: ユニット名 | E30: 交付申請額
A31: 1 | B31: =IF(OFFSET('様式１－１'!$B$5,5*A31-5,0)="","",OFFSET('様式１－１'!$B$5,5*A31-5,0)) | E31: =IF(B31="","",'様式１－１'!H11)
A32: 2 | B32: =IF(OFFSET('様式１－１'!$B$5,7*A32-7,0)="","",OFFSET('様式１－１'!$B$5,7*A32-7,0)) | E32: =IF(B32="","",'様式１－１'!H18)
A33: 3 | B33: =IF(OFFSET('様式１－１'!$B$5,7*A33-7,0)="","",OFFSET('様式１－１'!$B$5,7*A33-7,0)) | E33: =IF(B33="","",'様式１－１'!H25)
A34: 4 | B34: =IF(OFFSET('様式１－１'!$B$5,7*A34-7,0)="","",OFFSET('様式１－１'!$B$5,7*A34-7,0)) | E34: =IF(B34="","",'様式１－１'!H32)
A35: 5 | B35: =IF(OFFSET('様式１－１'!$B$5,7*A35-7,0)="","",OFFSET('様式１－１'!$B$5,7*A35-7,0)) | E35: =IF(B35="","",'様式１－１'!H39)
A36: 6 | B36: =IF(OFFSET('様式１－１'!$B$5,7*A36-7,0)="","",OFFSET('様式１－１'!$B$5,7*A36-7,0)) | E36: =IF(B36="","",'様式１－１'!H46)
A37: 7 | B37: =IF(OFFSET('様式１－１'!$B$5,7*A37-7,0)="","",OFFSET('様式１－１'!$B$5,7*A37-7,0)) | E37: =IF(B37="","",'様式１－１'!H53)
B38: 合計 | E38: =SUM(E31:F37) -> 0
B39: ※ 行数が足りない場合は、適宜、行を追加して作成するものとする。
A41: ５ 添付書類
A42: （１）交付申請額内訳書（参考様式１－１）
A43: （２）交付申請 確認表（参考様式２－１）
A44: （３）月別職員配置状況明細表（参考様式３）
A45: （４）歳入歳出予算書抄本（参考様式４）
A46: （５）誓約書（参考様式１３）
A47: （６）その他関連書類
E49: 担当者 連絡先 | F49: 担当者 | G49: =IF(基本情報シート!C11="","",基本情報シート!C11)
F50: 電話 | G50: =IF(基本情報シート!C14="","",基本情報シート!C14)
F51: ＦＡＸ | G51: =IF(基本情報シート!C15="","",基本情報シート!C15)
F52: メール | G52: =IF(基本情報シート!C16="","",基本情報シート!C16)
G53: =IF(基本情報シート!C17="","",基本情報シート!C17)

Sheet 様式１－１
B1: （参考様式１－１） | E1: =IF(OR(AND($D$5<>"",$E$5=""),AND($D$7<>"",$E$7=""),AND($D$9<>"",$E$9=""),AND($D$12<>"",$E$12=""),AND($D$14<>"",$E$14=""),AND($D$16<>"",$E$16=""),AND($D$19<>"",$E$19=""),AND($D$21<>"",$E$21=""),AND($D$23<>"",$E$23=""),AND($D$26<>"",$E$26=""),AND($D$28<>"",$E$28=""),AND($D$30<>"",$E$30=""),AND($D$33<>"",$E$33=""),AND($D$35<>"",$E$35=""),AND($D$37<>"",$E$37=""),AND($D$40<>"",$E$40=""),AND($D$42<>"",$E$42=""),AND($D$44<>"",$E$44=""),AND($D$47<>"",$E$47=""),AND($D$49<>"",$E$49=""),AND($D$51<>"",$E$51="")),"薄黄色のセルに記入漏れがあります","") | H1: ='第１号様式(要押印)'!I1
B2: 交 付 申 請 額 内 訳 書
B3: =IF('第１号様式(要押印)'!D25="","（事業所名）",'第１号様式(要押印)'!D25) -> （事業所名） | H3: （単位：円）
A4: No | B4: ユニット名 | C4: 区分及び基準日数 | E4: 対象経費の 支出予定額 （Ａ） | F4: 基準額 （Ｂ） | G4: 選定額 （Ｃ＝Ａ又はＢのいずれか 少ない額） | H4: 交付申請額 （Ｄ）
A5: 1 | B5: =IF(基本情報シート!C29="","",基本情報シート!C29) | C5: 体制強化Ⅰ | D5: =IF(基本情報シート!$C$21="日中サービス支援型","",IF('様式２－１(全て自動入力)'!C17="","",'様式２－１(全て自動入力)'!C17)) | F5: =IF(D5="",0,IF(D5*4800>1176000,1176000,D5*4800)) -> 0 | G5: =MIN(E5,F5) -> 0 | H5: =G5 -> 0 | I5: =B5
F6: ※上限：1,176,000円
C7: 体制強化Ⅱ | D7: =IF('様式２－１(全て自動入力)'!C19="","",'様式２－１(全て自動入力)'!C19) | F7: =IF(D7="",0,IF(D7*6600>1617000,1617000,D7*6600)) -> 0 | G7: =MIN(E7,F7) -> 0 | H7: =G7 -> 0 | I7: =B3 -> （事業所名）
F8: ※上限：1,617,000円
C9: 体制強化Ⅲ | D9: =IF('様式２－１(全て自動入力)'!C21="","",'様式２－１(全て自動入力)'!C21) | F9: =IF(D9="",0,IF(D9*4500>1102000,1102000,D9*4500)) -> 0 | G9: =MIN(E9,F9) -> 0 | H9: =G9 -> 0 | I9: =B5
F10: ※上限：1,102,000円
C11: 合計 | E11: =E5+E7+E9 -> 0 | F11: =F7+F5+F9 -> 0 | G11: =G7+G5+G9 -> 0 | H11: =H7+H5+H9 -> 0
A12: 2 | B12: =IF(基本情報シート!C30="","",基本情報シート!C30) | C12: 体制強化Ⅰ | D12: =IF(B12="","",IF(基本情報シート!$C$21="日中サービス支援型","",IF('様式２－１(全て自動入力)'!C28="","",'様式２－１(全て自動入力)'!C28))) | F12: =IF(D12="",0,IF(D12*4800>1176000,1176000,D12*4800)) -> 0 | G12: =MIN(E12,F12) -> 0 | H12: =G12 -> 0 | I12: =B12
F13: ※上限：1,176,000円
C14: 体制強化Ⅱ | D14: =IF(B12="","",IF('様式２－１(全て自動入力)'!C30="","",'様式２－１(全て自動入力)'!C30)) | F14: =IF(D14="",0,IF(D14*6600>1617000,1617000,D14*6600)) -> 0 | G14: =MIN(E14,F14) -> 0 | H14: =G14 -> 0 | I14: =B10 -> 0
F15: ※上限：1,617,000円
C16: 体制強化Ⅲ | D16: =IF(B12="","",IF('様式２－１(全て自動入力)'!C32="","",'様式２－１(全て自動入力)'!C32)) | F16: =IF(D16="",0,IF(D16*4500>1102000,1102000,D16*4500)) -> 0 | G16: =MIN(E16,F16) -> 0 | H16: =G16 -> 0 | I16: =B12
F17: ※上限：1,102,000円
C18: 合計 | E18: =E12+E14+E16 -> 0 | F18: =F14+F12+F16 -> 0 | G18: =G14+G12+G16 -> 0 | H18: =H14+H12+H16 -> 0
A19: 3 | B19: =IF(基本情報シート!C31="","",基本情報シート!C31) | C19: 体制強化Ⅰ | D19: =IF(B19="","",IF(基本情報シート!$C$21="日中サービス支援型","",IF('様式２－１(全て自動入力)'!C39="","",'様式２－１(全て自動入力)'!C39))) | F19: =IF(D19="",0,IF(D19*4800>1176000,1176000,D19*4800)) -> 0 | G19: =MIN(E19,F19) -> 0 | H19: =G19 -> 0 | I19: =B19
F20: ※上限：1,176,000円
C21: 体制強化Ⅱ | D21: =IF(B19="","",IF('様式２－１(全て自動入力)'!C41="","",'様式２－１(全て自動入力)'!C41)) | F21: =IF(D21="",0,IF(D21*6600>1617000,1617000,D21*6600)) -> 0 | G21: =MIN(E21,F21) -> 0 | H21: =G21 -> 0 | I21: =B17 -> 0
F22: ※上限：1,617,000円
C23: 体制強化Ⅲ | D23: =IF(B19="","",IF('様式２－１(全て自動入力)'!C43="","",'様式２－１(全て自動入力)'!C43)) | F23: =IF(D23="",0,IF(D23*4500>1102000,1102000,D23*4500)) -> 0 | G23: =MIN(E23,F23) -> 0 | H23: =G23 -> 0 | I23: =B19
F24: ※上限：1,102,000円
C25: 合計 | E25: =E19+E21+E23 -> 0 | F25: =F21+F19+F23 -> 0 | G25: =G21+G19+G23 -> 0 | H25: =H21+H19+H23 -> 0
A26: 4 | B26: =IF(基本情報シート!C32="","",基本情報シート!C32) | C26: 体制強化Ⅰ | D26: =IF(B26="","",IF(基本情報シート!$C$21="日中サービス支援型","",IF('様式２－１(全て自動入力)'!C50="","",'様式２－１(全て自動入力)'!C50))) | F26: =IF(D26="",0,IF(D26*4800>1176000,1176000,D26*4800)) -> 0 | G26: =MIN(E26,F26) -> 0 | H26: =G26 -> 0 | I26: =B26
F27: ※上限：1,176,000円
C28: 体制強化Ⅱ | D28: =IF(B26="","",IF('様式２－１(全て自動入力)'!C52="","",'様式２－１(全て自動入力)'!C52)) | F28: =IF(D28="",0,IF(D28*6600>1617000,1617000,D28*6600)) -> 0 | G28: =MIN(E28,F28) -> 0 | H28: =G28 -> 0 | I28: =B24 -> 0
F29: ※上限：1,617,000円
C30: 体制強化Ⅲ | D30: =IF(B26="","",IF('様式２－１(全て自動入力)'!C54="","",'様式２－１(全て自動入力)'!C54)) | F30: =IF(D30="",0,IF(D30*4500>1102000,1102000,D30*4500)) -> 0 | G30: =MIN(E30,F30) -> 0 | H30: =G30 -> 0 | I30: =B26
F31: ※上限：1,102,000円
C32: 合計 | E32: =E26+E28+E30 -> 0 | F32: =F28+F26+F30 -> 0 | G32: =G28+G26+G30 -> 0 | H32: =H28+H26+H30 -> 0
A33: 5 | B33: =IF(基本情報シート!C33="","",基本情報シート!C33) | C33: 体制強化Ⅰ | D33: =IF(B33="","",IF(基本情報シート!$C$21="日中サービス支援型","",IF('様式２－１(全て自動入力)'!C61="","",'様式２－１(全て自動入力)'!C61))) | F33: =IF(D33="",0,IF(D33*4800>1176000,1176000,D33*4800)) -> 0 | G33: =MIN(E33,F33) -> 0 | H33: =G33 -> 0 | I33: =B33
F34: ※上限：1,176,000円
C35: 体制強化Ⅱ | D35: =IF(B33="","",IF('様式２－１(全て自動入力)'!C63="","",'様式２－１(全て自動入力)'!C63)) | F35: =IF(D35="",0,IF(D35*6600>1617000,1617000,D35*6600)) -> 0 | G35: =MIN(E35,F35) -> 0 | H35: =G35 -> 0 | I35: =B31 -> 0
F36: ※上限：1,617,000円
C37: 体制強化Ⅲ | D37: =IF(B33="","",IF('様式２－１(全て自動入力)'!C65="","",'様式２－１(全て自動入力)'!C65)) | F37: =IF(D37="",0,IF(D37*4500>1102000,1102000,D37*4500)) -> 0 | G37: =MIN(E37,F37) -> 0 | H37: =G37 -> 0 | I37: =B33
F38: ※上限：1,102,000円
C39: 合計 | E39: =E33+E35+E37 -> 0 | F39: =F35+F33+F37 -> 0 | G39: =G35+G33+G37 -> 0 | H39: =H35+H33+H37 -> 0
A40: 6 | B40: =IF(基本情報シート!C34="","",基本情報シート!C34) | C40: 体制強化Ⅰ | D40: =IF(B40="","",IF(基本情報シート!$C$21="日中サービス支援型","",IF('様式２－１(全て自動入力)'!C72="","",'様式２－１(全て自動入力)'!C72))) | F40: =IF(D40="",0,IF(D40*4800>1176000,1176000,D40*4800)) -> 0 | G40: =MIN(E40,F40) -> 0 | H40: =G40 -> 0 | I40: =B40
...

Sheet 様式２－１(全て自動入力)
B1: （参考様式２－１） | D1: ver.4.0
B2: 交付申請 確認表 | D2: =IF(C78="","",IF(OR(C82="不可",C84="不可",C86="不可"),"様式３⑦に不備があります",IF(C67="","",IF(OR(C71="不可",C73="不可",C75="不可"),"様式３⑥に不備があります",IF(C56="","",IF(OR(C60="不可",C62="不可",C64="不可"),"様式３⑤に不備があります",IF(C45="","",IF(OR(C49="不可",C51="不可",C53="不可"),"様式３④に不備があります",IF(C34="","",IF(OR(C38="不可",C40="不可",C42="不可"),"様式３③に不備があります",IF(C23="","",IF(OR(C27="不可",C29="不可",C31="不可"),"様式３②に不備があります",IF(C12="","",IF(OR(C16="不可",C18="不可",C20="不可"),"様式３①に不備があります",""))))))))))))))
B3: 項目 | C3: 申請情報 | D3: 備考
A4: 事業所情報 | B4: 法人名 | C4: =基本情報シート!C5 -> 0 | D4: （紙申請の場合）印鑑証明・（変更ある場合）登記簿
B5: 事業所番号 | C5: =基本情報シート!C19 -> 0
B6: 事業所名 | C6: =基本情報シート!C20 -> 0
B7: サービス類型 | C7: =基本情報シート!C21 -> 0
B8: 人員配置体制加算 | C8: =基本情報シート!C22
B9: 管理者氏名 | C9: =基本情報シート!C26 -> 0 | D9: 【Ⅲ】強行（基礎）、強行（実践）、管理者研修
B10: 専門研修受講者氏名 | C10: =基本情報シート!C27 -> 0 | D10: 【Ⅱ】（事業所内職員）専門研修
B11: 項目 | C11: 申請情報 | D11: 備考
A12: ユニット１ | B12: ユニット名 | C12: =基本情報シート!C29 -> 0
B13: 夜間支援等体制加算 | C13: =IF(C7="日中サービス支援型","-",様式3①!$BQ$8) -> 0
B14: ユニットリーダー 氏名 | C14: =IF(C20="","",様式3①!$BR$10) | D14: 【Ⅲ】強行（基礎）、強行（実践）、専門研修
B15: ユニット定員（サテライト除く） | C15: =様式3①!$H$9 -> 0
B16: 体制強化Ⅰ 要件 | C16: =IF(様式3①!$E$10="○",IF(様式3①!$BZ$3="OK","OK","不可"),"")
B17: 体制強化Ⅰ 補助対象日数 | C17: =IF(様式3①!$E$10="○",様式3①!$BQ$30,"")
B18: 体制強化Ⅱ 要件 | C18: =IF(様式3①!$E$11="○",IF(様式3①!$BZ$4="OK","OK","不可"),"")
B19: 体制強化Ⅱ 補助対象日数 | C19: =IF(様式3①!$E$11="○",様式3①!$BQ$31,"")
B20: 体制強化Ⅲ 要件 | C20: =IF(様式3①!$E$12="○",IF(様式3①!$BZ$5="OK","OK","不可"),"")
B21: 体制強化Ⅲ 補助対象日数 | C21: =IF(様式3①!$E$12="○",$C$19,"")
B22: 項目 | C22: 申請情報 | D22: 備考
A23: ユニット２ | B23: ユニット名 | C23: =IF(基本情報シート!C30="","",基本情報シート!C30)
B24: 夜間支援等体制加算 | C24: =IF(C23="","",IF(C7="日中サービス支援型","-",様式3②!$BQ$8))
B25: ユニットリーダー 氏名 | C25: =IF(C23="","",IF(C31="","",様式3②!$BR$10)) | D25: 【Ⅲ】強行（基礎）、強行（実践）、専門研修
B26: ユニット定員（サテライト除く） | C26: =IF(C23="","",様式3②!$H$9)
B27: 体制強化Ⅰ 要件 | C27: =IF(様式3②!$E$10="○",IF(様式3②!$BZ$3="OK","OK","不可"),"")
B28: 体制強化Ⅰ 補助対象日数 | C28: =IF(様式3②!$E$10="○",様式3②!$BQ$30,"")
B29: 体制強化Ⅱ 要件 | C29: =IF(様式3②!$E$11="○",IF(様式3②!$BZ$4="OK","OK","不可"),"")
B30: 体制強化Ⅱ 補助対象日数 | C30: =IF(様式3②!$E$11="○",様式3②!$BQ$31,"")
B31: 体制強化Ⅲ 要件 | C31: =IF(様式3②!$E$12="○",IF(様式3②!$BZ$5="OK","OK","不可"),"")
B32: 体制強化Ⅲ 補助対象日数 | C32: =IF(様式3②!$E$12="○",$C$30,"")
B33: 項目 | C33: 申請情報 | D33: 備考
A34: ユニット３ | B34: ユニット名 | C34: =IF(基本情報シート!C31="","",基本情報シート!C31)
B35: 夜間支援等体制加算 | C35: =IF(C34="","",IF(C7="日中サービス支援型","-",様式3③!$BQ$8))
B36: ユニットリーダー 氏名 | C36: =IF(C34="","",IF(C42="","",様式3③!$BR$10)) | D36: 【Ⅲ】強行（基礎）、強行（実践）、専門研修
B37: ユニット定員（サテライト除く） | C37: =IF(C34="","",様式3③!$H$9)
B38: 体制強化Ⅰ 要件 | C38: =IF(様式3③!$E$10="○",IF(様式3③!$BZ$3="OK","OK","不可"),"")
B39: 体制強化Ⅰ 補助対象日数 | C39: =IF(様式3③!$E$10="○",様式3③!$BQ$30,"")
B40: 体制強化Ⅱ 要件 | C40: =IF(様式3③!$E$11="○",IF(様式3③!$BZ$4="OK","OK","不可"),"")
...

Sheet 様式3① (記入例)
AN1: 確認欄 | AO1: =IF(H8="","ユニット名が入力されていません",IF(H9="","ユニット定員が入力されていません",IF(BQ8="","夜間支援等体制加算が入力されていません","OK"))) -> OK | BP1: =基本情報シート!$C$19 -> 0
U2: 月別職員配置状況明細表 | AI2: 4 | AK2: 月 | AO2: =IF(H9="","",IF(H9=BE12,"OK","定員数と入居者状況の合計人数が不一致です")) -> OK | BI2: 区分 | BN2: 職員数 | BQ2: 区分４ | BT2: 特性 | BV2: その他
AO3: =IF(AND(E10="",E11="",E12=""),"体制強化区分に〇を入力してください","OK") -> OK | BI3: 体制強化Ⅰ | BN3: =IF(E10="","-",IF(AND(E10="○",BU19="OK"),"OK","不可")) -> OK | BQ3: =IF(E10="","-",IF(AND(E10="○",AO4="OK"),"OK","不可")) -> OK | BV3: =IF(E10="","-",IF(AND(E10="○",AO1="OK",AO2="OK",AO3="OK",D48=""),"OK","不可")) -> OK | BZ3: =IF(AND(BN3="OK",BQ3="OK",BV3="OK"),"OK","") -> OK
R4: ※先に「基本情報シート」を記入してください。 | AO4: {=_xlfn.IFS(OR(H9<=1,H9>10),"定員が運営基準を満たしていません",H9=2,IF(T10=0,"区分４以上の利用者数が要件を満たしていません","OK"),H9=3,IF(OR(T10=0,T10=1),"区分４以上の利用者数が要件を満たしていません","OK"),H9=4,IF(OR(T10=0,T10=1,T10=2),"区分４以上の利用者数が要件を満たしていません","OK"),AND(H9>4,H9<=10),IF(T10/H9<0.8,"区分４以上の利用者数が要件を満たしていません","OK"))} -> OK | BI4: 体制強化Ⅱ | BN4: =IF(E11="","-",IF(AND(E11="○",BU20="OK"),"OK","不可")) -> OK | BQ4: =IF(E11="","-",IF(AND(E11="○",AO4="OK"),"OK","不可")) -> OK | BT4: =IF(E11="","-",IF(AND(BL9="",BQ9="",BV9=""),"不可","OK")) -> OK | BV4: =IF(E11="","-",IF(AND(E11="○",基本情報シート!$D$27<>""),"OK","不可")) -> OK | BZ4: =IF(AND(BN4="OK",BQ4="OK",BT4="OK",BV4="OK"),"OK","不可") -> OK
R5: ※クリーム色のセルは必ず記入してください。緑色のセルは必要に応じて記入してください。 | BI5: 体制強化Ⅲ | BQ5: =IF(E12="","-",IF(AND(E12="○",AO4="OK"),"OK","不可")) -> OK | BT5: =IF(E12="","-",IF(BQ9="","不可","OK")) -> OK | BV5: =IF(E12="","-",IF(AND(E12="○",基本情報シート!$D$26<>"",BM13="",BM14="",BM15=""),"OK","不可")) -> OK | BZ5: =IF(BZ4="不可","不可",IF(AND(BQ5="OK",BT5="OK",BV5="OK"),"OK","")) -> OK
B6: 事業所名 | H6: =基本情報シート!D20 -> グループホーム東京 | Z6: 入居者状況 | AS6: 基準日 | AV6: =IF(AI2>=4,DATE(基本情報シート!$D$1+2018,AI2,1),DATE(基本情報シート!$D$1+2019,AI2,1)) -> 46113
B7: 事業所番号 | H7: =基本情報シート!D19 -> 1234567890 | AG7: 区分１以下 | AK7: 区分２ | AO7: 区分３ | AS7: 区分４ | AW7: 区分５ | BA7: 区分６ | BE7: 計 | BI7: 人員配置体制加算(事業所) | BQ7: =基本情報シート!$D$22 -> 12：1（Ⅰ/Ⅲ/ⅩⅢ）
B8: ユニット名 | H8: =基本情報シート!D29 -> Aユニット | Z8: 利用者数（平均） | AG8: =COUNTIF(J37:J46,"1")+COUNTIF(J37:J46,"なし")-AG10 -> 0 | AK8: =COUNTIF(J37:J46,"2")-AK10 -> 0 | AO8: =COUNTIF(J37:J46,"3")-AO10 -> 0 | AS8: =COUNTIF(J37:J46,"4")-AS9-AS10 -> 3 | AW8: =COUNTIF(J37:J46,"5")-AW9-AW10 -> 3 | BA8: =COUNTIF(J37:J46,"6")-BA9-BA10 -> 1 | BE8: =SUM(AG8:BD8) -> 7 | BI8: 夜間支援等体制加算 | BQ8: Ⅰ
B9: ユニット定員 | H9: 8 | L9: （サテライトを除く） | AA9: 個人居宅介護利用者（再掲） | AS9: =COUNTIFS(J37:L46,"4",M37:O46,"○") -> 0 | AW9: =COUNTIFS(J37:L46,"5",M37:O46,"○") -> 0 | BA9: =COUNTIFS(J37:L46,"6",M37:O46,"○") -> 0 | BE9: =SUM(AG9:BD9) -> 0 | BI9: 区分６ | BL9: =IF(E11="","-",IF(COUNTIFS(J37:J46,"6",P37:P46,"<>"&"○",S37:S46,"<>"&"○")>0,"○","")) -> ○ | BN9: 行動障害 | BQ9: =IF(E11="","-",IF(COUNTIFS(BC37:BC46,"○",P37:P46,"<>"&"○",S37:S46,"<>"&"○")>0,"○","")) -> ○ | BS9: 重複障害 | BV9: =IF(E11="","-",IF(COUNTIFS(BG37:BG46,"○",P37:P46,"<>"&"○",S37:S46,"<>"&"○")>0,"○","")) -> ○
B10: 体制強化 区分 | E10: =IF(OR(C17="○",C18="○"),"○","") -> ○ | H10: Ⅰ | I10: 0.4 | N10: 区分４以上人数/割合 | T10: =COUNTIFS(J37:J46,">=4",J37:J46,"<=6",P37:P46,"<>"&"○",S37:S46,"<>"&"○") -> 7 | V10: =IF(H9<=4,"",IF(T10/H9>1,1,T10/H9)) -> 0.875 | Z10: 入居予定者 | AG10: =COUNTIFS(J37:J46,"なし",P37:P46,"○")+COUNTIFS(J37:J46,"1",P37:P46,"○") -> 0 | AK10: =COUNTIFS(J37:J46,"2",P37:P46,"○") -> 0 | AO10: =COUNTIFS(J37:J46,"3",P37:P46,"○") -> 0 | AS10: =COUNTIFS(J37:J46,"4",P37:P46,"○") -> 0 | AW10: =COUNTIFS(J37:J46,"5",P37:P46,"○") -> 1 | BA10: =COUNTIFS(J37:J46,"6",P37:P46,"○") -> 0 | BE10: =SUM(AG10:BD10) -> 1 | BI10: ユニットリーダー 氏名 | BR10: 江戸花子
E11: ○ | H11: Ⅱ | I11: 1 | N11: 専門研修受講者氏名 | T11: =IF(E11="","-",基本情報シート!$D$27) -> 江戸花子 | Z11: サテライト利用者 | BE11: =SUM(AG11:BD11) -> 0 | BI11: ユニットリーダー 実務経験年数 | BU11: 8
E12: ○ | H12: Ⅲ | I12: 行動障害 | N12: 管理者氏名 | T12: =IF(E12="","-",基本情報シート!$D$26) -> 江戸太郎 | Z12: 計 | AG12: =AG8+AG10 -> 0 | AK12: =AK8+AK10 -> 0 | AO12: =AO8+AO10 -> 0 | AS12: =AS8+AS10 -> 3 | AW12: =AW8+AW10 -> 4 | BA12: =BA8+BA10 -> 1 | BE12: =BE8+BE10 -> 8 | BI12: ユニットリーダー 勤務時間数/週 | BU12: =IF(E12="","-",IF(BD29>BA32,BA32,BD29)) -> 38.733333
B13: ※申請する区分は全て○を選択してください。 | T13: =IF(E11="","",IF(AND(E11="○",基本情報シート!$D$27=""),"「基本情報シート」の「専門研修受講者予定者」欄を入力してください",IF(E12="","",IF(AND(E12="○",基本情報シート!$D$26=""),"「基本情報シート」の「管理者氏名」欄を入力してください","")))) | BM13: =IF(AND(E12="○",BR10=""),"ユニットリーダーの氏名を記入してください","")
B14: =IF(AND(E11="",E12="○"),"体制強化Ⅲを申請する場合は、体制強化Ⅱも申請する必要があります",IF(AND(C19="○",E11=""),"日中サービス支援型の場合、体制強化Ⅱの申請が必須です","")) | BM14: =IF(AND(E12="○",BU11<5),"ユニットリーダーの実務経験が足りません","")
X15: サービス類型 | AD15: 職種 | AH15: 必要となる週平均延勤務時間数 | BB15: 職員勤務実績 | BM15: =IF(AND(E12="○",BU12<BA32/2),"ユニットリーダーの週平均勤務時間数が足りません","")
C16: サービス類型 | AH16: 指定基準 | AM16: 人員配置体制加算 12:1 / 7.5:1 | AR16: 体制強化（Ⅰ） | AW16: 体制強化（Ⅱ） | BM16: 職員数
C17: =IF(基本情報シート!$D$21="介護サービス包括型","○","") -> ○ | F17: 介護サービス包括型事業所 | X17: 介護サービス包括型 外部サービス利用型 | AD17: 世話人 | AH17: =IF((OR(C17="○",C18="○")),ROUNDDOWN(((BE8+BE10*0.9))/6,1)*BA32,"-") -> 52 | AM17: =IF(C19="○","-",IF(OR(C17="○",C18="○"),ROUNDDOWN((BE8+BE10*0.9)/6*40,1)+ROUNDDOWN((AO8+AO10*0.9)/9*40,1)+ROUNDDOWN((AS8-AS9+AS10*0.9)/6*40,1)+ROUNDDOWN(AS9/12*40,1)+ROUNDDOWN((AW8-AW9+AW10*0.9)/4*40,1)+ROUNDDOWN(AW9/8*40,1)+ROUNDDOWN((BA8-BA9+BA10*0.9)/2.5*40,1)+ROUNDDOWN(BA9/5*40,1)+ROUNDDOWN((BE8+BE10*0.9)/12*40,1),"")) -> 153.9 | AR17: =IF(C19="○","-",IF(OR(C17="○",C18="○"),ROUNDDOWN(AM17+0.4*BA32,1),"")) -> 169.9 | AW17: =IF(E11="","-",IF(C19="○","-",IF(OR(C17="○",C18="○"),ROUNDDOWN(AM17+1*BA32,1),""))) -> 193.9 | BB17: =IF(C19="○","-",BD25) -> 84 | BG17: =IF(C19="○","-",BD27) -> 196 | BM17: 指定基準 | BU17: =IF(C19="○",IF(OR(BB19<AH19,BB20<AH20,BG17=0),"不足","OK"),IF(C17="○",IF(OR(BB17<AH17,BB18<AH18,BG17=0),"不足","OK"),IF(C18="○",IF(OR(BB17<AH17,BG17=0),"不足","OK"),""))) -> OK
C18: =IF(基本情報シート!$D$21="外部サービス利用型","○","") | F18: 外部サービス利用型事業所 | AD18: 生活支援員 | AH18: =IF(C18="○","不要",IF(C17="○",ROUNDDOWN((AO8+AO10*0.9)/9*BA32,1)+ROUNDDOWN((AS8-AS9+AS10*0.9)/6*BA32,1)+ROUNDDOWN(AS9/12*BA32,1)+ROUNDDOWN((AW8-AW9+AW10*0.9)/4*BA32,1)+ROUNDDOWN(AW9/8*BA32,1)+ROUNDDOWN((BA8-BA$9+BA10*0.9)/2.5*BA32,1)+ROUNDDOWN(BA9/5*BA32,1),"-")) -> 75 | BB18: =IF(C19="○","-",BD26) -> 112 | BM18: 人員配置体制加算 | BU18: =IF(OR(C17="○",C18="○"),IF(OR(BG17<AM17,BG17=0),"不足","OK"),IF(C19="○",IF(OR(BG19<AM19,BG17=0),"不足","OK"),"")) -> OK
C19: =IF(基本情報シート!$D$21="日中サービス支援型","○","") | F19: 日中サービス支援型事業所 | X19: 日中サービス支援型 | AD19: 世話人 | AH19: =IF(C19="○",ROUNDDOWN(((BE8+BE10*0.9))/5,1)*BA32,"-") -> - | AM19: =IF(C19="○",ROUNDDOWN((($BE$8+$BE$10*0.9))/6,1)*40+ROUNDDOWN(($AO$8+$AO$10*0.9)/9*40,1)+ROUNDDOWN(($AS$8-$AS$9+$AS$10*0.9)/6*40,1)+ROUNDDOWN($AS$9/12*40,1)+ROUNDDOWN(($AW$8-$AW$9+$AW$10*0.9)/4*40,1)+ROUNDDOWN($AW$9/8*40,1)+ROUNDDOWN(($BA$8-$BA$9+$BA$10*0.9)/2.5*40,1)+ROUNDDOWN($BA$9/5*40,1)+ROUNDDOWN(($BE$8+$BE$10*0.9)/7.5*40,1),"-") -> - | AR19: - | AW19: =IF(E11="","-",IF(C19="","-",AM19+1*BA32)) -> - | BB19: =IF(C19="","-",BD25) -> - | BG19: =IF(C19="","-",BD27) -> - | BM19: 体制強化（Ⅰ） | BU19: =IF(C19="○","-",IF(E10="○",IF(AND(C17="",C18=""),"",IF(BG17<AR17,"不足","OK")),"")) -> OK
C20: =IF(AND(C17="",C18="",C19=""),"基本情報シートのサービス類型を入力してください","") | AD20: 生活支援員 | AH20: =IF(C19="","-",ROUNDDOWN((AO8+AO10*0.9)/9*BA32,1)+ROUNDDOWN((AS8-AS9+AS10*0.9)/6*BA32,1)+ROUNDDOWN(AS$9/12*BA32,1)+ROUNDDOWN((AW8-AW9+AW10*0.9)/4*BA32,1)+ROUNDDOWN(AW9/8*BA32,1)+ROUNDDOWN((BA8-BA9+BA10*0.9)/2.5*BA32,1)+ROUNDDOWN(BA9/5*BA32,1)) -> - | BB20: =IF(C19="","-",BD26) -> - | BM20: 体制強化（Ⅱ） | BU20: =IF(E11="","-",IF(C19="○",IF(BG19<AW19,"不足","OK"),IF(OR(C17="○",C18="○"),IF(BG17<AW17,"不足","OK"),""))) -> OK
B22: ○従業者の勤務体制一覧表
B23: 職種 | V23: =IF($AI$2>=4,DATE(基本情報シート!$D$1+2018,$AI$2,1),DATE(基本情報シート!$D$1+2019,$AI$2,1)) -> 46113 | W23: =IF($AI$2>=4,DATE(基本情報シート!$D$1+2018,$AI$2,1)+1,DATE(基本情報シート!$D$1+2019,$AI$2,1)+1) -> 46114 | X23: =IF($AI$2>=4,DATE(基本情報シート!$D$1+2018,$AI$2,1)+2,DATE(基本情報シート!$D$1+2019,$AI$2,1)+2) -> 46115 | Y23: =IF($AI$2>=4,DATE(基本情報シート!$D$1+2018,$AI$2,1)+3,DATE(基本情報シート!$D$1+2019,$AI$2,1)+3) -> 46116 | Z23: =IF($AI$2>=4,DATE(基本情報シート!$D$1+2018,$AI$2,1)+4,DATE(基本情報シート!$D$1+2019,$AI$2,1)+4) -> 46117 | AA23: =IF($AI$2>=4,DATE(基本情報シート!$D$1+2018,$AI$2,1)+5,DATE(基本情報シート!$D$1+2019,$AI$2,1)+5) -> 46118 | AB23: =IF($AI$2>=4,DATE(基本情報シート!$D$1+2018,$AI$2,1)+6,DATE(基本情報シート!$D$1+2019,$AI$2,1)+6) -> 46119 | AC23: =IF($AI$2>=4,DATE(基本情報シート!$D$1+2018,$AI$2,1)+7,DATE(基本情報シート!$D$1+2019,$AI$2,1)+7) -> 46120 | AD23: =IF($AI$2>=4,DATE(基本情報シート!$D$1+2018,$AI$2,1)+8,DATE(基本情報シート!$D$1+2019,$AI$2,1)+8) -> 46121 | AE23: =IF($AI$2>=4,DATE(基本情報シート!$D$1+2018,$AI$2,1)+9,DATE(基本情報シート!$D$1+2019,$AI$2,1)+9) -> 46122 | AF23: =IF($AI$2>=4,DATE(基本情報シート!$D$1+2018,$AI$2,1)+10,DATE(基本情報シート!$D$1+2019,$AI$2,1)+10) -> 46123 | AG23: =IF($AI$2>=4,DATE(基本情報シート!$D$1+2018,$AI$2,1)+11,DATE(基本情報シート!$D$1+2019,$AI$2,1)+11) -> 46124 | AH23: =IF($AI$2>=4,DATE(基本情報シート!$D$1+2018,$AI$2,1)+12,DATE(基本情報シート!$D$1+2019,$AI$2,1)+12) -> 46125 | AI23: =IF($AI$2>=4,DATE(基本情報シート!$D$1+2018,$AI$2,1)+13,DATE(基本情報シート!$D$1+2019,$AI$2,1)+13) -> 46126 | AJ23: =IF($AI$2>=4,DATE(基本情報シート!$D$1+2018,$AI$2,1)+14,DATE(基本情報シート!$D$1+2019,$AI$2,1)+14) -> 46127 | AK23: =IF($AI$2>=4,DATE(基本情報シート!$D$1+2018,$AI$2,1)+15,DATE(基本情報シート!$D$1+2019,$AI$2,1)+15) -> 46128 | AL23: =IF($AI$2>=4,DATE(基本情報シート!$D$1+2018,$AI$2,1)+16,DATE(基本情報シート!$D$1+2019,$AI$2,1)+16) -> 46129 | AM23: =IF($AI$2>=4,DATE(基本情報シート!$D$1+2018,$AI$2,1)+17,DATE(基本情報シート!$D$1+2019,$AI$2,1)+17) -> 46130 | AN23: =IF($AI$2>=4,DATE(基本情報シート!$D$1+2018,$AI$2,1)+18,DATE(基本情報シート!$D$1+2019,$AI$2,1)+18) -> 46131 | AO23: =IF($AI$2>=4,DATE(基本情報シート!$D$1+2018,$AI$2,1)+19,DATE(基本情報シート!$D$1+2019,$AI$2,1)+19) -> 46132 | AP23: =IF($AI$2>=4,DATE(基本情報シート!$D$1+2018,$AI$2,1)+20,DATE(基本情報シート!$D$1+2019,$AI$2,1)+20) -> 46133 | AQ23: =IF($AI$2>=4,DATE(基本情報シート!$D$1+2018,$AI$2,1)+21,DATE(基本情報シート!$D$1+2019,$AI$2,1)+21) -> 46134 | AR23: =IF($AI$2>=4,DATE(基本情報シート!$D$1+2018,$AI$2,1)+22,DATE(基本情報シート!$D$1+2019,$AI$2,1)+22) -> 46135 | AS23: =IF($AI$2>=4,DATE(基本情報シート!$D$1+2018,$AI$2,1)+23,DATE(基本情報シート!$D$1+2019,$AI$2,1)+23) -> 46136 | AT23: =IF($AI$2>=4,DATE(基本情報シート!$D$1+2018,$AI$2,1)+24,DATE(基本情報シート!$D$1+2019,$AI$2,1)+24) -> 46137 | AU23: =IF($AI$2>=4,DATE(基本情報シート!$D$1+2018,$AI$2,1)+25,DATE(基本情報シート!$D$1+2019,$AI$2,1)+25) -> 46138 | AV23: =IF($AI$2>=4,DATE(基本情報シート!$D$1+2018,$AI$2,1)+26,DATE(基本情報シート!$D$1+2019,$AI$2,1)+26) -> 46139 | AW23: =IF($AI$2>=4,DATE(基本情報シート!$D$1+2018,$AI$2,1)+27,DATE(基本情報シート!$D$1+2019,$AI$2,1)+27) -> 46140 | AX23: =IF(AW23="","-",IF(DAY(AW23+1)=1,"-",AW23+1)) -> 46141 | AY23: =IF(AX23="-","-",IF(DAY(AX23+1)=1,"-",AX23+1)) -> 46142 | AZ23: =IF(AY23="-","-",IF(DAY(AY23+1)=1,"-",AY23+1)) -> - | BA23: 月の 合計 | BD23: 週平均の勤務時間 | BG23: 常勤換算後の人数 | BJ23: 特定従業者換算後の人数 | BY23: 東村山市
V24: =WEEKDAY(V23,1) -> 4 | W24: =WEEKDAY(W23,1) -> 5 | X24: =WEEKDAY(X23,1) -> 6 | Y24: =WEEKDAY(Y23,1) -> 7 | Z24: =WEEKDAY(Z23,1) -> 1 | AA24: =WEEKDAY(AA23,1) -> 2 | AB24: =WEEKDAY(AB23,1) -> 3 | AC24: =WEEKDAY(AC23,1) -> 4 | ... AW24: =WEEKDAY(AW23,1) -> 3 | AX24: =IF(AX23="-","-",WEEKDAY(AX23,1)) -> 4 | AY24: =IF(AY23="-","-",WEEKDAY(AY23,1)) -> 5 | AZ24: =IF(AZ23="-","-",WEEKDAY(AZ23,1)) -> - | BY24: 国分寺市
B25: 世話人 | V25: 12 | W25: 12 | X25: 12 | Y25: 12 | Z25: 12 | AA25: 12 | AB25: 12 | AC25: 12 | AD25: 12 | AE25: 12 | AF25: 12 | AG25: 12 | AH25: 12 | AI25: 12 | AJ25: 12 | AK25: 12 | AL25: 12 | AM25: 12 | AN25: 12 | AO25: 12 | AP25: 12 | AQ25: 12 | AR25: 12 | AS25: 12 | AT25: 12 | AU25: 12 | AV25: 12 | AW25: 12 | AX25: 12 | AY25: 12 | BA25: =SUM(V25:AZ25) -> 360 | BD25: =BA25*(28/DAY(EOMONTH(AV6,0)))/4 -> 84 | BG25: =ROUNDDOWN(SUM(BD25:BF25)/BA32,1) -> 2.1 | BJ25: =ROUNDDOWN(SUM(BD25:BF25)/40,1) -> 2.1 | BY25: 国立市
B26: 生活支援員 | V26: 16 | W26: 16 | X26: 16 | Y26: 16 | Z26: 16 | AA26: 16 | AB26: 16 | AC26: 16 | AD26: 16 | AE26: 16 | AF26: 16 | AG26: 16 | AH26: 16 | AI26: 16 | AJ26: 16 | AK26: 16 | AL26: 16 | AM26: 16 | AN26: 16 | AO26: 16 | AP26: 16 | AQ26: 16 | AR26: 16 | AS26: 16 | AT26: 16 | AU26: 16 | AV26: 16 | AW26: 16 | AX26: 16 | AY26: 16 | BA26: =SUM(V26:AZ26) -> 480 | BD26: =BA26*(28/DAY(EOMONTH(AV6,0)))/4 -> 112 | BG26: =ROUNDDOWN(SUM(BD26:BF26)/BA32,1) -> 2.8 | BJ26: =ROUNDDOWN(SUM(BD26:BF26)/40,1) -> 2.8 | BY26: 神津島村
B27: 世話人・生活支援員の合計 | V27: =SUM(V25:V26) -> 28 | W27: =SUM(W25:W26) -> 28 | X27: =SUM(X25:X26) -> 28 | Y27: =SUM(Y25:Y26) -> 28 | Z27: =SUM(Z25:Z26) -> 28 | AA27: =SUM(AA25:AA26) -> 28 | AB27: =SUM(AB25:AB26) -> 28 | AC27: =SUM(AC25:AC26) -> 28 | ... AZ27: =SUM(AZ25:AZ26) -> 0 | BA27: =SUM(BA25:BC26) -> 840 | BD27: =SUM(BD25:BF26) -> 196 | BG27: =SUM(BG25:BI26) -> 4.9 | BJ27: =SUM(BJ25:BL26) -> 4.9
B28: 当該ユニットに配置した夜間支援従事者数 | V28: 1.1 | W28: 1.1 | X28: 1.1 | Y28: 1.1 | Z28: 1.1 | AA28: 1.1 | AB28: 1.1 | AC28: 1.1 | AD28: 1.1 | AE28: 1.1 | AF28: 1.1 | AG28: 1.1 | AH28: 1.1 | AI28: 1.1 | AJ28: 1.1 | AK28: 1.1 | AL28: 1.1 | AM28: 1.1 | AN28: 1.1 | AO28: 1.1 | AP28: 1.1 | AQ28: 1.1 | AR28: 1.1 | AS28: 1.1 | AT28: 1.1 | AU28: 1.1 | AV28: 1.1 | AW28: 1.1 | AX28: 1.1 | AY28: 1.1
B29: ユニットリーダー 勤務時間数 | V29: 8 | W29: 6 | X29: 8 | Y29: 8 | Z29: 0 | AA29: 0 | AB29: 8 | AC29: 8 | AD29: 6 | AE29: 8 | AF29: 8 | AG29: 0 | AH29: 0 | AI29: 8 | AJ29: 8 | AK29: 6 | AL29: 8 | AM29: 8 | AN29: 0 | AO29: 0 | AP29: 8 | AQ29: 8 | AR29: 6 | AS29: 8 | AT29: 8 | AU29: 0 | AV29: 0 | AW29: 8 | AX29: 8 | AY29: 6 | BA29: =SUM(V29:AZ29) -> 166 | BD29: =BA29*(28/DAY(EOMONTH(AV6,0)))/4 -> 38.733333 | BG29: =ROUNDDOWN(SUM(BD29:BF29)/BA32,1) -> 0.9 | BJ29: =ROUNDDOWN(SUM(BD29:BF29)/40,1) -> 0.9 | BM29: ×12月 | BQ29: 年間見込日数
B30: 体制強化Ⅰ 補助対象日 | V30: =IF(OR(AND((V28>=1),COUNTIF(V37:V46,"☆")>=1,BU17="OK",BU19="OK",AO4="OK"),AND((V28=0),COUNTIF(V37:V46,"△")>=1,BU17="OK",BU19="OK",AO4="OK")),"○","") -> ○ | W30: =IF(OR(AND((W28>=1),COUNTIF(W37:W46,"☆")>=1,BU17="OK",BU19="OK",AO4="OK"),AND((W28=0),COUNTIF(W37:W46,"△")>=1,BU17="OK",BU19="OK",AO4="OK")),"○","") -> ○ | X30: =IF(OR(AND((X28>=1),COUNTIF(X37:X46,"☆")>=1,BU17="OK",BU19="OK",AO4="OK"),AND((X28=0),COUNTIF(X37:X46,"△")>=1,BU17="OK",BU19="OK",AO4="OK")),"○","") -> ○ | Y30: =IF(OR(AND((Y28>=1),COUNTIF(Y37:Y46,"☆")>=1,BU17="OK",BU19="OK",AO4="OK"),AND((Y28=0),COUNTIF(Y37:Y46,"△")>=1,BU17="OK",BU19="OK",AO4="OK")),"○","") -> ○ | Z30: =IF(OR(AND((Z28>=1),COUNTIF(Z37:Z46,"☆")>=1,BU17="OK",BU19="OK",AO4="OK"),AND((Z28=0),COUNTIF(Z37:Z46,"△")>=1,BU17="OK",BU19="OK",AO4="OK")),"○","") | AA30: =IF(OR(AND((AA28>=1),COUNTIF(AA37:AA46,"☆")>=1,BU17="OK",BU19="OK",AO4="OK"),AND((AA28=0),COUNTIF(AA37:AA46,"△")>=1,BU17="OK",BU19="OK",AO4="OK")),"○","") -> ○ | AB30: =IF(OR(AND((AB28>=1),COUNTIF(AB37:AB46,"☆")>=1,BU17="OK",BU19="OK",AO4="OK"),AND((AB28=0),COUNTIF(AB37:AB46,"△")>=1,BU17="OK",BU19="OK",AO4="OK")),"○","") -> ○ | AC30: =IF(OR(AND((AC28>=1),COUNTIF(AC37:AC46,"☆")>=1,BU17="OK",BU19="OK",AO4="OK"),AND((AC28=0),COUNTIF(AC37:AC46,"△")>=1,BU17="OK",BU19="OK",AO4="OK")),"○","") -> ○ | AD30: =IF(OR(AND((AD28>=1),COUNTIF(AD37:AD46,"☆")>=1,BU17="OK",BU19="OK",AO4="OK"),AND((AD28=0),COUNTIF(AD37:AD46,"△")>=1,BU17="OK",BU19="OK",AO4="OK")),"○","") -> ○ | AE30: =IF(OR(AND((AE28>=1),COUNTIF(AE37:AE46,"☆")>=1,BU17="OK",BU19="OK",AO4="OK"),AND((AE28=0),COUNTIF(AE37:AE46,"△")>=1,BU17="OK",BU19="OK",AO4="OK")),"○","") -> ○ | AF30: =IF(OR(AND((AF28>=1),COUNTIF(AF37:AF46,"☆")>=1,BU17="OK",BU19="OK",AO4="OK"),AND((AF28=0),COUNTIF(AF37:AF46,"△")>=1,BU17="OK",BU19="OK",AO4="OK")),"○","") -> ○ | AG30: =IF(OR(AND((AG28>=1),COUNTIF(AG37:AG46,"☆")>=1,BU17="OK",BU19="OK",AO4="OK"),AND((AG28=0),COUNTIF(AG37:AG46,"△")>=1,BU17="OK",BU19="OK",AO4="OK")),"○","") | AH30: =IF(OR(AND((AH28>=1),COUNTIF(AH37:AH46,"☆")>=1,BU17="OK",BU19="OK",AO4="OK"),AND((AH28=0),COUNTIF(AH37:AH46,"△")>=1,BU17="OK",BU19="OK",AO4="OK")),"○","") -> ○ | AI30: =IF(OR(AND((AI28>=1),COUNTIF(AI37:AI46,"☆")>=1,BU17="OK",BU19="OK",AO4="OK"),AND((AI28=0),COUNTIF(AI37:AI46,"△")>=1,BU17="OK",BU19="OK",AO4="OK")),"○","") -> ○ | AJ30: =IF(OR(AND((AJ28>=1),COUNTIF(AJ37:AJ46,"☆")>=1,BU17="OK",BU19="OK",AO4="OK"),AND((AJ28=0),COUNTIF(AJ37:AJ46,"△")>=1,BU17="OK",BU19="OK",AO4="OK")),"○","") -> ○ | AK30: =IF(OR(AND((AK28>=1),COUNTIF(AK37:AK46,"☆")>=1,BU17="OK",BU19="OK",AO4="OK"),AND((AK28=0),COUNTIF(AK37:AK46,"△")>=1,BU17="OK",BU19="OK",AO4="OK")),"○","") -> ○ | AL30: =IF(OR(AND((AL28>=1),COUNTIF(AL37:AL46,"☆")>=1,BU17="OK",BU19="OK",AO4="OK"),AND((AL28=0),COUNTIF(AL37:AL46,"△")>=1,BU17="OK",BU19="OK",AO4="OK")),"○","") -> ○ | AM30: =IF(OR(AND((AM28>=1),COUNTIF(AM37:AM46,"☆")>=1,BU17="OK",BU19="OK",AO4="OK"),AND((AM28=0),COUNTIF(AM37:AM46,"△")>=1,BU17="OK",BU19="OK",AO4="OK")),"○","") -> ○ | AN30: =IF(OR(AND((AN28>=1),COUNTIF(AN37:AN46,"☆")>=1,BU17="OK",BU19="OK",AO4="OK"),AND((AN28=0),COUNTIF(AN37:AN46,"△")>=1,BU17="OK",BU19="OK",AO4="OK")),"○","") | AO30: =IF(OR(AND((AO28>=1),COUNTIF(AO37:AO46,"☆")>=1,BU17="OK",BU19="OK",AO4="OK"),AND((AO28=0),COUNTIF(AO37:AO46,"△")>=1,BU17="OK",BU19="OK",AO4="OK")),"○","") -> ○ | AP30: =IF(OR(AND((AP28>=1),COUNTIF(AP37:AP46,"☆")>=1,BU17="OK",BU19="OK",AO4="OK"),AND((AP28=0),COUNTIF(AP37:AP46,"△")>=1,BU17="OK",BU19="OK",AO4="OK")),"○","") -> ○ | AQ30: =IF(OR(AND((AQ28>=1),COUNTIF(AQ37:AQ46,"☆")>=1,BU17="OK",BU19="OK",AO4="OK"),AND((AQ28=0),COUNTIF(AQ37:AQ46,"△")>=1,BU17="OK",BU19="OK",AO4="OK")),"○","") -> ○ | AR30: =IF(OR(AND((AR28>=1),COUNTIF(AR37:AR46,"☆")>=1,BU17="OK",BU19="OK",AO4="OK"),AND((AR28=0),COUNTIF(AR37:AR46,"△")>=1,BU17="OK",BU19="OK",AO4="OK")),"○","") -> ○ | AS30: =IF(OR(AND((AS28>=1),COUNTIF(AS37:AS46,"☆")>=1,BU17="OK",BU19="OK",AO4="OK"),AND((AS28=0),COUNTIF(AS37:AS46,"△")>=1,BU17="OK",BU19="OK",AO4="OK")),"○","") -> ○ | AT30: =IF(OR(AND((AT28>=1),COUNTIF(AT37:AT46,"☆")>=1,BU17="OK",BU19="OK",AO4="OK"),AND((AT28=0),COUNTIF(AT37:AT46,"△")>=1,BU17="OK",BU19="OK",AO4="OK")),"○","") -> ○ | AU30: =IF(OR(AND((AU28>=1),COUNTIF(AU37:AU46,"☆")>=1,BU17="OK",BU19="OK",AO4="OK"),AND((AU28=0),COUNTIF(AU37:AU46,"△")>=1,BU17="OK",BU19="OK",AO4="OK")),"○","") | AV30: =IF(OR(AND((AV28>=1),COUNTIF(AV37:AV46,"☆")>=1,BU17="OK",BU19="OK",AO4="OK"),AND((AV28=0),COUNTIF(AV37:AV46,"△")>=1,BU17="OK",BU19="OK",AO4="OK")),"○","") -> ○ | AW30: =IF(OR(AND((AW28>=1),COUNTIF(AW37:AW46,"☆")>=1,BU17="OK",BU19="OK",AO4="OK"),AND((AW28=0),COUNTIF(AW37:AW46,"△")>=1,BU17="OK",BU19="OK",AO4="OK")),"○","") -> ○ | AX30: =IF(OR(AND((AX28>=1),COUNTIF(AX37:AX46,"☆")>=1,BU17="OK",BU19="OK",AO4="OK"),AND((AX28=0),COUNTIF(AX37:AX46,"△")>=1,BU17="OK",BU19="OK",AO4="OK")),"○","") -> ○ | AY30: =IF(OR(AND((AY28>=1),COUNTIF(AY37:AY46,"☆")>=1,BU17="OK",BU19="OK",AO4="OK"),AND((AY28=0),COUNTIF(AY37:AY46,"△")>=1,BU17="OK",BU19="OK",AO4="OK")),"○","") -> ○ | AZ30: =IF(OR(AND((AZ28>=1),COUNTIF(AZ37:AZ46,"☆")>=1,BU17="OK",BU19="OK",AO4="OK"),AND((AZ28=0),COUNTIF(AZ37:AZ46,"△")>=1,BU17="OK",BU19="OK",AO4="OK")),"○","") | BA30: 小計 | BD30: =IF(AND(BU17="OK",BU18="OK",BU19="OK",AO4="OK"),COUNTIF(V30:AZ30,"○"),0) -> 26 | BM30: =BD30*12 -> 312 | BQ30: 312
B31: 体制強化Ⅱ 補助対象日 | V31: =IF(AND((V28>1),COUNTIF(V37:V46,"☆")>=1,BU17="OK",BU18="OK",BU20="OK",AO4="OK"),"○","") -> ○ | W31: =IF(AND((W28>1),COUNTIF(W37:W46,"☆")>=1,BU17="OK",BU18="OK",BU20="OK",AO4="OK"),"○","") -> ○ | X31: =IF(AND((X28>1),COUNTIF(X37:X46,"☆")>=1,BU17="OK",BU18="OK",BU20="OK",AO4="OK"),"○","") -> ○ | Y31: =IF(AND((Y28>1),COUNTIF(Y37:Y46,"☆")>=1,BU17="OK",BU18="OK",BU20="OK",AO4="OK"),"○","") -> ○ | Z31: =IF(AND((Z28>1),COUNTIF(Z37:Z46,"☆")>=1,BU17="OK",BU18="OK",BU20="OK",AO4="OK"),"○","") | AA31: =IF(AND((AA28>1),COUNTIF(AA37:AA46,"☆")>=1,BU17="OK",BU18="OK",BU20="OK",AO4="OK"),"○","") -> ○ | AB31: =IF(AND((AB28>1),COUNTIF(AB37:AB46,"☆")>=1,BU17="OK",BU18="OK",BU20="OK",AO4="OK"),"○","") -> ○ | AC31: =IF(AND((AC28>1),COUNTIF(AC37:AC46,"☆")>=1,BU17="OK",BU18="OK",BU20="OK",AO4="OK"),"○","") -> ○ | AD31: =IF(AND((AD28>1),COUNTIF(AD37:AD46,"☆")>=1,BU17="OK",BU18="OK",BU20="OK",AO4="OK"),"○","") -> ○ | AE31: =IF(AND((AE28>1),COUNTIF(AE37:AE46,"☆")>=1,BU17="OK",BU18="OK",BU20="OK",AO4="OK"),"○","") -> ○ | AF31: =IF(AND((AF28>1),COUNTIF(AF37:AF46,"☆")>=1,BU17="OK",BU18="OK",BU20="OK",AO4="OK"),"○","") -> ○ | AG31: =IF(AND((AG28>1),COUNTIF(AG37:AG46,"☆")>=1,BU17="OK",BU18="OK",BU20="OK",AO4="OK"),"○","") | AH31: =IF(AND((AH28>1),COUNTIF(AH37:AH46,"☆")>=1,BU17="OK",BU18="OK",BU20="OK",AO4="OK"),"○","") -> ○ | AI31: =IF(AND((AI28>1),COUNTIF(AI37:AI46,"☆")>=1,BU17="OK",BU18="OK",BU20="OK",AO4="OK"),"○","") -> ○ | AJ31: =IF(AND((AJ28>1),COUNTIF(AJ37:AJ46,"☆")>=1,BU17="OK",BU18="OK",BU20="OK",AO4="OK"),"○","") -> ○ | AK31: =IF(AND((AK28>1),COUNTIF(AK37:AK46,"☆")>=1,BU17="OK",BU18="OK",BU20="OK",AO4="OK"),"○","") -> ○ | AL31: =IF(AND((AL28>1),COUNTIF(AL37:AL46,"☆")>=1,BU17="OK",BU18="OK",BU20="OK",AO4="OK"),"○","") -> ○ | AM31: =IF(AND((AM28>1),COUNTIF(AM37:AM46,"☆")>=1,BU17="OK",BU18="OK",BU20="OK",AO4="OK"),"○","") -> ○ | AN31: =IF(AND((AN28>1),COUNTIF(AN37:AN46,"☆")>=1,BU17="OK",BU18="OK",BU20="OK",AO4="OK"),"○","") | AO31: =IF(AND((AO28>1),COUNTIF(AO37:AO46,"☆")>=1,BU17="OK",BU18="OK",BU20="OK",AO4="OK"),"○","") -> ○ | AP31: =IF(AND((AP28>1),COUNTIF(AP37:AP46,"☆")>=1,BU17="OK",BU18="OK",BU20="OK",AO4="OK"),"○","") -> ○ | AQ31: =IF(AND((AQ28>1),COUNTIF(AQ37:AQ46,"☆")>=1,BU17="OK",BU18="OK",BU20="OK",AO4="OK"),"○","") -> ○ | AR31: =IF(AND((AR28>1),COUNTIF(AR37:AR46,"☆")>=1,BU17="OK",BU18="OK",BU20="OK",AO4="OK"),"○","") -> ○ | AS31: =IF(AND((AS28>1),COUNTIF(AS37:AS46,"☆")>=1,BU17="OK",BU18="OK",BU20="OK",AO4="OK"),"○","") -> ○ | AT31: =IF(AND((AT28>1),COUNTIF(AT37:AT46,"☆")>=1,BU17="OK",BU18="OK",BU20="OK",AO4="OK"),"○","") -> ○ | AU31: =IF(AND((AU28>1),COUNTIF(AU37:AU46,"☆")>=1,BU17="OK",BU18="OK",BU20="OK",AO4="OK"),"○","") | AV31: =IF(AND((AV28>1),COUNTIF(AV37:AV46,"☆")>=1,BU17="OK",BU18="OK",BU20="OK",AO4="OK"),"○","") -> ○ | AW31: =IF(AND((AW28>1),COUNTIF(AW37:AW46,"☆")>=1,BU17="OK",BU18="OK",BU20="OK",AO4="OK"),"○","") -> ○ | AX31: =IF(AND((AX28>1),COUNTIF(AX37:AX46,"☆")>=1,BU17="OK",BU18="OK",BU20="OK",AO4="OK"),"○","") -> ○ | AY31: =IF(AND((AY28>1),COUNTIF(AY37:AY46,"☆")>=1,BU17="OK",BU18="OK",BU20="OK",AO4="OK"),"○","") -> ○ | AZ31: =IF(AND((AZ28>1),COUNTIF(AZ37:AZ46,"☆")>=1,BU17="OK",BU18="OK",BU20="OK",AO4="OK"),"○","") | BA31: 小計 | BD31: =IF(AND(BU17="OK",BU18="OK",BU19="OK",BU20="OK",AO4="OK"),COUNTIF(V31:AZ31,"○"),0) -> 26 | BM31: =BD31*12 -> 312 | BQ31: 312
B32: 1週間に当該事業所における常勤職員の勤務すべき時間数（就業規則上に定める時間数） | BA32: =基本情報シート!$D$25 -> 40
B34: ○利用者の状況（夜間支援を含め１日を通して利用する日：☆、帰省や旅行等で夜間のみ不在の日：△、利用がまったくない日：空欄 としてください）
D35: 利用者氏名 | J35: 障害支援区分 | M35: 個人居宅介護利用 | P35: 入居 予定 | S35: 都外支給決定 | V35: =IF($AI$2>=4,DATE(基本情報シート!$D$1+2018,$AI$2,1),DATE(基本情報シート!$D$1+2019,$AI$2,1)) -> 46113 | W35: =IF($AI$2>=4,DATE(基本情報シート!$D$1+2018,$AI$2,1)+1,DATE(基本情報シート!$D$1+2019,$AI$2,1)+1) -> 46114 | X35: =IF($AI$2>=4,DATE(基本情報シート!$D$1+2018,$AI$2,1)+2,DATE(基本情報シート!$D$1+2019,$AI$2,1)+2) -> 46115 | Y35: =IF($AI$2>=4,DATE(基本情報シート!$D$1+2018,$AI$2,1)+3,DATE(基本情報シート!$D$1+2019,$AI$2,1)+3) -> 46116 | Z35: =IF($AI$2>=4,DATE(基本情報シート!$D$1+2018,$AI$2,1)+4,DATE(基本情報シート!$D$1+2019,$AI$2,1)+4) -> 46117 | AA35: =IF($AI$2>=4,DATE(基本情報シート!$D$1+2018,$AI$2,1)+5,DATE(基本情報シート!$D$1+2019,$AI$2,1)+5) -> 46118 | AB35: =IF($AI$2>=4,DATE(基本情報シート!$D$1+2018,$AI$2,1)+6,DATE(基本情報シート!$D$1+2019,$AI$2,1)+6) -> 46119 | AC35: =IF($AI$2>=4,DATE(基本情報シート!$D$1+2018,$AI$2,1)+7,DATE(基本情報シート!$D$1+2019,$AI$2,1)+7) -> 46120 | AD35: =IF($AI$2>=4,DATE(基本情報シート!$D$1+2018,$AI$2,1)+8,DATE(基本情報シート!$D$1+2019,$AI$2,1)+8) -> 46121 | AE35: =IF($AI$2>=4,DATE(基本情報シート!$D$1+2018,$AI$2,1)+9,DATE(基本情報シート!$D$1+2019,$AI$2,1)+9) -> 46122 | AF35: =IF($AI$2>=4,DATE(基本情報シート!$D$1+2018,$AI$2,1)+10,DATE(基本情報シート!$D$1+2019,$AI$2,1)+10) -> 46123 | AG35: =IF($AI$2>=4,DATE(基本情報シート!$D$1+2018,$AI$2,1)+11,DATE(基本情報シート!$D$1+2019,$AI$2,1)+11) -> 46124 | AH35: =IF($AI$2>=4,DATE(基本情報シート!$D$1+2018,$AI$2,1)+12,DATE(基本情報シート!$D$1+2019,$AI$2,1)+12) -> 46125 | AI35: =IF($AI$2>=4,DATE(基本情報シート!$D$1+2018,$AI$2,1)+13,DATE(基本情報シート!$D$1+2019,$AI$2,1)+13) -> 46126 | AJ35: =IF($AI$2>=4,DATE(基本情報シート!$D$1+2018,$AI$2,1)+14,DATE(基本情報シート!$D$1+2019,$AI$2,1)+14) -> 46127 | AK35: =IF($AI$2>=4,DATE(基本情報シート!$D$1+2018,$AI$2,1)+15,DATE(基本情報シート!$D$1+2019,$AI$2,1)+15) -> 46128 | AL35: =IF($AI$2>=4,DATE(基本情報シート!$D$1+2018,$AI$2,1)+16,DATE(基本情報シート!$D$1+2019,$AI$2,1)+16) -> 46129 | AM35: =IF($AI$2>=4,DATE(基本情報シート!$D$1+2018,$AI$2,1)+17,DATE(基本情報シート!$D$1+2019,$AI$2,1)+17) -> 46130 | AN35: =IF($AI$2>=4,DATE(基本情報シート!$D$1+2018,$AI$2,1)+18,DATE(基本情報シート!$D$1+2019,$AI$2,1)+18) -> 46131 | AO35: =IF($AI$2>=4,DATE(基本情報シート!$D$1+2018,$AI$2,1)+19,DATE(基本情報シート!$D$1+2019,$AI$2,1)+19) -> 46132 | AP35: =IF($AI$2>=4,DATE(基本情報シート!$D$1+2018,$AI$2,1)+20,DATE(基本情報シート!$D$1+2019,$AI$2,1)+20) -> 46133 | AQ35: =IF($AI$2>=4,DATE(基本情報シート!$D$1+2018,$AI$2,1)+21,DATE(基本情報シート!$D$1+2019,$AI$2,1)+21) -> 46134 | AR35: =IF($AI$2>=4,DATE(基本情報シート!$D$1+2018,$AI$2,1)+22,DATE(基本情報シート!$D$1+2019,$AI$2,1)+22) -> 46135 | AS35: =IF($AI$2>=4,DATE(基本情報シート!$D$1+2018,$AI$2,1)+23,DATE(基本情報シート!$D$1+2019,$AI$2,1)+23) -> 46136 | AT35: =IF($AI$2>=4,DATE(基本情報シート!$D$1+2018,$AI$2,1)+24,DATE(基本情報シート!$D$1+2019,$AI$2,1)+24) -> 46137 | AU35: =IF($AI$2>=4,DATE(基本情報シート!$D$1+2018,$AI$2,1)+25,DATE(基本情報シート!$D$1+2019,$AI$2,1)+25) -> 46138 | AV35: =IF($AI$2>=4,DATE(基本情報シート!$D$1+2018,$AI$2,1)+26,DATE(基本情報シート!$D$1+2019,$AI$2,1)+26) -> 46139 | AW35: =IF($AI$2>=4,DATE(基本情報シート!$D$1+2018,$AI$2,1)+27,DATE(基本情報シート!$D$1+2019,$AI$2,1)+27) -> 46140 | AX35: =IF(AW35="","-",IF(DAY(AW35+1)=1,"-",AW35+1)) -> 46141 | AY35: =IF(AX35="-","-",IF(DAY(AX35+1)=1,"-",AX35+1)) -> 46142 | AZ35: =IF(AY35="-","-",IF(DAY(AY35+1)=1,"-",AY35+1)) -> - | BA35: 計 | BC35: 障害特性 | BK35: 重度障害者 支援加算(Ⅱ)
V36: =WEEKDAY(V35,1) -> 4 | W36: =WEEKDAY(W35,1) -> 5 | X36: =WEEKDAY(X35,1) -> 6 | Y36: =WEEKDAY(Y35,1) -> 7 | Z36: =WEEKDAY(Z35,1) -> 1 | AA36: =WEEKDAY(AA35,1) -> 2 | AB36: =WEEKDAY(AB35,1) -> 3 | AC36: =WEEKDAY(AC35,1) -> 4 | ... AW36: =WEEKDAY(AW35,1) -> 3 | AX36: =IF(AX35="-","-",WEEKDAY(AX35,1)) -> 4 | AY36: =IF(AY35="-","-",WEEKDAY(AY35,1)) -> 5 | AZ36: =IF(AZ35="-","-",WEEKDAY(AZ35,1)) -> - | BC36: 行動障害 | BG36: 重複障害
C37: 1 | D37: A | J37: 6 | V37: ☆ | W37: ☆ | X37: ☆ | Y37: ☆ | Z37: △ | AA37: ☆ | AB37: ☆ | AC37: ☆ | AD37: ☆ | AE37: ☆ | AF37: ☆ | AG37: △ | AH37: ☆ | AI37: ☆ | AJ37: ☆ | AK37: ☆ | AL37: ☆ | AM37: ☆ | AN37: △ | AO37: ☆ | AP37: ☆ | AQ37: ☆ | AR37: ☆ | AS37: ☆ | AT37: ☆ | AU37: △ | AV37: ☆ | AW37: ☆ | AX37: ☆ | AY37: ☆ | BA37: =COUNTA(V37:AZ37) -> 30 | BG37: ○
C38: 2 | D38: B | J38: 5 | V38: ☆ | W38: ☆ | X38: ☆ | Y38: ☆ | Z38: △ | AA38: ☆ | AB38: ☆ | AC38: ☆ | AD38: ☆ | AE38: ☆ | AF38: ☆ | AG38: △ | AH38: ☆ | AI38: ☆ | AJ38: ☆ | AK38: ☆ | AL38: ☆ | AM38: ☆ | AN38: △ | AO38: ☆ | AP38: ☆ | AQ38: ☆ | AR38: ☆ | AS38: ☆ | AT38: ☆ | AU38: △ | AV38: ☆ | AW38: ☆ | AX38: ☆ | AY38: ☆ | BA38: =COUNTA(V38:AZ38) -> 30
C39: 3 | D39: C | J39: 4 | V39: ☆ | W39: ☆ | X39: ☆ | Y39: ☆ | Z39: △ | AA39: ☆ | AB39: ☆ | AC39: ☆ | AD39: ☆ | AE39: ☆ | AF39: ☆ | AG39: △ | AH39: ☆ | AI39: ☆ | AJ39: ☆ | AK39: ☆ | AL39: ☆ | AM39: ☆ | AN39: △ | AO39: ☆ | AP39: ☆ | AQ39: ☆ | AR39: ☆ | AS39: ☆ | AT39: ☆ | AU39: △ | AV39: ☆ | AW39: ☆ | AX39: ☆ | AY39: ☆ | BA39: =COUNTA(V39:AZ39) -> 30 | BC39: ○ | BK39: ○
C40: 4 | D40: D | J40: 5 | V40: ☆ | W40: ☆ | X40: ☆ | Y40: ☆ | Z40: △ | AA40: ☆ | AB40: ☆ | AC40: ☆ | AD40: ☆ | AE40: ☆ | AF40: ☆ | AG40: △ | AH40: ☆ | AI40: ☆ | AJ40: ☆ | AK40: ☆ | AL40: ☆ | AM40: ☆ | AN40: △ | AO40: ☆ | AP40: ☆ | AQ40: ☆ | AR40: ☆ | AS40: ☆ | AT40: ☆ | AU40: △ | AV40: ☆ | AW40: ☆ | AX40: ☆ | AY40: ☆ | BA40: =COUNTA(V40:AZ40) -> 30
C41: 5 | D41: E | J41: 4 | V41: ☆ | W41: ☆ | X41: ☆ | Y41: ☆ | Z41: △ | AA41: ☆ | AB41: ☆ | AC41: ☆ | AD41: ☆ | AE41: ☆ | AF41: ☆ | AG41: △ | AH41: ☆ | AI41: ☆ | AJ41: ☆ | AK41: ☆ | AL41: ☆ | AM41: ☆ | AN41: △ | AO41: ☆ | AP41: ☆ | AQ41: ☆ | AR41: ☆ | AS41: ☆ | AT41: ☆ | AU41: △ | AV41: ☆ | AW41: ☆ | AX41: ☆ | AY41: ☆ | BA41: =COUNTA(V41:AZ41) -> 30
C42: 6 | D42: F | J42: 5 | V42: ☆ | W42: ☆ | X42: ☆ | Y42: ☆ | Z42: △ | AA42: ☆ | AB42: ☆ | AC42: ☆ | AD42: ☆ | AE42: ☆ | AF42: ☆ | AG42: △ | AH42: ☆ | AI42: ☆ | AJ42: ☆ | AK42: ☆ | AL42: ☆ | AM42: ☆ | AN42: △ | AO42: ☆ | AP42: ☆ | AQ42: ☆ | AR42: ☆ | AS42: ☆ | AT42: ☆ | AU42: △ | AV42: ☆ | AW42: ☆ | AX42: ☆ | AY42: ☆ | BA42: =COUNTA(V42:AZ42) -> 30
...

Sheet 様式3①
AN1: 確認欄 | AO1: =IF(H8="","ユニット名が入力されていません",IF(H9="","ユニット定員が入力されていません",IF(C19="○","OK",IF(BQ8="","夜間支援等体制加算が入力されていません","OK")))) -> ユニット名が入力されていません | BP1: =基本情報シート!$C$19 -> 0
U2: 月別職員配置状況明細表 | AI2: 4 | AK2: 月 | AO2: =IF(H9="","",IF(H9=BE12,"OK","定員数と入居者状況の合計人数が不一致です")) | BN2: 職員数 | BQ2: 区分４ | BT2: 特性 | BV2: その他
AO3: =IF(AND(E10="",E11="",E12=""),"体制強化区分に〇を入力してください","OK") -> 体制強化区分に〇を入力してください | BI3: 体制強化Ⅰ | BN3: =IF(E10="","-",IF(AND(E10="○",BU17="OK",BU18="OK",BU19="OK"),"OK","不可")) -> - | BQ3: =IF(E10="","-",IF(AND(E10="○",AO4="OK"),"OK","不可")) -> - | BV3: =IF(E10="","-",IF(AND(E10="○",AO1="OK",AO2="OK",AO3="OK",D48=""),"OK","不可")) -> - | BZ3: =IF(AND(BN3="OK",BQ3="OK",BV3="OK"),"OK","")
R4: ※先に「基本情報シート」を記入してください。 | AO4: {=_xlfn.IFS(OR(H9<=1,H9>10),"定員が運営基準を満たしていません",H9=2,IF(T10=0,"区分４以上の利用者数が要件を満たしていません","OK"),H9=3,IF(OR(T10=0,T10=1),"区分４以上の利用者数が要件を満たしていません","OK"),H9=4,IF(OR(T10=0,T10=1,T10=2),"区分４以上の利用者数が要件を満たしていません","OK"),AND(H9>4,H9<=10),IF(T10/H9<0.8,"区分４以上の利用者数が要件を満たしていません","OK"))} -> 定員が運営基準を満たしていません | BI4: 体制強化Ⅱ | BN4: =IF(E11="","-",IF(AND(E11="○",BU17="OK",BU18="OK",BU20="OK"),"OK","不可")) -> - | BQ4: =IF(E11="","-",IF(AND(E11="○",AO4="OK"),"OK","不可")) -> - | BT4: =IF(E11="","-",IF(AND(BL9="",BQ9="",BV9=""),"不可","OK")) -> - | BV4: =IF(E11="","-",IF(AND(E11="○",基本情報シート!$C$27<>"",AO1="OK",AO2="OK",AO3="OK",D48=""),"OK","不可")) -> - | BZ4: =IF(AND(BN4="OK",BQ4="OK",BT4="OK",BV4="OK"),"OK","不可") -> 不可
R5: ※クリーム色のセルは必ず記入してください。緑色のセルは必要に応じて記入してください。 | BI5: 体制強化Ⅲ | BQ5: =IF(E12="","-",IF(AND(E12="○",AO4="OK"),"OK","不可")) -> - | BT5: =IF(E12="","-",IF(BQ9="","不可","OK")) -> - | BV5: =IF(E12="","-",IF(AND(E12="○",基本情報シート!$C$26<>"",BM13="",BM14="",BM15="",BV4="OK"),"OK","不可")) -> - | BZ5: =IF(BZ4="不可","不可",IF(AND(BQ5="OK",BT5="OK",BV5="OK"),"OK","")) -> 不可
B6: 事業所名 | H6: =基本情報シート!$C$20 -> 0 | Z6: 入居者状況 | AS6: 基準日 | AV6: =IF(AI2>=4,DATE(基本情報シート!$D$1+2018,AI2,1),DATE(基本情報シート!$D$1+2019,AI2,1)) -> 46113
B7: 事業所番号 | H7: =基本情報シート!$C$19 -> 0 | AG7: 区分１以下 | AK7: 区分２ | AO7: 区分３ | AS7: 区分４ | AW7: 区分５ | BA7: 区分６ | BE7: 計 | BI7: 人員配置体制加算(事業所) | BQ7: =基本情報シート!$C$22
B8: ユニット名 | H8: ='第１号様式(要押印)'!B31 | Z8: 利用者数（平均） | AG8: =COUNTIF(J37:J46,"1")+COUNTIF(J37:J46,"なし")-AG10 -> 0 | AK8: =COUNTIF(J37:J46,"2")-AK10 -> 0 | AO8: =COUNTIF(J37:J46,"3")-AO10 -> 0 | AS8: =COUNTIF(J37:J46,"4")-AS10 -> 0 | AW8: =COUNTIF(J37:J46,"5")-AW10 -> 0 | BA8: =COUNTIF(J37:J46,"6")-BA10 -> 0 | BE8: =SUM(AG8:BD8) -> 0 | BI8: 夜間支援等体制加算
B9: ユニット定員 | L9: （サテライトを除く） | AA9: 個人居宅介護利用者（再掲） | AS9: =COUNTIFS(J37:L46,"4",M37:O46,"○") -> 0 | AW9: =COUNTIFS(J37:L46,"5",M37:O46,"○") -> 0 | BA9: =COUNTIFS(J37:L46,"6",M37:O46,"○") -> 0 | BE9: =SUM(AG9:BD9) -> 0 | BI9: 区分６ | BL9: =IF(E11="","-",IF(COUNTIFS(J37:J46,"6",P37:P46,"<>"&"○",S37:S46,"<>"&"○")>0,"○","")) -> - | BN9: 行動障害 | BQ9: =IF(E11="","-",IF(COUNTIFS(BC37:BC46,"○",P37:P46,"<>"&"○",S37:S46,"<>"&"○")>0,"○","")) -> - | BS9: 重複障害 | BV9: =IF(E11="","-",IF(COUNTIFS(BG37:BG46,"○",P37:P46,"<>"&"○",S37:S46,"<>"&"○")>0,"○","")) -> -
B10: 体制強化 区分 | E10: =IF(OR(C17="○",C18="○"),"○","") | H10: Ⅰ | I10: 0.4 | N10: 区分４以上人数/割合 | T10: =COUNTIFS(J37:J46,">=4",J37:J46,"<=6",P37:P46,"<>"&"○",S37:S46,"<>"&"○") -> 0 | V10: =IF(H9<=4,"",IF(T10/H9>1,1,T10/H9)) | Z10: 入居予定者 | AG10: =COUNTIFS(J37:J46,"なし",P37:P46,"○")+COUNTIFS(J37:J46,"1",P37:P46,"○") -> 0 | AK10: =COUNTIFS(J37:J46,"2",P37:P46,"○") -> 0 | AO10: =COUNTIFS(J37:J46,"3",P37:P46,"○") -> 0 | AS10: =COUNTIFS(J37:J46,"4",P37:P46,"○") -> 0 | AW10: =COUNTIFS(J37:J46,"5",P37:P46,"○") -> 0 | BA10: =COUNTIFS(J37:J46,"6",P37:P46,"○") -> 0 | BE10: =SUM(AG10:BD10) -> 0 | BI10: ユニットリーダー 氏名
H11: Ⅱ | I11: 1 | N11: 専門研修受講者氏名 | T11: =IF(E11="","-",基本情報シート!$C$27) -> - | Z11: サテライト利用者 | BE11: =SUM(AG11:BD11) -> 0 | BI11: ユニットリーダー 実務経験年数
H12: Ⅲ | I12: 行動障害 | N12: 管理者氏名 | T12: =IF(E12="","-",基本情報シート!$C$26) -> - | Z12: 計 | AG12: =AG8+AG10 -> 0 | AK12: =AK8+AK10 -> 0 | AO12: =AO8+AO10 -> 0 | AS12: =AS8+AS10 -> 0 | AW12: =AW8+AW10 -> 0 | BA12: =BA8+BA10 -> 0 | BE12: =BE8+BE10 -> 0 | BI12: ユニットリーダー 勤務時間数/週 | BU12: =IF(E12="","-",IF(BD29>BA32,BA32,BD29)) -> -
B13: ※申請する区分は全て○を選択してください。 | T13: =IF(E11="","",IF(AND(E11="○",基本情報シート!$C$27=""),"「基本情報シート」の「専門研修受講者予定者」欄を入力してください",IF(E12="","",IF(AND(E12="○",基本情報シート!$C$26=""),"「基本情報シート」の「管理者氏名」欄を入力してください","")))) | BM13: =IF(AND(E12="○",BR10=""),"ユニットリーダーの氏名を記入してください","")
B14: =IF(AND(E11="",E12="○"),"体制強化Ⅲを申請する場合は、体制強化Ⅱも申請する必要があります",IF(AND(C19="○",E11=""),"日中サービス支援型の場合、体制強化Ⅱの申請が必須です","")) | BM14: =IF(AND(E12="○",BU11<5),"ユニットリーダーの実務経験が足りません","")
X15: サービス類型 | AD15: 職種 | AH15: 必要となる週平均延勤務時間数 | BB15: 職員勤務実績 | BM15: =IF(AND(E12="○",BU12<BA32/2),"ユニットリーダーの週平均勤務時間数が足りません","")
C16: サービス類型 | AH16: 指定基準 | AM16: 人員配置体制加算 12:1 / 7.5:1 | AR16: 体制強化（Ⅰ） | AW16: 体制強化（Ⅱ） | BM16: 職員数
C17: =IF(基本情報シート!$C$21="介護サービス包括型","○","") | F17: 介護サービス包括型事業所 | X17: 介護サービス包括型 外部サービス利用型 | AD17: 世話人 | AH17: =IF((OR(C17="○",C18="○")),ROUNDDOWN(((BE8+BE10*0.9))/6,1)*BA32,"-") -> - | AM17: =IF(C19="○","-",IF(OR(C17="○",C18="○"),ROUNDDOWN((BE8+BE10*0.9)/6*40,1)+ROUNDDOWN((AO8+AO10*0.9)/9*40,1)+ROUNDDOWN((AS8-AS9+AS10*0.9)/6*40,1)+ROUNDDOWN(AS9/12*40,1)+ROUNDDOWN((AW8-AW9+AW10*0.9)/4*40,1)+ROUNDDOWN(AW9/8*40,1)+ROUNDDOWN((BA8-BA9+BA10*0.9)/2.5*40,1)+ROUNDDOWN(BA9/5*40,1)+ROUNDDOWN((BE8+BE10*0.9)/12*40,1),"")) | AR17: =IF(C19="○","-",IF(OR(C17="○",C18="○"),ROUNDDOWN(AM17+0.4*BA32,1),"")) | AW17: =IF(E11="","-",IF(C19="○","-",IF(OR(C17="○",C18="○"),ROUNDDOWN(AM17+1*BA32,1),""))) -> - | BB17: =IF(C19="○","-",BD25) -> 0 | BG17: =IF(C19="○","-",BD27) -> 0 | BM17: 指定基準 | BU17: =IF(C19="○",IF(OR(BB19<AH19,BB20<AH20,BG17=0),"不足","OK"),IF(C17="○",IF(OR(BB17<AH17,BB18<AH18,BG17=0),"不足","OK"),IF(C18="○",IF(OR(BB17<AH17,BG17=0),"不足","OK"),"")))
C18: =IF(基本情報シート!$C$21="外部サービス利用型","○","") | F18: 外部サービス利用型事業所 | AD18: 生活支援員 | AH18: =IF(C18="○","不要",IF(C17="○",ROUNDDOWN((AO8+AO10*0.9)/9*BA32,1)+ROUNDDOWN((AS8-AS9+AS10*0.9)/6*BA32,1)+ROUNDDOWN(AS9/12*BA32,1)+ROUNDDOWN((AW8-AW9+AW10*0.9)/4*BA32,1)+ROUNDDOWN(AW9/8*BA32,1)+ROUNDDOWN((BA8-BA$9+BA10*0.9)/2.5*BA32,1)+ROUNDDOWN(BA9/5*BA32,1),"-")) -> - | BB18: =IF(C19="○","-",BD26) -> 0 | BM18: 人員配置体制加算 | BU18: =IF(OR(C17="○",C18="○"),IF(OR(BG17<AM17,BG17=0),"不足","OK"),IF(C19="○",IF(OR(BG19<AM19,BG17=0),"不足","OK"),""))
C19: =IF(基本情報シート!$C$21="日中サービス支援型","○","") | F19: 日中サービス支援型事業所 | X19: 日中サービス支援型 | AD19: 世話人 | AH19: =IF(C19="○",ROUNDDOWN(((BE8+BE10*0.9))/5,1)*BA32,"-") -> - | AM19: =IF(C19="○",ROUNDDOWN((($BE$8+$BE$10*0.9))/6,1)*40+ROUNDDOWN(($AO$8+$AO$10*0.9)/9*40,1)+ROUNDDOWN(($AS$8-$AS$9+$AS$10*0.9)/6*40,1)+ROUNDDOWN($AS$9/12*40,1)+ROUNDDOWN(($AW$8-$AW$9+$AW$10*0.9)/4*40,1)+ROUNDDOWN($AW$9/8*40,1)+ROUNDDOWN(($BA$8-$BA$9+$BA$10*0.9)/2.5*40,1)+ROUNDDOWN($BA$9/5*40,1)+ROUNDDOWN(($BE$8+$BE$10*0.9)/7.5*40,1),"-") -> - | AR19: - | AW19: =IF(E11="","-",IF(C19="","-",AM19+1*BA32)) -> - | BB19: =IF(C19="","-",BD25) -> - | BG19: =IF(C19="","-",BD27) -> - | BM19: 体制強化（Ⅰ） | BU19: =IF(C19="○","-",IF(E10="○",IF(AND(C17="",C18=""),"",IF(BG17<AR17,"不足","OK")),""))
C20: =IF(AND(C17="",C18="",C19=""),"基本情報シートのサービス類型を入力してください","") -> 基本情報シートのサービス類型を入力してください | AD20: 生活支援員 | AH20: =IF(C19="","-",ROUNDDOWN((AO8+AO10*0.9)/9*BA32,1)+ROUNDDOWN((AS8-AS9+AS10*0.9)/6*BA32,1)+ROUNDDOWN(AS$9/12*BA32,1)+ROUNDDOWN((AW8-AW9+AW10*0.9)/4*BA32,1)+ROUNDDOWN(AW9/8*BA32,1)+ROUNDDOWN((BA8-BA9+BA10*0.9)/2.5*BA32,1)+ROUNDDOWN(BA9/5*BA32,1)) -> - | BB20: =IF(C19="","-",BD26) -> - | BM20: 体制強化（Ⅱ） | BU20: =IF(E11="","-",IF(C19="○",IF(BG19<AW19,"不足","OK"),IF(OR(C17="○",C18="○"),IF(BG17<AW17,"不足","OK"),""))) -> -
B22: ○従業者の勤務体制一覧表
B23: 職種 | V23: =IF($AI$2>=4,DATE(基本情報シート!$D$1+2018,$AI$2,1),DATE(基本情報シート!$D$1+2019,$AI$2,1)) -> 46113 | W23: =IF($AI$2>=4,DATE(基本情報シート!$D$1+2018,$AI$2,1)+1,DATE(基本情報シート!$D$1+2019,$AI$2,1)+1) -> 46114 | X23: =IF($AI$2>=4,DATE(基本情報シート!$D$1+2018,$AI$2,1)+2,DATE(基本情報シート!$D$1+2019,$AI$2,1)+2) -> 46115 | Y23: =IF($AI$2>=4,DATE(基本情報シート!$D$1+2018,$AI$2,1)+3,DATE(基本情報シート!$D$1+2019,$AI$2,1)+3) -> 46116 | Z23: =IF($AI$2>=4,DATE(基本情報シート!$D$1+2018,$AI$2,1)+4,DATE(基本情報シート!$D$1+2019,$AI$2,1)+4) -> 46117 | AA23: =IF($AI$2>=4,DATE(基本情報シート!$D$1+2018,$AI$2,1)+5,DATE(基本情報シート!$D$1+2019,$AI$2,1)+5) -> 46118 | AB23: =IF($AI$2>=4,DATE(基本情報シート!$D$1+2018,$AI$2,1)+6,DATE(基本情報シート!$D$1+2019,$AI$2,1)+6) -> 46119 | AC23: =IF($AI$2>=4,DATE(基本情報シート!$D$1+2018,$AI$2,1)+7,DATE(基本情報シート!$D$1+2019,$AI$2,1)+7) -> 46120 | AD23: =IF($AI$2>=4,DATE(基本情報シート!$D$1+2018,$AI$2,1)+8,DATE(基本情報シート!$D$1+2019,$AI$2,1)+8) -> 46121 | AE23: =IF($AI$2>=4,DATE(基本情報シート!$D$1+2018,$AI$2,1)+9,DATE(基本情報シート!$D$1+2019,$AI$2,1)+9) -> 46122 | AF23: =IF($AI$2>=4,DATE(基本情報シート!$D$1+2018,$AI$2,1)+10,DATE(基本情報シート!$D$1+2019,$AI$2,1)+10) -> 46123 | AG23: =IF($AI$2>=4,DATE(基本情報シート!$D$1+2018,$AI$2,1)+11,DATE(基本情報シート!$D$1+2019,$AI$2,1)+11) -> 46124 | AH23: =IF($AI$2>=4,DATE(基本情報シート!$D$1+2018,$AI$2,1)+12,DATE(基本情報シート!$D$1+2019,$AI$2,1)+12) -> 46125 | AI23: =IF($AI$2>=4,DATE(基本情報シート!$D$1+2018,$AI$2,1)+13,DATE(基本情報シート!$D$1+2019,$AI$2,1)+13) -> 46126 | AJ23: =IF($AI$2>=4,DATE(基本情報シート!$D$1+2018,$AI$2,1)+14,DATE(基本情報シート!$D$1+2019,$AI$2,1)+14) -> 46127 | AK23: =IF($AI$2>=4,DATE(基本情報シート!$D$1+2018,$AI$2,1)+15,DATE(基本情報シート!$D$1+2019,$AI$2,1)+15) -> 46128 | AL23: =IF($AI$2>=4,DATE(基本情報シート!$D$1+2018,$AI$2,1)+16,DATE(基本情報シート!$D$1+2019,$AI$2,1)+16) -> 46129 | AM23: =IF($AI$2>=4,DATE(基本情報シート!$D$1+2018,$AI$2,1)+17,DATE(基本情報シート!$D$1+2019,$AI$2,1)+17) -> 46130 | AN23: =IF($AI$2>=4,DATE(基本情報シート!$D$1+2018,$AI$2,1)+18,DATE(基本情報シート!$D$1+2019,$AI$2,1)+18) -> 46131 | AO23: =IF($AI$2>=4,DATE(基本情報シート!$D$1+2018,$AI$2,1)+19,DATE(基本情報シート!$D$1+2019,$AI$2,1)+19) -> 46132 | AP23: =IF($AI$2>=4,DATE(基本情報シート!$D$1+2018,$AI$2,1)+20,DATE(基本情報シート!$D$1+2019,$AI$2,1)+20) -> 46133 | AQ23: =IF($AI$2>=4,DATE(基本情報シート!$D$1+2018,$AI$2,1)+21,DATE(基本情報シート!$D$1+2019,$AI$2,1)+21) -> 46134 | AR23: =IF($AI$2>=4,DATE(基本情報シート!$D$1+2018,$AI$2,1)+22,DATE(基本情報シート!$D$1+2019,$AI$2,1)+22) -> 46135 | AS23: =IF($AI$2>=4,DATE(基本情報シート!$D$1+2018,$AI$2,1)+23,DATE(基本情報シート!$D$1+2019,$AI$2,1)+23) -> 46136 | AT23: =IF($AI$2>=4,DATE(基本情報シート!$D$1+2018,$AI$2,1)+24,DATE(基本情報シート!$D$1+2019,$AI$2,1)+24) -> 46137 | AU23: =IF($AI$2>=4,DATE(基本情報シート!$D$1+2018,$AI$2,1)+25,DATE(基本情報シート!$D$1+2019,$AI$2,1)+25) -> 46138 | AV23: =IF($AI$2>=4,DATE(基本情報シート!$D$1+2018,$AI$2,1)+26,DATE(基本情報シート!$D$1+2019,$AI$2,1)+26) -> 46139 | AW23: =IF($AI$2>=4,DATE(基本情報シート!$D$1+2018,$AI$2,1)+27,DATE(基本情報シート!$D$1+2019,$AI$2,1)+27) -> 46140 | AX23: =IF(AW23="","-",IF(DAY(AW23+1)=1,"-",AW23+1)) -> 46141 | AY23: =IF(AX23="-","-",IF(DAY(AX23+1)=1,"-",AX23+1)) -> 46142 | AZ23: =IF(AY23="-","-",IF(DAY(AY23+1)=1,"-",AY23+1)) -> - | BA23: 月の 合計 | BD23: 週平均の勤務時間 | BG23: 常勤換算後の人数 | BJ23: 特定従業者換算後の人数 | BY23: 東村山市
V24: =WEEKDAY(V23,1) -> 4 | W24: =WEEKDAY(W23,1) -> 5 | X24: =WEEKDAY(X23,1) -> 6 | Y24: =WEEKDAY(Y23,1) -> 7 | Z24: =WEEKDAY(Z23,1) -> 1 | AA24: =WEEKDAY(AA23,1) -> 2 | AB24: =WEEKDAY(AB23,1) -> 3 | AC24: =WEEKDAY(AC23,1) -> 4 | ... AW24: =WEEKDAY(AW23,1) -> 3 | AX24: =IF(AX23="-","-",WEEKDAY(AX23,1)) -> 4 | AY24: =IF(AY23="-","-",WEEKDAY(AY23,1)) -> 5 | AZ24: =IF(AZ23="-","-",WEEKDAY(AZ23,1)) -> - | BY24: 国分寺市
B25: 世話人 | BA25: =SUM(V25:AZ25) -> 0 | BD25: =BA25*(28/DAY(EOMONTH(AV6,0)))/4 -> 0 | BG25: =ROUNDDOWN(SUM(BD25:BF25)/BA32,1) -> #DIV/0! | BJ25: =ROUNDDOWN(SUM(BD25:BF25)/40,1) -> 0 | BY25: 国立市
B26: 生活支援員 | BA26: =SUM(V26:AZ26) -> 0 | BD26: =BA26*(28/DAY(EOMONTH(AV6,0)))/4 -> 0 | BG26: =ROUNDDOWN(SUM(BD26:BF26)/BA32,1) -> #DIV/0! | BJ26: =ROUNDDOWN(SUM(BD26:BF26)/40,1) -> 0 | BY26: 神津島村
B27: 世話人・生活支援員の合計 | V27: =SUM(V25:V26) -> 0 | W27: =SUM(W25:W26) -> 0 | X27: =SUM(X25:X26) -> 0 | Y27: =SUM(Y25:Y26) -> 0 | Z27: =SUM(Z25:Z26) -> 0 | AA27: =SUM(AA25:AA26) -> 0 | AB27: =SUM(AB25:AB26) -> 0 | AC27: =SUM(AC25:AC26) -> 0 | ... AZ27: =SUM(AZ25:AZ26) -> 0 | BA27: =SUM(BA25:BC26) -> 0 | BD27: =SUM(BD25:BF26) -> 0 | BG27: =SUM(BG25:BI26) -> #DIV/0! | BJ27: =SUM(BJ25:BL26) -> 0
B28: 当該ユニットに配置した夜間支援従事者数
B29: ユニットリーダー 勤務時間数 | BA29: =SUM(V29:AZ29) -> 0 | BD29: =BA29*(28/DAY(EOMONTH(AV6,0)))/4 -> 0 | BG29: =ROUNDDOWN(SUM(BD29:BF29)/BA32,1) -> #DIV/0! | BJ29: =ROUNDDOWN(SUM(BD29:BF29)/40,1) -> 0 | BM29: ×12月 | BQ29: 年間見込日数
B30: 体制強化Ⅰ 補助対象日 | V30: =IF(OR(AND((V28>=1),COUNTIF(V37:V46,"☆")>=1,BU17="OK",BU19="OK",AO4="OK"),AND((V28=0),COUNTIF(V37:V46,"△")>=1,BU17="OK",BU19="OK",AO4="OK")),"○","") | W30: =IF(OR(AND((W28>=1),COUNTIF(W37:W46,"☆")>=1,BU17="OK",BU19="OK",AO4="OK"),AND((W28=0),COUNTIF(W37:W46,"△")>=1,BU17="OK",BU19="OK",AO4="OK")),"○","") | X30: =IF(OR(AND((X28>=1),COUNTIF(X37:X46,"☆")>=1,BU17="OK",BU19="OK",AO4="OK"),AND((X28=0),COUNTIF(X37:X46,"△")>=1,BU17="OK",BU19="OK",AO4="OK")),"○","") | Y30: =IF(OR(AND((Y28>=1),COUNTIF(Y37:Y46,"☆")>=1,BU17="OK",BU19="OK",AO4="OK"),AND((Y28=0),COUNTIF(Y37:Y46,"△")>=1,BU17="OK",BU19="OK",AO4="OK")),"○","") | Z30: =IF(OR(AND((Z28>=1),COUNTIF(Z37:Z46,"☆")>=1,BU17="OK",BU19="OK",AO4="OK"),AND((Z28=0),COUNTIF(Z37:Z46,"△")>=1,BU17="OK",BU19="OK",AO4="OK")),"○","") | AA30: =IF(OR(AND((AA28>=1),COUNTIF(AA37:AA46,"☆")>=1,BU17="OK",BU19="OK",AO4="OK"),AND((AA28=0),COUNTIF(AA37:AA46,"△")>=1,BU17="OK",BU19="OK",AO4="OK")),"○","") | AB30: =IF(OR(AND((AB28>=1),COUNTIF(AB37:AB46,"☆")>=1,BU17="OK",BU19="OK",AO4="OK"),AND((AB28=0),COUNTIF(AB37:AB46,"△")>=1,BU17="OK",BU19="OK",AO4="OK")),"○","") | AC30: =IF(OR(AND((AC28>=1),COUNTIF(AC37:AC46,"☆")>=1,BU17="OK",BU19="OK",AO4="OK"),AND((AC28=0),COUNTIF(AC37:AC46,"△")>=1,BU17="OK",BU19="OK",AO4="OK")),"○","") | AD30: =IF(OR(AND((AD28>=1),COUNTIF(AD37:AD46,"☆")>=1,BU17="OK",BU19="OK",AO4="OK"),AND((AD28=0),COUNTIF(AD37:AD46,"△")>=1,BU17="OK",BU19="OK",AO4="OK")),"○","") | AE30: =IF(OR(AND((AE28>=1),COUNTIF(AE37:AE46,"☆")>=1,BU17="OK",BU19="OK",AO4="OK"),AND((AE28=0),COUNTIF(AE37:AE46,"△")>=1,BU17="OK",BU19="OK",AO4="OK")),"○","") | AF30: =IF(OR(AND((AF28>=1),COUNTIF(AF37:AF46,"☆")>=1,BU17="OK",BU19="OK",AO4="OK"),AND((AF28=0),COUNTIF(AF37:AF46,"△")>=1,BU17="OK",BU19="OK",AO4="OK")),"○","") | AG30: =IF(OR(AND((AG28>=1),COUNTIF(AG37:AG46,"☆")>=1,BU17="OK",BU19="OK",AO4="OK"),AND((AG28=0),COUNTIF(AG37:AG46,"△")>=1,BU17="OK",BU19="OK",AO4="OK")),"○","") | AH30: =IF(OR(AND((AH28>=1),COUNTIF(AH37:AH46,"☆")>=1,BU17="OK",BU19="OK",AO4="OK"),AND((AH28=0),COUNTIF(AH37:AH46,"△")>=1,BU17="OK",BU19="OK",AO4="OK")),"○","") | AI30: =IF(OR(AND((AI28>=1),COUNTIF(AI37:AI46,"☆")>=1,BU17="OK",BU19="OK",AO4="OK"),AND((AI28=0),COUNTIF(AI37:AI46,"△")>=1,BU17="OK",BU19="OK",AO4="OK")),"○","") | AJ30: =IF(OR(AND((AJ28>=1),COUNTIF(AJ37:AJ46,"☆")>=1,BU17="OK",BU19="OK",AO4="OK"),AND((AJ28=0),COUNTIF(AJ37:AJ46,"△")>=1,BU17="OK",BU19="OK",AO4="OK")),"○","") | AK30: =IF(OR(AND((AK28>=1),COUNTIF(AK37:AK46,"☆")>=1,BU17="OK",BU19="OK",AO4="OK"),AND((AK28=0),COUNTIF(AK37:AK46,"△")>=1,BU17="OK",BU19="OK",AO4="OK")),"○","") | AL30: =IF(OR(AND((AL28>=1),COUNTIF(AL37:AL46,"☆")>=1,BU17="OK",BU19="OK",AO4="OK"),AND((AL28=0),COUNTIF(AL37:AL46,"△")>=1,BU17="OK",BU19="OK",AO4="OK")),"○","") | AM30: =IF(OR(AND((AM28>=1),COUNTIF(AM37:AM46,"☆")>=1,BU17="OK",BU19="OK",AO4="OK"),AND((AM28=0),COUNTIF(AM37:AM46,"△")>=1,BU17="OK",BU19="OK",AO4="OK")),"○","") | AN30: =IF(OR(AND((AN28>=1),COUNTIF(AN37:AN46,"☆")>=1,BU17="OK",BU19="OK",AO4="OK"),AND((AN28=0),COUNTIF(AN37:AN46,"△")>=1,BU17="OK",BU19="OK",AO4="OK")),"○","") | AO30: =IF(OR(AND((AO28>=1),COUNTIF(AO37:AO46,"☆")>=1,BU17="OK",BU19="OK",AO4="OK"),AND((AO28=0),COUNTIF(AO37:AO46,"△")>=1,BU17="OK",BU19="OK",AO4="OK")),"○","") | AP30: =IF(OR(AND((AP28>=1),COUNTIF(AP37:AP46,"☆")>=1,BU17="OK",BU19="OK",AO4="OK"),AND((AP28=0),COUNTIF(AP37:AP46,"△")>=1,BU17="OK",BU19="OK",AO4="OK")),"○","") | AQ30: =IF(OR(AND((AQ28>=1),COUNTIF(AQ37:AQ46,"☆")>=1,BU17="OK",BU19="OK",AO4="OK"),AND((AQ28=0),COUNTIF(AQ37:AQ46,"△")>=1,BU17="OK",BU19="OK",AO4="OK")),"○","") | AR30: =IF(OR(AND((AR28>=1),COUNTIF(AR37:AR46,"☆")>=1,BU17="OK",BU19="OK",AO4="OK"),AND((AR28=0),COUNTIF(AR37:AR46,"△")>=1,BU17="OK",BU19="OK",AO4="OK")),"○","") | AS30: =IF(OR(AND((AS28>=1),COUNTIF(AS37:AS46,"☆")>=1,BU17="OK",BU19="OK",AO4="OK"),AND((AS28=0),COUNTIF(AS37:AS46,"△")>=1,BU17="OK",BU19="OK",AO4="OK")),"○","") | AT30: =IF(OR(AND((AT28>=1),COUNTIF(AT37:AT46,"☆")>=1,BU17="OK",BU19="OK",AO4="OK"),AND((AT28=0),COUNTIF(AT37:AT46,"△")>=1,BU17="OK",BU19="OK",AO4="OK")),"○","") | AU30: =IF(OR(AND((AU28>=1),COUNTIF(AU37:AU46,"☆")>=1,BU17="OK",BU19="OK",AO4="OK"),AND((AU28=0),COUNTIF(AU37:AU46,"△")>=1,BU17="OK",BU19="OK",AO4="OK")),"○","") | AV30: =IF(OR(AND((AV28>=1),COUNTIF(AV37:AV46,"☆")>=1,BU17="OK",BU19="OK",AO4="OK"),AND((AV28=0),COUNTIF(AV37:AV46,"△")>=1,BU17="OK",BU19="OK",AO4="OK")),"○","") | AW30: =IF(OR(AND((AW28>=1),COUNTIF(AW37:AW46,"☆")>=1,BU17="OK",BU19="OK",AO4="OK"),AND((AW28=0),COUNTIF(AW37:AW46,"△")>=1,BU17="OK",BU19="OK",AO4="OK")),"○","") | AX30: =IF(OR(AND((AX28>=1),COUNTIF(AX37:AX46,"☆")>=1,BU17="OK",BU19="OK",AO4="OK"),AND((AX28=0),COUNTIF(AX37:AX46,"△")>=1,BU17="OK",BU19="OK",AO4="OK")),"○","") | AY30: =IF(OR(AND((AY28>=1),COUNTIF(AY37:AY46,"☆")>=1,BU17="OK",BU19="OK",AO4="OK"),AND((AY28=0),COUNTIF(AY37:AY46,"△")>=1,BU17="OK",BU19="OK",AO4="OK")),"○","") | AZ30: =IF(OR(AND((AZ28>=1),COUNTIF(AZ37:AZ46,"☆")>=1,BU17="OK",BU19="OK",AO4="OK"),AND((AZ28=0),COUNTIF(AZ37:AZ46,"△")>=1,BU17="OK",BU19="OK",AO4="OK")),"○","") | BA30: 小計 | BD30: =IF(AND(BU17="OK",BU18="OK",BU19="OK",AO4="OK"),COUNTIF(V30:AZ30,"○"),0) -> 0 | BM30: =BD30*12 -> 0
