Workbook

Sheet 様式①
A1: 受注促進・工賃向上設備整備費補助事業 購入理由書及び工賃向上のための行動計画
A2: １．事業所の概要
A3: 法人名 | F3: 代表者名
A4: 事業所名 | F4: 所在地
A5: 定員 | F5: 現員数
A6: １日平均利用者数 | F6: 主な対象者
A7: 事業所の特徴
A9: ２．補助対象設備
A10: 品名
A11: 機能
A13: ３．補助対象設備を必要とする生産活動の作業名（詳細は次頁）
A14: 作業名 | C14: 作業概要
A17: ４．上記以外の生産活動一覧
A18: 作業名 | C18: 作業内容・量 | E18: 当該作業に係る工賃向上の取組（現状）

Sheet 様式②
A1: ５．設備整備に係る生産活動について | F1: ※記入する欄が足りないときは、適宜枠を拡大してください。
A2: ③、④、⑤については既存の生産活動全般も踏まえて記載してください。
A3: ①作業名（設備を必要とする生産活動）
A5: ②作業内容や作業量（備品を必要とする生産活動の内容や作業量を記載してください）
A9: ③工賃向上の取組（現在どのような取組を行っているかを記載してください）
A13: ④課題（何が工賃向上を阻んでいるか、現状分析を記載してください）
A17: ⑤課題解決の具体的方策（増産・新製品の生産・製品の品質向上が必要なのか等）
A21: ⑥⑤の方策の中での設備整備の必要性（既存設備の手直しや人員配置等により対応できない等）
A25: ⑦備品の利用計画及び生産目標（どのように備品を活用していくのかと生産目標を記載してください）
A29: ⑧設備導入に伴う作業手順等の見直し内容（作業手順や作業体制の見直し等）
A33: ⑨設備導入後の販路・受注拡大の取組・見込み
A38: ６．生産活動全体に係る販路拡大・受注機会の拡大に向けた中・長期的取組

Sheet 別紙
A1: 別紙
A2: 購入する備品
A3: 備品の活用方法
A5: ＜設備整備導入前＞ | C5: ※すべての項目について、月平均で記載してください。生産活動については、設備導入により売上増を予測しているものを記載してください。導入による影響のない作業については「その他作業」としてまとめて記載してください。
C6: 令和７年度実績 | H6: 令和８年度実績予測 | M6: 令和９年度実績予測 | R6: 令和１０年度実績予測
A7: 生産活動 | C7: 売上① | D7: 内訳（単位） | E7: 経費② | F7: 内訳（単位） | G7: 利益①-② | H7: 売上① | I7: 内訳 | J7: 経費② | K7: 内訳 | L7: 利益①-② | M7: 売上① | N7: 内訳 | O7: 経費② | P7: 内訳 | Q7: 利益①-② | R7: 売上① | S7: 内訳 | T7: 経費② | U7: 内訳 | V7: 利益①-②
G8: =C8-E8 -> 0 | L8: =H8-J8 -> 0 | Q8: =M8-O8 -> 0 | V8: =R8-T8 -> 0
G9: =C9-E9 -> 0 | L9: =H9-J9 -> 0 | Q9: =M9-O9 -> 0 | V9: =R9-T9 -> 0
G10: =C10-E10 -> 0 | L10: =H10-J10 -> 0 | Q10: =M10-O10 -> 0 | V10: =R10-T10 -> 0
G11: =C11-E11 -> 0 | L11: =H11-J11 -> 0 | Q11: =M11-O11 -> 0 | V11: =R11-T11 -> 0
G12: =C12-E12 -> 0 | L12: =H12-J12 -> 0 | Q12: =M12-O12 -> 0 | V12: =R12-T12 -> 0
A13: 計（A） | C13: =SUM(C8:C12) -> 0 | E13: =別添!D11 -> 0 | G13: =SUM(G8:G12) -> 0 | H13: =SUM(H8:H12) -> 0 | J13: =別添!F11 -> 0 | L13: =SUM(L8:L12) -> 0 | M13: =SUM(M8:M12) -> 0 | O13: =別添!H11 -> 0 | Q13: =SUM(Q8:Q12) -> 0 | R13: =SUM(R8:R12) -> 0 | T13: =別添!J11 -> 0 | V13: =SUM(V8:V12) -> 0
A14: 固定費（B） | C14: =別添!D17 -> 0 | H14: =別添!F17 -> 0 | M14: =別添!H17 -> 0 | R14: =別添!J17 -> 0
A15: 支払工賃総額（C＝A-B) | C15: =G13-C14 -> 0 | H15: =L13-H14 -> 0 | M15: =Q13-M14 -> 0 | R15: =V13-R14 -> 0
A16: １日あたりの平均利用者数（D)
A17: 目標工賃（月額）（＝C÷D） | C17: =C15/C16 -> #DIV/0! | H17: =H15/H16 -> #DIV/0! | M17: =M15/M16 -> #DIV/0! | R17: =R15/R16 -> #DIV/0!
A18: ＜設備整備導入後＞
C19: 令和７年度実績 | H19: 令和８年度実績予測 | M19: 令和９年度実績予測 | R19: 令和１０年度実績予測
A20: 生産活動 | H20: 売上① | I20: 内訳 | J20: 経費② | K20: 内訳 | L20: 利益①-② | M20: 売上① | N20: 内訳 | O20: 経費② | P20: 内訳 | Q20: 利益①-② | R20: 売上① | S20: 内訳 | T20: 経費② | U20: 内訳 | V20: 利益①-②
L21: =H21-J21 -> 0 | Q21: =M21-O21 -> 0 | V21: =R21-T21 -> 0
L22: =H22-J22 -> 0 | Q22: =M22-O22 -> 0 | V22: =R22-T22 -> 0
L23: =H23-J23 -> 0 | Q23: =M23-O23 -> 0 | V23: =R23-T23 -> 0
L24: =H24-J24 -> 0 | Q24: =M24-O24 -> 0 | V24: =R24-T24 -> 0
L25: =H25-J25 -> 0 | Q25: =M25-O25 -> 0 | V25: =R25-T25 -> 0
A26: 計（A） | H26: =SUM(H21:H25) -> 0 | J26: =別添!F27 -> 0 | L26: =SUM(L21:L25) -> 0 | M26: =SUM(M21:M25) -> 0 | O26: =別添!H27 -> 0 | Q26: =SUM(Q21:Q25) -> 0 | R26: =SUM(R21:R25) -> 0 | T26: =別添!J27 -> 0 | V26: =SUM(V21:V25) -> 0
A27: 固定費（B） | H27: =別添!F33 -> 0 | M27: =別添!H33 -> 0 | R27: =別添!J33 -> 0
A28: 支払工賃総額（C＝A-B) | H28: =L26-H27 -> 0 | M28: =Q26-M27 -> 0 | R28: =V26-R27 -> 0
A29: １日あたりの平均利用者数（D)
A30: 目標工賃（月額）（＝C÷D） | H30: =H28/H29 -> #DIV/0! | M30: =M28/M29 -> #DIV/0! | R30: =R28/R29 -> #DIV/0!
C32: 設備導入により向上する工賃の額（上表と下表の差額） | H32: =H30-H17 -> #DIV/0! | M32: =M30-M17 -> #DIV/0! | R32: =R30-R17 -> #DIV/0!
H37: 工賃向上額の算定根拠 | M37: 工賃向上額の算定根拠 | R37: 工賃向上額の算定根拠

Sheet 別紙 (記載例)
A1: 別紙
A2: 購入する備品 | C2: オーブン
A3: 備品の活用方法 | C3: 購入理由書に記載した内容を簡潔に記載してください。
A5: ＜設備整備導入前＞ | C5: ※すべての項目について、月平均で記載してください。生産活動については、設備導入により売上増を予測しているものを記載してください。導入による影響のない作業については「その他作業」としてまとめて記載してください。
C6: 令和７年度実績 | H6: 令和８年度実績予測 | M6: 令和９年度実績予測 | R6: 令和１０年度実績予測
A7: 生産活動 | C7: 売上① | D7: 内訳（単位） | E7: 経費② | F7: 内訳（単位） | G7: 利益①-② | H7: 売上① | I7: 内訳 | J7: 経費② | K7: 内訳 | L7: 利益①-② | M7: 売上① | N7: 内訳 | O7: 経費② | P7: 内訳 | Q7: 利益①-② | R7: 売上① | S7: 内訳 | T7: 経費② | U7: 内訳 | V7: 利益①-②
B8: ○○作業 | C8: 400000 | D8: 200円×2000個 | E8: 100000 | G8: =C8-E8 -> 300000 | H8: 400000 | I8: 200円×2000個 | J8: 100000 | L8: =H8-J8 -> 300000 | M8: 400000 | N8: 200円×2000個 | O8: 100000 | Q8: =M8-O8 -> 300000 | R8: 400000 | S8: 200円×2000個 | T8: 100000 | V8: =R8-T8 -> 300000
B9: △△作業 | C9: 5000 | D9: 5円×1000セット | E9: 0 | G9: =C9-E9 -> 5000 | H9: 5500 | I9: 5円×1100セット | J9: 0 | L9: =H9-J9 -> 5500 | M9: 5500 | N9: 5円×1100セット | O9: 0 | Q9: =M9-O9 -> 5500 | R9: 5500 | S9: 5円×1100セット | T9: 0 | V9: =R9-T9 -> 5500
B10: その他作業 | C10: 100000 | E10: 0 | G10: =C10-E10 -> 100000 | H10: 100000 | J10: 0 | L10: =H10-J10 -> 100000 | M10: 120000 | O10: 0 | Q10: =M10-O10 -> 120000 | R10: 120000 | T10: 0 | V10: =R10-T10 -> 120000
A13: 計（A） | C13: =SUM(C8:C12) -> 505000 | E13: =SUM(E8:E12) -> 100000 | G13: =SUM(G8:G12) -> 405000 | H13: =SUM(H8:H12) -> 505500 | J13: =SUM(J8:J12) -> 100000 | L13: =SUM(L8:L12) -> 405500 | M13: =SUM(M8:M12) -> 525500 | O13: =SUM(O8:O12) -> 100000 | Q13: =SUM(Q8:Q12) -> 425500 | R13: =SUM(R8:R12) -> 525500 | T13: =SUM(T8:T12) -> 100000 | V13: =SUM(V8:V12) -> 425500
A14: 固定費（B） | C14: 20000 | H14: 20000 | M14: 20000 | R14: 20000
A15: 支払工賃総額（C＝A-B) | C15: =G13-C14 -> 385000 | H15: =L13-H14 -> 385500 | M15: =Q13-M14 -> 405500 | R15: =V13-R14 -> 405500
A16: １日あたりの平均利用者数（D) | C16: 21 | H16: 21 | M16: 21 | R16: 21
A17: 目標工賃（月額）（＝C÷D） | C17: =C15/C16 -> 18333.333 | H17: =H15/H16 -> 18357.143 | M17: =M15/M16 -> 19309.524 | R17: =R15/R16 -> 19309.524
A18: ＜設備整備導入後＞
C19: 令和７年度実績 | H19: 令和８年度実績予測 | M19: 令和９年度実績予測 | R19: 令和１０年度実績予測
A20: 生産活動 | H20: 売上① | I20: 内訳 | J20: 経費② | K20: 内訳 | L20: 利益①-② | M20: 売上① | N20: 内訳 | O20: 経費② | P20: 内訳 | Q20: 利益①-② | R20: 売上① | S20: 内訳 | T20: 経費② | U20: 内訳 | V20: 利益①-②
B21: ○○作業 | H21: 450000 | I21: 200円×2250個 | J21: 112500 | L21: =H21-J21 -> 337500 | M21: 475000 | N21: 200円×2375個 | O21: 118750 | Q21: =M21-O21 -> 356250 | R21: 500000 | S21: 200円×2500個 | T21: 125000 | V21: =R21-T21 -> 375000
B22: △△作業 | H22: 5500 | I22: 5円×1100セット | J22: 0 | L22: =H22-J22 -> 5500 | M22: 5500 | N22: 5円×1100セット | O22: 0 | Q22: =M22-O22 -> 5500 | R22: 5500 | S22: 5円×1100セット | T22: 0 | V22: =R22-T22 -> 5500
B23: その他作業 | H23: 100000 | J23: 0 | L23: =H23-J23 -> 100000 | M23: 120000 | O23: 0 | Q23: =M23-O23 -> 120000 | R23: 120000 | T23: 0 | V23: =R23-T23 -> 120000
A26: 計（A） | H26: =SUM(H21:H25) -> 555500 | J26: =SUM(J21:J25) -> 112500 | L26: =SUM(L21:L25) -> 443000 | M26: =SUM(M21:M25) -> 600500 | O26: =SUM(O21:O25) -> 118750 | Q26: =SUM(Q21:Q25) -> 481750 | R26: =SUM(R21:R25) -> 625500 | T26: =SUM(T21:T25) -> 125000 | V26: =SUM(V21:V25) -> 500500
A27: 固定費（B） | H27: 22500 | M27: 23200 | R27: 23900
A28: 支払工賃総額（C＝A-B) | H28: =L26-H27 -> 420500 | M28: =Q26-M27 -> 458550 | R28: =V26-R27 -> 476600
A29: １日あたりの平均利用者数（D) | H29: 21 | M29: 21 | R29: 21
A30: 目標工賃（月額）（＝C÷D） | H30: =H28/H29 -> 20023.81 | M30: =M28/M29 -> 21835.714 | R30: =R28/R29 -> 22695.238
C32: 設備導入により向上する工賃の額（上表と下表の差額） | H32: =H30-H17 -> 1666.6667 | M32: =M30-M17 -> 2526.1905 | R32: =R30-R17 -> 3385.7143
H36: 工賃向上額の算定根拠 | M36: 工賃向上額の算定根拠 | R36: 工賃向上額の算定根拠
H38: オーブンの導入により、〇〇作業の月間販売数を2,000個から2,250個へ250個増産する。既存販売先における直近の販売実績が安定しており、取引先から追加納品の打診もあることから、増産分250個についても販売が見込まれる。これにより売上は50,000円増加し、工賃向上額は1人当たり月額1,667円となる。 | M38: オーブンの導入により、〇〇作業の月間販売数を2,000個から2,375個へ375個増産する。既存販売先への納品拡大に加え、○○のイベント販売や○○といった新規販売先への販路拡大を進める計画であり、これまでの販売実績及び引合い状況から、増産分375個の販売が見込まれる。これにより売上は75,000円増加し、工賃向上額は1人当たり月額2,526円となる。 | R38: オーブンの導入により、〇〇作業の月間販売数を2,000個から2,500個へ500個増産する。既存販売先への継続納品、○○のイベント販売や○○といった新規販売先への販路拡大を進める計画であり、これまでの販売実績と取引先からの引合いを踏まえ、増産分500個の販売が見込まれる。これにより売上は100,000円増加し、工賃向上額は1人当たり月額3,386円となる。

Sheet 別添
J1: 参考（別添）
B2: <設備費導入前>
C3: 令和７年度実績 | E3: 令和８年度実績予測 | G3: 令和９年度実績予測 | I3: 令和１０年度実績予測
B4: 経費内訳
B11: 合計 | D11: =SUM(D5:D10) -> 0 | F11: =SUM(F5:F10) -> 0 | H11: =SUM(H5:H10) -> 0 | J11: =SUM(J5:J10) -> 0
B12: 固定費内訳
B17: 合計 | D17: =SUM(D13:D16) -> 0 | F17: =SUM(F13:F16) -> 0 | H17: =SUM(H13:H16) -> 0 | J17: =SUM(J13:J16) -> 0
B18: <設備費導入後>
C19: 令和７年度実績 | E19: 令和８年度実績予測 | G19: 令和９年度実績予測 | I19: 令和１０年度実績予測
B20: 経費内訳
B27: 合計 | F27: =SUM(F21:F26) -> 0 | H27: =SUM(H21:H26) -> 0 | J27: =SUM(J21:J26) -> 0
B28: 固定費内訳
B33: 合計 | F33: =SUM(F29:F32) -> 0 | H33: =SUM(H29:H32) -> 0 | J33: =SUM(J29:J32) -> 0
B34: ※すべての項目について、月平均で記載してください。

Sheet 別添 (記載例)
J1: 参考（別添）
B2: <設備費導入前>
C3: 令和７年度実績 | E3: 令和８年度実績予測 | G3: 令和９年度実績予測 | I3: 令和１０年度実績予測
B4: 経費内訳
B5: ○○作業
B6: 食材費 | C6: ３０円×６００個 | D6: 18000 | E6: ３０円×６００個 | F6: 18000 | G6: ３０円×６００個 | H6: 18000 | I6: ３０円×６００個 | J6: 18000
B7: 包材費 | C7: 1円×６００個 | D7: 600 | E7: 1円×６００個 | F7: 600 | G7: 1円×６００個 | H7: 600 | I7: 1円×６００個 | J7: 600
B8: 消耗品費 | D8: 3800 | F8: 3800 | H8: 3800 | J8: 3800
B9: △△作業
B10: 材料費 | C10: ６３円×１２００個 | D10: 75600 | E10: ６３円×１２００個 | F10: 75600 | G10: ６３円×１２００個 | H10: 75600 | I10: ６３円×１２００個 | J10: 75600
B11: 消耗品費 | D11: 2000 | F11: 2000 | H11: 2000 | J11: 2000
B12: 合計 | D12: =SUM(D5:D11) -> 100000 | F12: =SUM(F5:F11) -> 100000 | H12: =SUM(H5:H11) -> 100000 | J12: =SUM(J5:J11) -> 100000
B13: 固定費内訳
B14: ○○作業
B15: 光熱水費 | D15: 8000 | F15: 8000 | H15: 8000 | J15: 8000
B16: 配送費 | D16: 4500 | F16: 4500 | H16: 4500 | J16: 4500
B17: 償却費 | D17: 1500 | F17: 1500 | H17: 1500 | J17: 1500
B18: △△作業
B19: 配送費 | D19: 4500 | F19: 4500 | H19: 4500 | J19: 4500
B20: 償却費 | D20: 1500 | F20: 1500 | H20: 1500 | J20: 1500
B21: 合計 | D21: =SUM(D14:D20) -> 20000 | F21: =SUM(F14:F20) -> 20000 | H21: =SUM(H14:H20) -> 20000 | J21: =SUM(J14:J20) -> 20000
B22: <設備費導入後>
C23: 令和７年度実績 | E23: 令和８年度実績予測 | G23: 令和９年度実績予測 | I23: 令和１０年度実績予測
B24: 経費内訳
B25: ○○作業
B26: 食材費 | E26: ３０円×８００個 | F26: 24000 | G26: ３０円×８５０個 | H26: 25500 | I26: ３０円×９００個 | J26: 27000
B27: 包材費 | E27: 1円×８００個 | F27: 800 | G27: 1円×８５０個 | H27: 850 | I27: 1円×９００個 | J27: 900
B28: 消耗品費 | F28: 5650 | H28: 6400 | J28: 7150
B29: △△作業
B30: 材料費 | E30: ６３円×１２５０個 | F30: 78750 | G30: ６３円×１３００個 | H30: 81900 | I30: ６３円×１３５０個 | J30: 85050
B31: 消耗品費 | F31: 3300 | H31: 4100 | J31: 4900
B32: 合計 | F32: =SUM(F25:F31) -> 112500 | H32: =SUM(H25:H31) -> 118750 | J32: =SUM(J25:J31) -> 125000
B33: 固定費内訳
B34: ○○作業
B35: 光熱水費 | F35: 8000 | H35: 8200 | J35: 8400
B36: 配送費 | F36: 6500 | H36: 6800 | J36: 7100
B37: 償却費 | F37: 1500 | H37: 1500 | J37: 1500
B38: △△作業
B39: 配送費 | F39: 5000 | H39: 5200 | J39: 5400
B40: 償却費 | F40: 1500 | H40: 1500 | J40: 1500
...
